{"text_format":"3","workbook":"xlsx","n_sheets":31,"sheets":["OPPLYSNINGER","Verdier (kun for FutureBuilt)","Relations","Enumerations","FylkeKommune","MiljoTiltak","ProjectExport","MeasureExport","EcoProject","EcoMeasure","tbl_ArchitectureOffices","tbl_Companys","tbl_ConsultingCompanys","tbl_ArchitectureGuides","tbl_ProjectAwardss","tbl_ProjectCompetitions","tbl_ContractingForms","tbl_EnvironmentalStandards","tbl_ProjectPhases","tbl_RoleModels","tbl_Researchs","tbl_ExternalProjectDBUsers","tbl_ExternalTags","tbl_FByerExternalTags","tbl_Municipalitys","tbl_Countys","tbl_ProjectTypes","tbl_EcoMeasureTypes","tbl_EcoMeasureTypeCategorys","tbl_EcoMeasures","tbl_ArchitectofficeCategorys"],"not_rendered":{"macros":1,"defined_names":2627},"read":"whole","date_system":"1904"}

{"sheet":"OPPLYSNINGER","index":0,"n_rows":109,"n_cols":7,"rows_kept":109,"merged":[[17,3,17,4],[21,2,22,2],[23,2,24,2],[27,2,29,2],[34,3,34,4],[35,3,35,4],[36,3,36,4],[37,3,37,4],[38,3,38,4],[39,3,39,4],[40,3,40,4],[42,3,42,4],[45,2,47,2],[45,3,47,4],[49,3,49,4],[67,3,67,4],[73,2,76,2],[73,3,76,4],[77,2,80,2],[77,3,80,4],[83,2,85,2],[86,2,88,2]]}
[]
[null,null,"FutureBuilts rapporterings- og formidlingsskjema "]
[null,null,"Skjema versjon: 07. juni 2023"]
[]
[null,null,"Veiledning til utfylling av skjemaet:"]
[null,null,"Fyll ut det som er relevant i den fasen prosjektet er i nå. "]
[null,null,"Eventuelle kommentarer kan legges inn i kommentar-kolonnen helt til høyre"]
[]
[null,null,"En del av feltene merket med ----- består av såkalte nedtrekksmenyer med predefinerte valg."]
[null,null,"Dersom du ikke finner et passende valg i en meny kan du foreslå nye valg i kommentarfeltet."]
[]
[null,null,"Dette rapporteringsskjema (excel), sammen med rapporteringsskjemaet for tekst (Word) danner grunnlag for formidling i  "]
[null,null,"FutureBuilt prosjektdatabase."]
[]
[]
[]
[null,null,"KONTAKT-OPPLYSNINGER",null,null,"Fyll inn","Kommentar"]
[null,null,"Dato","(dagens dato, dvs. når skjemaet er fylt ut)"]
[]
[null,null,"PROSJEKT-OPPLYSNINGER"]
[null,null,"Prosjektnavn"]
[null,null,"Adresse","Gateadresse, postnr og poststed"]
[{"$nulls":3},"Kommune"]
[null,null,"Prosjektperiode","Oppstart planlegging (årstall)"]
[{"$nulls":3},"Ferdigstilt bygg (årstall evt planlagt ferdigstillelse)"]
[null,null,"Status","Velg fra nedtrekksmenyen",null,"-----"]
[null,null,"Prosjekttype (skala)","Velg et el. flere valg fra nedtrekksmenyen. Oppgi str. per funksjon  i cellen til høyre",null,"-----"]
[null,null,"Funksjon (bygningstype)","Velg et el. flere valg fra nedtrekksmenyen. Oppgi str. per funksjon  i cellen til høyre",null,"-----"]
[{"$nulls":3},"Velg et eller flere valg fra nedtrekksmenyene",null,"-----"]
[{"$nulls":3},"Velg et eller flere valg fra nedtrekksmenyene",null,"-----"]
[null,null,"Konkurranseform",null,null,"-----"]
[null,null,"Entrepriseform",null,null,"-----"]
[]
[null,null,"KRITERIER",null,null,"Fyll inn / velg meny","Kommentar"]
[null,null,"Obligatoriske kriterier ","Er kriterier for BYMILJØ OG ARKITEKTUR oppfylt / under oppfylling?",null,"-----"]
[{"$nulls":3},"Er kriterier for SOSIAL BÆREKRAFT oppfylt / under oppfylling?",null,"-----"]
[{"$nulls":3},"Er kriterier for INNOVASJON oppfylt / under oppfylling?",null,"-----"]
[{"$nulls":3},"Er kriterier for NÆR-NULLENERGI oppfylt / under oppfylling?",null,"-----"]
[{"$nulls":3},"Er kriterier for FUTUREBUILT-ZERO  oppfylt / under oppfylling?",null,"-----"]
[{"$nulls":3},"Er kriterier for FUTUREBUILT-ZERO-T  oppfylt / under oppfylling?",null,"-----"]
[{"$nulls":3},"Er kriterier for FUTUREBUILT-ZERO-0  oppfylt / under oppfylling? (gjelder kun områdeprosjekter)",null,"-----"]
[null,null,"Sertifisering ","Redegjør for type sertifisering (BREEAM, Svanen eller annet) "]
[{"$nulls":3},"Oppgi prosjektets sertifisering ved ferdigstillelse her "]
[null,null,"Innovasjons-/FOUI-tema(er)","Oppgi navn på FoUI-prosjekt "]
[]
[null,null,"Tilvalgskriterier","Oppgi prosjektets tilvalgs kriterier  (velg 2-3 kriterier fra nedtrekksmenyen)",null,"-----"]
[{"$nulls":5},"-----"]
[{"$nulls":5},"-----"]
[]
[null,null,"INVOLVERTE",null,null,"Angi firmanavn","Kommentar"]
[null,null,"Byggherre (BH)"]
[null,null,"Prosjektleder (PL) "]
[null,null,"Arkitekt (ARK)"]
[null,null,"Landskapsarkitekt (LARK)"]
[null,null,"Interiørarkitekt (IARK)"]
[null,null,"Opprinnelig arkitekt (rehabiliteringsprosjekter)"]
[null,null,"Miljørådgiver (RIM)"]
[null,null,"Energirådgiver (RIEn)"]
[null,null,"Byggfag (RIB)"]
[null,null,"VVS-fag (RIV)"]
[null,null,"Elektro (RIE)"]
[null,null,"Bygningsfysikk (RIBfy)"]
[null,null,"Brann (RIBr)"]
[null,null,"Akustikk (RIAku)"]
[null,null,"Rådgiver sosial bærekraft "]
[null,null,"Rådgiver naturmangfold  "]
[null,null,"Rådgiver sirkularitet"]
[null,null,"Andre rådgivere"]
[null,null,"Entreprenør (ENT)"]
[]
[]
[null,null,"Byggeledelse (BL) "]
[]
[null,null,"Underentreprenører","Angi underentreprenører og evt. leverandører som har vært viktig for å oppnå prosjektets miljømål"]
[]
[]
[]
[null,null,"Produsenter ","Angi viktige produsenter/produkter som har vært viktig for å oppnå miljømålene."]
[]
[]
[]
[]
[null,null,"ENERGI",null,null,"Fyll inn / velg meny","Kommentar"]
[{"$nulls":3},"Beregnet netto energibehov \n","kWh/m2 pr år"]
[{"$nulls":3},"Beregnet levert energibehov\n","kWh/m2 pr år"]
[{"$nulls":3},"Målt energibruk (levert 2 år etter)","kWh/m2 pr år"]
[null,null,"Energiforsyning og produksjon ","Varmeproduksjon (f.eks solfangere)","kWh (totalt)"]
[{"$nulls":3},"Kjøleproduksjon (f.eks varmepumpe fra energibrønner)","kWh (totalt)"]
[{"$nulls":3},"Elektrisitetsproduksjon (f.eks solcelle, vindmølle etc)","kWh (totalt)"]
[{"$nulls":3},"Hovedenergiforsyningssystem ","Velg type fra meny, og forklar gjerne med \"Spisslast\", \"Back-up\" eller lignende"]
[]
[null,null,"KLIMAGASSREGNSKAP (FB ZERO/ZERO-T)",null,null,"Fyll inn","Kommentar"]
[null,null,"Som prosjektert bygg ","Materialer","kg CO2 ekv./m2 pr år"]
[{"$nulls":3},"Energibruk","kg CO2 ekv./m2 pr år"]
[{"$nulls":3},"Transport","kg CO2 ekv./m2 pr år"]
[null,null,"Som bygget","Materialer","kg CO2 ekv./m2 pr år"]
[{"$nulls":3},"Energibruk","kg CO2 ekv./m2 pr år"]
[{"$nulls":3},"Transport","kg CO2 ekv./m2 pr år"]
[null,null,"Etter 2 års drift","Materialer","kg CO2 ekv./m2 pr år"]
[{"$nulls":3},"Energibruk","kg CO2 ekv./m2 pr år"]
[{"$nulls":3},"Transport","kg CO2 ekv./m2 pr år"]
[]
[null,null,"ØKONOMI",null,null,"Fyll inn","Kommentar"]
[null,null,"Tilskuddsprogram","Klimasats","NOK (totalt)"]
[{"$nulls":3},"Husbanken","NOK (totalt)"]
[{"$nulls":3},"Enova","NOK (totalt)"]
[{"$nulls":3},"Innovasjon Norge","NOK (totalt)"]
[{"$nulls":3},"Annen støtte (spesifiser i kommentarfelt)","NOK (totalt)"]
[{"$nulls":3},"Annen støtte (spesifiser i kommentarfelt)","NOK (totalt)"]

{"sheet":"Verdier (kun for FutureBuilt)","index":1,"n_rows":37,"n_cols":8,"rows_kept":37}
[]
[]
[null,"Kommune","Status","Prosjekttype (skala)","Funksjon","ENTREPRISEFORMER","Konkurranseformer","VERKTØY CO2"]
[null,"Oslo ","Prosjektering","Område","Boliger","Hovedentreprise","Begrenset anbudskonkurranse","Reduzer"]
[null,"Bærum","Under bygging","Nabolag","Næring","Totalentreprise","Begrenset idékonkurranse","OneClick LCA"]
[null,"Asker","Ferdigstilt","Bygg","Kontorer","Samspillsentreprise","Begrenset plan- og idé-konkurranse","Annet (spesifiser i kommentarfeltet)"]
[null,"Drammen",null,"Park / gate / plass","Undervisning","Annet (spesifiser i kommentarfeltet)","Begrenset prosjektkonkurranse"]
[null,"Lillestrøm",null,"Annet","Barnehager",null,"Direkte engasjement"]
[null,"Nordre Follo",null,null,"Kultur",null,"Forhandlet konkurranse"]
[{"$nulls":4},"Helse",null,"Konkurransepreget dialog"]
[{"$nulls":4},"Infrastruktur",null,"Paralelloppdrag"]
[{"$nulls":4},"Nabolag",null,"Rammeavtale"]
[{"$nulls":4},"Områder",null,"Totalentreprisekonkurranse"]
[{"$nulls":6},"Åpen anbudskonkurranse"]
[{"$nulls":6},"Åpen idékonkurranse"]
["Energi- og miljøambisjon","Sertifisering",null,"Forskningsprosjekt",null,"Tilvalgskriterier","Annet (spesifiser i kommentarfeltet)"]
["Plusshus","BREEAM-NOR Excellent ",{"$nulls":3},"Plusshus"]
["Nær null","BREEAM-NOR Outstanding",{"$nulls":3},"Sirkulære bygg"]
["Annet","Svanemerket - Bolig og andre bygg",{"$nulls":3},"Sirkulære nabolag"]
[null,"Svanemerket - Bygg rehabilitering",{"$nulls":3},"Naturmangfold "]
[null,"Annet (spesifiser i kommentarfeltet)",{"$nulls":3},"ZERO-L"]
[{"$nulls":5},"Plastbruk"]
[]
[]
["METODE CO2",{"$nulls":4},"Obligatoriske kriterier "]
["NS 3720 (gjelder prosjekter i FB 1.0) ",{"$nulls":4},"Ja"]
["FutureBuilt ZERO (gjelder prosjekter i FB 2.0) ",{"$nulls":4},"Nei (utdyp i kommentarfeltet)"]
[]
[]
[]
["VERKTØY CO2"]
["OneClick LCA"]
["Annet (spesifiser i kommentarfeltet)"]
[]
[]
[]
["https://no.redditview.com/articles/excel/how-to-create-drop-down-lists-in-excel-on-mac.html"]

{"sheet":"Relations","index":2,"n_rows":2000,"n_cols":19,"rows_kept":2000,"hidden":true}
["Status","Status-ID","Prosjekt-type","Prosjekt-type ID","Funksjon","Funksjon ID","Bygningskategori (TEK)","Energiforsyningssystem","Usergroups","ID","ArchitechtureOffices","ID","ArchitectureOfficesNewname","Companys","ID","CompanyNewname","ConsultingCompanys","ID","ConsultingCompanysNewname"]
[{"$f":"IF(ISERROR(VLOOKUP(B2,tbl_ProjectPhases!$C$1:$D$50,2,FALSE))=FALSE(),VLOOKUP(B2,tbl_ProjectPhases!$C$1:$D$50,2,FALSE),\"-----\")","v":"-----"},null,{"$f":"IF(ISERROR(VLOOKUP(D2,tbl_ProjectTypes!$C$1:$D$50,2,FALSE))=FALSE(),VLOOKUP(D2,tbl_ProjectTypes!$C$1:$D$50,2,FALSE),\"-----\")","v":"-----"},null,{"$f":"IF(ISERROR(VLOOKUP(F2,#REF!,2,FALSE))=FALSE(),VLOOKUP(F2,#REF!,2,FALSE),\"-----\")","v":"-----"},null,"-----","-----","-----",null,{"$f":"tbl_ArchitectureOffices!D2","v":" Dyrø og Moen AS"},{"$f":"tbl_ArchitectureOffices!C2","v":166571},{"$f":"IFERROR(REPLACE(K2,FIND(\" \",K2,LEN(K2)),1,\"\"),K2)","v":" Dyrø og Moen AS"},{"$f":"tbl_Companys!D2","v":" Dyrø og Moen AS"},{"$f":"tbl_Companys!C2","v":166571},{"$f":"IFERROR(REPLACE(N2,FIND(\" \",N2,LEN(N2)),1,\"\"),N2)","v":" Dyrø og Moen AS"},{"$f":"tbl_ConsultingCompanys!D2","v":" Vailant Group Norge AS"},{"$f":"tbl_ConsultingCompanys!C2","v":232350},{"$f":"IFERROR(REPLACE(Q2,FIND(\" \",Q2,LEN(Q2)),1,\"\"),Q2)","v":" Vailant Group Norge AS"}]
[{"$f":"IF(ISERROR(VLOOKUP(B3,tbl_ProjectPhases!$C$1:$D$50,2,FALSE))=FALSE(),VLOOKUP(B3,tbl_ProjectPhases!$C$1:$D$50,2,FALSE),\"-----\")","v":"Ideprosjekt"},229025,{"$f":"IF(ISERROR(VLOOKUP(D3,tbl_ProjectTypes!$C$1:$D$50,2,FALSE))=FALSE(),VLOOKUP(D3,tbl_ProjectTypes!$C$1:$D$50,2,FALSE),\"-----\")","v":"Regionalutvikling"},236205,{"$f":"IF(ISERROR(VLOOKUP(F3,tbl_ArchitectofficeCategorys!$C$1:$D$50,2,FALSE))=FALSE(),VLOOKUP(F3,tbl_ArchitectofficeCategorys!$C$1:$D$50,2,FALSE),\"-----\")","v":"Hager, gårdsrom, uteanlegg på tak"},229515,"Småhus/rekkehus","Solceller - elektrisitet","Prosjektdatabase (alle)",214438,{"$f":"tbl_ArchitectureOffices!D3","v":" Hoen arkitektfirma, Anne Louise"},{"$f":"tbl_ArchitectureOffices!C3","v":172585},{"$f":"IFERROR(REPLACE(K3,FIND(\" \",K3,LEN(K3)),1,\"\"),K3)","v":" Hoen arkitektfirma, Anne Louise"},{"$f":"tbl_Companys!D3","v":" Hoen arkitektfirma, Anne Louise"},{"$f":"tbl_Companys!C3","v":172585},{"$f":"IFERROR(REPLACE(N3,FIND(\" \",N3,LEN(N3)),1,\"\"),N3)","v":" Hoen arkitektfirma, Anne Louise"},{"$f":"tbl_ConsultingCompanys!D3","v":"A.L. Høyer Skien AS"},{"$f":"tbl_ConsultingCompanys!C3","v":228642},{"$f":"IFERROR(REPLACE(Q3,FIND(\" \",Q3,LEN(Q3)),1,\"\"),Q3)","v":"A.L. Høyer Skien AS"}]
[{"$f":"IF(ISERROR(VLOOKUP(B4,tbl_ProjectPhases!$C$1:$D$50,2,FALSE))=FALSE(),VLOOKUP(B4,tbl_ProjectPhases!$C$1:$D$50,2,FALSE),\"-----\")","v":"Skisseprosjekt"},229026,{"$f":"IF(ISERROR(VLOOKUP(D4,tbl_ProjectTypes!$C$1:$D$50,2,FALSE))=FALSE(),VLOOKUP(D4,tbl_ProjectTypes!$C$1:$D$50,2,FALSE),\"-----\")","v":"By-/ stedsutvikling"},182777,{"$f":"IF(ISERROR(VLOOKUP(F4,tbl_ArchitectofficeCategorys!$C$1:$D$50,2,FALSE))=FALSE(),VLOOKUP(F4,tbl_ArchitectofficeCategorys!$C$1:$D$50,2,FALSE),\"-----\")","v":"Byrom, gater, torg"},229027,"Boligblokk","Solfanger - termisk","Pbase",235554,{"$f":"tbl_ArchitectureOffices!D4","v":" Hus arkitekter AS"},{"$f":"tbl_ArchitectureOffices!C4","v":171139}," Hus arkitekter AS",{"$f":"tbl_Companys!D4","v":" Hus arkitekter AS"},{"$f":"tbl_Companys!C4","v":171139}," Hus arkitekter AS",{"$f":"tbl_ConsultingCompanys!D4","v":"A/S Betong, Stavanger"},{"$f":"tbl_ConsultingCompanys!C4","v":101120},"A/S Betong, Stavanger"]
[{"$f":"IF(ISERROR(VLOOKUP(B5,tbl_ProjectPhases!$C$1:$D$50,2,FALSE))=FALSE(),VLOOKUP(B5,tbl_ProjectPhases!$C$1:$D$50,2,FALSE),\"-----\")","v":"Forprosjekt"},228525,{"$f":"IF(ISERROR(VLOOKUP(D5,tbl_ProjectTypes!$C$1:$D$50,2,FALSE))=FALSE(),VLOOKUP(D5,tbl_ProjectTypes!$C$1:$D$50,2,FALSE),\"-----\")","v":"Regulering"},136142,{"$f":"IF(ISERROR(VLOOKUP(F5,tbl_ArchitectofficeCategorys!$C$1:$D$50,2,FALSE))=FALSE(),VLOOKUP(F5,tbl_ArchitectofficeCategorys!$C$1:$D$50,2,FALSE),\"-----\")","v":"Parker og grøntanlegg"},229516,"Barnehage","-----","Edit Ecobox",172134,{"$f":"tbl_ArchitectureOffices!D5","v":" Kvien, Tord"},{"$f":"tbl_ArchitectureOffices!C5","v":171771}," Kvien, Tord",{"$f":"tbl_Companys!D5","v":" Kvien, Tord"},{"$f":"tbl_Companys!C5","v":171771}," Kvien, Tord",{"$f":"tbl_ConsultingCompanys!D5","v":"Aadnesen glass AS"},{"$f":"tbl_ConsultingCompanys!C5","v":172630},"Aadnesen glass AS"]
[{"$f":"IF(ISERROR(VLOOKUP(B6,tbl_ProjectPhases!$C$1:$D$50,2,FALSE))=FALSE(),VLOOKUP(B6,tbl_ProjectPhases!$C$1:$D$50,2,FALSE),\"-----\")","v":"Detaljprosjekt"},229023,{"$f":"IF(ISERROR(VLOOKUP(D6,tbl_ProjectTypes!$C$1:$D$50,2,FALSE))=FALSE(),VLOOKUP(D6,tbl_ProjectTypes!$C$1:$D$50,2,FALSE),\"-----\")","v":"-----"},null,{"$f":"IF(ISERROR(VLOOKUP(F6,tbl_ArchitectofficeCategorys!$C$1:$D$50,2,FALSE))=FALSE(),VLOOKUP(F6,tbl_ArchitectofficeCategorys!$C$1:$D$50,2,FALSE),\"-----\")","v":"Friluftsområder, turvei, vannkant"},237099,"Kontorbygning","Åpent vedfyrt ildsted o.l.","Edit Admin",172098,{"$f":"tbl_ArchitectureOffices!D6","v":"1:1 Arkitekter AS"},{"$f":"tbl_ArchitectureOffices!C6","v":166642},"1:1 Arkitekter AS",{"$f":"tbl_Companys!D6","v":" Vailant Group Norge AS"},{"$f":"tbl_Companys!C6","v":232350}," Vailant Group Norge AS",{"$f":"tbl_ConsultingCompanys!D6","v":"Aalerud AS Rådgivede ingeniører"},{"$f":"tbl_ConsultingCompanys!C6","v":181045},"Aalerud AS Rådgivede ingeniører"]
[{"$f":"IF(ISERROR(VLOOKUP(B7,tbl_ProjectPhases!$C$1:$D$50,2,FALSE))=FALSE(),VLOOKUP(B7,tbl_ProjectPhases!$C$1:$D$50,2,FALSE),\"-----\")","v":"Ferdigstilt"},228450,{"$f":"IF(ISERROR(VLOOKUP(D7,tbl_ProjectTypes!$C$1:$D$50,2,FALSE))=FALSE(),VLOOKUP(D7,tbl_ProjectTypes!$C$1:$D$50,2,FALSE),\"-----\")","v":"Landskap og blå-grønn struktur"},136112,{"$f":"IF(ISERROR(VLOOKUP(F7,tbl_ArchitectofficeCategorys!$C$1:$D$50,2,FALSE))=FALSE(),VLOOKUP(F7,tbl_ArchitectofficeCategorys!$C$1:$D$50,2,FALSE),\"-----\")","v":"Transport og infrastruktur"},172667,"Skolebygning","Lukket vedovn o.l.","Ecobox Admin",235553,{"$f":"tbl_ArchitectureOffices!D7","v":"3RW arkitekter"},{"$f":"tbl_ArchitectureOffices!C7","v":166448},"3RW arkitekter",{"$f":"tbl_Companys!D7","v":"1:1 Arkitekter AS"},{"$f":"tbl_Companys!C7","v":166642},"1:1 Arkitekter AS",{"$f":"tbl_ConsultingCompanys!D7","v":"Aas Jakobsen AS "},{"$f":"tbl_ConsultingCompanys!C7","v":121133},"Aas Jakobsen AS"]
[{"$f":"IF(ISERROR(VLOOKUP(B8,tbl_ProjectPhases!$C$1:$D$50,2,FALSE))=FALSE(),VLOOKUP(B8,tbl_ProjectPhases!$C$1:$D$50,2,FALSE),\"-----\")","v":"-----"},null,{"$f":"IF(ISERROR(VLOOKUP(D8,tbl_ProjectTypes!$C$1:$D$50,2,FALSE))=FALSE(),VLOOKUP(D8,tbl_ProjectTypes!$C$1:$D$50,2,FALSE),\"-----\")","v":"Nybygg / Tilbygg"},229031,{"$f":"IF(ISERROR(VLOOKUP(F8,tbl_ArchitectofficeCategorys!$C$1:$D$50,2,FALSE))=FALSE(),VLOOKUP(F8,tbl_ArchitectofficeCategorys!$C$1:$D$50,2,FALSE),\"-----\")","v":"-----"},null,"Universitet/høyskole","Biopelletskamin","Framtidens Byer Admin",235595,{"$f":"tbl_ArchitectureOffices!D8","v":"4B Arkitekter AS"},{"$f":"tbl_ArchitectureOffices!C8","v":166723},"4B Arkitekter AS",{"$f":"tbl_Companys!D8","v":"3RW arkitekter"},{"$f":"tbl_Companys!C8","v":166448},"3RW arkitekter",{"$f":"tbl_ConsultingCompanys!D8","v":"Aas Luftbehandling"},{"$f":"tbl_ConsultingCompanys!C8","v":225767},"Aas Luftbehandling"]
[{"$f":"IF(ISERROR(VLOOKUP(B9,tbl_ProjectPhases!$C$1:$D$50,2,FALSE))=FALSE(),VLOOKUP(B9,tbl_ProjectPhases!$C$1:$D$50,2,FALSE),\"-----\")","v":"-----"},null,{"$f":"IF(ISERROR(VLOOKUP(D9,tbl_ProjectTypes!$C$1:$D$50,2,FALSE))=FALSE(),VLOOKUP(D9,tbl_ProjectTypes!$C$1:$D$50,2,FALSE),\"-----\")","v":"Ombruk / Rehabilitering / Transformasjon"},229032,{"$f":"IF(ISERROR(VLOOKUP(F9,tbl_ArchitectofficeCategorys!$C$1:$D$50,2,FALSE))=FALSE(),VLOOKUP(F9,tbl_ArchitectofficeCategorys!$C$1:$D$50,2,FALSE),\"-----\")","v":"Hytte/Fritidsbolig"},172580,"Sykehus","Bio-kjel",{"$f":"IF(ISERROR(VLOOKUP(J9,tbl_ExternalProjectDBUsers!$C$1:$T$1000,2,FALSE))=FALSE(),VLOOKUP(J9,tbl_ExternalProjectDBUsers!$C$1:$T$1000,2,FALSE),\"-----\")","v":"-----"},null,{"$f":"tbl_ArchitectureOffices!D9","v":"70 °N arkitektur AS"},{"$f":"tbl_ArchitectureOffices!C9","v":166469},"70 °N arkitektur AS",{"$f":"tbl_Companys!D9","v":"4B Arkitekter AS"},{"$f":"tbl_Companys!C9","v":166723},"4B Arkitekter AS",{"$f":"tbl_ConsultingCompanys!D9","v":"Aase Byggeadministrasjon AS"},{"$f":"tbl_ConsultingCompanys!C9","v":202816},"Aase Byggeadministrasjon AS"]
[{"$f":"IF(ISERROR(VLOOKUP(B10,tbl_ProjectPhases!$C$1:$D$50,2,FALSE))=FALSE(),VLOOKUP(B10,tbl_ProjectPhases!$C$1:$D$50,2,FALSE),\"-----\")","v":"-----"},null,{"$f":"IF(ISERROR(VLOOKUP(D10,tbl_ProjectTypes!$C$1:$D$50,2,FALSE))=FALSE(),VLOOKUP(D10,tbl_ProjectTypes!$C$1:$D$50,2,FALSE),\"-----\")","v":"Interiør"},229033,{"$f":"IF(ISERROR(VLOOKUP(F10,tbl_ArchitectofficeCategorys!$C$1:$D$50,2,FALSE))=FALSE(),VLOOKUP(F10,tbl_ArchitectofficeCategorys!$C$1:$D$50,2,FALSE),\"-----\")","v":"Enebolig/ rekkehus o.l."},165326,"Sykehjem","-----",{"$f":"tbl_ExternalProjectDBUsers!D2","v":"Bergen"},{"$f":"tbl_ExternalProjectDBUsers!C2","v":235560},{"$f":"tbl_ArchitectureOffices!D10","v":"a2 arkitekter as"},{"$f":"tbl_ArchitectureOffices!C10","v":186465},"a2 arkitekter as",{"$f":"tbl_Companys!D10","v":"70 °N arkitektur AS"},{"$f":"tbl_Companys!C10","v":166469},"70 °N arkitektur AS",{"$f":"tbl_ConsultingCompanys!D10","v":"Aasen Bygg AS"},{"$f":"tbl_ConsultingCompanys!C10","v":233806},"Aasen Bygg AS"]
[{"$f":"IF(ISERROR(VLOOKUP(B11,tbl_ProjectPhases!$C$1:$D$50,2,FALSE))=FALSE(),VLOOKUP(B11,tbl_ProjectPhases!$C$1:$D$50,2,FALSE),\"-----\")","v":"-----"},null,{"$f":"IF(ISERROR(VLOOKUP(D11,tbl_ProjectTypes!$C$1:$D$50,2,FALSE))=FALSE(),VLOOKUP(D11,tbl_ProjectTypes!$C$1:$D$50,2,FALSE),\"-----\")","v":"-----"},null,{"$f":"IF(ISERROR(VLOOKUP(F11,tbl_ArchitectofficeCategorys!$C$1:$D$50,2,FALSE))=FALSE(),VLOOKUP(F11,tbl_ArchitectofficeCategorys!$C$1:$D$50,2,FALSE),\"-----\")","v":"Boligområder/ boliganlegg"},172579,"Hotell","Varmepumpe luft-luft",{"$f":"tbl_ExternalProjectDBUsers!D3","v":"Bærum"},{"$f":"tbl_ExternalProjectDBUsers!C3","v":235837},{"$f":"tbl_ArchitectureOffices!D11","v":"AART (danmark)"},{"$f":"tbl_ArchitectureOffices!C11","v":245870},"AART (danmark)",{"$f":"tbl_Companys!D11","v":"A.L. Høyer Skien AS"},{"$f":"tbl_Companys!C11","v":228642},"A.L. Høyer Skien AS",{"$f":"tbl_ConsultingCompanys!D11","v":"ABC Elektro"},{"$f":"tbl_ConsultingCompanys!C11","v":232346},"ABC Elektro"]
[{"$f":"IF(ISERROR(VLOOKUP(B12,tbl_ProjectPhases!$C$1:$D$50,2,FALSE))=FALSE(),VLOOKUP(B12,tbl_ProjectPhases!$C$1:$D$50,2,FALSE),\"-----\")","v":"-----"},null,{"$f":"IF(ISERROR(VLOOKUP(D12,tbl_ProjectTypes!$C$1:$D$50,2,FALSE))=FALSE(),VLOOKUP(D12,tbl_ProjectTypes!$C$1:$D$50,2,FALSE),\"-----\")","v":"Industridesign"},136094,{"$f":"IF(ISERROR(VLOOKUP(F12,tbl_ArchitectofficeCategorys!$C$1:$D$50,2,FALSE))=FALSE(),VLOOKUP(F12,tbl_ArchitectofficeCategorys!$C$1:$D$50,2,FALSE),\"-----\")","v":"Omsorgsboliger"},229029,"Idrettsbygning","Varmepumpe luft-vann",{"$f":"tbl_ExternalProjectDBUsers!D4","v":"Drammen"},{"$f":"tbl_ExternalProjectDBUsers!C4","v":235828},{"$f":"tbl_ArchitectureOffices!D12","v":"Abacus as"},{"$f":"tbl_ArchitectureOffices!C12","v":166417},"Abacus as",{"$f":"tbl_Companys!D12","v":"A/S Betong, Stavanger"},{"$f":"tbl_Companys!C12","v":101120},"A/S Betong, Stavanger",{"$f":"tbl_ConsultingCompanys!D12","v":"ABC Elektro installasjon AS"},{"$f":"tbl_ConsultingCompanys!C12","v":228143},"ABC Elektro installasjon AS"]
[{"$f":"IF(ISERROR(VLOOKUP(B13,tbl_ProjectPhases!$C$1:$D$50,2,FALSE))=FALSE(),VLOOKUP(B13,tbl_ProjectPhases!$C$1:$D$50,2,FALSE),\"-----\")","v":"-----"},null,{"$f":"IF(ISERROR(VLOOKUP(D13,tbl_ProjectTypes!$C$1:$D$50,2,FALSE))=FALSE(),VLOOKUP(D13,tbl_ProjectTypes!$C$1:$D$50,2,FALSE),\"-----\")","v":"-----"},null,{"$f":"IF(ISERROR(VLOOKUP(F13,tbl_ArchitectofficeCategorys!$C$1:$D$50,2,FALSE))=FALSE(),VLOOKUP(F13,tbl_ArchitectofficeCategorys!$C$1:$D$50,2,FALSE),\"-----\")","v":"Sykehjem"},229518,"Forretningsbygning","Varmepumpe vann-vann",{"$f":"tbl_ExternalProjectDBUsers!D5","v":"Enova"},{"$f":"tbl_ExternalProjectDBUsers!C5","v":235558},{"$f":"tbl_ArchitectureOffices!D13","v":"Abo Plan & Arkitektur AS"},{"$f":"tbl_ArchitectureOffices!C13","v":181938},"Abo Plan & Arkitektur AS",{"$f":"tbl_Companys!D13","v":"a2 arkitekter as"},{"$f":"tbl_Companys!C13","v":186465},"a2 arkitekter as",{"$f":"tbl_ConsultingCompanys!D13","v":"Acusto AS"},{"$f":"tbl_ConsultingCompanys!C13","v":202452},"Acusto AS"]
[{"$f":"IF(ISERROR(VLOOKUP(B14,tbl_ProjectPhases!$C$1:$D$50,2,FALSE))=FALSE(),VLOOKUP(B14,tbl_ProjectPhases!$C$1:$D$50,2,FALSE),\"-----\")","v":"Fredet / vernet"},230396,{"$f":"IF(ISERROR(VLOOKUP(D14,tbl_ProjectTypes!$C$1:$D$50,2,FALSE))=FALSE(),VLOOKUP(D14,tbl_ProjectTypes!$C$1:$D$50,2,FALSE),\"-----\")","v":"-----"},null,{"$f":"IF(ISERROR(VLOOKUP(F14,tbl_ArchitectofficeCategorys!$C$1:$D$50,2,FALSE))=FALSE(),VLOOKUP(F14,tbl_ArchitectofficeCategorys!$C$1:$D$50,2,FALSE),\"-----\")","v":"Sykehus"},229519,"Kulturbygning","-----",{"$f":"tbl_ExternalProjectDBUsers!D6","v":"Finans Norge"},{"$f":"tbl_ExternalProjectDBUsers!C6","v":241810},{"$f":"tbl_ArchitectureOffices!D14","v":"absolutt arkitektur as"},{"$f":"tbl_ArchitectureOffices!C14","v":235232},"absolutt arkitektur as",{"$f":"tbl_Companys!D14","v":"Aadnesen glass AS"},{"$f":"tbl_Companys!C14","v":172630},"Aadnesen glass AS",{"$f":"tbl_ConsultingCompanys!D14","v":"Advansia as"},{"$f":"tbl_ConsultingCompanys!C14","v":217293},"Advansia as"]
[{"$f":"IF(ISERROR(VLOOKUP(B15,tbl_ProjectPhases!$C$1:$D$50,2,FALSE))=FALSE(),VLOOKUP(B15,tbl_ProjectPhases!$C$1:$D$50,2,FALSE),\"-----\")","v":"-----"},null,{"$f":"IF(ISERROR(VLOOKUP(D15,tbl_ProjectTypes!$C$1:$D$50,2,FALSE))=FALSE(),VLOOKUP(D15,tbl_ProjectTypes!$C$1:$D$50,2,FALSE),\"-----\")","v":"-----"},null,{"$f":"IF(ISERROR(VLOOKUP(F15,tbl_ArchitectofficeCategorys!$C$1:$D$50,2,FALSE))=FALSE(),VLOOKUP(F15,tbl_ArchitectofficeCategorys!$C$1:$D$50,2,FALSE),\"-----\")","v":"Barnehager"},172590,"Lett industri/verksteder","Fjern-/nærvarmeanlegg",{"$f":"tbl_ExternalProjectDBUsers!D7","v":"Framtidens Byer"},{"$f":"tbl_ExternalProjectDBUsers!C7","v":235557},{"$f":"tbl_ArchitectureOffices!D15","v":"ACK Arkitekter"},{"$f":"tbl_ArchitectureOffices!C15","v":172791},"ACK Arkitekter",{"$f":"tbl_Companys!D15","v":"Aalerud AS Rådgivede ingeniører"},{"$f":"tbl_Companys!C15","v":181045},"Aalerud AS Rådgivede ingeniører",{"$f":"tbl_ConsultingCompanys!D15","v":"AF Decom "},{"$f":"tbl_ConsultingCompanys!C15","v":178158},"AF Decom"]
[{"$f":"IF(ISERROR(VLOOKUP(B16,tbl_ProjectPhases!$C$1:$D$50,2,FALSE))=FALSE(),VLOOKUP(B16,tbl_ProjectPhases!$C$1:$D$50,2,FALSE),\"-----\")","v":"-----"},null,{"$f":"IF(ISERROR(VLOOKUP(D16,tbl_ProjectTypes!$C$1:$D$50,2,FALSE))=FALSE(),VLOOKUP(D16,tbl_ProjectTypes!$C$1:$D$50,2,FALSE),\"-----\")","v":"-----"},null,{"$f":"IF(ISERROR(VLOOKUP(F16,tbl_ArchitectofficeCategorys!$C$1:$D$50,2,FALSE))=FALSE(),VLOOKUP(F16,tbl_ArchitectofficeCategorys!$C$1:$D$50,2,FALSE),\"-----\")","v":"Skole/undervisningsbygg"},165322,null,"-----",{"$f":"tbl_ExternalProjectDBUsers!D8","v":"Framtidens bygg"},{"$f":"tbl_ExternalProjectDBUsers!C8","v":243933},{"$f":"tbl_ArchitectureOffices!D16","v":"Acona Tehnopole AS"},{"$f":"tbl_ArchitectureOffices!C16","v":166432},"Acona Tehnopole AS",{"$f":"tbl_Companys!D16","v":"AART (danmark)"},{"$f":"tbl_Companys!C16","v":245870},"AART (danmark)",{"$f":"tbl_ConsultingCompanys!D16","v":"AF Decom (riving)"},{"$f":"tbl_ConsultingCompanys!C16","v":178924},"AF Decom (riving)"]
[{"$f":"IF(ISERROR(VLOOKUP(B17,tbl_ProjectPhases!$C$1:$D$50,2,FALSE))=FALSE(),VLOOKUP(B17,tbl_ProjectPhases!$C$1:$D$50,2,FALSE),\"-----\")","v":"-----"},null,{"$f":"IF(ISERROR(VLOOKUP(D17,tbl_ProjectTypes!$C$1:$D$50,2,FALSE))=FALSE(),VLOOKUP(D17,tbl_ProjectTypes!$C$1:$D$50,2,FALSE),\"-----\")","v":"-----"},null,{"$f":"IF(ISERROR(VLOOKUP(F17,tbl_ArchitectofficeCategorys!$C$1:$D$50,2,FALSE))=FALSE(),VLOOKUP(F17,tbl_ArchitectofficeCategorys!$C$1:$D$50,2,FALSE),\"-----\")","v":"Svømmehall / Badeanlegg"},165321,null,"Elektriske panelovner o.l.",{"$f":"tbl_ExternalProjectDBUsers!D9","v":"Fredrikstad"},{"$f":"tbl_ExternalProjectDBUsers!C9","v":235831},{"$f":"tbl_ArchitectureOffices!D17","v":"Adaptiv Arkitektur AS"},{"$f":"tbl_ArchitectureOffices!C17","v":247813},"Adaptiv Arkitektur AS",{"$f":"tbl_Companys!D17","v":"Aas Jakobsen AS "},{"$f":"tbl_Companys!C17","v":121133},"Aas Jakobsen AS",{"$f":"tbl_ConsultingCompanys!D17","v":"AF Gruppen"},{"$f":"tbl_ConsultingCompanys!C17","v":202450},"AF Gruppen"]
[{"$f":"IF(ISERROR(VLOOKUP(B18,tbl_ProjectPhases!$C$1:$D$50,2,FALSE))=FALSE(),VLOOKUP(B18,tbl_ProjectPhases!$C$1:$D$50,2,FALSE),\"-----\")","v":"-----"},null,{"$f":"IF(ISERROR(VLOOKUP(D18,tbl_ProjectTypes!$C$1:$D$50,2,FALSE))=FALSE(),VLOOKUP(D18,tbl_ProjectTypes!$C$1:$D$50,2,FALSE),\"-----\")","v":"-----"},null,{"$f":"IF(ISERROR(VLOOKUP(F18,tbl_ArchitectofficeCategorys!$C$1:$D$50,2,FALSE))=FALSE(),VLOOKUP(F18,tbl_ArchitectofficeCategorys!$C$1:$D$50,2,FALSE),\"-----\")","v":"Idrettsanlegg- / bygg"},165316,null,"Elektrokjel for vannbåren varme",{"$f":"tbl_ExternalProjectDBUsers!D10","v":"FutureBuilt"},{"$f":"tbl_ExternalProjectDBUsers!C10","v":235778},{"$f":"tbl_ArchitectureOffices!D18","v":"Aepos arkitekter og planleggere AS"},{"$f":"tbl_ArchitectureOffices!C18","v":166439},"Aepos arkitekter og planleggere AS",{"$f":"tbl_Companys!D18","v":"Aas Luftbehandling"},{"$f":"tbl_Companys!C18","v":225767},"Aas Luftbehandling",{"$f":"tbl_ConsultingCompanys!D18","v":"Agathon Borgen AS"},{"$f":"tbl_ConsultingCompanys!C18","v":247607},"Agathon Borgen AS"]
[{"$f":"IF(ISERROR(VLOOKUP(B19,tbl_ProjectPhases!$C$1:$D$50,2,FALSE))=FALSE(),VLOOKUP(B19,tbl_ProjectPhases!$C$1:$D$50,2,FALSE),\"-----\")","v":"-----"},null,{"$f":"IF(ISERROR(VLOOKUP(D19,tbl_ProjectTypes!$C$1:$D$50,2,FALSE))=FALSE(),VLOOKUP(D19,tbl_ProjectTypes!$C$1:$D$50,2,FALSE),\"-----\")","v":"-----"},null,{"$f":"IF(ISERROR(VLOOKUP(F19,tbl_ArchitectofficeCategorys!$C$1:$D$50,2,FALSE))=FALSE(),VLOOKUP(F19,tbl_ArchitectofficeCategorys!$C$1:$D$50,2,FALSE),\"-----\")","v":"Kulturbygg/ -anlegg"},165327,null,"-----",{"$f":"tbl_ExternalProjectDBUsers!D11","v":"Husbanken"},{"$f":"tbl_ExternalProjectDBUsers!C11","v":214453},{"$f":"tbl_ArchitectureOffices!D19","v":"AG Plan og Arkitektur AS"},{"$f":"tbl_ArchitectureOffices!C19","v":166449},"AG Plan og Arkitektur AS",{"$f":"tbl_Companys!D19","v":"Aase Byggeadministrasjon AS"},{"$f":"tbl_Companys!C19","v":202816},"Aase Byggeadministrasjon AS",{"$f":"tbl_ConsultingCompanys!D19","v":"Agraff - arkitekter"},{"$f":"tbl_ConsultingCompanys!C19","v":244138},"Agraff - arkitekter"]
[{"$f":"IF(ISERROR(VLOOKUP(B20,tbl_ProjectPhases!$C$1:$D$50,2,FALSE))=FALSE(),VLOOKUP(B20,tbl_ProjectPhases!$C$1:$D$50,2,FALSE),\"-----\")","v":"-----"},null,{"$f":"IF(ISERROR(VLOOKUP(D20,tbl_ProjectTypes!$C$1:$D$50,2,FALSE))=FALSE(),VLOOKUP(D20,tbl_ProjectTypes!$C$1:$D$50,2,FALSE),\"-----\")","v":"-----"},null,{"$f":"IF(ISERROR(VLOOKUP(F20,tbl_ArchitectofficeCategorys!$C$1:$D$50,2,FALSE))=FALSE(),VLOOKUP(F20,tbl_ArchitectofficeCategorys!$C$1:$D$50,2,FALSE),\"-----\")","v":"Museum / Utstillinger"},165328,null,"Gasskamin/gasskjel",{"$f":"tbl_ExternalProjectDBUsers!D12","v":"Kommunal- og regionaldepartementet"},{"$f":"tbl_ExternalProjectDBUsers!C12","v":241806},{"$f":"tbl_ArchitectureOffices!D20","v":"Aga Arkitekter AS"},{"$f":"tbl_ArchitectureOffices!C20","v":166181},"Aga Arkitekter AS",{"$f":"tbl_Companys!D20","v":"Aasen Bygg AS"},{"$f":"tbl_Companys!C20","v":233806},"Aasen Bygg AS",{"$f":"tbl_ConsultingCompanys!D20","v":"Aktiv Arena"},{"$f":"tbl_ConsultingCompanys!C20","v":192374},"Aktiv Arena"]
[{"$f":"IF(ISERROR(VLOOKUP(B21,tbl_ProjectPhases!$C$1:$D$50,2,FALSE))=FALSE(),VLOOKUP(B21,tbl_ProjectPhases!$C$1:$D$50,2,FALSE),\"-----\")","v":"-----"},null,{"$f":"IF(ISERROR(VLOOKUP(D21,tbl_ProjectTypes!$C$1:$D$50,2,FALSE))=FALSE(),VLOOKUP(D21,tbl_ProjectTypes!$C$1:$D$50,2,FALSE),\"-----\")","v":"-----"},null,{"$f":"IF(ISERROR(VLOOKUP(F21,tbl_ArchitectofficeCategorys!$C$1:$D$50,2,FALSE))=FALSE(),VLOOKUP(F21,tbl_ArchitectofficeCategorys!$C$1:$D$50,2,FALSE),\"-----\")","v":"Kirke/krematorium"},165323,null,"-----",{"$f":"tbl_ExternalProjectDBUsers!D13","v":"Kristiansand"},{"$f":"tbl_ExternalProjectDBUsers!C13","v":235833},{"$f":"tbl_ArchitectureOffices!D21","v":"Agraff AS"},{"$f":"tbl_ArchitectureOffices!C21","v":166453},"Agraff AS",{"$f":"tbl_Companys!D21","v":"Abacus as"},{"$f":"tbl_Companys!C21","v":166417},"Abacus as",{"$f":"tbl_ConsultingCompanys!D21","v":"Aktivhus AS"},{"$f":"tbl_ConsultingCompanys!C21","v":230176},"Aktivhus AS"]
[{"$f":"IF(ISERROR(VLOOKUP(B22,tbl_ProjectPhases!$C$1:$D$50,2,FALSE))=FALSE(),VLOOKUP(B22,tbl_ProjectPhases!$C$1:$D$50,2,FALSE),\"-----\")","v":"-----"},null,{"$f":"IF(ISERROR(VLOOKUP(D22,tbl_ProjectTypes!$C$1:$D$50,2,FALSE))=FALSE(),VLOOKUP(D22,tbl_ProjectTypes!$C$1:$D$50,2,FALSE),\"-----\")","v":"-----"},null,{"$f":"IF(ISERROR(VLOOKUP(F22,tbl_ArchitectofficeCategorys!$C$1:$D$50,2,FALSE))=FALSE(),VLOOKUP(F22,tbl_ArchitectofficeCategorys!$C$1:$D$50,2,FALSE),\"-----\")","v":"Kontorbygg"},165317,null,"Olje/parafinkamin",{"$f":"tbl_ExternalProjectDBUsers!D14","v":"KS"},{"$f":"tbl_ExternalProjectDBUsers!C14","v":241812},{"$f":"tbl_ArchitectureOffices!D22","v":"AKC Arkitekter AS"},{"$f":"tbl_ArchitectureOffices!C22","v":166455},"AKC Arkitekter AS",{"$f":"tbl_Companys!D22","v":"ABC Elektro"},{"$f":"tbl_Companys!C22","v":232346},"ABC Elektro",{"$f":"tbl_ConsultingCompanys!D22","v":"AL Høyer Skien AS"},{"$f":"tbl_ConsultingCompanys!C22","v":121313},"AL Høyer Skien AS"]
[{"$f":"IF(ISERROR(VLOOKUP(B23,tbl_ProjectPhases!$C$1:$D$50,2,FALSE))=FALSE(),VLOOKUP(B23,tbl_ProjectPhases!$C$1:$D$50,2,FALSE),\"-----\")","v":"-----"},null,{"$f":"IF(ISERROR(VLOOKUP(D23,tbl_ProjectTypes!$C$1:$D$50,2,FALSE))=FALSE(),VLOOKUP(D23,tbl_ProjectTypes!$C$1:$D$50,2,FALSE),\"-----\")","v":"-----"},null,{"$f":"IF(ISERROR(VLOOKUP(F23,tbl_ArchitectofficeCategorys!$C$1:$D$50,2,FALSE))=FALSE(),VLOOKUP(F23,tbl_ArchitectofficeCategorys!$C$1:$D$50,2,FALSE),\"-----\")","v":"Universitet/ høyskolebygg"},229517,null,"Olje/parafinkjel",{"$f":"tbl_ExternalProjectDBUsers!D15","v":"Miljøverndepartementet"},{"$f":"tbl_ExternalProjectDBUsers!C15","v":241805},{"$f":"tbl_ArchitectureOffices!D23","v":"a-lab as"},{"$f":"tbl_ArchitectureOffices!C23","v":166183},"a-lab as",{"$f":"tbl_Companys!D23","v":"ABC Elektro installasjon AS"},{"$f":"tbl_Companys!C23","v":228143},"ABC Elektro installasjon AS",{"$f":"tbl_ConsultingCompanys!D23","v":"Alta Rør AS"},{"$f":"tbl_ConsultingCompanys!C23","v":247732},"Alta Rør AS"]
[{"$f":"IF(ISERROR(VLOOKUP(B24,tbl_ProjectPhases!$C$1:$D$50,2,FALSE))=FALSE(),VLOOKUP(B24,tbl_ProjectPhases!$C$1:$D$50,2,FALSE),\"-----\")","v":"-----"},null,{"$f":"IF(ISERROR(VLOOKUP(D24,tbl_ProjectTypes!$C$1:$D$50,2,FALSE))=FALSE(),VLOOKUP(D24,tbl_ProjectTypes!$C$1:$D$50,2,FALSE),\"-----\")","v":"-----"},null,{"$f":"IF(ISERROR(VLOOKUP(F24,tbl_ArchitectofficeCategorys!$C$1:$D$50,2,FALSE))=FALSE(),VLOOKUP(F24,tbl_ArchitectofficeCategorys!$C$1:$D$50,2,FALSE),\"-----\")","v":"Laboratoriebygg"},165324,null,"-----",{"$f":"tbl_ExternalProjectDBUsers!D16","v":"NHO"},{"$f":"tbl_ExternalProjectDBUsers!C16","v":241809},{"$f":"tbl_ArchitectureOffices!D24","v":"Alliance arkitekter AS"},{"$f":"tbl_ArchitectureOffices!C24","v":166456},"Alliance arkitekter AS",{"$f":"tbl_Companys!D24","v":"Abo Plan & Arkitektur AS"},{"$f":"tbl_Companys!C24","v":181938},"Abo Plan & Arkitektur AS",{"$f":"tbl_ConsultingCompanys!D24","v":"Alvdal trelast"},{"$f":"tbl_ConsultingCompanys!C24","v":232353},"Alvdal trelast"]
[{"$f":"IF(ISERROR(VLOOKUP(B25,tbl_ProjectPhases!$C$1:$D$50,2,FALSE))=FALSE(),VLOOKUP(B25,tbl_ProjectPhases!$C$1:$D$50,2,FALSE),\"-----\")","v":"-----"},null,{"$f":"IF(ISERROR(VLOOKUP(D25,tbl_ProjectTypes!$C$1:$D$50,2,FALSE))=FALSE(),VLOOKUP(D25,tbl_ProjectTypes!$C$1:$D$50,2,FALSE),\"-----\")","v":"-----"},null,{"$f":"IF(ISERROR(VLOOKUP(F25,tbl_ArchitectofficeCategorys!$C$1:$D$50,2,FALSE))=FALSE(),VLOOKUP(F25,tbl_ArchitectofficeCategorys!$C$1:$D$50,2,FALSE),\"-----\")","v":"Forretning / handel"},172597,null,"Andre",{"$f":"tbl_ExternalProjectDBUsers!D17","v":"Norske Arkitekters Landsforbund"},{"$f":"tbl_ExternalProjectDBUsers!C17","v":237575},{"$f":"tbl_ArchitectureOffices!D25","v":"Allsidig Arkitekt"},{"$f":"tbl_ArchitectureOffices!C25","v":243404},"Allsidig Arkitekt",{"$f":"tbl_Companys!D25","v":"absolutt arkitektur as"},{"$f":"tbl_Companys!C25","v":235232},"absolutt arkitektur as",{"$f":"tbl_ConsultingCompanys!D25","v":"Amalienborg Aveny AS"},{"$f":"tbl_ConsultingCompanys!C25","v":233200},"Amalienborg Aveny AS"]
[{"$f":"IF(ISERROR(VLOOKUP(B26,tbl_ProjectPhases!$C$1:$D$50,2,FALSE))=FALSE(),VLOOKUP(B26,tbl_ProjectPhases!$C$1:$D$50,2,FALSE),\"-----\")","v":"-----"},null,{"$f":"IF(ISERROR(VLOOKUP(D26,tbl_ProjectTypes!$C$1:$D$50,2,FALSE))=FALSE(),VLOOKUP(D26,tbl_ProjectTypes!$C$1:$D$50,2,FALSE),\"-----\")","v":"-----"},null,{"$f":"IF(ISERROR(VLOOKUP(F26,tbl_ArchitectofficeCategorys!$C$1:$D$50,2,FALSE))=FALSE(),VLOOKUP(F26,tbl_ArchitectofficeCategorys!$C$1:$D$50,2,FALSE),\"-----\")","v":"Hotell"},165319,null,null,{"$f":"tbl_ExternalProjectDBUsers!D18","v":"Olje- og energidepartementet"},{"$f":"tbl_ExternalProjectDBUsers!C18","v":241808},{"$f":"tbl_ArchitectureOffices!D26","v":"alt arkitektur as"},{"$f":"tbl_ArchitectureOffices!C26","v":166461},"alt arkitektur as",{"$f":"tbl_Companys!D26","v":"ACK Arkitekter"},{"$f":"tbl_Companys!C26","v":172791},"ACK Arkitekter",{"$f":"tbl_ConsultingCompanys!D26","v":"Anders Ellefsen"},{"$f":"tbl_ConsultingCompanys!C26","v":103267},"Anders Ellefsen"]
[{"$f":"IF(ISERROR(VLOOKUP(B27,tbl_ProjectPhases!$C$1:$D$50,2,FALSE))=FALSE(),VLOOKUP(B27,tbl_ProjectPhases!$C$1:$D$50,2,FALSE),\"-----\")","v":"-----"},null,{"$f":"IF(ISERROR(VLOOKUP(D27,tbl_ProjectTypes!$C$1:$D$50,2,FALSE))=FALSE(),VLOOKUP(D27,tbl_ProjectTypes!$C$1:$D$50,2,FALSE),\"-----\")","v":"-----"},null,{"$f":"IF(ISERROR(VLOOKUP(F27,tbl_ArchitectofficeCategorys!$C$1:$D$50,2,FALSE))=FALSE(),VLOOKUP(F27,tbl_ArchitectofficeCategorys!$C$1:$D$50,2,FALSE),\"-----\")","v":"Industribygg"},172663,null,null,{"$f":"tbl_ExternalProjectDBUsers!D19","v":"Oslo"},{"$f":"tbl_ExternalProjectDBUsers!C19","v":235559},{"$f":"tbl_ArchitectureOffices!D27","v":"AMB arkitekter AS"},{"$f":"tbl_ArchitectureOffices!C27","v":233552},"AMB arkitekter AS",{"$f":"tbl_Companys!D27","v":"Acona Tehnopole AS"},{"$f":"tbl_Companys!C27","v":166432},"Acona Tehnopole AS",{"$f":"tbl_ConsultingCompanys!D27","v":"Andersen & Askjem AS "},{"$f":"tbl_ConsultingCompanys!C27","v":112302},"Andersen & Askjem AS"]
[{"$f":"IF(ISERROR(VLOOKUP(B28,tbl_ProjectPhases!$C$1:$D$50,2,FALSE))=FALSE(),VLOOKUP(B28,tbl_ProjectPhases!$C$1:$D$50,2,FALSE),\"-----\")","v":"-----"},null,{"$f":"IF(ISERROR(VLOOKUP(D28,tbl_ProjectTypes!$C$1:$D$50,2,FALSE))=FALSE(),VLOOKUP(D28,tbl_ProjectTypes!$C$1:$D$50,2,FALSE),\"-----\")","v":"-----"},null,{"$f":"IF(ISERROR(VLOOKUP(F28,tbl_ArchitectofficeCategorys!$C$1:$D$50,2,FALSE))=FALSE(),VLOOKUP(F28,tbl_ArchitectofficeCategorys!$C$1:$D$50,2,FALSE),\"-----\")","v":"Messer / konferansesenter"},172677,null,null,{"$f":"tbl_ExternalProjectDBUsers!D20","v":"Porsgrunn og Skien"},{"$f":"tbl_ExternalProjectDBUsers!C20","v":235829},{"$f":"tbl_ArchitectureOffices!D28","v":"Amdahl Strøm Cappelen Arkitekter AS"},{"$f":"tbl_ArchitectureOffices!C28","v":219365},"Amdahl Strøm Cappelen Arkitekter AS",{"$f":"tbl_Companys!D28","v":"Acusto AS"},{"$f":"tbl_Companys!C28","v":202452},"Acusto AS",{"$f":"tbl_ConsultingCompanys!D28","v":"Andersen og Johnson AS"},{"$f":"tbl_ConsultingCompanys!C28","v":224067},"Andersen og Johnson AS"]
[{"$f":"IF(ISERROR(VLOOKUP(B29,tbl_ProjectPhases!$C$1:$D$50,2,FALSE))=FALSE(),VLOOKUP(B29,tbl_ProjectPhases!$C$1:$D$50,2,FALSE),\"-----\")","v":"-----"},null,{"$f":"IF(ISERROR(VLOOKUP(D29,tbl_ProjectTypes!$C$1:$D$50,2,FALSE))=FALSE(),VLOOKUP(D29,tbl_ProjectTypes!$C$1:$D$50,2,FALSE),\"-----\")","v":"-----"},null,{"$f":"IF(ISERROR(VLOOKUP(F29,tbl_ArchitectofficeCategorys!$C$1:$D$50,2,FALSE))=FALSE(),VLOOKUP(F29,tbl_ArchitectofficeCategorys!$C$1:$D$50,2,FALSE),\"-----\")","v":"-----"},{"$nulls":3},{"$f":"tbl_ExternalProjectDBUsers!D21","v":"Samferdselsdepartementet"},{"$f":"tbl_ExternalProjectDBUsers!C21","v":241804},{"$f":"tbl_ArchitectureOffices!D29","v":"Amtedal & Hansen Arkitektkontor as"},{"$f":"tbl_ArchitectureOffices!C29","v":172681},"Amtedal & Hansen Arkitektkontor as",{"$f":"tbl_Companys!D29","v":"Adaptiv Arkitektur AS"},{"$f":"tbl_Companys!C29","v":247813},"Adaptiv Arkitektur AS",{"$f":"tbl_ConsultingCompanys!D29","v":"Arbeidsfellesskapet Kruse Strømme DA"},{"$f":"tbl_ConsultingCompanys!C29","v":246929},"Arbeidsfellesskapet Kruse Strømme DA"]
[{"$f":"IF(ISERROR(VLOOKUP(B30,tbl_ProjectPhases!$C$1:$D$50,2,FALSE))=FALSE(),VLOOKUP(B30,tbl_ProjectPhases!$C$1:$D$50,2,FALSE),\"-----\")","v":"-----"},null,{"$f":"IF(ISERROR(VLOOKUP(D30,tbl_ProjectTypes!$C$1:$D$50,2,FALSE))=FALSE(),VLOOKUP(D30,tbl_ProjectTypes!$C$1:$D$50,2,FALSE),\"-----\")","v":"-----"},null,{"$f":"IF(ISERROR(VLOOKUP(F30,tbl_ArchitectofficeCategorys!$C$1:$D$50,2,FALSE))=FALSE(),VLOOKUP(F30,tbl_ArchitectofficeCategorys!$C$1:$D$50,2,FALSE),\"-----\")","v":"-----"},{"$nulls":3},{"$f":"tbl_ExternalProjectDBUsers!D22","v":"Sandnes"},{"$f":"tbl_ExternalProjectDBUsers!C22","v":235834},{"$f":"tbl_ArchitectureOffices!D30","v":"Amtedal & Hansen Arkitektkontor AS"},{"$f":"tbl_ArchitectureOffices!C30","v":247618},"Amtedal & Hansen Arkitektkontor AS",{"$f":"tbl_Companys!D30","v":"Advansia as"},{"$f":"tbl_Companys!C30","v":217293},"Advansia as",{"$f":"tbl_ConsultingCompanys!D30","v":"Arkitekt Bengt Michaelsen"},{"$f":"tbl_ConsultingCompanys!C30","v":242869},"Arkitekt Bengt Michaelsen"]
[{"$f":"IF(ISERROR(VLOOKUP(B31,tbl_ProjectPhases!$C$1:$D$50,2,FALSE))=FALSE(),VLOOKUP(B31,tbl_ProjectPhases!$C$1:$D$50,2,FALSE),\"-----\")","v":"-----"},null,{"$f":"IF(ISERROR(VLOOKUP(D31,tbl_ProjectTypes!$C$1:$D$50,2,FALSE))=FALSE(),VLOOKUP(D31,tbl_ProjectTypes!$C$1:$D$50,2,FALSE),\"-----\")","v":"-----"},null,{"$f":"IF(ISERROR(VLOOKUP(F31,tbl_ArchitectofficeCategorys!$C$1:$D$50,2,FALSE))=FALSE(),VLOOKUP(F31,tbl_ArchitectofficeCategorys!$C$1:$D$50,2,FALSE),\"-----\")","v":"-----"},{"$nulls":3},{"$f":"tbl_ExternalProjectDBUsers!D23","v":"Sarpsborg"},{"$f":"tbl_ExternalProjectDBUsers!C23","v":235832},{"$f":"tbl_ArchitectureOffices!D31","v":"Andersen & Flåte AS"},{"$f":"tbl_ArchitectureOffices!C31","v":230398},"Andersen & Flåte AS",{"$f":"tbl_Companys!D31","v":"Aepos arkitekter og planleggere AS"},{"$f":"tbl_Companys!C31","v":166439},"Aepos arkitekter og planleggere AS",{"$f":"tbl_ConsultingCompanys!D31","v":"Arkitektgruppen Cubus AS"},{"$f":"tbl_ConsultingCompanys!C31","v":248888},"Arkitektgruppen Cubus AS"]
[{"$f":"IF(ISERROR(VLOOKUP(B32,tbl_ProjectPhases!$C$1:$D$50,2,FALSE))=FALSE(),VLOOKUP(B32,tbl_ProjectPhases!$C$1:$D$50,2,FALSE),\"-----\")","v":"-----"},null,{"$f":"IF(ISERROR(VLOOKUP(D32,tbl_ProjectTypes!$C$1:$D$50,2,FALSE))=FALSE(),VLOOKUP(D32,tbl_ProjectTypes!$C$1:$D$50,2,FALSE),\"-----\")","v":"-----"},null,{"$f":"IF(ISERROR(VLOOKUP(F32,tbl_ArchitectofficeCategorys!$C$1:$D$50,2,FALSE))=FALSE(),VLOOKUP(F32,tbl_ArchitectofficeCategorys!$C$1:$D$50,2,FALSE),\"-----\")","v":"-----"},{"$nulls":3},{"$f":"tbl_ExternalProjectDBUsers!D24","v":"Stavanger"},{"$f":"tbl_ExternalProjectDBUsers!C24","v":235827},{"$f":"tbl_ArchitectureOffices!D32","v":"Anderssen+Fremming AS"},{"$f":"tbl_ArchitectureOffices!C32","v":172904},"Anderssen+Fremming AS",{"$f":"tbl_Companys!D32","v":"AF Decom "},{"$f":"tbl_Companys!C32","v":178158},"AF Decom",{"$f":"tbl_ConsultingCompanys!D32","v":"Arkitektgruppen Drammen AS"},{"$f":"tbl_ConsultingCompanys!C32","v":214402},"Arkitektgruppen Drammen AS"]
[{"$f":"IF(ISERROR(VLOOKUP(B33,tbl_ProjectPhases!$C$1:$D$50,2,FALSE))=FALSE(),VLOOKUP(B33,tbl_ProjectPhases!$C$1:$D$50,2,FALSE),\"-----\")","v":"-----"},null,{"$f":"IF(ISERROR(VLOOKUP(D33,tbl_ProjectTypes!$C$1:$D$50,2,FALSE))=FALSE(),VLOOKUP(D33,tbl_ProjectTypes!$C$1:$D$50,2,FALSE),\"-----\")","v":"-----"},null,{"$f":"IF(ISERROR(VLOOKUP(F33,tbl_ArchitectofficeCategorys!$C$1:$D$50,2,FALSE))=FALSE(),VLOOKUP(F33,tbl_ArchitectofficeCategorys!$C$1:$D$50,2,FALSE),\"-----\")","v":"-----"},{"$nulls":3},{"$f":"tbl_ExternalProjectDBUsers!D25","v":"Treteknisk Institutt"},{"$f":"tbl_ExternalProjectDBUsers!C25","v":241834},{"$f":"tbl_ArchitectureOffices!D33","v":"Andresen Arkitekter AS"},{"$f":"tbl_ArchitectureOffices!C33","v":166474},"Andresen Arkitekter AS",{"$f":"tbl_Companys!D33","v":"AF Decom (riving)"},{"$f":"tbl_Companys!C33","v":178924},"AF Decom (riving)",{"$f":"tbl_ConsultingCompanys!D33","v":"Arne Aakermann"},{"$f":"tbl_ConsultingCompanys!C33","v":160605},"Arne Aakermann"]
[{"$f":"IF(ISERROR(VLOOKUP(B34,tbl_ProjectPhases!$C$1:$D$50,2,FALSE))=FALSE(),VLOOKUP(B34,tbl_ProjectPhases!$C$1:$D$50,2,FALSE),\"-----\")","v":"-----"},null,{"$f":"IF(ISERROR(VLOOKUP(D34,tbl_ProjectTypes!$C$1:$D$50,2,FALSE))=FALSE(),VLOOKUP(D34,tbl_ProjectTypes!$C$1:$D$50,2,FALSE),\"-----\")","v":"-----"},null,{"$f":"IF(ISERROR(VLOOKUP(F34,tbl_ArchitectofficeCategorys!$C$1:$D$50,2,FALSE))=FALSE(),VLOOKUP(F34,tbl_ArchitectofficeCategorys!$C$1:$D$50,2,FALSE),\"-----\")","v":"-----"},{"$nulls":3},{"$f":"tbl_ExternalProjectDBUsers!D26","v":"Tromsø"},{"$f":"tbl_ExternalProjectDBUsers!C26","v":235836},{"$f":"tbl_ArchitectureOffices!D34","v":"April Arkitekter AS"},{"$f":"tbl_ArchitectureOffices!C34","v":166476},"April Arkitekter AS",{"$f":"tbl_Companys!D34","v":"AF Gruppen"},{"$f":"tbl_Companys!C34","v":202450},"AF Gruppen",{"$f":"tbl_ConsultingCompanys!D34","v":"Arne Vidar Hegni"},{"$f":"tbl_ConsultingCompanys!C34","v":112497},"Arne Vidar Hegni"]
[{"$f":"IF(ISERROR(VLOOKUP(B35,tbl_ProjectPhases!$C$1:$D$50,2,FALSE))=FALSE(),VLOOKUP(B35,tbl_ProjectPhases!$C$1:$D$50,2,FALSE),\"-----\")","v":"-----"},null,{"$f":"IF(ISERROR(VLOOKUP(D35,tbl_ProjectTypes!$C$1:$D$50,2,FALSE))=FALSE(),VLOOKUP(D35,tbl_ProjectTypes!$C$1:$D$50,2,FALSE),\"-----\")","v":"-----"},null,{"$f":"IF(ISERROR(VLOOKUP(F35,tbl_ArchitectofficeCategorys!$C$1:$D$50,2,FALSE))=FALSE(),VLOOKUP(F35,tbl_ArchitectofficeCategorys!$C$1:$D$50,2,FALSE),\"-----\")","v":"-----"},{"$nulls":3},{"$f":"tbl_ExternalProjectDBUsers!D27","v":"Trondheim"},{"$f":"tbl_ExternalProjectDBUsers!C27","v":235835},{"$f":"tbl_ArchitectureOffices!D35","v":"arc arkitekter as"},{"$f":"tbl_ArchitectureOffices!C35","v":172892},"arc arkitekter as",{"$f":"tbl_Companys!D35","v":"AG Plan og Arkitektur AS"},{"$f":"tbl_Companys!C35","v":166449},"AG Plan og Arkitektur AS",{"$f":"tbl_ConsultingCompanys!D35","v":"Arne Wikholm AS"},{"$f":"tbl_ConsultingCompanys!C35","v":110769},"Arne Wikholm AS"]
[{"$f":"IF(ISERROR(VLOOKUP(B36,tbl_ProjectPhases!$C$1:$D$50,2,FALSE))=FALSE(),VLOOKUP(B36,tbl_ProjectPhases!$C$1:$D$50,2,FALSE),\"-----\")","v":"-----"},null,{"$f":"IF(ISERROR(VLOOKUP(D36,tbl_ProjectTypes!$C$1:$D$50,2,FALSE))=FALSE(),VLOOKUP(D36,tbl_ProjectTypes!$C$1:$D$50,2,FALSE),\"-----\")","v":"-----"},null,{"$f":"IF(ISERROR(VLOOKUP(F36,tbl_ArchitectofficeCategorys!$C$1:$D$50,2,FALSE))=FALSE(),VLOOKUP(F36,tbl_ArchitectofficeCategorys!$C$1:$D$50,2,FALSE),\"-----\")","v":"-----"},{"$nulls":3},{"$f":"tbl_ExternalProjectDBUsers!D28","v":"Virke"},{"$f":"tbl_ExternalProjectDBUsers!C28","v":241811},{"$f":"tbl_ArchitectureOffices!D36","v":"ARC arkitektur AS"},{"$f":"tbl_ArchitectureOffices!C36","v":248768},"ARC arkitektur AS",{"$f":"tbl_Companys!D36","v":"Aga Arkitekter AS"},{"$f":"tbl_Companys!C36","v":166181},"Aga Arkitekter AS",{"$f":"tbl_ConsultingCompanys!D36","v":"Artec AS"},{"$f":"tbl_ConsultingCompanys!C36","v":247296},"Artec AS"]
[{"$f":"IF(ISERROR(VLOOKUP(B37,tbl_ProjectPhases!$C$1:$D$50,2,FALSE))=FALSE(),VLOOKUP(B37,tbl_ProjectPhases!$C$1:$D$50,2,FALSE),\"-----\")","v":"-----"},null,{"$f":"IF(ISERROR(VLOOKUP(D37,tbl_ProjectTypes!$C$1:$D$50,2,FALSE))=FALSE(),VLOOKUP(D37,tbl_ProjectTypes!$C$1:$D$50,2,FALSE),\"-----\")","v":"-----"},null,{"$f":"IF(ISERROR(VLOOKUP(F37,tbl_ArchitectofficeCategorys!$C$1:$D$50,2,FALSE))=FALSE(),VLOOKUP(F37,tbl_ArchitectofficeCategorys!$C$1:$D$50,2,FALSE),\"-----\")","v":"-----"},{"$nulls":3},{"$f":"tbl_ExternalProjectDBUsers!D29","v":0},{"$f":"tbl_ExternalProjectDBUsers!C29","v":0},{"$f":"tbl_ArchitectureOffices!D37","v":"Arcasa arkitekter AS"},{"$f":"tbl_ArchitectureOffices!C37","v":166511},"Arcasa arkitekter AS",{"$f":"tbl_Companys!D37","v":"Agathon Borgen AS"},{"$f":"tbl_Companys!C37","v":247607},"Agathon Borgen AS",{"$f":"tbl_ConsultingCompanys!D37","v":"AS Anlegg"},{"$f":"tbl_ConsultingCompanys!C37","v":110996},"AS Anlegg"]
[{"$f":"IF(ISERROR(VLOOKUP(B38,tbl_ProjectPhases!$C$1:$D$50,2,FALSE))=FALSE(),VLOOKUP(B38,tbl_ProjectPhases!$C$1:$D$50,2,FALSE),\"-----\")","v":"-----"},null,{"$f":"IF(ISERROR(VLOOKUP(D38,tbl_ProjectTypes!$C$1:$D$50,2,FALSE))=FALSE(),VLOOKUP(D38,tbl_ProjectTypes!$C$1:$D$50,2,FALSE),\"-----\")","v":"-----"},null,{"$f":"IF(ISERROR(VLOOKUP(F38,tbl_ArchitectofficeCategorys!$C$1:$D$50,2,FALSE))=FALSE(),VLOOKUP(F38,tbl_ArchitectofficeCategorys!$C$1:$D$50,2,FALSE),\"-----\")","v":"-----"},{"$nulls":3},{"$f":"tbl_ExternalProjectDBUsers!D30","v":0},{"$f":"tbl_ExternalProjectDBUsers!C30","v":0},{"$f":"tbl_ArchitectureOffices!D38","v":"Arc-ess AS"},{"$f":"tbl_ArchitectureOffices!C38","v":166480},"Arc-ess AS",{"$f":"tbl_Companys!D38","v":"Agraff - arkitekter"},{"$f":"tbl_Companys!C38","v":244138},"Agraff - arkitekter",{"$f":"tbl_ConsultingCompanys!D38","v":"AS Frederiksen"},{"$f":"tbl_ConsultingCompanys!C38","v":98695},"AS Frederiksen"]
[{"$f":"IF(ISERROR(VLOOKUP(B39,tbl_ProjectPhases!$C$1:$D$50,2,FALSE))=FALSE(),VLOOKUP(B39,tbl_ProjectPhases!$C$1:$D$50,2,FALSE),\"-----\")","v":"-----"},null,{"$f":"IF(ISERROR(VLOOKUP(D39,tbl_ProjectTypes!$C$1:$D$50,2,FALSE))=FALSE(),VLOOKUP(D39,tbl_ProjectTypes!$C$1:$D$50,2,FALSE),\"-----\")","v":"-----"},null,{"$f":"IF(ISERROR(VLOOKUP(F39,tbl_ArchitectofficeCategorys!$C$1:$D$50,2,FALSE))=FALSE(),VLOOKUP(F39,tbl_ArchitectofficeCategorys!$C$1:$D$50,2,FALSE),\"-----\")","v":"-----"},{"$nulls":3},{"$f":"tbl_ExternalProjectDBUsers!D31","v":0},{"$f":"tbl_ExternalProjectDBUsers!C31","v":0},{"$f":"tbl_ArchitectureOffices!D39","v":"Arch Uno AS"},{"$f":"tbl_ArchitectureOffices!C39","v":166482},"Arch Uno AS",{"$f":"tbl_Companys!D39","v":"Agraff AS"},{"$f":"tbl_Companys!C39","v":166453},"Agraff AS",{"$f":"tbl_ConsultingCompanys!D39","v":"As Luft Miljø (RIV)"},{"$f":"tbl_ConsultingCompanys!C39","v":215426},"As Luft Miljø (RIV)"]
[{"$f":"IF(ISERROR(VLOOKUP(B40,tbl_ProjectPhases!$C$1:$D$50,2,FALSE))=FALSE(),VLOOKUP(B40,tbl_ProjectPhases!$C$1:$D$50,2,FALSE),\"-----\")","v":"-----"},null,{"$f":"IF(ISERROR(VLOOKUP(D40,tbl_ProjectTypes!$C$1:$D$50,2,FALSE))=FALSE(),VLOOKUP(D40,tbl_ProjectTypes!$C$1:$D$50,2,FALSE),\"-----\")","v":"-----"},null,{"$f":"IF(ISERROR(VLOOKUP(F40,tbl_ArchitectofficeCategorys!$C$1:$D$50,2,FALSE))=FALSE(),VLOOKUP(F40,tbl_ArchitectofficeCategorys!$C$1:$D$50,2,FALSE),\"-----\")","v":"-----"},{"$nulls":3},{"$f":"tbl_ExternalProjectDBUsers!D32","v":0},{"$f":"tbl_ExternalProjectDBUsers!C32","v":0},{"$f":"tbl_ArchitectureOffices!D40","v":"Architectopia AS"},{"$f":"tbl_ArchitectureOffices!C40","v":210153},"Architectopia AS",{"$f":"tbl_Companys!D40","v":"AKC Arkitekter AS"},{"$f":"tbl_Companys!C40","v":166455},"AKC Arkitekter AS",{"$f":"tbl_ConsultingCompanys!D40","v":"AS Olaussen Rådg. Ingeniørkontor"},{"$f":"tbl_ConsultingCompanys!C40","v":112298},"AS Olaussen Rådg. Ingeniørkontor"]
[{"$f":"IF(ISERROR(VLOOKUP(B41,tbl_ProjectPhases!$C$1:$D$50,2,FALSE))=FALSE(),VLOOKUP(B41,tbl_ProjectPhases!$C$1:$D$50,2,FALSE),\"-----\")","v":"-----"},null,{"$f":"IF(ISERROR(VLOOKUP(D41,tbl_ProjectTypes!$C$1:$D$50,2,FALSE))=FALSE(),VLOOKUP(D41,tbl_ProjectTypes!$C$1:$D$50,2,FALSE),\"-----\")","v":"-----"},null,{"$f":"IF(ISERROR(VLOOKUP(F41,tbl_ArchitectofficeCategorys!$C$1:$D$50,2,FALSE))=FALSE(),VLOOKUP(F41,tbl_ArchitectofficeCategorys!$C$1:$D$50,2,FALSE),\"-----\")","v":"-----"},{"$nulls":3},{"$f":"tbl_ExternalProjectDBUsers!D33","v":0},{"$f":"tbl_ExternalProjectDBUsers!C33","v":0},{"$f":"tbl_ArchitectureOffices!D41","v":"Archus Arkitekter AS"},{"$f":"tbl_ArchitectureOffices!C41","v":166483},"Archus Arkitekter AS",{"$f":"tbl_Companys!D41","v":"Aktiv Arena"},{"$f":"tbl_Companys!C41","v":192374},"Aktiv Arena",{"$f":"tbl_ConsultingCompanys!D41","v":"Asker kommune"},{"$f":"tbl_ConsultingCompanys!C41","v":160579},"Asker kommune"]
[{"$f":"IF(ISERROR(VLOOKUP(B42,tbl_ProjectPhases!$C$1:$D$50,2,FALSE))=FALSE(),VLOOKUP(B42,tbl_ProjectPhases!$C$1:$D$50,2,FALSE),\"-----\")","v":"-----"},null,{"$f":"IF(ISERROR(VLOOKUP(D42,tbl_ProjectTypes!$C$1:$D$50,2,FALSE))=FALSE(),VLOOKUP(D42,tbl_ProjectTypes!$C$1:$D$50,2,FALSE),\"-----\")","v":"-----"},null,{"$f":"IF(ISERROR(VLOOKUP(F42,tbl_ArchitectofficeCategorys!$C$1:$D$50,2,FALSE))=FALSE(),VLOOKUP(F42,tbl_ArchitectofficeCategorys!$C$1:$D$50,2,FALSE),\"-----\")","v":"-----"},{"$nulls":3},{"$f":"tbl_ExternalProjectDBUsers!D34","v":0},{"$f":"tbl_ExternalProjectDBUsers!C34","v":0},{"$f":"tbl_ArchitectureOffices!D42","v":"Arcon Prosjekt AS"},{"$f":"tbl_ArchitectureOffices!C42","v":172880},"Arcon Prosjekt AS",{"$f":"tbl_Companys!D42","v":"Aktivhus AS"},{"$f":"tbl_Companys!C42","v":230176},"Aktivhus AS",{"$f":"tbl_ConsultingCompanys!D42","v":"Aso (Arne Olaussen)"},{"$f":"tbl_ConsultingCompanys!C42","v":162893},"Aso (Arne Olaussen)"]
[{"$f":"IF(ISERROR(VLOOKUP(B43,tbl_ProjectPhases!$C$1:$D$50,2,FALSE))=FALSE(),VLOOKUP(B43,tbl_ProjectPhases!$C$1:$D$50,2,FALSE),\"-----\")","v":"-----"},null,{"$f":"IF(ISERROR(VLOOKUP(D43,tbl_ProjectTypes!$C$1:$D$50,2,FALSE))=FALSE(),VLOOKUP(D43,tbl_ProjectTypes!$C$1:$D$50,2,FALSE),\"-----\")","v":"-----"},null,{"$f":"IF(ISERROR(VLOOKUP(F43,tbl_ArchitectofficeCategorys!$C$1:$D$50,2,FALSE))=FALSE(),VLOOKUP(F43,tbl_ArchitectofficeCategorys!$C$1:$D$50,2,FALSE),\"-----\")","v":"-----"},{"$nulls":3},{"$f":"tbl_ExternalProjectDBUsers!D35","v":0},{"$f":"tbl_ExternalProjectDBUsers!C35","v":0},{"$f":"tbl_ArchitectureOffices!D43","v":"Ario as"},{"$f":"tbl_ArchitectureOffices!C43","v":166486},"Ario as",{"$f":"tbl_Companys!D43","v":"AL Høyer Skien AS"},{"$f":"tbl_Companys!C43","v":121313},"AL Høyer Skien AS",{"$f":"tbl_ConsultingCompanys!D43","v":"Aspelin Ramm"},{"$f":"tbl_ConsultingCompanys!C43","v":205922},"Aspelin Ramm"]
[{"$f":"IF(ISERROR(VLOOKUP(B44,tbl_ProjectPhases!$C$1:$D$50,2,FALSE))=FALSE(),VLOOKUP(B44,tbl_ProjectPhases!$C$1:$D$50,2,FALSE),\"-----\")","v":"-----"},null,{"$f":"IF(ISERROR(VLOOKUP(D44,tbl_ProjectTypes!$C$1:$D$50,2,FALSE))=FALSE(),VLOOKUP(D44,tbl_ProjectTypes!$C$1:$D$50,2,FALSE),\"-----\")","v":"-----"},null,{"$f":"IF(ISERROR(VLOOKUP(F44,tbl_ArchitectofficeCategorys!$C$1:$D$50,2,FALSE))=FALSE(),VLOOKUP(F44,tbl_ArchitectofficeCategorys!$C$1:$D$50,2,FALSE),\"-----\")","v":"-----"},{"$nulls":3},{"$f":"tbl_ExternalProjectDBUsers!D36","v":0},{"$f":"tbl_ExternalProjectDBUsers!C36","v":0},{"$f":"tbl_ArchitectureOffices!D44","v":"Arkade Arkitektkontor AS"},{"$f":"tbl_ArchitectureOffices!C44","v":245661},"Arkade Arkitektkontor AS",{"$f":"tbl_Companys!D44","v":"a-lab as"},{"$f":"tbl_Companys!C44","v":166183},"a-lab as",{"$f":"tbl_ConsultingCompanys!D44","v":"Asplan Viak"},{"$f":"tbl_ConsultingCompanys!C44","v":103330},"Asplan Viak"]
[{"$f":"IF(ISERROR(VLOOKUP(B45,tbl_ProjectPhases!$C$1:$D$50,2,FALSE))=FALSE(),VLOOKUP(B45,tbl_ProjectPhases!$C$1:$D$50,2,FALSE),\"-----\")","v":"-----"},null,{"$f":"IF(ISERROR(VLOOKUP(D45,tbl_ProjectTypes!$C$1:$D$50,2,FALSE))=FALSE(),VLOOKUP(D45,tbl_ProjectTypes!$C$1:$D$50,2,FALSE),\"-----\")","v":"-----"},null,{"$f":"IF(ISERROR(VLOOKUP(F45,tbl_ArchitectofficeCategorys!$C$1:$D$50,2,FALSE))=FALSE(),VLOOKUP(F45,tbl_ArchitectofficeCategorys!$C$1:$D$50,2,FALSE),\"-----\")","v":"-----"},{"$nulls":3},{"$f":"tbl_ExternalProjectDBUsers!D37","v":0},{"$f":"tbl_ExternalProjectDBUsers!C37","v":0},{"$f":"tbl_ArchitectureOffices!D45","v":"Arkadia Arkitekter AS"},{"$f":"tbl_ArchitectureOffices!C45","v":166487},"Arkadia Arkitekter AS",{"$f":"tbl_Companys!D45","v":"Alliance arkitekter AS"},{"$f":"tbl_Companys!C45","v":166456},"Alliance arkitekter AS",{"$f":"tbl_ConsultingCompanys!D45","v":"Asplan Viak as - KanEnergi"},{"$f":"tbl_ConsultingCompanys!C45","v":217374},"Asplan Viak as - KanEnergi"]
[{"$f":"IF(ISERROR(VLOOKUP(B46,tbl_ProjectPhases!$C$1:$D$50,2,FALSE))=FALSE(),VLOOKUP(B46,tbl_ProjectPhases!$C$1:$D$50,2,FALSE),\"-----\")","v":"-----"},null,{"$f":"IF(ISERROR(VLOOKUP(D46,tbl_ProjectTypes!$C$1:$D$50,2,FALSE))=FALSE(),VLOOKUP(D46,tbl_ProjectTypes!$C$1:$D$50,2,FALSE),\"-----\")","v":"-----"},null,{"$f":"IF(ISERROR(VLOOKUP(F46,tbl_ArchitectofficeCategorys!$C$1:$D$50,2,FALSE))=FALSE(),VLOOKUP(F46,tbl_ArchitectofficeCategorys!$C$1:$D$50,2,FALSE),\"-----\")","v":"-----"},{"$nulls":3},{"$f":"tbl_ExternalProjectDBUsers!D38","v":0},{"$f":"tbl_ExternalProjectDBUsers!C38","v":0},{"$f":"tbl_ArchitectureOffices!D46","v":"Arken AS, Arkitektkontoret "},{"$f":"tbl_ArchitectureOffices!C46","v":166490},"Arken AS, Arkitektkontoret",{"$f":"tbl_Companys!D46","v":"Allsidig Arkitekt"},{"$f":"tbl_Companys!C46","v":243404},"Allsidig Arkitekt",{"$f":"tbl_ConsultingCompanys!D46","v":"Atelier Dreiseitl"},{"$f":"tbl_ConsultingCompanys!C46","v":193820},"Atelier Dreiseitl"]
[{"$f":"IF(ISERROR(VLOOKUP(B47,tbl_ProjectPhases!$C$1:$D$50,2,FALSE))=FALSE(),VLOOKUP(B47,tbl_ProjectPhases!$C$1:$D$50,2,FALSE),\"-----\")","v":"-----"},null,{"$f":"IF(ISERROR(VLOOKUP(D47,tbl_ProjectTypes!$C$1:$D$50,2,FALSE))=FALSE(),VLOOKUP(D47,tbl_ProjectTypes!$C$1:$D$50,2,FALSE),\"-----\")","v":"-----"},null,{"$f":"IF(ISERROR(VLOOKUP(F47,tbl_ArchitectofficeCategorys!$C$1:$D$50,2,FALSE))=FALSE(),VLOOKUP(F47,tbl_ArchitectofficeCategorys!$C$1:$D$50,2,FALSE),\"-----\")","v":"-----"},{"$nulls":3},{"$f":"tbl_ExternalProjectDBUsers!D39","v":0},{"$f":"tbl_ExternalProjectDBUsers!C39","v":0},{"$f":"tbl_ArchitectureOffices!D47","v":"Arkidea AS"},{"$f":"tbl_ArchitectureOffices!C47","v":166491},"Arkidea AS",{"$f":"tbl_Companys!D47","v":"alt arkitektur as"},{"$f":"tbl_Companys!C47","v":166461},"alt arkitektur as",{"$f":"tbl_ConsultingCompanys!D47","v":"Atlant Entreprenør AS"},{"$f":"tbl_ConsultingCompanys!C47","v":245544},"Atlant Entreprenør AS"]
[{"$f":"IF(ISERROR(VLOOKUP(B48,tbl_ProjectPhases!$C$1:$D$50,2,FALSE))=FALSE(),VLOOKUP(B48,tbl_ProjectPhases!$C$1:$D$50,2,FALSE),\"-----\")","v":"-----"},null,{"$f":"IF(ISERROR(VLOOKUP(D48,tbl_ProjectTypes!$C$1:$D$50,2,FALSE))=FALSE(),VLOOKUP(D48,tbl_ProjectTypes!$C$1:$D$50,2,FALSE),\"-----\")","v":"-----"},null,{"$f":"IF(ISERROR(VLOOKUP(F48,tbl_ArchitectofficeCategorys!$C$1:$D$50,2,FALSE))=FALSE(),VLOOKUP(F48,tbl_ArchitectofficeCategorys!$C$1:$D$50,2,FALSE),\"-----\")","v":"-----"},{"$nulls":3},{"$f":"tbl_ExternalProjectDBUsers!D40","v":0},{"$f":"tbl_ExternalProjectDBUsers!C40","v":0},{"$f":"tbl_ArchitectureOffices!D48","v":"Arkideco as"},{"$f":"tbl_ArchitectureOffices!C48","v":172582},"Arkideco as",{"$f":"tbl_Companys!D48","v":"Alta Rør AS"},{"$f":"tbl_Companys!C48","v":247732},"Alta Rør AS",{"$f":"tbl_ConsultingCompanys!D48","v":"Aust Agder Fylkeskommune / Risør Videregående skole"},{"$f":"tbl_ConsultingCompanys!C48","v":203391},"Aust Agder Fylkeskommune / Risør Videregående skole"]
[{"$f":"IF(ISERROR(VLOOKUP(B49,tbl_ProjectPhases!$C$1:$D$50,2,FALSE))=FALSE(),VLOOKUP(B49,tbl_ProjectPhases!$C$1:$D$50,2,FALSE),\"-----\")","v":"-----"},null,{"$f":"IF(ISERROR(VLOOKUP(D49,tbl_ProjectTypes!$C$1:$D$50,2,FALSE))=FALSE(),VLOOKUP(D49,tbl_ProjectTypes!$C$1:$D$50,2,FALSE),\"-----\")","v":"-----"},null,{"$f":"IF(ISERROR(VLOOKUP(F49,tbl_ArchitectofficeCategorys!$C$1:$D$50,2,FALSE))=FALSE(),VLOOKUP(F49,tbl_ArchitectofficeCategorys!$C$1:$D$50,2,FALSE),\"-----\")","v":"-----"},{"$nulls":5},{"$f":"tbl_ArchitectureOffices!D49","v":"ArkiForum AS"},{"$f":"tbl_ArchitectureOffices!C49","v":166492},"ArkiForum AS",{"$f":"tbl_Companys!D49","v":"Alvdal trelast"},{"$f":"tbl_Companys!C49","v":232353},"Alvdal trelast",{"$f":"tbl_ConsultingCompanys!D49","v":"Avanti Ryfylket AS"},{"$f":"tbl_ConsultingCompanys!C49","v":172631},"Avanti Ryfylket AS"]
[{"$f":"IF(ISERROR(VLOOKUP(B50,tbl_ProjectPhases!$C$1:$D$50,2,FALSE))=FALSE(),VLOOKUP(B50,tbl_ProjectPhases!$C$1:$D$50,2,FALSE),\"-----\")","v":"-----"},null,{"$f":"IF(ISERROR(VLOOKUP(D50,tbl_ProjectTypes!$C$1:$D$50,2,FALSE))=FALSE(),VLOOKUP(D50,tbl_ProjectTypes!$C$1:$D$50,2,FALSE),\"-----\")","v":"-----"},null,{"$f":"IF(ISERROR(VLOOKUP(F50,tbl_ArchitectofficeCategorys!$C$1:$D$50,2,FALSE))=FALSE(),VLOOKUP(F50,tbl_ArchitectofficeCategorys!$C$1:$D$50,2,FALSE),\"-----\")","v":"-----"},{"$nulls":5},{"$f":"tbl_ArchitectureOffices!D50","v":"Arkinett AS"},{"$f":"tbl_ArchitectureOffices!C50","v":166493},"Arkinett AS",{"$f":"tbl_Companys!D50","v":"Amalienborg Aveny AS"},{"$f":"tbl_Companys!C50","v":233200},"Amalienborg Aveny AS",{"$f":"tbl_ConsultingCompanys!D50","v":"Axlander & Rosell"},{"$f":"tbl_ConsultingCompanys!C50","v":110990},"Axlander & Rosell"]
[{"$nulls":10},{"$f":"tbl_ArchitectureOffices!D51","v":"Arkipartner AS"},{"$f":"tbl_ArchitectureOffices!C51","v":166494},"Arkipartner AS",{"$f":"tbl_Companys!D51","v":"AMB arkitekter AS"},{"$f":"tbl_Companys!C51","v":233552},"AMB arkitekter AS",{"$f":"tbl_ConsultingCompanys!D51","v":"Backe prosjekt AS"},{"$f":"tbl_ConsultingCompanys!C51","v":160575},"Backe prosjekt AS"]
[{"$nulls":10},{"$f":"tbl_ArchitectureOffices!D52","v":"Arkiplan AS"},{"$f":"tbl_ArchitectureOffices!C52","v":166495},"Arkiplan AS",{"$f":"tbl_Companys!D52","v":"Amdahl Strøm Cappelen Arkitekter AS"},{"$f":"tbl_Companys!C52","v":219365},"Amdahl Strøm Cappelen Arkitekter AS",{"$f":"tbl_ConsultingCompanys!D52","v":"Backo AS"},{"$f":"tbl_ConsultingCompanys!C52","v":246979},"Backo AS"]
[{"$nulls":10},{"$f":"tbl_ArchitectureOffices!D53","v":"Arkitekt Ludvig Hoddø MNAL"},{"$f":"tbl_ArchitectureOffices!C53","v":244046},"Arkitekt Ludvig Hoddø MNAL",{"$f":"tbl_Companys!D53","v":"Amtedal & Hansen Arkitektkontor as"},{"$f":"tbl_Companys!C53","v":172681},"Amtedal & Hansen Arkitektkontor as",{"$f":"tbl_ConsultingCompanys!D53","v":"Baneservice AS"},{"$f":"tbl_ConsultingCompanys!C53","v":182798},"Baneservice AS"]
[{"$nulls":10},{"$f":"tbl_ArchitectureOffices!D54","v":"Arkitekt MNAL Håvard Holm Endresen"},{"$f":"tbl_ArchitectureOffices!C54","v":232534},"Arkitekt MNAL Håvard Holm Endresen",{"$f":"tbl_Companys!D54","v":"Amtedal & Hansen Arkitektkontor AS"},{"$f":"tbl_Companys!C54","v":247618},"Amtedal & Hansen Arkitektkontor AS",{"$f":"tbl_ConsultingCompanys!D54","v":"Barkaleitet Borettslag"},{"$f":"tbl_ConsultingCompanys!C54","v":228270},"Barkaleitet Borettslag"]
[{"$nulls":10},{"$f":"tbl_ArchitectureOffices!D55","v":"Arkitektarna Krook & Tjäder A "},{"$f":"tbl_ArchitectureOffices!C55","v":228619},"Arkitektarna Krook & Tjäder A",{"$f":"tbl_Companys!D55","v":"Anders Ellefsen"},{"$f":"tbl_Companys!C55","v":103267},"Anders Ellefsen",{"$f":"tbl_ConsultingCompanys!D55","v":"Base Property AS"},{"$f":"tbl_ConsultingCompanys!C55","v":172593},"Base Property AS"]
[{"$nulls":10},{"$f":"tbl_ArchitectureOffices!D56","v":"Arkitektbua A/S"},{"$f":"tbl_ArchitectureOffices!C56","v":166496},"Arkitektbua A/S",{"$f":"tbl_Companys!D56","v":"Andersen & Askjem AS "},{"$f":"tbl_Companys!C56","v":112302},"Andersen & Askjem AS",{"$f":"tbl_ConsultingCompanys!D56","v":"BA-tec AS"},{"$f":"tbl_ConsultingCompanys!C56","v":246268},"BA-tec AS"]
[{"$nulls":10},{"$f":"tbl_ArchitectureOffices!D57","v":"Arkitektene AS - Arkitekt MNAL NPA Espen Eskeland"},{"$f":"tbl_ArchitectureOffices!C57","v":166497},"Arkitektene AS - Arkitekt MNAL NPA Espen Eskeland",{"$f":"tbl_Companys!D57","v":"Andersen & Flåte AS"},{"$f":"tbl_Companys!C57","v":230398},"Andersen & Flåte AS",{"$f":"tbl_ConsultingCompanys!D57","v":"Berg Knudsen as"},{"$f":"tbl_ConsultingCompanys!C57","v":247313},"Berg Knudsen as"]
[{"$nulls":10},{"$f":"tbl_ArchitectureOffices!D58","v":"Arkitektene Astrup og Hellern AS"},{"$f":"tbl_ArchitectureOffices!C58","v":172846},"Arkitektene Astrup og Hellern AS",{"$f":"tbl_Companys!D58","v":"Andersen og Johnson AS"},{"$f":"tbl_Companys!C58","v":224067},"Andersen og Johnson AS",{"$f":"tbl_ConsultingCompanys!D58","v":"Bergen Bolig og Byfornyelse KF"},{"$f":"tbl_ConsultingCompanys!C58","v":218052},"Bergen Bolig og Byfornyelse KF"]
[{"$nulls":10},{"$f":"tbl_ArchitectureOffices!D59","v":"Arkitektfirma Jon Vikøren AS"},{"$f":"tbl_ArchitectureOffices!C59","v":217913},"Arkitektfirma Jon Vikøren AS",{"$f":"tbl_Companys!D59","v":"Anderssen+Fremming AS"},{"$f":"tbl_Companys!C59","v":172904},"Anderssen+Fremming AS",{"$f":"tbl_ConsultingCompanys!D59","v":"Bergen Gulvleggerservice AS"},{"$f":"tbl_ConsultingCompanys!C59","v":157876},"Bergen Gulvleggerservice AS"]
[{"$nulls":10},{"$f":"tbl_ArchitectureOffices!D60","v":"Arkitektformidling"},{"$f":"tbl_ArchitectureOffices!C60","v":181447},"Arkitektformidling",{"$f":"tbl_Companys!D60","v":"Andresen Arkitekter AS"},{"$f":"tbl_Companys!C60","v":166474},"Andresen Arkitekter AS",{"$f":"tbl_ConsultingCompanys!D60","v":"Bergen kommune"},{"$f":"tbl_ConsultingCompanys!C60","v":172825},"Bergen kommune"]
[null,null,"andre alternativer",{"$nulls":7},{"$f":"tbl_ArchitectureOffices!D61","v":"Arkitektgruppen Cubus AS "},{"$f":"tbl_ArchitectureOffices!C61","v":166499},"Arkitektgruppen Cubus AS",{"$f":"tbl_Companys!D61","v":"April Arkitekter AS"},{"$f":"tbl_Companys!C61","v":166476},"April Arkitekter AS",{"$f":"tbl_ConsultingCompanys!D61","v":"Bergen kommune, etat for utbygging"},{"$f":"tbl_ConsultingCompanys!C61","v":248739},"Bergen kommune, etat for utbygging"]
[null,null,"masterplan",{"$nulls":7},{"$f":"tbl_ArchitectureOffices!D62","v":"Arkitekthuset Amlie - Strandgata 22 A/S"},{"$f":"tbl_ArchitectureOffices!C62","v":166463},"Arkitekthuset Amlie - Strandgata 22 A/S",{"$f":"tbl_Companys!D62","v":"Arbeidsfellesskapet Kruse Strømme DA"},{"$f":"tbl_Companys!C62","v":246929},"Arbeidsfellesskapet Kruse Strømme DA",{"$f":"tbl_ConsultingCompanys!D62","v":"Bergen og omegn boligbyggelag (BOB)"},{"$f":"tbl_ConsultingCompanys!C62","v":160598},"Bergen og omegn boligbyggelag (BOB)"]
[null,null,"regionalplan",{"$nulls":7},{"$f":"tbl_ArchitectureOffices!D63","v":"Arkitekthuset Lunøe & Løffler "},{"$f":"tbl_ArchitectureOffices!C63","v":166501},"Arkitekthuset Lunøe & Løffler",{"$f":"tbl_Companys!D63","v":"arc arkitekter as"},{"$f":"tbl_Companys!C63","v":172892},"arc arkitekter as",{"$f":"tbl_ConsultingCompanys!D63","v":"Bergen og omegn boligbyggelag (BOB)"},{"$f":"tbl_ConsultingCompanys!C63","v":160599},"Bergen og omegn boligbyggelag (BOB)"]
[null,null,"Metodeutvikling (HB)",{"$nulls":7},{"$f":"tbl_ArchitectureOffices!D64","v":"Arkitektkompaniet AS"},{"$f":"tbl_ArchitectureOffices!C64","v":232980},"Arkitektkompaniet AS",{"$f":"tbl_Companys!D64","v":"ARC arkitektur AS"},{"$f":"tbl_Companys!C64","v":248768},"ARC arkitektur AS",{"$f":"tbl_ConsultingCompanys!D64","v":"Berit og Helge Sørås"},{"$f":"tbl_ConsultingCompanys!C64","v":160600},"Berit og Helge Sørås"]
[null,null,"Møteplasser (HB)",{"$nulls":7},{"$f":"tbl_ArchitectureOffices!D65","v":"Arkitektkontor"},{"$f":"tbl_ArchitectureOffices!C65","v":241583},"Arkitektkontor",{"$f":"tbl_Companys!D65","v":"Arcasa arkitekter AS"},{"$f":"tbl_Companys!C65","v":166511},"Arcasa arkitekter AS",{"$f":"tbl_ConsultingCompanys!D65","v":"Bermingrud Entreprenør AS"},{"$f":"tbl_ConsultingCompanys!C65","v":246269},"Bermingrud Entreprenør AS"]
[null,null,"områdeplan",{"$nulls":7},{"$f":"tbl_ArchitectureOffices!D66","v":"Arkitektkontor"},{"$f":"tbl_ArchitectureOffices!C66","v":247814},"Arkitektkontor",{"$f":"tbl_Companys!D66","v":"Arc-ess AS"},{"$f":"tbl_Companys!C66","v":166480},"Arc-ess AS",{"$f":"tbl_ConsultingCompanys!D66","v":"Bernt Krogh"},{"$f":"tbl_ConsultingCompanys!C66","v":162868},"Bernt Krogh"]
[null,null,"bevaringsverdig/fredet ",{"$nulls":7},{"$f":"tbl_ArchitectureOffices!D67","v":"Arkitektkontor"},{"$f":"tbl_ArchitectureOffices!C67","v":247888},{"$f":"IFERROR(REPLACE(K67,FIND(\" \",K67,LEN(K67)),1,\"\"),K67)","v":"Arkitektkontor"},{"$f":"tbl_Companys!D67","v":"Arch Uno AS"},{"$f":"tbl_Companys!C67","v":166482},{"$f":"IFERROR(REPLACE(N67,FIND(\" \",N67,LEN(N67)),1,\"\"),N67)","v":"Arch Uno AS"},{"$f":"tbl_ConsultingCompanys!D67","v":"BGM Arkitekter AS"},{"$f":"tbl_ConsultingCompanys!C67","v":247616},{"$f":"IFERROR(REPLACE(Q67,FIND(\" \",Q67,LEN(Q67)),1,\"\"),Q67)","v":"BGM Arkitekter AS"}]
[{"$nulls":10},{"$f":"tbl_ArchitectureOffices!D68","v":"Arkitektkontor"},{"$f":"tbl_ArchitectureOffices!C68","v":249384},"Arkitektkontor",{"$f":"tbl_Companys!D68","v":"Architectopia AS"},{"$f":"tbl_Companys!C68","v":210153},"Architectopia AS",{"$f":"tbl_ConsultingCompanys!D68","v":"BGM Arkitekter/ Asplan Viak"},{"$f":"tbl_ConsultingCompanys!C68","v":247620},"BGM Arkitekter/ Asplan Viak"]
[{"$nulls":10},{"$f":"tbl_ArchitectureOffices!D69","v":"Arkitektkontor"},{"$f":"tbl_ArchitectureOffices!C69","v":249654},"Arkitektkontor",{"$f":"tbl_Companys!D69","v":"Archus Arkitekter AS"},{"$f":"tbl_Companys!C69","v":166483},"Archus Arkitekter AS",{"$f":"tbl_ConsultingCompanys!D69","v":"Biltorget AS"},{"$f":"tbl_ConsultingCompanys!C69","v":160594},"Biltorget AS"]
[{"$nulls":10},{"$f":"tbl_ArchitectureOffices!D70","v":"Arkitektkontoret IHT"},{"$f":"tbl_ArchitectureOffices!C70","v":245838},"Arkitektkontoret IHT",{"$f":"tbl_Companys!D70","v":"Arcon Prosjekt AS"},{"$f":"tbl_Companys!C70","v":172880},"Arcon Prosjekt AS",{"$f":"tbl_ConsultingCompanys!D70","v":"Bjarte Fyllingen as"},{"$f":"tbl_ConsultingCompanys!C70","v":224139},"Bjarte Fyllingen as"]
[{"$nulls":10},{"$f":"tbl_ArchitectureOffices!D71","v":"Arkitektkontoret JoB AS"},{"$f":"tbl_ArchitectureOffices!C71","v":247815},"Arkitektkontoret JoB AS",{"$f":"tbl_Companys!D71","v":"Ario as"},{"$f":"tbl_Companys!C71","v":166486},"Ario as",{"$f":"tbl_ConsultingCompanys!D71","v":"Bjerga Bygg AS"},{"$f":"tbl_ConsultingCompanys!C71","v":103217},"Bjerga Bygg AS"]
[{"$nulls":10},{"$f":"tbl_ArchitectureOffices!D72","v":"Arkitektkontoret JoB AS"},{"$f":"tbl_ArchitectureOffices!C72","v":248173},"Arkitektkontoret JoB AS",{"$f":"tbl_Companys!D72","v":"Arkade Arkitektkontor AS"},{"$f":"tbl_Companys!C72","v":245661},"Arkade Arkitektkontor AS",{"$f":"tbl_ConsultingCompanys!D72","v":"Bjerga eiendom AS"},{"$f":"tbl_ConsultingCompanys!C72","v":160577},"Bjerga eiendom AS"]
[{"$nulls":10},{"$f":"tbl_ArchitectureOffices!D73","v":"Arkitektkontoret Tellus AS"},{"$f":"tbl_ArchitectureOffices!C73","v":231316},"Arkitektkontoret Tellus AS",{"$f":"tbl_Companys!D73","v":"Arkadia Arkitekter AS"},{"$f":"tbl_Companys!C73","v":166487},"Arkadia Arkitekter AS",{"$f":"tbl_ConsultingCompanys!D73","v":"Bjerke Ventilasjon AS (Ventilasjon)"},{"$f":"tbl_ConsultingCompanys!C73","v":155179},"Bjerke Ventilasjon AS (Ventilasjon)"]
[{"$nulls":10},{"$f":"tbl_ArchitectureOffices!D74","v":"Arkitektkontoret Tellus AS"},{"$f":"tbl_ArchitectureOffices!C74","v":232821},"Arkitektkontoret Tellus AS",{"$f":"tbl_Companys!D74","v":"Arken AS, Arkitektkontoret "},{"$f":"tbl_Companys!C74","v":166490},"Arken AS, Arkitektkontoret",{"$f":"tbl_ConsultingCompanys!D74","v":"Blikkenslager Østensen AS"},{"$f":"tbl_ConsultingCompanys!C74","v":157874},"Blikkenslager Østensen AS"]
[{"$nulls":10},{"$f":"tbl_ArchitectureOffices!D75","v":"Arkitektkontoret Tellus AS"},{"$f":"tbl_ArchitectureOffices!C75","v":235528},"Arkitektkontoret Tellus AS",{"$f":"tbl_Companys!D75","v":"Arkidea AS"},{"$f":"tbl_Companys!C75","v":166491},"Arkidea AS",{"$f":"tbl_ConsultingCompanys!D75","v":"Bolkesjø AS "},{"$f":"tbl_ConsultingCompanys!C75","v":119783},"Bolkesjø AS"]
[{"$nulls":10},{"$f":"tbl_ArchitectureOffices!D76","v":"Arkitektskap AS"},{"$f":"tbl_ArchitectureOffices!C76","v":166514},"Arkitektskap AS",{"$f":"tbl_Companys!D76","v":"Arkideco as"},{"$f":"tbl_Companys!C76","v":172582},"Arkideco as",{"$f":"tbl_ConsultingCompanys!D76","v":"Boye-Waage"},{"$f":"tbl_ConsultingCompanys!C76","v":217083},"Boye-Waage"]
[{"$nulls":10},{"$f":"tbl_ArchitectureOffices!D77","v":"Arkitektstudio as"},{"$f":"tbl_ArchitectureOffices!C77","v":166522},"Arkitektstudio as",{"$f":"tbl_Companys!D77","v":"ArkiForum AS"},{"$f":"tbl_Companys!C77","v":166492},"ArkiForum AS",{"$f":"tbl_ConsultingCompanys!D77","v":"BP Norge"},{"$f":"tbl_ConsultingCompanys!C77","v":98842},"BP Norge"]
[{"$nulls":10},{"$f":"tbl_ArchitectureOffices!D78","v":"Arkitektstudio Hamar AS"},{"$f":"tbl_ArchitectureOffices!C78","v":166519},"Arkitektstudio Hamar AS",{"$f":"tbl_Companys!D78","v":"Arkinett AS"},{"$f":"tbl_Companys!C78","v":166493},"Arkinett AS",{"$f":"tbl_ConsultingCompanys!D78","v":"BP Solar"},{"$f":"tbl_ConsultingCompanys!C78","v":98840},"BP Solar"]
[{"$nulls":10},{"$f":"tbl_ArchitectureOffices!D79","v":"Arkitektteam AS"},{"$f":"tbl_ArchitectureOffices!C79","v":172649},"Arkitektteam AS",{"$f":"tbl_Companys!D79","v":"Arkipartner AS"},{"$f":"tbl_Companys!C79","v":166494},"Arkipartner AS",{"$f":"tbl_ConsultingCompanys!D79","v":"Brannsikkerhet Total AS (Sprinkleranlegg)"},{"$f":"tbl_ConsultingCompanys!C79","v":155177},"Brannsikkerhet Total AS (Sprinkleranlegg)"]
[{"$nulls":10},{"$f":"tbl_ArchitectureOffices!D80","v":"Arkitektur EW verksted"},{"$f":"tbl_ArchitectureOffices!C80","v":217475},"Arkitektur EW verksted",{"$f":"tbl_Companys!D80","v":"Arkiplan AS"},{"$f":"tbl_Companys!C80","v":166495},"Arkiplan AS",{"$f":"tbl_ConsultingCompanys!D80","v":"Brattørkaia AS"},{"$f":"tbl_ConsultingCompanys!C80","v":233805},"Brattørkaia AS"]
[{"$nulls":10},{"$f":"tbl_ArchitectureOffices!D81","v":"Arkitekturverket AS"},{"$f":"tbl_ArchitectureOffices!C81","v":249377},"Arkitekturverket AS",{"$f":"tbl_Companys!D81","v":"Arkitekt Bengt Michaelsen"},{"$f":"tbl_Companys!C81","v":242869},"Arkitekt Bengt Michaelsen",{"$f":"tbl_ConsultingCompanys!D81","v":"Bravida"},{"$f":"tbl_ConsultingCompanys!C81","v":178585},"Bravida"]
[{"$nulls":10},{"$f":"tbl_ArchitectureOffices!D82","v":"Arkitekturverkstedet i Oslo/Asplan viak"},{"$f":"tbl_ArchitectureOffices!C82","v":220271},"Arkitekturverkstedet i Oslo/Asplan viak",{"$f":"tbl_Companys!D82","v":"Arkitekt Ludvig Hoddø MNAL"},{"$f":"tbl_Companys!C82","v":244046},"Arkitekt Ludvig Hoddø MNAL",{"$f":"tbl_ConsultingCompanys!D82","v":"Bravida Norge AS (El, IT og VVS teknikk)"},{"$f":"tbl_ConsultingCompanys!C82","v":157574},"Bravida Norge AS (El, IT og VVS teknikk)"]
[{"$nulls":10},{"$f":"tbl_ArchitectureOffices!D83","v":"Arkplan"},{"$f":"tbl_ArchitectureOffices!C83","v":236749},"Arkplan",{"$f":"tbl_Companys!D83","v":"Arkitekt MNAL Håvard Holm Endresen"},{"$f":"tbl_Companys!C83","v":232534},"Arkitekt MNAL Håvard Holm Endresen",{"$f":"tbl_ConsultingCompanys!D83","v":"Brekke & Strand Akustikk AS"},{"$f":"tbl_ConsultingCompanys!C83","v":209556},"Brekke & Strand Akustikk AS"]
[{"$nulls":10},{"$f":"tbl_ArchitectureOffices!D84","v":"Arktos Arkitektur AS"},{"$f":"tbl_ArchitectureOffices!C84","v":172781},"Arktos Arkitektur AS",{"$f":"tbl_Companys!D84","v":"Arkitektarna Krook & Tjäder A "},{"$f":"tbl_Companys!C84","v":228619},"Arkitektarna Krook & Tjäder A",{"$f":"tbl_ConsultingCompanys!D84","v":"Bright elektro"},{"$f":"tbl_ConsultingCompanys!C84","v":204394},"Bright elektro"]
[{"$nulls":10},{"$f":"tbl_ArchitectureOffices!D85","v":"Arne Eggen Arkitektkontor A/S"},{"$f":"tbl_ArchitectureOffices!C85","v":201319},"Arne Eggen Arkitektkontor A/S",{"$f":"tbl_Companys!D85","v":"Arkitektbua A/S"},{"$f":"tbl_Companys!C85","v":166496},"Arkitektbua A/S",{"$f":"tbl_ConsultingCompanys!D85","v":"Bright VVS"},{"$f":"tbl_ConsultingCompanys!C85","v":204393},"Bright VVS"]
[{"$nulls":10},{"$f":"tbl_ArchitectureOffices!D86","v":"Arstad arkitekter AS"},{"$f":"tbl_ArchitectureOffices!C86","v":178009},"Arstad arkitekter AS",{"$f":"tbl_Companys!D86","v":"Arkitektene AS - Arkitekt MNAL NPA Espen Eskeland"},{"$f":"tbl_Companys!C86","v":166497},"Arkitektene AS - Arkitekt MNAL NPA Espen Eskeland",{"$f":"tbl_ConsultingCompanys!D86","v":"Brucon v/Ottar langehaug"},{"$f":"tbl_ConsultingCompanys!C86","v":193871},"Brucon v/Ottar langehaug"]
[{"$nulls":10},{"$f":"tbl_ArchitectureOffices!D87","v":"ART arkitekter og ingeniører AS"},{"$f":"tbl_ArchitectureOffices!C87","v":241584},"ART arkitekter og ingeniører AS",{"$f":"tbl_Companys!D87","v":"Arkitektene Astrup og Hellern AS"},{"$f":"tbl_Companys!C87","v":172846},"Arkitektene Astrup og Hellern AS",{"$f":"tbl_ConsultingCompanys!D87","v":"Bryggeriparken AS"},{"$f":"tbl_ConsultingCompanys!C87","v":229555},"Bryggeriparken AS"]
[{"$nulls":10},{"$f":"tbl_ArchitectureOffices!D88","v":"ARTEC Prosjekt Team AS"},{"$f":"tbl_ArchitectureOffices!C88","v":191891},"ARTEC Prosjekt Team AS",{"$f":"tbl_Companys!D88","v":"Arkitektfirma Jon Vikøren AS"},{"$f":"tbl_Companys!C88","v":217913},"Arkitektfirma Jon Vikøren AS",{"$f":"tbl_ConsultingCompanys!D88","v":"Brødrene Holstad AS"},{"$f":"tbl_ConsultingCompanys!C88","v":243860},"Brødrene Holstad AS"]
[{"$nulls":10},{"$f":"tbl_ArchitectureOffices!D89","v":"Askim/Lantto Arkitekter AS"},{"$f":"tbl_ArchitectureOffices!C89","v":172659},"Askim/Lantto Arkitekter AS",{"$f":"tbl_Companys!D89","v":"Arkitektformidling"},{"$f":"tbl_Companys!C89","v":181447},"Arkitektformidling",{"$f":"tbl_ConsultingCompanys!D89","v":"Brødrene Jørmeland (grunn)"},{"$f":"tbl_ConsultingCompanys!C89","v":162880},"Brødrene Jørmeland (grunn)"]
[{"$nulls":10},{"$f":"tbl_ArchitectureOffices!D90","v":"Asplan Viak AS"},{"$f":"tbl_ArchitectureOffices!C90","v":172914},"Asplan Viak AS",{"$f":"tbl_Companys!D90","v":"Arkitektgruppen Cubus AS"},{"$f":"tbl_Companys!C90","v":248888},"Arkitektgruppen Cubus AS",{"$f":"tbl_ConsultingCompanys!D90","v":"Brødrene Olstad AS"},{"$f":"tbl_ConsultingCompanys!C90","v":103261},"Brødrene Olstad AS"]
[{"$nulls":10},{"$f":"tbl_ArchitectureOffices!D91","v":"Astad Arkitektur"},{"$f":"tbl_ArchitectureOffices!C91","v":192806},"Astad Arkitektur",{"$f":"tbl_Companys!D91","v":"Arkitektgruppen Cubus AS "},{"$f":"tbl_Companys!C91","v":166499},"Arkitektgruppen Cubus AS",{"$f":"tbl_ConsultingCompanys!D91","v":"Brødrene Ulveseth AS"},{"$f":"tbl_ConsultingCompanys!C91","v":248741},"Brødrene Ulveseth AS"]
[{"$nulls":10},{"$f":"tbl_ArchitectureOffices!D92","v":"Atelier Oslo"},{"$f":"tbl_ArchitectureOffices!C92","v":172236},"Atelier Oslo",{"$f":"tbl_Companys!D92","v":"Arkitektgruppen Drammen AS"},{"$f":"tbl_Companys!C92","v":214402},"Arkitektgruppen Drammen AS",{"$f":"tbl_ConsultingCompanys!D92","v":"BS Akustikk AS"},{"$f":"tbl_ConsultingCompanys!C92","v":103148},"BS Akustikk AS"]
[{"$nulls":10},{"$f":"tbl_ArchitectureOffices!D93","v":"A-tract AS"},{"$f":"tbl_ArchitectureOffices!C93","v":172717},"A-tract AS",{"$f":"tbl_Companys!D93","v":"Arkitekthuset Amlie - Strandgata 22 A/S"},{"$f":"tbl_Companys!C93","v":166463},"Arkitekthuset Amlie - Strandgata 22 A/S",{"$f":"tbl_ConsultingCompanys!D93","v":"BSH Husholdningsapparater AS (hvitevarer)"},{"$f":"tbl_ConsultingCompanys!C93","v":198979},"BSH Husholdningsapparater AS (hvitevarer)"]
[{"$nulls":10},{"$f":"tbl_ArchitectureOffices!D94","v":"Atsite"},{"$f":"tbl_ArchitectureOffices!C94","v":235781},"Atsite",{"$f":"tbl_Companys!D94","v":"Arkitekthuset Lunøe & Løffler "},{"$f":"tbl_Companys!C94","v":166501},"Arkitekthuset Lunøe & Løffler",{"$f":"tbl_ConsultingCompanys!D94","v":"BundeBygg AS"},{"$f":"tbl_ConsultingCompanys!C94","v":102857},"BundeBygg AS"]
[{"$nulls":10},{"$f":"tbl_ArchitectureOffices!D95","v":"Aursand Arkitektkontor AS, Espen "},{"$f":"tbl_ArchitectureOffices!C95","v":185123},"Aursand Arkitektkontor AS, Espen",{"$f":"tbl_Companys!D95","v":"Arkitektkompaniet AS"},{"$f":"tbl_Companys!C95","v":232980},"Arkitektkompaniet AS",{"$f":"tbl_ConsultingCompanys!D95","v":"Byberg Maskin AS (gravearbeider)"},{"$f":"tbl_ConsultingCompanys!C95","v":172924},"Byberg Maskin AS (gravearbeider)"]
[{"$nulls":10},{"$f":"tbl_ArchitectureOffices!D96","v":"Aursand og Spangen AS Sivilarkitekter"},{"$f":"tbl_ArchitectureOffices!C96","v":172601},"Aursand og Spangen AS Sivilarkitekter",{"$f":"tbl_Companys!D96","v":"Arkitektkontor"},{"$f":"tbl_Companys!C96","v":241583},"Arkitektkontor",{"$f":"tbl_ConsultingCompanys!D96","v":"ByBo AS"},{"$f":"tbl_ConsultingCompanys!C96","v":166301},"ByBo AS"]
[{"$nulls":10},{"$f":"tbl_ArchitectureOffices!D97","v":"AWP (Frankrike)"},{"$f":"tbl_ArchitectureOffices!C97","v":245867},"AWP (Frankrike)",{"$f":"tbl_Companys!D97","v":"Arkitektkontor"},{"$f":"tbl_Companys!C97","v":247814},"Arkitektkontor",{"$f":"tbl_ConsultingCompanys!D97","v":"Bygganalyse AS"},{"$f":"tbl_ConsultingCompanys!C97","v":103151},"Bygganalyse AS"]
[{"$nulls":10},{"$f":"tbl_ArchitectureOffices!D98","v":"b+b arkitekter as"},{"$f":"tbl_ArchitectureOffices!C98","v":166536},"b+b arkitekter as",{"$f":"tbl_Companys!D98","v":"Arkitektkontor"},{"$f":"tbl_Companys!C98","v":247888},"Arkitektkontor",{"$f":"tbl_ConsultingCompanys!D98","v":"Byggeadministrasjon AS"},{"$f":"tbl_ConsultingCompanys!C98","v":246927},"Byggeadministrasjon AS"]
[{"$nulls":10},{"$f":"tbl_ArchitectureOffices!D99","v":"Bar, AS Arkitektgruppen "},{"$f":"tbl_ArchitectureOffices!C99","v":172234},"Bar, AS Arkitektgruppen",{"$f":"tbl_Companys!D99","v":"Arkitektkontor"},{"$f":"tbl_Companys!C99","v":249384},"Arkitektkontor",{"$f":"tbl_ConsultingCompanys!D99","v":"Byggforsk"},{"$f":"tbl_ConsultingCompanys!C99","v":112150},"Byggforsk"]
[{"$nulls":10},{"$f":"tbl_ArchitectureOffices!D100","v":"Bark Arkitekter AS"},{"$f":"tbl_ArchitectureOffices!C100","v":181847},"Bark Arkitekter AS",{"$f":"tbl_Companys!D100","v":"Arkitektkontor"},{"$f":"tbl_Companys!C100","v":249654},"Arkitektkontor",{"$f":"tbl_ConsultingCompanys!D100","v":"Byggmeister Samson Kjoberg"},{"$f":"tbl_ConsultingCompanys!C100","v":224066},"Byggmeister Samson Kjoberg"]
[{"$nulls":10},{"$f":"tbl_ArchitectureOffices!D101","v":"Bas Arkitekter AS"},{"$f":"tbl_ArchitectureOffices!C101","v":166527},"Bas Arkitekter AS",{"$f":"tbl_Companys!D101","v":"Arkitektkontoret IHT"},{"$f":"tbl_Companys!C101","v":245838},"Arkitektkontoret IHT",{"$f":"tbl_ConsultingCompanys!D101","v":"Byggmester Goa (tømmerarbeider)"},{"$f":"tbl_ConsultingCompanys!C101","v":172923},"Byggmester Goa (tømmerarbeider)"]
[{"$nulls":10},{"$f":"tbl_ArchitectureOffices!D102","v":"Base Arkitekter AS"},{"$f":"tbl_ArchitectureOffices!C102","v":166528},"Base Arkitekter AS",{"$f":"tbl_Companys!D102","v":"Arkitektkontoret JoB AS"},{"$f":"tbl_Companys!C102","v":247815},"Arkitektkontoret JoB AS",{"$f":"tbl_ConsultingCompanys!D102","v":"Byggmester Tom Martinsen"},{"$f":"tbl_ConsultingCompanys!C102","v":103367},"Byggmester Tom Martinsen"]
[{"$nulls":10},{"$f":"tbl_ArchitectureOffices!D103","v":"Basis arkitekter as"},{"$f":"tbl_ArchitectureOffices!C103","v":246156},"Basis arkitekter as",{"$f":"tbl_Companys!D103","v":"Arkitektkontoret JoB AS"},{"$f":"tbl_Companys!C103","v":248173},"Arkitektkontoret JoB AS",{"$f":"tbl_ConsultingCompanys!D103","v":"Byggmester Tom Martinsen"},{"$f":"tbl_ConsultingCompanys!C103","v":160584},"Byggmester Tom Martinsen"]
[{"$nulls":10},{"$f":"tbl_ArchitectureOffices!D104","v":"Bauck AS, Arkitektkontoret Jan"},{"$f":"tbl_ArchitectureOffices!C104","v":166531},"Bauck AS, Arkitektkontoret Jan",{"$f":"tbl_Companys!D104","v":"Arkitektkontoret Tellus AS"},{"$f":"tbl_Companys!C104","v":231316},"Arkitektkontoret Tellus AS",{"$f":"tbl_ConsultingCompanys!D104","v":"ByggMester VEST"},{"$f":"tbl_ConsultingCompanys!C104","v":166296},"ByggMester VEST"]
[{"$nulls":10},{"$f":"tbl_ArchitectureOffices!D105","v":"BBW AS, Arkitektkontoret "},{"$f":"tbl_ArchitectureOffices!C105","v":166526},"BBW AS, Arkitektkontoret",{"$f":"tbl_Companys!D105","v":"Arkitektkontoret Tellus AS"},{"$f":"tbl_Companys!C105","v":232821},"Arkitektkontoret Tellus AS",{"$f":"tbl_ConsultingCompanys!D105","v":"Byggmester Vest as (arkitektfag)"},{"$f":"tbl_ConsultingCompanys!C105","v":215432},"Byggmester Vest as (arkitektfag)"]
[{"$nulls":10},{"$f":"tbl_ArchitectureOffices!D106","v":"Beate Ellingsen AS"},{"$f":"tbl_ArchitectureOffices!C106","v":228641},"Beate Ellingsen AS",{"$f":"tbl_Companys!D106","v":"Arkitektkontoret Tellus AS"},{"$f":"tbl_Companys!C106","v":235528},"Arkitektkontoret Tellus AS",{"$f":"tbl_ConsultingCompanys!D106","v":"Byggmesterfirma Hansen og Lauritsen AS"},{"$f":"tbl_ConsultingCompanys!C106","v":200080},"Byggmesterfirma Hansen og Lauritsen AS"]
[{"$nulls":10},{"$f":"tbl_ArchitectureOffices!D107","v":"Bente Rødahl Arkitekter AS"},{"$f":"tbl_ArchitectureOffices!C107","v":234990},"Bente Rødahl Arkitekter AS",{"$f":"tbl_Companys!D107","v":"Arkitektskap AS"},{"$f":"tbl_Companys!C107","v":166514},"Arkitektskap AS",{"$f":"tbl_ConsultingCompanys!D107","v":"Byggplan AS"},{"$f":"tbl_ConsultingCompanys!C107","v":243865},"Byggplan AS"]
[{"$nulls":10},{"$f":"tbl_ArchitectureOffices!D108","v":"Berg og Østvang AS, Arkitektene"},{"$f":"tbl_ArchitectureOffices!C108","v":166498},"Berg og Østvang AS, Arkitektene",{"$f":"tbl_Companys!D108","v":"Arkitektstudio as"},{"$f":"tbl_Companys!C108","v":166522},"Arkitektstudio as",{"$f":"tbl_ConsultingCompanys!D108","v":"Bærum Kommune"},{"$f":"tbl_ConsultingCompanys!C108","v":157567},"Bærum Kommune"]
[{"$nulls":10},{"$f":"tbl_ArchitectureOffices!D109","v":"Bergersen Arkitekter AS"},{"$f":"tbl_ArchitectureOffices!C109","v":249501},"Bergersen Arkitekter AS",{"$f":"tbl_Companys!D109","v":"Arkitektstudio Hamar AS"},{"$f":"tbl_Companys!C109","v":166519},"Arkitektstudio Hamar AS",{"$f":"tbl_ConsultingCompanys!D109","v":"Bøhmer entreprenør AS"},{"$f":"tbl_ConsultingCompanys!C109","v":103209},"Bøhmer entreprenør AS"]
[{"$nulls":10},{"$f":"tbl_ArchitectureOffices!D110","v":"Bergersen Gromholt Ottar Arkitekter AS"},{"$f":"tbl_ArchitectureOffices!C110","v":166532},"Bergersen Gromholt Ottar Arkitekter AS",{"$f":"tbl_Companys!D110","v":"Arkitektteam AS"},{"$f":"tbl_Companys!C110","v":172649},"Arkitektteam AS",{"$f":"tbl_ConsultingCompanys!D110","v":"Børre Svindal Larsen as"},{"$f":"tbl_ConsultingCompanys!C110","v":119976},"Børre Svindal Larsen as"]
[{"$nulls":10},{"$f":"tbl_ArchitectureOffices!D111","v":"Bergseth sivilarkitekt MNAL, Magne "},{"$f":"tbl_ArchitectureOffices!C111","v":166533},"Bergseth sivilarkitekt MNAL, Magne",{"$f":"tbl_Companys!D111","v":"Arkitektur EW verksted"},{"$f":"tbl_Companys!C111","v":217475},"Arkitektur EW verksted",{"$f":"tbl_ConsultingCompanys!D111","v":"C. Svenkerud"},{"$f":"tbl_ConsultingCompanys!C111","v":101064},"C. Svenkerud"]
[{"$nulls":10},{"$f":"tbl_ArchitectureOffices!D112","v":"Biesel Arkitekter AS, Eder "},{"$f":"tbl_ArchitectureOffices!C112","v":172725},"Biesel Arkitekter AS, Eder",{"$f":"tbl_Companys!D112","v":"Arkitekturverket AS"},{"$f":"tbl_Companys!C112","v":249377},"Arkitekturverket AS",{"$f":"tbl_ConsultingCompanys!D112","v":"Chem - Con AS (mur og gulv)"},{"$f":"tbl_ConsultingCompanys!C112","v":162879},"Chem - Con AS (mur og gulv)"]
[{"$nulls":10},{"$f":"tbl_ArchitectureOffices!D113","v":"Bifokal Zednik"},{"$f":"tbl_ArchitectureOffices!C113","v":194016},"Bifokal Zednik",{"$f":"tbl_Companys!D113","v":"Arkitekturverkstedet i Oslo/Asplan viak"},{"$f":"tbl_Companys!C113","v":220271},"Arkitekturverkstedet i Oslo/Asplan viak",{"$f":"tbl_ConsultingCompanys!D113","v":"Christiansen og Roberg AS"},{"$f":"tbl_ConsultingCompanys!C113","v":213753},"Christiansen og Roberg AS"]
[{"$nulls":10},{"$f":"tbl_ArchitectureOffices!D114","v":"Biong Arkitekter AS"},{"$f":"tbl_ArchitectureOffices!C114","v":172658},"Biong Arkitekter AS",{"$f":"tbl_Companys!D114","v":"Arkplan"},{"$f":"tbl_Companys!C114","v":236749},"Arkplan",{"$f":"tbl_ConsultingCompanys!D114","v":"Claudio Trovanelli (Hypokausten og peiser)"},{"$f":"tbl_ConsultingCompanys!C114","v":162876},"Claudio Trovanelli (Hypokausten og peiser)"]
[{"$nulls":10},{"$f":"tbl_ArchitectureOffices!D115","v":"Bios Arkitekter AS"},{"$f":"tbl_ArchitectureOffices!C115","v":203536},"Bios Arkitekter AS",{"$f":"tbl_Companys!D115","v":"Arktos Arkitektur AS"},{"$f":"tbl_Companys!C115","v":172781},"Arktos Arkitektur AS",{"$f":"tbl_ConsultingCompanys!D115","v":"Colt AS"},{"$f":"tbl_ConsultingCompanys!C115","v":202454},"Colt AS"]
[{"$nulls":10},{"$f":"tbl_ArchitectureOffices!D116","v":"Bjerke arkitektkontor"},{"$f":"tbl_ArchitectureOffices!C116","v":166537},"Bjerke arkitektkontor",{"$f":"tbl_Companys!D116","v":"Arne Aakermann"},{"$f":"tbl_Companys!C116","v":160605},"Arne Aakermann",{"$f":"tbl_ConsultingCompanys!D116","v":"Comfort consult AS "},{"$f":"tbl_ConsultingCompanys!C116","v":110994},"Comfort consult AS"]
[{"$nulls":10},{"$f":"tbl_ArchitectureOffices!D117","v":"Bjørbekk og Lindheim"},{"$f":"tbl_ArchitectureOffices!C117","v":236408},"Bjørbekk og Lindheim",{"$f":"tbl_Companys!D117","v":"Arne Eggen Arkitektkontor A/S"},{"$f":"tbl_Companys!C117","v":201319},"Arne Eggen Arkitektkontor A/S",{"$f":"tbl_ConsultingCompanys!D117","v":"Conradi AS "},{"$f":"tbl_ConsultingCompanys!C117","v":217516},"Conradi AS"]
[{"$nulls":10},{"$f":"tbl_ArchitectureOffices!D118","v":"Bjørn Haugstad Arkitekt MNAL"},{"$f":"tbl_ArchitectureOffices!C118","v":227536},"Bjørn Haugstad Arkitekt MNAL",{"$f":"tbl_Companys!D118","v":"Arne Vidar Hegni"},{"$f":"tbl_Companys!C118","v":112497},"Arne Vidar Hegni",{"$f":"tbl_ConsultingCompanys!D118","v":"Corebis as"},{"$f":"tbl_ConsultingCompanys!C118","v":155654},"Corebis as"]
[{"$nulls":10},{"$f":"tbl_ArchitectureOffices!D119","v":"Bjørnstad Prosjektering AS, Bjørn "},{"$f":"tbl_ArchitectureOffices!C119","v":166538},"Bjørnstad Prosjektering AS, Bjørn",{"$f":"tbl_Companys!D119","v":"Arne Wikholm AS"},{"$f":"tbl_Companys!C119","v":110769},"Arne Wikholm AS",{"$f":"tbl_ConsultingCompanys!D119","v":"Cowi as"},{"$f":"tbl_ConsultingCompanys!C119","v":217298},"Cowi as"]
[{"$nulls":10},{"$f":"tbl_ArchitectureOffices!D120","v":"blå arkitektur landskab ab"},{"$f":"tbl_ArchitectureOffices!C120","v":166539},"blå arkitektur landskab ab",{"$f":"tbl_Companys!D120","v":"Arstad arkitekter AS"},{"$f":"tbl_Companys!C120","v":178009},"Arstad arkitekter AS",{"$f":"tbl_ConsultingCompanys!D120","v":"CTM AS"},{"$f":"tbl_ConsultingCompanys!C120","v":111930},"CTM AS"]
[{"$nulls":10},{"$f":"tbl_ArchitectureOffices!D121","v":"Bo arkitekter as"},{"$f":"tbl_ArchitectureOffices!C121","v":226513},"Bo arkitekter as",{"$f":"tbl_Companys!D121","v":"ART arkitekter og ingeniører AS"},{"$f":"tbl_Companys!C121","v":241584},"ART arkitekter og ingeniører AS",{"$f":"tbl_ConsultingCompanys!D121","v":"Czelusta Trebygg og Takteknikk"},{"$f":"tbl_ConsultingCompanys!C121","v":223524},"Czelusta Trebygg og Takteknikk"]
[{"$nulls":10},{"$f":"tbl_ArchitectureOffices!D122","v":"Boarch arkitekter as"},{"$f":"tbl_ArchitectureOffices!C122","v":166543},"Boarch arkitekter as",{"$f":"tbl_Companys!D122","v":"Artec AS"},{"$f":"tbl_Companys!C122","v":247296},"Artec AS",{"$f":"tbl_ConsultingCompanys!D122","v":"D. Nysted AS (interiør)"},{"$f":"tbl_ConsultingCompanys!C122","v":155842},"D. Nysted AS (interiør)"]
[{"$nulls":10},{"$f":"tbl_ArchitectureOffices!D123","v":"Bogen Arkitektkontor AS, Petter "},{"$f":"tbl_ArchitectureOffices!C123","v":166544},"Bogen Arkitektkontor AS, Petter",{"$f":"tbl_Companys!D123","v":"ARTEC Prosjekt Team AS"},{"$f":"tbl_Companys!C123","v":191891},"ARTEC Prosjekt Team AS",{"$f":"tbl_ConsultingCompanys!D123","v":"Dagfinn H. Jørgensen AS"},{"$f":"tbl_ConsultingCompanys!C123","v":98460},"Dagfinn H. Jørgensen AS"]
[{"$nulls":10},{"$f":"tbl_ArchitectureOffices!D124","v":"Borealis Arkitekter as"},{"$f":"tbl_ArchitectureOffices!C124","v":166545},"Borealis Arkitekter as",{"$f":"tbl_Companys!D124","v":"AS Anlegg"},{"$f":"tbl_Companys!C124","v":110996},"AS Anlegg",{"$f":"tbl_ConsultingCompanys!D124","v":"DBC Elprosjekt as"},{"$f":"tbl_ConsultingCompanys!C124","v":245542},"DBC Elprosjekt as"]
[{"$nulls":10},{"$f":"tbl_ArchitectureOffices!D125","v":"Borsheim, Paal "},{"$f":"tbl_ArchitectureOffices!C125","v":166547},"Borsheim, Paal",{"$f":"tbl_Companys!D125","v":"AS Frederiksen"},{"$f":"tbl_Companys!C125","v":98695},"AS Frederiksen",{"$f":"tbl_ConsultingCompanys!D125","v":"DeltaTe (RIV)"},{"$f":"tbl_ConsultingCompanys!C125","v":207494},"DeltaTe (RIV)"]
[{"$nulls":10},{"$f":"tbl_ArchitectureOffices!D126","v":"Boxs arkitektstudio as"},{"$f":"tbl_ArchitectureOffices!C126","v":226954},"Boxs arkitektstudio as",{"$f":"tbl_Companys!D126","v":"As Luft Miljø (RIV)"},{"$f":"tbl_Companys!C126","v":215426},"As Luft Miljø (RIV)",{"$f":"tbl_ConsultingCompanys!D126","v":"Deltatek AS"},{"$f":"tbl_ConsultingCompanys!C126","v":202314},"Deltatek AS"]
[{"$nulls":10},{"$f":"tbl_ArchitectureOffices!D127","v":"Brandsberg-Dahls Arkitektkontor AS"},{"$f":"tbl_ArchitectureOffices!C127","v":166548},"Brandsberg-Dahls Arkitektkontor AS",{"$f":"tbl_Companys!D127","v":"AS Olaussen Rådg. Ingeniørkontor"},{"$f":"tbl_Companys!C127","v":112298},"AS Olaussen Rådg. Ingeniørkontor",{"$f":"tbl_ConsultingCompanys!D127","v":"Dimensjon Rådgiving AS"},{"$f":"tbl_ConsultingCompanys!C127","v":172754},"Dimensjon Rådgiving AS"]
[{"$nulls":10},{"$f":"tbl_ArchitectureOffices!D128","v":"Brendeland & Kristoffersen arkitekter A/S"},{"$f":"tbl_ArchitectureOffices!C128","v":166549},"Brendeland & Kristoffersen arkitekter A/S",{"$f":"tbl_Companys!D128","v":"Asker kommune"},{"$f":"tbl_Companys!C128","v":160579},"Asker kommune",{"$f":"tbl_ConsultingCompanys!D128","v":"Djupevik Båtbyggeri AS (hovedkonstruksjon eik)"},{"$f":"tbl_ConsultingCompanys!C128","v":162860},"Djupevik Båtbyggeri AS (hovedkonstruksjon eik)"]
[{"$nulls":10},{"$f":"tbl_ArchitectureOffices!D129","v":"Bris arkitekter"},{"$f":"tbl_ArchitectureOffices!C129","v":247054},"Bris arkitekter",{"$f":"tbl_Companys!D129","v":"Askim/Lantto Arkitekter AS"},{"$f":"tbl_Companys!C129","v":172659},"Askim/Lantto Arkitekter AS",{"$f":"tbl_ConsultingCompanys!D129","v":"DNF AS"},{"$f":"tbl_ConsultingCompanys!C129","v":115447},"DNF AS"]
[{"$nulls":10},{"$f":"tbl_ArchitectureOffices!D130","v":"Britt Krokene Sivilarkitekt MNAL AS"},{"$f":"tbl_ArchitectureOffices!C130","v":248135},"Britt Krokene Sivilarkitekt MNAL AS",{"$f":"tbl_Companys!D130","v":"Aso (Arne Olaussen)"},{"$f":"tbl_Companys!C130","v":162893},"Aso (Arne Olaussen)",{"$f":"tbl_ConsultingCompanys!D130","v":"Dokken AS"},{"$f":"tbl_ConsultingCompanys!C130","v":110473},"Dokken AS"]
[{"$nulls":10},{"$f":"tbl_ArchitectureOffices!D131","v":"Britt Krokene Sivilarkitekt MNAL AS"},{"$f":"tbl_ArchitectureOffices!C131","v":248137},{"$f":"IFERROR(REPLACE(K131,FIND(\" \",K131,LEN(K131)),1,\"\"),K131)","v":"Britt Krokene Sivilarkitekt MNAL AS"},{"$f":"tbl_Companys!D131","v":"Aspelin Ramm"},{"$f":"tbl_Companys!C131","v":205922},{"$f":"IFERROR(REPLACE(N131,FIND(\" \",N131,LEN(N131)),1,\"\"),N131)","v":"Aspelin Ramm"},{"$f":"tbl_ConsultingCompanys!D131","v":"Dr. techn. Kristoffer Apeland AS"},{"$f":"tbl_ConsultingCompanys!C131","v":119829},{"$f":"IFERROR(REPLACE(Q131,FIND(\" \",Q131,LEN(Q131)),1,\"\"),Q131)","v":"Dr. techn. Kristoffer Apeland AS"}]
[{"$nulls":10},{"$f":"tbl_ArchitectureOffices!D132","v":"Brodtkorb AS, Arkitektkontoret Kari Nissen "},{"$f":"tbl_ArchitectureOffices!C132","v":171799},"Brodtkorb AS, Arkitektkontoret Kari Nissen",{"$f":"tbl_Companys!D132","v":"Asplan Viak"},{"$f":"tbl_Companys!C132","v":103330},"Asplan Viak",{"$f":"tbl_ConsultingCompanys!D132","v":"Drammen Eiendom KF"},{"$f":"tbl_ConsultingCompanys!C132","v":204308},"Drammen Eiendom KF"]
[{"$nulls":10},{"$f":"tbl_ArchitectureOffices!D133","v":"Bruvoll arkitektur as"},{"$f":"tbl_ArchitectureOffices!C133","v":246132},"Bruvoll arkitektur as",{"$f":"tbl_Companys!D133","v":"Asplan Viak AS"},{"$f":"tbl_Companys!C133","v":172914},"Asplan Viak AS",{"$f":"tbl_ConsultingCompanys!D133","v":"Drammen kommune"},{"$f":"tbl_ConsultingCompanys!C133","v":162580},"Drammen kommune"]
[{"$nulls":10},{"$f":"tbl_ArchitectureOffices!D134","v":"Brækkan sivilarkitekt MNAL, Gudrun "},{"$f":"tbl_ArchitectureOffices!C134","v":166550},"Brækkan sivilarkitekt MNAL, Gudrun",{"$f":"tbl_Companys!D134","v":"Asplan Viak as - KanEnergi"},{"$f":"tbl_Companys!C134","v":217374},"Asplan Viak as - KanEnergi",{"$f":"tbl_ConsultingCompanys!D134","v":"Drange Maskin AS"},{"$f":"tbl_ConsultingCompanys!C134","v":248740},"Drange Maskin AS"]
[{"$nulls":10},{"$f":"tbl_ArchitectureOffices!D135","v":"Buck og Beyer arkitekter AS"},{"$f":"tbl_ArchitectureOffices!C135","v":166551},"Buck og Beyer arkitekter AS",{"$f":"tbl_Companys!D135","v":"Astad Arkitektur"},{"$f":"tbl_Companys!C135","v":192806},"Astad Arkitektur",{"$f":"tbl_ConsultingCompanys!D135","v":"dyAna GmbH (Tyskland)"},{"$f":"tbl_ConsultingCompanys!C135","v":245788},"dyAna GmbH (Tyskland)"]
[{"$nulls":10},{"$f":"tbl_ArchitectureOffices!D136","v":"Bødtker sivilarkitekt MNAL, Brit Sejersted "},{"$f":"tbl_ArchitectureOffices!C136","v":166553},"Bødtker sivilarkitekt MNAL, Brit Sejersted",{"$f":"tbl_Companys!D136","v":"Atelier Dreiseitl"},{"$f":"tbl_Companys!C136","v":193820},"Atelier Dreiseitl",{"$f":"tbl_ConsultingCompanys!D136","v":"ECT AS"},{"$f":"tbl_ConsultingCompanys!C136","v":98463},"ECT AS"]
[{"$nulls":10},{"$f":"tbl_ArchitectureOffices!D137","v":"Børve og Borchsenius as, Arkitektkontoret "},{"$f":"tbl_ArchitectureOffices!C137","v":166554},"Børve og Borchsenius as, Arkitektkontoret",{"$f":"tbl_Companys!D137","v":"Atelier Oslo"},{"$f":"tbl_Companys!C137","v":172236},"Atelier Oslo",{"$f":"tbl_ConsultingCompanys!D137","v":"Effecta"},{"$f":"tbl_ConsultingCompanys!C137","v":181821},"Effecta"]
[{"$nulls":10},{"$f":"tbl_ArchitectureOffices!D138","v":"Cadi AS"},{"$f":"tbl_ArchitectureOffices!C138","v":166555},"Cadi AS",{"$f":"tbl_Companys!D138","v":"Atlant Entreprenør AS"},{"$f":"tbl_Companys!C138","v":245544},"Atlant Entreprenør AS",{"$f":"tbl_ConsultingCompanys!D138","v":"Egerhei AS"},{"$f":"tbl_ConsultingCompanys!C138","v":103333},"Egerhei AS"]
[{"$nulls":10},{"$f":"tbl_ArchitectureOffices!D139","v":"Campbell ink, Scott Campbell"},{"$f":"tbl_ArchitectureOffices!C139","v":166557},"Campbell ink, Scott Campbell",{"$f":"tbl_Companys!D139","v":"A-tract AS"},{"$f":"tbl_Companys!C139","v":172717},"A-tract AS",{"$f":"tbl_ConsultingCompanys!D139","v":"Egersund Kommune"},{"$f":"tbl_ConsultingCompanys!C139","v":158054},"Egersund Kommune"]
[{"$nulls":10},{"$f":"tbl_ArchitectureOffices!D140","v":"Clou arkitektur"},{"$f":"tbl_ArchitectureOffices!C140","v":166559},"Clou arkitektur",{"$f":"tbl_Companys!D140","v":"Atsite"},{"$f":"tbl_Companys!C140","v":235781},"Atsite",{"$f":"tbl_ConsultingCompanys!D140","v":"Egil Berge AS"},{"$f":"tbl_ConsultingCompanys!C140","v":243867},"Egil Berge AS"]
[{"$nulls":10},{"$f":"tbl_ArchitectureOffices!D141","v":"Code: arkitektur as"},{"$f":"tbl_ArchitectureOffices!C141","v":166560},"Code: arkitektur as",{"$f":"tbl_Companys!D141","v":"Aursand Arkitektkontor AS, Espen "},{"$f":"tbl_Companys!C141","v":185123},"Aursand Arkitektkontor AS, Espen",{"$f":"tbl_ConsultingCompanys!D141","v":"Eide entreprenør AS (Årnes)"},{"$f":"tbl_ConsultingCompanys!C141","v":216250},"Eide entreprenør AS (Årnes)"]
[{"$nulls":10},{"$f":"tbl_ArchitectureOffices!D142","v":"Context AS"},{"$f":"tbl_ArchitectureOffices!C142","v":166561},"Context AS",{"$f":"tbl_Companys!D142","v":"Aursand og Spangen AS Sivilarkitekter"},{"$f":"tbl_Companys!C142","v":172601},"Aursand og Spangen AS Sivilarkitekter",{"$f":"tbl_ConsultingCompanys!D142","v":"Eiendomsprosjektering as"},{"$f":"tbl_ConsultingCompanys!C142","v":247310},"Eiendomsprosjektering as"]
[{"$nulls":10},{"$f":"tbl_ArchitectureOffices!D143","v":"Contur as - Arkitektur og Design"},{"$f":"tbl_ArchitectureOffices!C143","v":172660},"Contur as - Arkitektur og Design",{"$f":"tbl_Companys!D143","v":"Aust Agder Fylkeskommune / Risør Videregående skole"},{"$f":"tbl_Companys!C143","v":203391},"Aust Agder Fylkeskommune / Risør Videregående skole",{"$f":"tbl_ConsultingCompanys!D143","v":"Ekrheim Elconsult AS"},{"$f":"tbl_ConsultingCompanys!C143","v":162871},"Ekrheim Elconsult AS"]
[{"$nulls":10},{"$f":"tbl_ArchitectureOffices!D144","v":"Cox Strategisk design AS"},{"$f":"tbl_ArchitectureOffices!C144","v":246947},"Cox Strategisk design AS",{"$f":"tbl_Companys!D144","v":"Avanti Ryfylket AS"},{"$f":"tbl_Companys!C144","v":172631},"Avanti Ryfylket AS",{"$f":"tbl_ConsultingCompanys!D144","v":"El miljø AS"},{"$f":"tbl_ConsultingCompanys!C144","v":244638},"El miljø AS"]
[{"$nulls":10},{"$f":"tbl_ArchitectureOffices!D145","v":"ctrl+n arkitektur da"},{"$f":"tbl_ArchitectureOffices!C145","v":207276},"ctrl+n arkitektur da",{"$f":"tbl_Companys!D145","v":"AWP (Frankrike)"},{"$f":"tbl_Companys!C145","v":245867},"AWP (Frankrike)",{"$f":"tbl_ConsultingCompanys!D145","v":"Elconsultteam AS "},{"$f":"tbl_ConsultingCompanys!C145","v":103275},"Elconsultteam AS"]
[{"$nulls":10},{"$f":"tbl_ArchitectureOffices!D146","v":"C-V Hølmebakk Arkitektkontor"},{"$f":"tbl_ArchitectureOffices!C146","v":221021},"C-V Hølmebakk Arkitektkontor",{"$f":"tbl_Companys!D146","v":"Axlander & Rosell"},{"$f":"tbl_Companys!C146","v":110990},"Axlander & Rosell",{"$f":"tbl_ConsultingCompanys!D146","v":"Elconsultteam Sør"},{"$f":"tbl_ConsultingCompanys!C146","v":217000},"Elconsultteam Sør"]
[{"$nulls":10},{"$f":"tbl_ArchitectureOffices!D147","v":"DAC architecture"},{"$f":"tbl_ArchitectureOffices!C147","v":217474},"DAC architecture",{"$f":"tbl_Companys!D147","v":"b+b arkitekter as"},{"$f":"tbl_Companys!C147","v":166536},"b+b arkitekter as",{"$f":"tbl_ConsultingCompanys!D147","v":"Elconsultteam sør (RIE)"},{"$f":"tbl_ConsultingCompanys!C147","v":216998},"Elconsultteam sør (RIE)"]
[{"$nulls":10},{"$f":"tbl_ArchitectureOffices!D148","v":"Dahl & Myrhol AS, Arkitektene "},{"$f":"tbl_ArchitectureOffices!C148","v":166562},"Dahl & Myrhol AS, Arkitektene",{"$f":"tbl_Companys!D148","v":"Backe prosjekt AS"},{"$f":"tbl_Companys!C148","v":160575},"Backe prosjekt AS",{"$f":"tbl_ConsultingCompanys!D148","v":"Electronova as"},{"$f":"tbl_ConsultingCompanys!C148","v":247311},"Electronova as"]
[{"$nulls":10},{"$f":"tbl_ArchitectureOffices!D149","v":"Dahl & Uhre arkitekter as"},{"$f":"tbl_ArchitectureOffices!C149","v":166564},"Dahl & Uhre arkitekter as",{"$f":"tbl_Companys!D149","v":"Backo AS"},{"$f":"tbl_Companys!C149","v":246979},"Backo AS",{"$f":"tbl_ConsultingCompanys!D149","v":"Elektro Nord AS"},{"$f":"tbl_ConsultingCompanys!C149","v":247733},"Elektro Nord AS"]
[{"$nulls":10},{"$f":"tbl_ArchitectureOffices!D150","v":"Dahle & Breitenstein as"},{"$f":"tbl_ArchitectureOffices!C150","v":166565},"Dahle & Breitenstein as",{"$f":"tbl_Companys!D150","v":"Baneservice AS"},{"$f":"tbl_Companys!C150","v":182798},"Baneservice AS",{"$f":"tbl_ConsultingCompanys!D150","v":"Elektroeksperten AS"},{"$f":"tbl_ConsultingCompanys!C150","v":246980},"Elektroeksperten AS"]
[{"$nulls":10},{"$f":"tbl_ArchitectureOffices!D151","v":"Dark Arkitekter AS"},{"$f":"tbl_ArchitectureOffices!C151","v":166566},"Dark Arkitekter AS",{"$f":"tbl_Companys!D151","v":"Bar, AS Arkitektgruppen "},{"$f":"tbl_Companys!C151","v":172234},"Bar, AS Arkitektgruppen",{"$f":"tbl_ConsultingCompanys!D151","v":"Elektroteam AS (RIE)"},{"$f":"tbl_ConsultingCompanys!C151","v":218403},"Elektroteam AS (RIE)"]
[{"$nulls":10},{"$f":"tbl_ArchitectureOffices!D152","v":"DB Arkitektur AS"},{"$f":"tbl_ArchitectureOffices!C152","v":206993},"DB Arkitektur AS",{"$f":"tbl_Companys!D152","v":"Bark Arkitekter AS"},{"$f":"tbl_Companys!C152","v":181847},"Bark Arkitekter AS",{"$f":"tbl_ConsultingCompanys!D152","v":"Elnan"},{"$f":"tbl_ConsultingCompanys!C152","v":164722},"Elnan"]
[{"$nulls":10},{"$f":"tbl_ArchitectureOffices!D153","v":"DBC-arkitektur as"},{"$f":"tbl_ArchitectureOffices!C153","v":166567},"DBC-arkitektur as",{"$f":"tbl_Companys!D153","v":"Barkaleitet Borettslag"},{"$f":"tbl_Companys!C153","v":228270},"Barkaleitet Borettslag",{"$f":"tbl_ConsultingCompanys!D153","v":"ELNAN AS"},{"$f":"tbl_ConsultingCompanys!C153","v":98985},"ELNAN AS"]
[{"$nulls":10},{"$f":"tbl_ArchitectureOffices!D154","v":"Derlick arkitekter as"},{"$f":"tbl_ArchitectureOffices!C154","v":166568},"Derlick arkitekter as",{"$f":"tbl_Companys!D154","v":"Bas Arkitekter AS"},{"$f":"tbl_Companys!C154","v":166527},"Bas Arkitekter AS",{"$f":"tbl_ConsultingCompanys!D154","v":"Elnan AS"},{"$f":"tbl_ConsultingCompanys!C154","v":111928},"Elnan AS"]
[{"$nulls":10},{"$f":"tbl_ArchitectureOffices!D155","v":"div.A arkitekter"},{"$f":"tbl_ArchitectureOffices!C155","v":166569},"div.A arkitekter",{"$f":"tbl_Companys!D155","v":"Base Arkitekter AS"},{"$f":"tbl_Companys!C155","v":166528},"Base Arkitekter AS",{"$f":"tbl_ConsultingCompanys!D155","v":"Elplan AS"},{"$f":"tbl_ConsultingCompanys!C155","v":178153},"Elplan AS"]
[{"$nulls":10},{"$f":"tbl_ArchitectureOffices!D156","v":"Dyrvik Arkitekter AS"},{"$f":"tbl_ArchitectureOffices!C156","v":166570},"Dyrvik Arkitekter AS",{"$f":"tbl_Companys!D156","v":"Base Property AS"},{"$f":"tbl_Companys!C156","v":172593},"Base Property AS",{"$f":"tbl_ConsultingCompanys!D156","v":"El-prosjekt"},{"$f":"tbl_ConsultingCompanys!C156","v":121315},"El-prosjekt"]
[{"$nulls":10},{"$f":"tbl_ArchitectureOffices!D157","v":"Eder Biesel Arkitekter"},{"$f":"tbl_ArchitectureOffices!C157","v":247887},"Eder Biesel Arkitekter",{"$f":"tbl_Companys!D157","v":"Basis arkitekter as"},{"$f":"tbl_Companys!C157","v":246156},"Basis arkitekter as",{"$f":"tbl_ConsultingCompanys!D157","v":"EM teknikk AS"},{"$f":"tbl_ConsultingCompanys!C157","v":120245},"EM teknikk AS"]
[{"$nulls":10},{"$f":"tbl_ArchitectureOffices!D158","v":"Egg arkitekter as"},{"$f":"tbl_ArchitectureOffices!C158","v":246134},"Egg arkitekter as",{"$f":"tbl_Companys!D158","v":"BA-tec AS"},{"$f":"tbl_Companys!C158","v":246268},"BA-tec AS",{"$f":"tbl_ConsultingCompanys!D158","v":"EMA AS"},{"$f":"tbl_ConsultingCompanys!C158","v":202453},"EMA AS"]
[{"$nulls":10},{"$f":"tbl_ArchitectureOffices!D159","v":"Eggen Arkitekter AS"},{"$f":"tbl_ArchitectureOffices!C159","v":166578},"Eggen Arkitekter AS",{"$f":"tbl_Companys!D159","v":"Bauck AS, Arkitektkontoret Jan"},{"$f":"tbl_Companys!C159","v":166531},"Bauck AS, Arkitektkontoret Jan",{"$f":"tbl_ConsultingCompanys!D159","v":"Endre Tvinnereim"},{"$f":"tbl_ConsultingCompanys!C159","v":232981},"Endre Tvinnereim"]
[{"$nulls":10},{"$f":"tbl_ArchitectureOffices!D160","v":"Eggen AS, Arkitektkontoret Arne "},{"$f":"tbl_ArchitectureOffices!C160","v":166575},"Eggen AS, Arkitektkontoret Arne",{"$f":"tbl_Companys!D160","v":"BBW AS, Arkitektkontoret "},{"$f":"tbl_Companys!C160","v":166526},"BBW AS, Arkitektkontoret",{"$f":"tbl_ConsultingCompanys!D160","v":"Energetica"},{"$f":"tbl_ConsultingCompanys!C160","v":235785},"Energetica"]
[{"$nulls":10},{"$f":"tbl_ArchitectureOffices!D161","v":"Eggen Sivilarkitekt MNAL, Kjellaug Sandvik "},{"$f":"tbl_ArchitectureOffices!C161","v":172605},"Eggen Sivilarkitekt MNAL, Kjellaug Sandvik",{"$f":"tbl_Companys!D161","v":"Beate Ellingsen AS"},{"$f":"tbl_Companys!C161","v":228641},"Beate Ellingsen AS",{"$f":"tbl_ConsultingCompanys!D161","v":"Entra Eiendom AS"},{"$f":"tbl_ConsultingCompanys!C161","v":223036},"Entra Eiendom AS"]
[{"$nulls":10},{"$f":"tbl_ArchitectureOffices!D162","v":"Eide og Haslestad A/S, Arkitektkontoret "},{"$f":"tbl_ArchitectureOffices!C162","v":166630},"Eide og Haslestad A/S, Arkitektkontoret",{"$f":"tbl_Companys!D162","v":"Bente Rødahl Arkitekter AS"},{"$f":"tbl_Companys!C162","v":234990},"Bente Rødahl Arkitekter AS",{"$f":"tbl_ConsultingCompanys!D162","v":"Entreprenør Magnar Sivertsen as (grunn og betong)"},{"$f":"tbl_ConsultingCompanys!C162","v":215431},"Entreprenør Magnar Sivertsen as (grunn og betong)"]
[{"$nulls":10},{"$f":"tbl_ArchitectureOffices!D163","v":"EIK arkitektur & design as npa"},{"$f":"tbl_ArchitectureOffices!C163","v":166632},"EIK arkitektur & design as npa",{"$f":"tbl_Companys!D163","v":"Berg Knudsen as"},{"$f":"tbl_Companys!C163","v":247313},"Berg Knudsen as",{"$f":"tbl_ConsultingCompanys!D163","v":"Entro nova AS"},{"$f":"tbl_ConsultingCompanys!C163","v":121244},"Entro nova AS"]
[{"$nulls":10},{"$f":"tbl_ArchitectureOffices!D164","v":"Element arkitekter as"},{"$f":"tbl_ArchitectureOffices!C164","v":166635},"Element arkitekter as",{"$f":"tbl_Companys!D164","v":"Berg og Østvang AS, Arkitektene"},{"$f":"tbl_Companys!C164","v":166498},"Berg og Østvang AS, Arkitektene",{"$f":"tbl_ConsultingCompanys!D164","v":"Enøk-senteret AS"},{"$f":"tbl_ConsultingCompanys!C164","v":205125},"Enøk-senteret AS"]
[{"$nulls":10},{"$f":"tbl_ArchitectureOffices!D165","v":"Elfrida Bull Bene AS, Arkitektstudio"},{"$f":"tbl_ArchitectureOffices!C165","v":166530},"Elfrida Bull Bene AS, Arkitektstudio",{"$f":"tbl_Companys!D165","v":"Bergen Bolig og Byfornyelse KF"},{"$f":"tbl_Companys!C165","v":218052},"Bergen Bolig og Byfornyelse KF",{"$f":"tbl_ConsultingCompanys!D165","v":"Erichsen & Horgen AS"},{"$f":"tbl_ConsultingCompanys!C165","v":98872},"Erichsen & Horgen AS"]
[{"$nulls":10},{"$f":"tbl_ArchitectureOffices!D166","v":"Eliassen og Lambertz-Nilssen Arkitekter AS"},{"$f":"tbl_ArchitectureOffices!C166","v":166636},"Eliassen og Lambertz-Nilssen Arkitekter AS",{"$f":"tbl_Companys!D166","v":"Bergen Gulvleggerservice AS"},{"$f":"tbl_Companys!C166","v":157876},"Bergen Gulvleggerservice AS",{"$f":"tbl_ConsultingCompanys!D166","v":"Eriksen og Thorsvik AS (bygg)"},{"$f":"tbl_ConsultingCompanys!C166","v":218404},"Eriksen og Thorsvik AS (bygg)"]
[{"$nulls":10},{"$f":"tbl_ArchitectureOffices!D167","v":"Elisabeth Ekjord AS"},{"$f":"tbl_ArchitectureOffices!C167","v":166633},"Elisabeth Ekjord AS",{"$f":"tbl_Companys!D167","v":"Bergen kommune"},{"$f":"tbl_Companys!C167","v":172825},"Bergen kommune",{"$f":"tbl_ConsultingCompanys!D167","v":"Erstad & Lekven Bergen as"},{"$f":"tbl_ConsultingCompanys!C167","v":224140},"Erstad & Lekven Bergen as"]
[{"$nulls":10},{"$f":"tbl_ArchitectureOffices!D168","v":"Else Dahlseng Arkitekter AS"},{"$f":"tbl_ArchitectureOffices!C168","v":166573},"Else Dahlseng Arkitekter AS",{"$f":"tbl_Companys!D168","v":"Bergen kommune, etat for utbygging"},{"$f":"tbl_Companys!C168","v":248739},"Bergen kommune, etat for utbygging",{"$f":"tbl_ConsultingCompanys!D168","v":"Erstad & Lekven Oslo AS"},{"$f":"tbl_ConsultingCompanys!C168","v":243696},"Erstad & Lekven Oslo AS"]
[{"$nulls":10},{"$f":"tbl_ArchitectureOffices!D169","v":"Elverland arkitekt MNAL, Hanne "},{"$f":"tbl_ArchitectureOffices!C169","v":166640},"Elverland arkitekt MNAL, Hanne",{"$f":"tbl_Companys!D169","v":"Bergen og omegn boligbyggelag (BOB)"},{"$f":"tbl_Companys!C169","v":160598},"Bergen og omegn boligbyggelag (BOB)",{"$f":"tbl_ConsultingCompanys!D169","v":"Esbensen Rådgivende Ingeniører AS"},{"$f":"tbl_ConsultingCompanys!C169","v":202457},"Esbensen Rådgivende Ingeniører AS"]
[{"$nulls":10},{"$f":"tbl_ArchitectureOffices!D170","v":"Enerhaugen Arkitektkontor AS"},{"$f":"tbl_ArchitectureOffices!C170","v":166641},"Enerhaugen Arkitektkontor AS",{"$f":"tbl_Companys!D170","v":"Bergen og omegn boligbyggelag (BOB)"},{"$f":"tbl_Companys!C170","v":160599},"Bergen og omegn boligbyggelag (BOB)",{"$f":"tbl_ConsultingCompanys!D170","v":"eStatikk"},{"$f":"tbl_ConsultingCompanys!C170","v":245833},"eStatikk"]
[{"$nulls":10},{"$f":"tbl_ArchitectureOffices!D171","v":"Engelbrektson, Sivilarkitekt MNAL Richard "},{"$f":"tbl_ArchitectureOffices!C171","v":172790},"Engelbrektson, Sivilarkitekt MNAL Richard",{"$f":"tbl_Companys!D171","v":"Bergersen Arkitekter AS"},{"$f":"tbl_Companys!C171","v":249501},"Bergersen Arkitekter AS",{"$f":"tbl_ConsultingCompanys!D171","v":"Evotek AS"},{"$f":"tbl_ConsultingCompanys!C171","v":98464},"Evotek AS"]
[{"$nulls":10},{"$f":"tbl_ArchitectureOffices!D172","v":"Erik Møller arkitekter"},{"$f":"tbl_ArchitectureOffices!C172","v":228640},"Erik Møller arkitekter",{"$f":"tbl_Companys!D172","v":"Bergersen Gromholt Ottar Arkitekter AS"},{"$f":"tbl_Companys!C172","v":166532},"Bergersen Gromholt Ottar Arkitekter AS",{"$f":"tbl_ConsultingCompanys!D172","v":"F. Stensrud AS"},{"$f":"tbl_ConsultingCompanys!C172","v":228141},"F. Stensrud AS"]
[{"$nulls":10},{"$f":"tbl_ArchitectureOffices!D173","v":"Eriksen Skajaa Arkitekter"},{"$f":"tbl_ArchitectureOffices!C173","v":207043},"Eriksen Skajaa Arkitekter",{"$f":"tbl_Companys!D173","v":"Bergseth sivilarkitekt MNAL, Magne "},{"$f":"tbl_Companys!C173","v":166533},"Bergseth sivilarkitekt MNAL, Magne",{"$f":"tbl_ConsultingCompanys!D173","v":"Faber bygg AS"},{"$f":"tbl_ConsultingCompanys!C173","v":245789},"Faber bygg AS"]
[{"$nulls":10},{"$f":"tbl_ArchitectureOffices!D174","v":"Espen Handegård sivilarkitekt MNAL"},{"$f":"tbl_ArchitectureOffices!C174","v":209987},"Espen Handegård sivilarkitekt MNAL",{"$f":"tbl_Companys!D174","v":"Berit og Helge Sørås"},{"$f":"tbl_Companys!C174","v":160600},"Berit og Helge Sørås",{"$f":"tbl_ConsultingCompanys!D174","v":"Fagerborg menighet"},{"$f":"tbl_ConsultingCompanys!C174","v":243665},"Fagerborg menighet"]
[{"$nulls":10},{"$f":"tbl_ArchitectureOffices!D175","v":"Eva Solheim sivilarkitekt MNAL"},{"$f":"tbl_ArchitectureOffices!C175","v":249559},"Eva Solheim sivilarkitekt MNAL",{"$f":"tbl_Companys!D175","v":"Bermingrud Entreprenør AS"},{"$f":"tbl_Companys!C175","v":246269},"Bermingrud Entreprenør AS",{"$f":"tbl_ConsultingCompanys!D175","v":"Farsund kommune"},{"$f":"tbl_ConsultingCompanys!C175","v":160582},"Farsund kommune"]
[{"$nulls":10},{"$f":"tbl_ArchitectureOffices!D176","v":"F S Platou"},{"$f":"tbl_ArchitectureOffices!C176","v":235806},"F S Platou",{"$f":"tbl_Companys!D176","v":"Bernt Krogh"},{"$f":"tbl_Companys!C176","v":162868},"Bernt Krogh",{"$f":"tbl_ConsultingCompanys!D176","v":"Faveo Prosjektledelse AS"},{"$f":"tbl_ConsultingCompanys!C176","v":233203},"Faveo Prosjektledelse AS"]
[{"$nulls":10},{"$f":"tbl_ArchitectureOffices!D177","v":"Falkenberg MNAL, Siv.ark. Thomas "},{"$f":"tbl_ArchitectureOffices!C177","v":166717},"Falkenberg MNAL, Siv.ark. Thomas",{"$f":"tbl_Companys!D177","v":"BGM Arkitekter AS"},{"$f":"tbl_Companys!C177","v":247616},"BGM Arkitekter AS",{"$f":"tbl_ConsultingCompanys!D177","v":"FAVEO/Grønn byggallianse v/Sverre Tiltnes (Miljøkoordinator)"},{"$f":"tbl_ConsultingCompanys!C177","v":214152},"FAVEO/Grønn byggallianse v/Sverre Tiltnes (Miljøkoordinator)"]
[{"$nulls":10},{"$f":"tbl_ArchitectureOffices!D178","v":"Fasting Arkitekter AS"},{"$f":"tbl_ArchitectureOffices!C178","v":166718},"Fasting Arkitekter AS",{"$f":"tbl_Companys!D178","v":"BGM Arkitekter/ Asplan Viak"},{"$f":"tbl_Companys!C178","v":247620},"BGM Arkitekter/ Asplan Viak",{"$f":"tbl_ConsultingCompanys!D178","v":"FERD K23 AS"},{"$f":"tbl_ConsultingCompanys!C178","v":246723},"FERD K23 AS"]
[{"$nulls":10},{"$f":"tbl_ArchitectureOffices!D179","v":"Felix Arkitekter AS"},{"$f":"tbl_ArchitectureOffices!C179","v":166720},"Felix Arkitekter AS",{"$f":"tbl_Companys!D179","v":"Biesel Arkitekter AS, Eder "},{"$f":"tbl_Companys!C179","v":172725},"Biesel Arkitekter AS, Eder",{"$f":"tbl_ConsultingCompanys!D179","v":"Fløibanen"},{"$f":"tbl_ConsultingCompanys!C179","v":182799},"Fløibanen"]
[{"$nulls":10},{"$f":"tbl_ArchitectureOffices!D180","v":"Feste AS"},{"$f":"tbl_ArchitectureOffices!C180","v":231899},"Feste AS",{"$f":"tbl_Companys!D180","v":"Bifokal Zednik"},{"$f":"tbl_Companys!C180","v":194016},"Bifokal Zednik",{"$f":"tbl_ConsultingCompanys!D180","v":"Follo Bygg og Eiendom AS"},{"$f":"tbl_ConsultingCompanys!C180","v":243669},"Follo Bygg og Eiendom AS"]
[{"$nulls":10},{"$f":"tbl_ArchitectureOffices!D181","v":"Feste Grenland AS"},{"$f":"tbl_ArchitectureOffices!C181","v":242831},"Feste Grenland AS",{"$f":"tbl_Companys!D181","v":"Biltorget AS"},{"$f":"tbl_Companys!C181","v":160594},"Biltorget AS",{"$f":"tbl_ConsultingCompanys!D181","v":"Forsvarsbygg"},{"$f":"tbl_ConsultingCompanys!C181","v":248971},"Forsvarsbygg"]
[{"$nulls":10},{"$f":"tbl_ArchitectureOffices!D182","v":"Filter Arkitekter AS"},{"$f":"tbl_ArchitectureOffices!C182","v":166721},"Filter Arkitekter AS",{"$f":"tbl_Companys!D182","v":"Biong Arkitekter AS"},{"$f":"tbl_Companys!C182","v":172658},"Biong Arkitekter AS",{"$f":"tbl_ConsultingCompanys!D182","v":"Forus Næringspark AS"},{"$f":"tbl_ConsultingCompanys!C182","v":163053},"Forus Næringspark AS"]
[{"$nulls":10},{"$f":"tbl_ArchitectureOffices!D183","v":"Fjord Arkitekter AS"},{"$f":"tbl_ArchitectureOffices!C183","v":218791},"Fjord Arkitekter AS",{"$f":"tbl_Companys!D183","v":"Bios Arkitekter AS"},{"$f":"tbl_Companys!C183","v":203536},"Bios Arkitekter AS",{"$f":"tbl_ConsultingCompanys!D183","v":"Forus Rør AS"},{"$f":"tbl_ConsultingCompanys!C183","v":155841},"Forus Rør AS"]
[{"$nulls":10},{"$f":"tbl_ArchitectureOffices!D184","v":"Fjorden Arkitekter"},{"$f":"tbl_ArchitectureOffices!C184","v":219703},"Fjorden Arkitekter",{"$f":"tbl_Companys!D184","v":"Bjarte Fyllingen as"},{"$f":"tbl_Companys!C184","v":224139},"Bjarte Fyllingen as",{"$f":"tbl_ConsultingCompanys!D184","v":"Frank Hansen, Åfjord (Strandbar)"},{"$f":"tbl_ConsultingCompanys!C184","v":230107},"Frank Hansen, Åfjord (Strandbar)"]
[{"$nulls":10},{"$f":"tbl_ArchitectureOffices!D185","v":"Flux Arkitekter AS"},{"$f":"tbl_ArchitectureOffices!C185","v":166724},"Flux Arkitekter AS",{"$f":"tbl_Companys!D185","v":"Bjerga Bygg AS"},{"$f":"tbl_Companys!C185","v":103217},"Bjerga Bygg AS",{"$f":"tbl_ConsultingCompanys!D185","v":"Fredricia Miller siv.ark MNAL"},{"$f":"tbl_ConsultingCompanys!C185","v":119975},"Fredricia Miller siv.ark MNAL"]
[{"$nulls":10},{"$f":"tbl_ArchitectureOffices!D186","v":"Flyt arkitektur as"},{"$f":"tbl_ArchitectureOffices!C186","v":199549},"Flyt arkitektur as",{"$f":"tbl_Companys!D186","v":"Bjerga eiendom AS"},{"$f":"tbl_Companys!C186","v":160577},"Bjerga eiendom AS",{"$f":"tbl_ConsultingCompanys!D186","v":"Fredrikstad kommune"},{"$f":"tbl_ConsultingCompanys!C186","v":241086},"Fredrikstad kommune"]
[{"$nulls":10},{"$f":"tbl_ArchitectureOffices!D187","v":"Forente Arkitektkontorer A/S"},{"$f":"tbl_ArchitectureOffices!C187","v":166725},"Forente Arkitektkontorer A/S",{"$f":"tbl_Companys!D187","v":"Bjerke arkitektkontor"},{"$f":"tbl_Companys!C187","v":166537},"Bjerke arkitektkontor",{"$f":"tbl_ConsultingCompanys!D187","v":"Fredrikstad kommune, Teknisk drift"},{"$f":"tbl_ConsultingCompanys!C187","v":241087},"Fredrikstad kommune, Teknisk drift"]
[{"$nulls":10},{"$f":"tbl_ArchitectureOffices!D188","v":"Formgiverne d.a."},{"$f":"tbl_ArchitectureOffices!C188","v":166726},"Formgiverne d.a.",{"$f":"tbl_Companys!D188","v":"Bjerke Ventilasjon AS (Ventilasjon)"},{"$f":"tbl_Companys!C188","v":155179},"Bjerke Ventilasjon AS (Ventilasjon)",{"$f":"tbl_ConsultingCompanys!D188","v":"Frode Olsson AS (forskaling, støp)"},{"$f":"tbl_ConsultingCompanys!C188","v":155839},"Frode Olsson AS (forskaling, støp)"]
[{"$nulls":10},{"$f":"tbl_ArchitectureOffices!D189","v":"Fortunen Arkitekter AS"},{"$f":"tbl_ArchitectureOffices!C189","v":166727},"Fortunen Arkitekter AS",{"$f":"tbl_Companys!D189","v":"Bjørbekk og Lindheim"},{"$f":"tbl_Companys!C189","v":236408},"Bjørbekk og Lindheim",{"$f":"tbl_ConsultingCompanys!D189","v":"Froland kommune"},{"$f":"tbl_ConsultingCompanys!C189","v":215887},"Froland kommune"]
[{"$nulls":10},{"$f":"tbl_ArchitectureOffices!D190","v":"Forum Arkitekter AS"},{"$f":"tbl_ArchitectureOffices!C190","v":166728},"Forum Arkitekter AS",{"$f":"tbl_Companys!D190","v":"Bjørn Haugstad Arkitekt MNAL"},{"$f":"tbl_Companys!C190","v":227536},"Bjørn Haugstad Arkitekt MNAL",{"$f":"tbl_ConsultingCompanys!D190","v":"Frost Entrepenør AS (bygningsmessige arbeider)"},{"$f":"tbl_ConsultingCompanys!C190","v":162920},"Frost Entrepenør AS (bygningsmessige arbeider)"]
[{"$nulls":10},{"$f":"tbl_ArchitectureOffices!D191","v":"fossland as, arkitekt"},{"$f":"tbl_ArchitectureOffices!C191","v":172996},"fossland as, arkitekt",{"$f":"tbl_Companys!D191","v":"Bjørnstad Prosjektering AS, Bjørn "},{"$f":"tbl_Companys!C191","v":166538},"Bjørnstad Prosjektering AS, Bjørn",{"$f":"tbl_ConsultingCompanys!D191","v":"Frost Entreprenør AS"},{"$f":"tbl_ConsultingCompanys!C191","v":111932},"Frost Entreprenør AS"]
[{"$nulls":10},{"$f":"tbl_ArchitectureOffices!D192","v":"Frank a/s, Arkitektkontoret Lene "},{"$f":"tbl_ArchitectureOffices!C192","v":166729},"Frank a/s, Arkitektkontoret Lene",{"$f":"tbl_Companys!D192","v":"Blikkenslager Østensen AS"},{"$f":"tbl_Companys!C192","v":157874},"Blikkenslager Østensen AS",{"$f":"tbl_ConsultingCompanys!D192","v":"Frydenlund og Høyer AS"},{"$f":"tbl_ConsultingCompanys!C192","v":243868},"Frydenlund og Høyer AS"]
[{"$nulls":10},{"$f":"tbl_ArchitectureOffices!D193","v":"Friis Arkitekter AS"},{"$f":"tbl_ArchitectureOffices!C193","v":178010},"Friis Arkitekter AS",{"$f":"tbl_Companys!D193","v":"blå arkitektur landskab ab"},{"$f":"tbl_Companys!C193","v":166539},"blå arkitektur landskab ab",{"$f":"tbl_ConsultingCompanys!D193","v":"Frøiland Bygg"},{"$f":"tbl_ConsultingCompanys!C193","v":158043},"Frøiland Bygg"]
[{"$nulls":10},{"$f":"tbl_ArchitectureOffices!D194","v":"Gaia Arkitekter"},{"$f":"tbl_ArchitectureOffices!C194","v":166730},"Gaia Arkitekter",{"$f":"tbl_Companys!D194","v":"Bo arkitekter as"},{"$f":"tbl_Companys!C194","v":226513},"Bo arkitekter as",{"$f":"tbl_ConsultingCompanys!D194","v":"Fyllingen Maskinstasjon"},{"$f":"tbl_ConsultingCompanys!C194","v":182796},"Fyllingen Maskinstasjon"]
[{"$nulls":10},{"$f":"tbl_ArchitectureOffices!D195","v":"Gaia Tjøme"},{"$f":"tbl_ArchitectureOffices!C195","v":172711},{"$f":"IFERROR(REPLACE(K195,FIND(\" \",K195,LEN(K195)),1,\"\"),K195)","v":"Gaia Tjøme"},{"$f":"tbl_Companys!D195","v":"Boarch arkitekter as"},{"$f":"tbl_Companys!C195","v":166543},{"$f":"IFERROR(REPLACE(N195,FIND(\" \",N195,LEN(N195)),1,\"\"),N195)","v":"Boarch arkitekter as"},{"$f":"tbl_ConsultingCompanys!D195","v":"GAIA Lista AS (RIV)"},{"$f":"tbl_ConsultingCompanys!C195","v":207493},{"$f":"IFERROR(REPLACE(Q195,FIND(\" \",Q195,LEN(Q195)),1,\"\"),Q195)","v":"GAIA Lista AS (RIV)"}]
[{"$nulls":10},{"$f":"tbl_ArchitectureOffices!D196","v":"Gasa A/S, Arkitektkontoret "},{"$f":"tbl_ArchitectureOffices!C196","v":166731},"Gasa A/S, Arkitektkontoret",{"$f":"tbl_Companys!D196","v":"Bogen Arkitektkontor AS, Petter "},{"$f":"tbl_Companys!C196","v":166544},"Bogen Arkitektkontor AS, Petter",{"$f":"tbl_ConsultingCompanys!D196","v":"Gauldal Bygg AS"},{"$f":"tbl_ConsultingCompanys!C196","v":222846},"Gauldal Bygg AS"]
[{"$nulls":10},{"$f":"tbl_ArchitectureOffices!D197","v":"Ghilardi+Hellsten Arkitekter"},{"$f":"tbl_ArchitectureOffices!C197","v":166732},"Ghilardi+Hellsten Arkitekter",{"$f":"tbl_Companys!D197","v":"Bolkesjø AS "},{"$f":"tbl_Companys!C197","v":119783},"Bolkesjø AS",{"$f":"tbl_ConsultingCompanys!D197","v":"Geir Knudsen AS"},{"$f":"tbl_ConsultingCompanys!C197","v":166298},"Geir Knudsen AS"]
[{"$nulls":10},{"$f":"tbl_ArchitectureOffices!D198","v":"Gjøen, Arne "},{"$f":"tbl_ArchitectureOffices!C198","v":166733},"Gjøen, Arne",{"$f":"tbl_Companys!D198","v":"Borealis Arkitekter as"},{"$f":"tbl_Companys!C198","v":166545},"Borealis Arkitekter as",{"$f":"tbl_ConsultingCompanys!D198","v":"Geoenergi as"},{"$f":"tbl_ConsultingCompanys!C198","v":120246},"Geoenergi as"]
[{"$nulls":10},{"$f":"tbl_ArchitectureOffices!D199","v":"Gjørven AS, Arkitektkontoret Ingrid Ulving "},{"$f":"tbl_ArchitectureOffices!C199","v":166734},"Gjørven AS, Arkitektkontoret Ingrid Ulving",{"$f":"tbl_Companys!D199","v":"Borsheim, Paal "},{"$f":"tbl_Companys!C199","v":166547},"Borsheim, Paal",{"$f":"tbl_ConsultingCompanys!D199","v":"GK Norge AS"},{"$f":"tbl_ConsultingCompanys!C199","v":245787},"GK Norge AS"]
[{"$nulls":10},{"$f":"tbl_ArchitectureOffices!D200","v":"Gravbrøt siv.ark. MNAL, Pia Maria"},{"$f":"tbl_ArchitectureOffices!C200","v":166735},"Gravbrøt siv.ark. MNAL, Pia Maria",{"$f":"tbl_Companys!D200","v":"Boxs arkitektstudio as"},{"$f":"tbl_Companys!C200","v":226954},"Boxs arkitektstudio as",{"$f":"tbl_ConsultingCompanys!D200","v":"Glassbygg AS"},{"$f":"tbl_ConsultingCompanys!C200","v":233807},"Glassbygg AS"]
[{"$nulls":10},{"$f":"tbl_ArchitectureOffices!D201","v":"Grieg AS, Arkitektkontoret "},{"$f":"tbl_ArchitectureOffices!C201","v":166736},"Grieg AS, Arkitektkontoret",{"$f":"tbl_Companys!D201","v":"Boye-Waage"},{"$f":"tbl_Companys!C201","v":217083},"Boye-Waage",{"$f":"tbl_ConsultingCompanys!D201","v":"Glassfasade GF01: Skandinaviska Glassystem"},{"$f":"tbl_ConsultingCompanys!C201","v":202823},"Glassfasade GF01: Skandinaviska Glassystem"]
[{"$nulls":10},{"$f":"tbl_ArchitectureOffices!D202","v":"Grinde AS"},{"$f":"tbl_ArchitectureOffices!C202","v":166737},"Grinde AS",{"$f":"tbl_Companys!D202","v":"BP Norge"},{"$f":"tbl_Companys!C202","v":98842},"BP Norge",{"$f":"tbl_ConsultingCompanys!D202","v":"glava as"},{"$f":"tbl_ConsultingCompanys!C202","v":155325},"glava as"]
[{"$nulls":10},{"$f":"tbl_ArchitectureOffices!D203","v":"Gro Hovda sivilarkitekt mnal"},{"$f":"tbl_ArchitectureOffices!C203","v":229124},"Gro Hovda sivilarkitekt mnal",{"$f":"tbl_Companys!D203","v":"BP Solar"},{"$f":"tbl_Companys!C203","v":98840},"BP Solar",{"$f":"tbl_ConsultingCompanys!D203","v":"Graveentreprenør Geir Stuberg"},{"$f":"tbl_ConsultingCompanys!C203","v":225761},"Graveentreprenør Geir Stuberg"]
[{"$nulls":10},{"$f":"tbl_ArchitectureOffices!D204","v":"Grønn strek as"},{"$f":"tbl_ArchitectureOffices!C204","v":242868},"Grønn strek as",{"$f":"tbl_Companys!D204","v":"Brandsberg-Dahls Arkitektkontor AS"},{"$f":"tbl_Companys!C204","v":166548},"Brandsberg-Dahls Arkitektkontor AS",{"$f":"tbl_ConsultingCompanys!D204","v":"Greåker VVS AS"},{"$f":"tbl_ConsultingCompanys!C204","v":103364},"Greåker VVS AS"]
[{"$nulls":10},{"$f":"tbl_ArchitectureOffices!D205","v":"Gsella, Christian "},{"$f":"tbl_ArchitectureOffices!C205","v":166738},"Gsella, Christian",{"$f":"tbl_Companys!D205","v":"Brannsikkerhet Total AS (Sprinkleranlegg)"},{"$f":"tbl_Companys!C205","v":155177},"Brannsikkerhet Total AS (Sprinkleranlegg)",{"$f":"tbl_ConsultingCompanys!D205","v":"Grip og Zen Resort (miljøsertifisering)"},{"$f":"tbl_ConsultingCompanys!C205","v":178591},"Grip og Zen Resort (miljøsertifisering)"]
[{"$nulls":10},{"$f":"tbl_ArchitectureOffices!D206","v":"h. arkitektiner as"},{"$f":"tbl_ArchitectureOffices!C206","v":171509},"h. arkitektiner as",{"$f":"tbl_Companys!D206","v":"Brattørkaia AS"},{"$f":"tbl_Companys!C206","v":233805},"Brattørkaia AS",{"$f":"tbl_ConsultingCompanys!D206","v":"Grong kommune"},{"$f":"tbl_ConsultingCompanys!C206","v":160603},"Grong kommune"]
[{"$nulls":10},{"$f":"tbl_ArchitectureOffices!D207","v":"Haaland AS Siv.ark. MNAL, Arkitektkontoret "},{"$f":"tbl_ArchitectureOffices!C207","v":172847},"Haaland AS Siv.ark. MNAL, Arkitektkontoret",{"$f":"tbl_Companys!D207","v":"Bravida"},{"$f":"tbl_Companys!C207","v":178585},"Bravida",{"$f":"tbl_ConsultingCompanys!D207","v":"Grøner AS"},{"$f":"tbl_ConsultingCompanys!C207","v":103250},"Grøner AS"]
[{"$nulls":10},{"$f":"tbl_ArchitectureOffices!D208","v":"Haarklau og Lindeberg AS"},{"$f":"tbl_ArchitectureOffices!C208","v":171141},"Haarklau og Lindeberg AS",{"$f":"tbl_Companys!D208","v":"Bravida Norge AS (El, IT og VVS teknikk)"},{"$f":"tbl_Companys!C208","v":157574},"Bravida Norge AS (El, IT og VVS teknikk)",{"$f":"tbl_ConsultingCompanys!D208","v":"Grønmyr Barnehage"},{"$f":"tbl_ConsultingCompanys!C208","v":218416},"Grønmyr Barnehage"]
[{"$nulls":10},{"$f":"tbl_ArchitectureOffices!D209","v":"Haga og Grov AS, sivilarkitekter MNAL"},{"$f":"tbl_ArchitectureOffices!C209","v":171073},"Haga og Grov AS, sivilarkitekter MNAL",{"$f":"tbl_Companys!D209","v":"Brekke & Strand Akustikk AS"},{"$f":"tbl_Companys!C209","v":209556},"Brekke & Strand Akustikk AS",{"$f":"tbl_ConsultingCompanys!D209","v":"Grønmyr Bygg v/Ole Eliassen"},{"$f":"tbl_ConsultingCompanys!C209","v":218412},"Grønmyr Bygg v/Ole Eliassen"]
[{"$nulls":10},{"$f":"tbl_ArchitectureOffices!D210","v":"HAK, Holen Arkitektkontor"},{"$f":"tbl_ArchitectureOffices!C210","v":171135},"HAK, Holen Arkitektkontor",{"$f":"tbl_Companys!D210","v":"Brendeland & Kristoffersen arkitekter A/S"},{"$f":"tbl_Companys!C210","v":166549},"Brendeland & Kristoffersen arkitekter A/S",{"$f":"tbl_ConsultingCompanys!D210","v":"Gunnar Karlsen AS (automatisering)"},{"$f":"tbl_ConsultingCompanys!C210","v":172629},"Gunnar Karlsen AS (automatisering)"]
[{"$nulls":10},{"$f":"tbl_ArchitectureOffices!D211","v":"Haldde arkitekter AS"},{"$f":"tbl_ArchitectureOffices!C211","v":242813},"Haldde arkitekter AS",{"$f":"tbl_Companys!D211","v":"Bright elektro"},{"$f":"tbl_Companys!C211","v":204394},"Bright elektro",{"$f":"tbl_ConsultingCompanys!D211","v":"H2 Byggeteknikk AS"},{"$f":"tbl_ConsultingCompanys!C211","v":231963},"H2 Byggeteknikk AS"]
[{"$nulls":10},{"$f":"tbl_ArchitectureOffices!D212","v":"Halden Arkitektkontor AS"},{"$f":"tbl_ArchitectureOffices!C212","v":172598},"Halden Arkitektkontor AS",{"$f":"tbl_Companys!D212","v":"Bright VVS"},{"$f":"tbl_Companys!C212","v":204393},"Bright VVS",{"$f":"tbl_ConsultingCompanys!D212","v":"Hambra"},{"$f":"tbl_ConsultingCompanys!C212","v":110466},"Hambra"]
[{"$nulls":10},{"$f":"tbl_ArchitectureOffices!D213","v":"Halvorsen & Reine AS"},{"$f":"tbl_ArchitectureOffices!C213","v":171075},"Halvorsen & Reine AS",{"$f":"tbl_Companys!D213","v":"Bris arkitekter"},{"$f":"tbl_Companys!C213","v":247054},"Bris arkitekter",{"$f":"tbl_ConsultingCompanys!D213","v":"Hammer Rådgivning"},{"$f":"tbl_ConsultingCompanys!C213","v":103260},"Hammer Rådgivning"]
[{"$nulls":10},{"$f":"tbl_ArchitectureOffices!D214","v":"Halvorsen AS sivilarkitekt MNAL, Stein"},{"$f":"tbl_ArchitectureOffices!C214","v":171076},"Halvorsen AS sivilarkitekt MNAL, Stein",{"$f":"tbl_Companys!D214","v":"Britt Krokene Sivilarkitekt MNAL AS"},{"$f":"tbl_Companys!C214","v":248135},"Britt Krokene Sivilarkitekt MNAL AS",{"$f":"tbl_ConsultingCompanys!D214","v":"Hamstad AS (RIV)"},{"$f":"tbl_ConsultingCompanys!C214","v":162916},"Hamstad AS (RIV)"]
[{"$nulls":10},{"$f":"tbl_ArchitectureOffices!D215","v":"Halvorsen AS, Arkitektkontoret Konrad "},{"$f":"tbl_ArchitectureOffices!C215","v":171074},"Halvorsen AS, Arkitektkontoret Konrad",{"$f":"tbl_Companys!D215","v":"Britt Krokene Sivilarkitekt MNAL AS"},{"$f":"tbl_Companys!C215","v":248137},"Britt Krokene Sivilarkitekt MNAL AS",{"$f":"tbl_ConsultingCompanys!D215","v":"Handegård & Pedersen AS"},{"$f":"tbl_ConsultingCompanys!C215","v":218047},"Handegård & Pedersen AS"]
[{"$nulls":10},{"$f":"tbl_ArchitectureOffices!D216","v":"Hamre Arkitektkontor as, Stein "},{"$f":"tbl_ArchitectureOffices!C216","v":171077},"Hamre Arkitektkontor as, Stein",{"$f":"tbl_Companys!D216","v":"Brodtkorb AS, Arkitektkontoret Kari Nissen "},{"$f":"tbl_Companys!C216","v":171799},"Brodtkorb AS, Arkitektkontoret Kari Nissen",{"$f":"tbl_ConsultingCompanys!D216","v":"Hans Helgesen og sønner AS"},{"$f":"tbl_ConsultingCompanys!C216","v":110764},"Hans Helgesen og sønner AS"]
[{"$nulls":10},{"$f":"tbl_ArchitectureOffices!D217","v":"Hansen/Bjørndal Arkitekter AS"},{"$f":"tbl_ArchitectureOffices!C217","v":171071},"Hansen/Bjørndal Arkitekter AS",{"$f":"tbl_Companys!D217","v":"Brucon v/Ottar langehaug"},{"$f":"tbl_Companys!C217","v":193871},"Brucon v/Ottar langehaug",{"$f":"tbl_ConsultingCompanys!D217","v":"Hansaparken AS"},{"$f":"tbl_ConsultingCompanys!C217","v":160606},"Hansaparken AS"]
[{"$nulls":10},{"$f":"tbl_ArchitectureOffices!D218","v":"HAPTIC"},{"$f":"tbl_ArchitectureOffices!C218","v":202235},"HAPTIC",{"$f":"tbl_Companys!D218","v":"Bruvoll arkitektur as"},{"$f":"tbl_Companys!C218","v":246132},"Bruvoll arkitektur as",{"$f":"tbl_ConsultingCompanys!D218","v":"Harboe og Leganger"},{"$f":"tbl_ConsultingCompanys!C218","v":165391},"Harboe og Leganger"]
[{"$nulls":10},{"$f":"tbl_ArchitectureOffices!D219","v":"Haugedal, Arnar "},{"$f":"tbl_ArchitectureOffices!C219","v":171079},"Haugedal, Arnar",{"$f":"tbl_Companys!D219","v":"Bryggeriparken AS"},{"$f":"tbl_Companys!C219","v":229555},"Bryggeriparken AS",{"$f":"tbl_ConsultingCompanys!D219","v":"Harsem prosjektering AS"},{"$f":"tbl_ConsultingCompanys!C219","v":112300},"Harsem prosjektering AS"]
[{"$nulls":10},{"$f":"tbl_ArchitectureOffices!D220","v":"Haugen as, Arkitektkontoret Erling "},{"$f":"tbl_ArchitectureOffices!C220","v":171080},"Haugen as, Arkitektkontoret Erling",{"$f":"tbl_Companys!D220","v":"Brækkan sivilarkitekt MNAL, Gudrun "},{"$f":"tbl_Companys!C220","v":166550},"Brækkan sivilarkitekt MNAL, Gudrun",{"$f":"tbl_ConsultingCompanys!D220","v":"Hartmann Prosjektrådgiving AS"},{"$f":"tbl_ConsultingCompanys!C220","v":240270},"Hartmann Prosjektrådgiving AS"]
[{"$nulls":10},{"$f":"tbl_ArchitectureOffices!D221","v":"Haugen/ Zohar Arkitekter"},{"$f":"tbl_ArchitectureOffices!C221","v":172684},"Haugen/ Zohar Arkitekter",{"$f":"tbl_Companys!D221","v":"Brødrene Holstad AS"},{"$f":"tbl_Companys!C221","v":243860},"Brødrene Holstad AS",{"$f":"tbl_ConsultingCompanys!D221","v":"Hartmann Prosjektrådgivning AS"},{"$f":"tbl_ConsultingCompanys!C221","v":246978},"Hartmann Prosjektrådgivning AS"]
[{"$nulls":10},{"$f":"tbl_ArchitectureOffices!D222","v":"Hausberg siv.ark. MNAL, Egil J "},{"$f":"tbl_ArchitectureOffices!C222","v":171081},"Hausberg siv.ark. MNAL, Egil J",{"$f":"tbl_Companys!D222","v":"Brødrene Jørmeland (grunn)"},{"$f":"tbl_Companys!C222","v":162880},"Brødrene Jørmeland (grunn)",{"$f":"tbl_ConsultingCompanys!D222","v":"HBBL"},{"$f":"tbl_ConsultingCompanys!C222","v":155837},"HBBL"]
[{"$nulls":10},{"$f":"tbl_ArchitectureOffices!D223","v":"Heggelund og Koxvold AS Arkitekter MNAL"},{"$f":"tbl_ArchitectureOffices!C223","v":171082},"Heggelund og Koxvold AS Arkitekter MNAL",{"$f":"tbl_Companys!D223","v":"Brødrene Olstad AS"},{"$f":"tbl_Companys!C223","v":103261},"Brødrene Olstad AS",{"$f":"tbl_ConsultingCompanys!D223","v":"Heiberg & Tveter (RIE)"},{"$f":"tbl_ConsultingCompanys!C223","v":178580},"Heiberg & Tveter (RIE)"]
[{"$nulls":10},{"$f":"tbl_ArchitectureOffices!D224","v":"Heggenhougen Arkitekter AS"},{"$f":"tbl_ArchitectureOffices!C224","v":171083},"Heggenhougen Arkitekter AS",{"$f":"tbl_Companys!D224","v":"Brødrene Ulveseth AS"},{"$f":"tbl_Companys!C224","v":248741},"Brødrene Ulveseth AS",{"$f":"tbl_ConsultingCompanys!D224","v":"Heimdal Bolig"},{"$f":"tbl_ConsultingCompanys!C224","v":240269},"Heimdal Bolig"]
[{"$nulls":10},{"$f":"tbl_ArchitectureOffices!D225","v":"Helen & Hard AS"},{"$f":"tbl_ArchitectureOffices!C225","v":229017},"Helen & Hard AS",{"$f":"tbl_Companys!D225","v":"BS Akustikk AS"},{"$f":"tbl_Companys!C225","v":103148},"BS Akustikk AS",{"$f":"tbl_ConsultingCompanys!D225","v":"Heimdal Entreprenør AS"},{"$f":"tbl_ConsultingCompanys!C225","v":164727},"Heimdal Entreprenør AS"]
[{"$nulls":10},{"$f":"tbl_ArchitectureOffices!D226","v":"Helén Arkitekter AS, Bernt "},{"$f":"tbl_ArchitectureOffices!C226","v":171084},"Helén Arkitekter AS, Bernt",{"$f":"tbl_Companys!D226","v":"BSH Husholdningsapparater AS (hvitevarer)"},{"$f":"tbl_Companys!C226","v":198979},"BSH Husholdningsapparater AS (hvitevarer)",{"$f":"tbl_ConsultingCompanys!D226","v":"Heindenreich-Ris & Lillefjære A/S"},{"$f":"tbl_ConsultingCompanys!C226","v":120139},"Heindenreich-Ris & Lillefjære A/S"]
[{"$nulls":10},{"$f":"tbl_ArchitectureOffices!D227","v":"Helling Arkitekter Oslo AS, Lars "},{"$f":"tbl_ArchitectureOffices!C227","v":171086},"Helling Arkitekter Oslo AS, Lars",{"$f":"tbl_Companys!D227","v":"Buck og Beyer arkitekter AS"},{"$f":"tbl_Companys!C227","v":166551},"Buck og Beyer arkitekter AS",{"$f":"tbl_ConsultingCompanys!D227","v":"HE-Kjelleveien AS"},{"$f":"tbl_ConsultingCompanys!C227","v":246267},"HE-Kjelleveien AS"]
[{"$nulls":10},{"$f":"tbl_ArchitectureOffices!D228","v":"Henriksen Arkitekter AS, Arne "},{"$f":"tbl_ArchitectureOffices!C228","v":172665},"Henriksen Arkitekter AS, Arne",{"$f":"tbl_Companys!D228","v":"BundeBygg AS"},{"$f":"tbl_Companys!C228","v":102857},"BundeBygg AS",{"$f":"tbl_ConsultingCompanys!D228","v":"Helen & Hard AS"},{"$f":"tbl_ConsultingCompanys!C228","v":192377},"Helen & Hard AS"]
[{"$nulls":10},{"$f":"tbl_ArchitectureOffices!D229","v":"Hille Melbye Arkitekter AS"},{"$f":"tbl_ArchitectureOffices!C229","v":171087},"Hille Melbye Arkitekter AS",{"$f":"tbl_Companys!D229","v":"Byberg Maskin AS (gravearbeider)"},{"$f":"tbl_Companys!C229","v":172924},"Byberg Maskin AS (gravearbeider)",{"$f":"tbl_ConsultingCompanys!D229","v":"Helge Lunde"},{"$f":"tbl_ConsultingCompanys!C229","v":204511},"Helge Lunde"]
[{"$nulls":10},{"$f":"tbl_ArchitectureOffices!D230","v":"Hille Strandskogen AS arkitekter MNAL"},{"$f":"tbl_ArchitectureOffices!C230","v":171088},"Hille Strandskogen AS arkitekter MNAL",{"$f":"tbl_Companys!D230","v":"ByBo AS"},{"$f":"tbl_Companys!C230","v":166301},"ByBo AS",{"$f":"tbl_ConsultingCompanys!D230","v":"Helsebygg Midt-Norge"},{"$f":"tbl_ConsultingCompanys!C230","v":243126},"Helsebygg Midt-Norge"]
[{"$nulls":10},{"$f":"tbl_ArchitectureOffices!D231","v":"Hindhamar Landskapsarkitekter AS"},{"$f":"tbl_ArchitectureOffices!C231","v":244003},"Hindhamar Landskapsarkitekter AS",{"$f":"tbl_Companys!D231","v":"Bygganalyse AS"},{"$f":"tbl_Companys!C231","v":103151},"Bygganalyse AS",{"$f":"tbl_ConsultingCompanys!D231","v":"Hemato Eiendom"},{"$f":"tbl_ConsultingCompanys!C231","v":242773},"Hemato Eiendom"]
[{"$nulls":10},{"$f":"tbl_ArchitectureOffices!D232","v":"Hjelle Arkitekter AS, Harald "},{"$f":"tbl_ArchitectureOffices!C232","v":171089},"Hjelle Arkitekter AS, Harald",{"$f":"tbl_Companys!D232","v":"Byggeadministrasjon AS"},{"$f":"tbl_Companys!C232","v":246927},"Byggeadministrasjon AS",{"$f":"tbl_ConsultingCompanys!D232","v":"Henning Stokke"},{"$f":"tbl_ConsultingCompanys!C232","v":162859},"Henning Stokke"]
[{"$nulls":10},{"$f":"tbl_ArchitectureOffices!D233","v":"Hjeltnes AS, sivilarkitekter MNAL, Knut "},{"$f":"tbl_ArchitectureOffices!C233","v":171090},"Hjeltnes AS, sivilarkitekter MNAL, Knut",{"$f":"tbl_Companys!D233","v":"Byggforsk"},{"$f":"tbl_Companys!C233","v":112150},"Byggforsk",{"$f":"tbl_ConsultingCompanys!D233","v":"HENT AS "},{"$f":"tbl_ConsultingCompanys!C233","v":157573},"HENT AS"]
[{"$nulls":10},{"$f":"tbl_ArchitectureOffices!D234","v":"Hjorth Arkitekter"},{"$f":"tbl_ArchitectureOffices!C234","v":249016},"Hjorth Arkitekter",{"$f":"tbl_Companys!D234","v":"Byggmeister Samson Kjoberg"},{"$f":"tbl_Companys!C234","v":224066},"Byggmeister Samson Kjoberg",{"$f":"tbl_ConsultingCompanys!D234","v":"Hent AS (Knut Alstad)"},{"$f":"tbl_ConsultingCompanys!C234","v":157568},"Hent AS (Knut Alstad)"]
[{"$nulls":10},{"$f":"tbl_ArchitectureOffices!D235","v":"HLM arkitektur & plan A/S"},{"$f":"tbl_ArchitectureOffices!C235","v":171092},"HLM arkitektur & plan A/S",{"$f":"tbl_Companys!D235","v":"Byggmester Goa (tømmerarbeider)"},{"$f":"tbl_Companys!C235","v":172923},"Byggmester Goa (tømmerarbeider)",{"$f":"tbl_ConsultingCompanys!D235","v":"HENT AS (totalentreprenør)"},{"$f":"tbl_ConsultingCompanys!C235","v":228147},"HENT AS (totalentreprenør)"]
[{"$nulls":10},{"$f":"tbl_ArchitectureOffices!D236","v":"Hoff romstudio, Baard "},{"$f":"tbl_ArchitectureOffices!C236","v":171094},"Hoff romstudio, Baard",{"$f":"tbl_Companys!D236","v":"Byggmester Tom Martinsen"},{"$f":"tbl_Companys!C236","v":103367},"Byggmester Tom Martinsen",{"$f":"tbl_ConsultingCompanys!D236","v":"Hjellnes Consult AS"},{"$f":"tbl_ConsultingCompanys!C236","v":225259},"Hjellnes Consult AS"]
[{"$nulls":10},{"$f":"tbl_ArchitectureOffices!D237","v":"Hoffmann, Arne Arkitektene og Ib Omland Phd, sivilarkitekt mnal"},{"$f":"tbl_ArchitectureOffices!C237","v":200496},"Hoffmann, Arne Arkitektene og Ib Omland Phd, sivilarkitekt mnal",{"$f":"tbl_Companys!D237","v":"Byggmester Tom Martinsen"},{"$f":"tbl_Companys!C237","v":160584},"Byggmester Tom Martinsen",{"$f":"tbl_ConsultingCompanys!D237","v":"Hjelmeland Mur & Flis AS (mur og gulv)"},{"$f":"tbl_ConsultingCompanys!C237","v":172954},"Hjelmeland Mur & Flis AS (mur og gulv)"]
[{"$nulls":10},{"$f":"tbl_ArchitectureOffices!D238","v":"Holm & Grut Arkitekter MAA PAR"},{"$f":"tbl_ArchitectureOffices!C238","v":171136},"Holm & Grut Arkitekter MAA PAR",{"$f":"tbl_Companys!D238","v":"ByggMester VEST"},{"$f":"tbl_Companys!C238","v":166296},"ByggMester VEST",{"$f":"tbl_ConsultingCompanys!D238","v":"Hol Kirkelige Fellesråd"},{"$f":"tbl_ConsultingCompanys!C238","v":245537},"Hol Kirkelige Fellesråd"]
[{"$nulls":10},{"$f":"tbl_ArchitectureOffices!D239","v":"HRTB Arkitekter AS MNAL"},{"$f":"tbl_ArchitectureOffices!C239","v":171072},"HRTB Arkitekter AS MNAL",{"$f":"tbl_Companys!D239","v":"Byggmester Vest as (arkitektfag)"},{"$f":"tbl_Companys!C239","v":215432},"Byggmester Vest as (arkitektfag)",{"$f":"tbl_ConsultingCompanys!D239","v":"Holtefjell Entreprenør AS"},{"$f":"tbl_ConsultingCompanys!C239","v":204306},"Holtefjell Entreprenør AS"]
[{"$nulls":10},{"$f":"tbl_ArchitectureOffices!D240","v":"HSØ - Hagestande og Øvrehus Arkitektkontor AS"},{"$f":"tbl_ArchitectureOffices!C240","v":171138},"HSØ - Hagestande og Øvrehus Arkitektkontor AS",{"$f":"tbl_Companys!D240","v":"Byggmesterfirma Hansen og Lauritsen AS"},{"$f":"tbl_Companys!C240","v":200080},"Byggmesterfirma Hansen og Lauritsen AS",{"$f":"tbl_ConsultingCompanys!D240","v":"Holz Norge 100 (massivtreelementer)"},{"$f":"tbl_ConsultingCompanys!C240","v":158133},"Holz Norge 100 (massivtreelementer)"]
[{"$nulls":10},{"$f":"tbl_ArchitectureOffices!D241","v":"Hus AS, Arbeidsgruppen "},{"$f":"tbl_ArchitectureOffices!C241","v":172584},"Hus AS, Arbeidsgruppen",{"$f":"tbl_Companys!D241","v":"Byggplan AS"},{"$f":"tbl_Companys!C241","v":243865},"Byggplan AS",{"$f":"tbl_ConsultingCompanys!D241","v":"Hordaland Fylkeskommune Eigedomsseksjonen"},{"$f":"tbl_ConsultingCompanys!C241","v":224141},"Hordaland Fylkeskommune Eigedomsseksjonen"]
[{"$nulls":10},{"$f":"tbl_ArchitectureOffices!D242","v":"Huus og Heim Arkitektur"},{"$f":"tbl_ArchitectureOffices!C242","v":172898},"Huus og Heim Arkitektur",{"$f":"tbl_Companys!D242","v":"Bærum Kommune"},{"$f":"tbl_Companys!C242","v":157567},"Bærum Kommune",{"$f":"tbl_ConsultingCompanys!D242","v":"Horten kommune"},{"$f":"tbl_ConsultingCompanys!C242","v":213267},"Horten kommune"]
[{"$nulls":10},{"$f":"tbl_ArchitectureOffices!D243","v":"Hvoslef-Eide AS, Arkitektkontoret Didrik "},{"$f":"tbl_ArchitectureOffices!C243","v":171140},"Hvoslef-Eide AS, Arkitektkontoret Didrik",{"$f":"tbl_Companys!D243","v":"Bødtker sivilarkitekt MNAL, Brit Sejersted "},{"$f":"tbl_Companys!C243","v":166553},"Bødtker sivilarkitekt MNAL, Brit Sejersted",{"$f":"tbl_ConsultingCompanys!D243","v":"HR Prosjekt AS"},{"$f":"tbl_ConsultingCompanys!C243","v":248373},"HR Prosjekt AS"]
[{"$nulls":10},{"$f":"tbl_ArchitectureOffices!D244","v":"HWR arkitekter as"},{"$f":"tbl_ArchitectureOffices!C244","v":171142},"HWR arkitekter as",{"$f":"tbl_Companys!D244","v":"Bøhmer entreprenør AS"},{"$f":"tbl_Companys!C244","v":103209},"Bøhmer entreprenør AS",{"$f":"tbl_ConsultingCompanys!D244","v":"HRL Skien"},{"$f":"tbl_ConsultingCompanys!C244","v":162892},"HRL Skien"]
[{"$nulls":10},{"$f":"tbl_ArchitectureOffices!D245","v":"Hysj arkitekter AS"},{"$f":"tbl_ArchitectureOffices!C245","v":210154},"Hysj arkitekter AS",{"$f":"tbl_Companys!D245","v":"Børre Svindal Larsen as"},{"$f":"tbl_Companys!C245","v":119976},"Børre Svindal Larsen as",{"$f":"tbl_ConsultingCompanys!D245","v":"HS Vagle AS"},{"$f":"tbl_ConsultingCompanys!C245","v":155840},"HS Vagle AS"]
[{"$nulls":10},{"$f":"tbl_ArchitectureOffices!D246","v":"i2i.no as"},{"$f":"tbl_ArchitectureOffices!C246","v":171148},"i2i.no as",{"$f":"tbl_Companys!D246","v":"Børve og Borchsenius as, Arkitektkontoret "},{"$f":"tbl_Companys!C246","v":166554},"Børve og Borchsenius as, Arkitektkontoret",{"$f":"tbl_ConsultingCompanys!D246","v":"Häussler/H-produkter"},{"$f":"tbl_ConsultingCompanys!C246","v":178213},"Häussler/H-produkter"]
[{"$nulls":10},{"$f":"tbl_ArchitectureOffices!D247","v":"IDA arkitekter as"},{"$f":"tbl_ArchitectureOffices!C247","v":232354},"IDA arkitekter as",{"$f":"tbl_Companys!D247","v":"C. Svenkerud"},{"$f":"tbl_Companys!C247","v":101064},"C. Svenkerud",{"$f":"tbl_ConsultingCompanys!D247","v":"i NOR as (RIE)"},{"$f":"tbl_ConsultingCompanys!C247","v":182981},"i NOR as (RIE)"]
[{"$nulls":10},{"$f":"tbl_ArchitectureOffices!D248","v":"Ide Arkitekter"},{"$f":"tbl_ArchitectureOffices!C248","v":171144},"Ide Arkitekter",{"$f":"tbl_Companys!D248","v":"Cadi AS"},{"$f":"tbl_Companys!C248","v":166555},"Cadi AS",{"$f":"tbl_ConsultingCompanys!D248","v":"IBR el-prosjekt AS"},{"$f":"tbl_ConsultingCompanys!C248","v":181046},"IBR el-prosjekt AS"]
[{"$nulls":10},{"$f":"tbl_ArchitectureOffices!D249","v":"IdealBygg AS"},{"$f":"tbl_ArchitectureOffices!C249","v":247502},"IdealBygg AS",{"$f":"tbl_Companys!D249","v":"Campbell ink, Scott Campbell"},{"$f":"tbl_Companys!C249","v":166557},"Campbell ink, Scott Campbell",{"$f":"tbl_ConsultingCompanys!D249","v":"Iguzzini (lys)"},{"$f":"tbl_ConsultingCompanys!C249","v":198981},"Iguzzini (lys)"]
[{"$nulls":10},{"$f":"tbl_ArchitectureOffices!D250","v":"Indigo Arkitekter AS"},{"$f":"tbl_ArchitectureOffices!C250","v":171146},"Indigo Arkitekter AS",{"$f":"tbl_Companys!D250","v":"Chem - Con AS (mur og gulv)"},{"$f":"tbl_Companys!C250","v":162879},"Chem - Con AS (mur og gulv)",{"$f":"tbl_ConsultingCompanys!D250","v":"Ikke offentlig"},{"$f":"tbl_ConsultingCompanys!C250","v":245832},"Ikke offentlig"]
[{"$nulls":10},{"$f":"tbl_ArchitectureOffices!D251","v":"Ingvaldsen sivilarkitekt MNAL, Arne "},{"$f":"tbl_ArchitectureOffices!C251","v":171147},"Ingvaldsen sivilarkitekt MNAL, Arne",{"$f":"tbl_Companys!D251","v":"Christiansen og Roberg AS"},{"$f":"tbl_Companys!C251","v":213753},"Christiansen og Roberg AS",{"$f":"tbl_ConsultingCompanys!D251","v":"Ilje AS"},{"$f":"tbl_ConsultingCompanys!C251","v":160572},"Ilje AS"]
[{"$nulls":10},{"$f":"tbl_ArchitectureOffices!D252","v":"Interiørarkitekt MNIL Siri Obrestad Fuhr "},{"$f":"tbl_ArchitectureOffices!C252","v":228971},"Interiørarkitekt MNIL Siri Obrestad Fuhr",{"$f":"tbl_Companys!D252","v":"Claudio Trovanelli (Hypokausten og peiser)"},{"$f":"tbl_Companys!C252","v":162876},"Claudio Trovanelli (Hypokausten og peiser)",{"$f":"tbl_ConsultingCompanys!D252","v":"In`by AS"},{"$f":"tbl_ConsultingCompanys!C252","v":160569},"In`by AS"]
[{"$nulls":10},{"$f":"tbl_ArchitectureOffices!D253","v":"IversenPetch AS"},{"$f":"tbl_ArchitectureOffices!C253","v":171487},"IversenPetch AS",{"$f":"tbl_Companys!D253","v":"Clou arkitektur"},{"$f":"tbl_Companys!C253","v":166559},"Clou arkitektur",{"$f":"tbl_ConsultingCompanys!D253","v":"Ineo Eiendom & Base Property"},{"$f":"tbl_ConsultingCompanys!C253","v":249381},"Ineo Eiendom & Base Property"]
[{"$nulls":10},{"$f":"tbl_ArchitectureOffices!D254","v":"Jacobsen og Reiten Arkitektkontor AS"},{"$f":"tbl_ArchitectureOffices!C254","v":171149},"Jacobsen og Reiten Arkitektkontor AS",{"$f":"tbl_Companys!D254","v":"Code: arkitektur as"},{"$f":"tbl_Companys!C254","v":166560},"Code: arkitektur as",{"$f":"tbl_ConsultingCompanys!D254","v":"Ing. Evensen AS"},{"$f":"tbl_ConsultingCompanys!C254","v":241091},"Ing. Evensen AS"]
[{"$nulls":10},{"$f":"tbl_ArchitectureOffices!D255","v":"Jansen Arkitekter AS"},{"$f":"tbl_ArchitectureOffices!C255","v":171150},"Jansen Arkitekter AS",{"$f":"tbl_Companys!D255","v":"Colt AS"},{"$f":"tbl_Companys!C255","v":202454},"Colt AS",{"$f":"tbl_ConsultingCompanys!D255","v":"Ing. Jan Johannessen as"},{"$f":"tbl_ConsultingCompanys!C255","v":155960},"Ing. Jan Johannessen as"]
[{"$nulls":10},{"$f":"tbl_ArchitectureOffices!D256","v":"Jarmund Arkitekter as mnal, Kristin "},{"$f":"tbl_ArchitectureOffices!C256","v":171152},"Jarmund Arkitekter as mnal, Kristin",{"$f":"tbl_Companys!D256","v":"Comfort consult AS "},{"$f":"tbl_Companys!C256","v":110994},"Comfort consult AS",{"$f":"tbl_ConsultingCompanys!D256","v":"Ing. K. Simonsen A/S"},{"$f":"tbl_ConsultingCompanys!C256","v":101080},"Ing. K. Simonsen A/S"]
[{"$nulls":10},{"$f":"tbl_ArchitectureOffices!D257","v":"Jarmund/ Vigsnæs AS Arkitekter MNAL"},{"$f":"tbl_ArchitectureOffices!C257","v":171151},"Jarmund/ Vigsnæs AS Arkitekter MNAL",{"$f":"tbl_Companys!D257","v":"Conradi AS "},{"$f":"tbl_Companys!C257","v":217516},"Conradi AS",{"$f":"tbl_ConsultingCompanys!D257","v":"Ing. Per Ødemark"},{"$f":"tbl_ConsultingCompanys!C257","v":110995},"Ing. Per Ødemark"]
[{"$nulls":10},{"$f":"tbl_ArchitectureOffices!D258","v":"Jensen & Skodvin Arkitektkontor"},{"$f":"tbl_ArchitectureOffices!C258","v":171154},"Jensen & Skodvin Arkitektkontor",{"$f":"tbl_Companys!D258","v":"Context AS"},{"$f":"tbl_Companys!C258","v":166561},"Context AS",{"$f":"tbl_ConsultingCompanys!D258","v":"Ing. Seim & Hultgreen AS"},{"$f":"tbl_ConsultingCompanys!C258","v":103278},"Ing. Seim & Hultgreen AS"]
[{"$nulls":10},{"$f":"tbl_ArchitectureOffices!D259","v":"Jensen AS, Arkitektkontoret Kjell "},{"$f":"tbl_ArchitectureOffices!C259","v":171153},{"$f":"IFERROR(REPLACE(K259,FIND(\" \",K259,LEN(K259)),1,\"\"),K259)","v":"Jensen AS, Arkitektkontoret Kjell"},{"$f":"tbl_Companys!D259","v":"Contur as - Arkitektur og Design"},{"$f":"tbl_Companys!C259","v":172660},{"$f":"IFERROR(REPLACE(N259,FIND(\" \",N259,LEN(N259)),1,\"\"),N259)","v":"Contur as - Arkitektur og Design"},{"$f":"tbl_ConsultingCompanys!D259","v":"Ingar Ellefsrød, Erling Vermelid, Odd Skadsem, Steinar Wegger"},{"$f":"tbl_ConsultingCompanys!C259","v":121096},{"$f":"IFERROR(REPLACE(Q259,FIND(\" \",Q259,LEN(Q259)),1,\"\"),Q259)","v":"Ingar Ellefsrød, Erling Vermelid, Odd Skadsem, Steinar Wegger"}]
[{"$nulls":10},{"$f":"tbl_ArchitectureOffices!D260","v":"jm arkitektkontor"},{"$f":"tbl_ArchitectureOffices!C260","v":171155},"jm arkitektkontor",{"$f":"tbl_Companys!D260","v":"Corebis as"},{"$f":"tbl_Companys!C260","v":155654},"Corebis as",{"$f":"tbl_ConsultingCompanys!D260","v":"Ingenia AS"},{"$f":"tbl_ConsultingCompanys!C260","v":214726},"Ingenia AS"]
[{"$nulls":10},{"$f":"tbl_ArchitectureOffices!D261","v":"Johansen, Jonny sivilarkitekt MNAL"},{"$f":"tbl_ArchitectureOffices!C261","v":200495},"Johansen, Jonny sivilarkitekt MNAL",{"$f":"tbl_Companys!D261","v":"Cowi as"},{"$f":"tbl_Companys!C261","v":217298},"Cowi as",{"$f":"tbl_ConsultingCompanys!D261","v":"Ingeniør Petter Nome AS (RIV)"},{"$f":"tbl_ConsultingCompanys!C261","v":209552},"Ingeniør Petter Nome AS (RIV)"]
[{"$nulls":10},{"$f":"tbl_ArchitectureOffices!D262","v":"Jonsson Arkitektkontor, Gudmundur "},{"$f":"tbl_ArchitectureOffices!C262","v":173253},"Jonsson Arkitektkontor, Gudmundur",{"$f":"tbl_Companys!D262","v":"Cox Strategisk design AS"},{"$f":"tbl_Companys!C262","v":246947},"Cox Strategisk design AS",{"$f":"tbl_ConsultingCompanys!D262","v":"Instanes AS"},{"$f":"tbl_ConsultingCompanys!C262","v":110753},"Instanes AS"]
[{"$nulls":10},{"$f":"tbl_ArchitectureOffices!D263","v":"JST Arkitekter AS"},{"$f":"tbl_ArchitectureOffices!C263","v":214510},"JST Arkitekter AS",{"$f":"tbl_Companys!D263","v":"CTM AS"},{"$f":"tbl_Companys!C263","v":111930},"CTM AS",{"$f":"tbl_ConsultingCompanys!D263","v":"Interconsult ASA "},{"$f":"tbl_ConsultingCompanys!C263","v":102852},"Interconsult ASA"]
[{"$nulls":10},{"$f":"tbl_ArchitectureOffices!D264","v":"K16 AS, Arkitektkontoret "},{"$f":"tbl_ArchitectureOffices!C264","v":171824},"K16 AS, Arkitektkontoret",{"$f":"tbl_Companys!D264","v":"ctrl+n arkitektur da"},{"$f":"tbl_Companys!C264","v":207276},"ctrl+n arkitektur da",{"$f":"tbl_ConsultingCompanys!D264","v":"Ipark Eiendom AS"},{"$f":"tbl_ConsultingCompanys!C264","v":245783},"Ipark Eiendom AS"]
[{"$nulls":10},{"$f":"tbl_ArchitectureOffices!D265","v":"Kahrs Arkitekter AS, Paal J."},{"$f":"tbl_ArchitectureOffices!C265","v":171823},"Kahrs Arkitekter AS, Paal J.",{"$f":"tbl_Companys!D265","v":"C-V Hølmebakk Arkitektkontor"},{"$f":"tbl_Companys!C265","v":221021},"C-V Hølmebakk Arkitektkontor",{"$f":"tbl_ConsultingCompanys!D265","v":"Isola"},{"$f":"tbl_ConsultingCompanys!C265","v":178211},"Isola"]
[{"$nulls":10},{"$f":"tbl_ArchitectureOffices!D266","v":"Kap - kontor for arkitektur og plan"},{"$f":"tbl_ArchitectureOffices!C266","v":171822},"Kap - kontor for arkitektur og plan",{"$f":"tbl_Companys!D266","v":"Czelusta Trebygg og Takteknikk"},{"$f":"tbl_Companys!C266","v":223524},"Czelusta Trebygg og Takteknikk",{"$f":"tbl_ConsultingCompanys!D266","v":"ISS Landscaping AS ved Stein Anders Sundbye "},{"$f":"tbl_ConsultingCompanys!C266","v":121092},"ISS Landscaping AS ved Stein Anders Sundbye"]
[{"$nulls":10},{"$f":"tbl_ArchitectureOffices!D267","v":"Kapsel design as"},{"$f":"tbl_ArchitectureOffices!C267","v":247308},"Kapsel design as",{"$f":"tbl_Companys!D267","v":"D. Nysted AS (interiør)"},{"$f":"tbl_Companys!C267","v":155842},"D. Nysted AS (interiør)",{"$f":"tbl_ConsultingCompanys!D267","v":"ISS O.Skaaret AS"},{"$f":"tbl_ConsultingCompanys!C267","v":103188},"ISS O.Skaaret AS"]
[{"$nulls":10},{"$f":"tbl_ArchitectureOffices!D268","v":"Karsten T. Huitfeldt sivilarkitekt MNAL"},{"$f":"tbl_ArchitectureOffices!C268","v":233829},"Karsten T. Huitfeldt sivilarkitekt MNAL",{"$f":"tbl_Companys!D268","v":"DAC architecture"},{"$f":"tbl_Companys!C268","v":217474},"DAC architecture",{"$f":"tbl_ConsultingCompanys!D268","v":"Istad Tekniske AS"},{"$f":"tbl_ConsultingCompanys!C268","v":240271},"Istad Tekniske AS"]
[{"$nulls":10},{"$f":"tbl_ArchitectureOffices!D269","v":"Katarsis as"},{"$f":"tbl_ArchitectureOffices!C269","v":172671},"Katarsis as",{"$f":"tbl_Companys!D269","v":"Dagfinn H. Jørgensen AS"},{"$f":"tbl_Companys!C269","v":98460},"Dagfinn H. Jørgensen AS",{"$f":"tbl_ConsultingCompanys!D269","v":"ITECH (EL, VVS)"},{"$f":"tbl_ConsultingCompanys!C269","v":164238},"ITECH (EL, VVS)"]
[{"$nulls":10},{"$f":"tbl_ArchitectureOffices!D270","v":"KEO arkitekter AS"},{"$f":"tbl_ArchitectureOffices!C270","v":171826},"KEO arkitekter AS",{"$f":"tbl_Companys!D270","v":"Dahl & Myrhol AS, Arkitektene "},{"$f":"tbl_Companys!C270","v":166562},"Dahl & Myrhol AS, Arkitektene",{"$f":"tbl_ConsultingCompanys!D270","v":"Jackon"},{"$f":"tbl_ConsultingCompanys!C270","v":178212},"Jackon"]
[{"$nulls":10},{"$f":"tbl_ArchitectureOffices!D271","v":"Kester Bunyan Arkitektur as"},{"$f":"tbl_ArchitectureOffices!C271","v":227234},"Kester Bunyan Arkitektur as",{"$f":"tbl_Companys!D271","v":"Dahl & Uhre arkitekter as"},{"$f":"tbl_Companys!C271","v":166564},"Dahl & Uhre arkitekter as",{"$f":"tbl_ConsultingCompanys!D271","v":"Jadarhus AS"},{"$f":"tbl_ConsultingCompanys!C271","v":155835},"Jadarhus AS"]
[{"$nulls":10},{"$f":"tbl_ArchitectureOffices!D272","v":"KEY arkitekter as mnal"},{"$f":"tbl_ArchitectureOffices!C272","v":215756},"KEY arkitekter as mnal",{"$f":"tbl_Companys!D272","v":"Dahle & Breitenstein as"},{"$f":"tbl_Companys!C272","v":166565},"Dahle & Breitenstein as",{"$f":"tbl_ConsultingCompanys!D272","v":"Jan Brataas Ecobas AS"},{"$f":"tbl_ConsultingCompanys!C272","v":119775},"Jan Brataas Ecobas AS"]
[{"$nulls":10},{"$f":"tbl_ArchitectureOffices!D273","v":"Kibsgaard-Petersen AS"},{"$f":"tbl_ArchitectureOffices!C273","v":229864},"Kibsgaard-Petersen AS",{"$f":"tbl_Companys!D273","v":"Dark Arkitekter AS"},{"$f":"tbl_Companys!C273","v":166566},"Dark Arkitekter AS",{"$f":"tbl_ConsultingCompanys!D273","v":"Jan Nilsen Robstad (VVS)"},{"$f":"tbl_ConsultingCompanys!C273","v":158195},"Jan Nilsen Robstad (VVS)"]
[{"$nulls":10},{"$f":"tbl_ArchitectureOffices!D274","v":"Kile Stokholm Arkitekter AS"},{"$f":"tbl_ArchitectureOffices!C274","v":171820},"Kile Stokholm Arkitekter AS",{"$f":"tbl_Companys!D274","v":"DB Arkitektur AS"},{"$f":"tbl_Companys!C274","v":206993},"DB Arkitektur AS",{"$f":"tbl_ConsultingCompanys!D274","v":"Jan Willy Førland (PTL)"},{"$f":"tbl_ConsultingCompanys!C274","v":158201},"Jan Willy Førland (PTL)"]
[{"$nulls":10},{"$f":"tbl_ArchitectureOffices!D275","v":"KIMA arkitektur as"},{"$f":"tbl_ArchitectureOffices!C275","v":171603},"KIMA arkitektur as",{"$f":"tbl_Companys!D275","v":"DBC Elprosjekt as"},{"$f":"tbl_Companys!C275","v":245542},"DBC Elprosjekt as",{"$f":"tbl_ConsultingCompanys!D275","v":"JM Byggholt AS"},{"$f":"tbl_ConsultingCompanys!C275","v":215940},"JM Byggholt AS"]
[{"$nulls":10},{"$f":"tbl_ArchitectureOffices!D276","v":"Kjernehuset Arkitektkontor"},{"$f":"tbl_ArchitectureOffices!C276","v":171819},"Kjernehuset Arkitektkontor",{"$f":"tbl_Companys!D276","v":"DBC-arkitektur as"},{"$f":"tbl_Companys!C276","v":166567},"DBC-arkitektur as",{"$f":"tbl_ConsultingCompanys!D276","v":"Jo Toftdal (byggmester)"},{"$f":"tbl_ConsultingCompanys!C276","v":177643},"Jo Toftdal (byggmester)"]
[{"$nulls":10},{"$f":"tbl_ArchitectureOffices!D277","v":"Kleihues+Schuwerk Gesellschaft von Architekten mbH"},{"$f":"tbl_ArchitectureOffices!C277","v":245623},"Kleihues+Schuwerk Gesellschaft von Architekten mbH",{"$f":"tbl_Companys!D277","v":"DeltaTe (RIV)"},{"$f":"tbl_Companys!C277","v":207494},"DeltaTe (RIV)",{"$f":"tbl_ConsultingCompanys!D277","v":"Joachim Eble architektur"},{"$f":"tbl_ConsultingCompanys!C277","v":207495},"Joachim Eble architektur"]
[{"$nulls":10},{"$f":"tbl_ArchitectureOffices!D278","v":"Knudsen Arkitektkontor AS, Per "},{"$f":"tbl_ArchitectureOffices!C278","v":171818},"Knudsen Arkitektkontor AS, Per",{"$f":"tbl_Companys!D278","v":"Deltatek AS"},{"$f":"tbl_Companys!C278","v":202314},"Deltatek AS",{"$f":"tbl_ConsultingCompanys!D278","v":"Johannes Lipphardt, Trondheim kommune"},{"$f":"tbl_ConsultingCompanys!C278","v":232345},"Johannes Lipphardt, Trondheim kommune"]
[{"$nulls":10},{"$f":"tbl_ArchitectureOffices!D279","v":"Knudtsen AS, Arkitekthuset "},{"$f":"tbl_ArchitectureOffices!C279","v":171816},"Knudtsen AS, Arkitekthuset",{"$f":"tbl_Companys!D279","v":"Derlick arkitekter as"},{"$f":"tbl_Companys!C279","v":166568},"Derlick arkitekter as",{"$f":"tbl_ConsultingCompanys!D279","v":"Johs E. Øvsthus AS"},{"$f":"tbl_ConsultingCompanys!C279","v":230174},"Johs E. Øvsthus AS"]
[{"$nulls":10},{"$f":"tbl_ArchitectureOffices!D280","v":"Koda Arkitekter AS"},{"$f":"tbl_ArchitectureOffices!C280","v":171813},"Koda Arkitekter AS",{"$f":"tbl_Companys!D280","v":"Dimensjon Rådgiving AS"},{"$f":"tbl_Companys!C280","v":172754},"Dimensjon Rådgiving AS",{"$f":"tbl_ConsultingCompanys!D280","v":"Jon Bojer Godal"},{"$f":"tbl_ConsultingCompanys!C280","v":247287},"Jon Bojer Godal"]
[{"$nulls":10},{"$f":"tbl_ArchitectureOffices!D281","v":"Kon-sul AS"},{"$f":"tbl_ArchitectureOffices!C281","v":171785},"Kon-sul AS",{"$f":"tbl_Companys!D281","v":"div.A arkitekter"},{"$f":"tbl_Companys!C281","v":166569},"div.A arkitekter",{"$f":"tbl_ConsultingCompanys!D281","v":"Jorunn Sannes (kunstner, fasade)"},{"$f":"tbl_ConsultingCompanys!C281","v":202820},"Jorunn Sannes (kunstner, fasade)"]
[{"$nulls":10},{"$f":"tbl_ArchitectureOffices!D282","v":"Kosbergs Arkitektkontor AS"},{"$f":"tbl_ArchitectureOffices!C282","v":171783},"Kosbergs Arkitektkontor AS",{"$f":"tbl_Companys!D282","v":"Djupevik Båtbyggeri AS (hovedkonstruksjon eik)"},{"$f":"tbl_Companys!C282","v":162860},"Djupevik Båtbyggeri AS (hovedkonstruksjon eik)",{"$f":"tbl_ConsultingCompanys!D282","v":"Jærbetong AS"},{"$f":"tbl_ConsultingCompanys!C282","v":228972},"Jærbetong AS"]
[{"$nulls":10},{"$f":"tbl_ArchitectureOffices!D283","v":"Kraft arkitektkontor as"},{"$f":"tbl_ArchitectureOffices!C283","v":171782},"Kraft arkitektkontor as",{"$f":"tbl_Companys!D283","v":"DNF AS"},{"$f":"tbl_Companys!C283","v":115447},"DNF AS",{"$f":"tbl_ConsultingCompanys!D283","v":"K. Lund / ORAS"},{"$f":"tbl_ConsultingCompanys!C283","v":98982},"K. Lund / ORAS"]
[{"$nulls":10},{"$f":"tbl_ArchitectureOffices!D284","v":"Kristiansen & Bernhardt Arkitekter MNAL NPA, AS "},{"$f":"tbl_ArchitectureOffices!C284","v":171825},"Kristiansen & Bernhardt Arkitekter MNAL NPA, AS",{"$f":"tbl_Companys!D284","v":"Dokken AS"},{"$f":"tbl_Companys!C284","v":110473},"Dokken AS",{"$f":"tbl_ConsultingCompanys!D284","v":"Kai Paulsen (Skanska AS)"},{"$f":"tbl_ConsultingCompanys!C284","v":160688},"Kai Paulsen (Skanska AS)"]
[{"$nulls":10},{"$f":"tbl_ArchitectureOffices!D285","v":"Kristiansen & Selmer - Olsen AS"},{"$f":"tbl_ArchitectureOffices!C285","v":173040},"Kristiansen & Selmer - Olsen AS",{"$f":"tbl_Companys!D285","v":"Dr. techn. Kristoffer Apeland AS"},{"$f":"tbl_Companys!C285","v":119829},"Dr. techn. Kristoffer Apeland AS",{"$f":"tbl_ConsultingCompanys!D285","v":"Kanvas"},{"$f":"tbl_ConsultingCompanys!C285","v":157879},"Kanvas"]
[{"$nulls":10},{"$f":"tbl_ArchitectureOffices!D286","v":"Kritt Arkitekter AS"},{"$f":"tbl_ArchitectureOffices!C286","v":171781},"Kritt Arkitekter AS",{"$f":"tbl_Companys!D286","v":"Drammen Eiendom KF"},{"$f":"tbl_Companys!C286","v":204308},"Drammen Eiendom KF",{"$f":"tbl_ConsultingCompanys!D286","v":"Kanvas v/ Lisbet Andresen"},{"$f":"tbl_ConsultingCompanys!C286","v":157878},"Kanvas v/ Lisbet Andresen"]
[{"$nulls":10},{"$f":"tbl_ArchitectureOffices!D287","v":"Krogness Arkitekt MNAL, Ole A. "},{"$f":"tbl_ArchitectureOffices!C287","v":171780},"Krogness Arkitekt MNAL, Ole A.",{"$f":"tbl_Companys!D287","v":"Drammen kommune"},{"$f":"tbl_Companys!C287","v":162580},"Drammen kommune",{"$f":"tbl_ConsultingCompanys!D287","v":"Karl Kvalsund AS (RIE)"},{"$f":"tbl_ConsultingCompanys!C287","v":205124},"Karl Kvalsund AS (RIE)"]
[{"$nulls":10},{"$f":"tbl_ArchitectureOffices!D288","v":"Kronen AS sivilarkitekt MNAL, Bente "},{"$f":"tbl_ArchitectureOffices!C288","v":172648},"Kronen AS sivilarkitekt MNAL, Bente",{"$f":"tbl_Companys!D288","v":"Drange Maskin AS"},{"$f":"tbl_Companys!C288","v":248740},"Drange Maskin AS",{"$f":"tbl_ConsultingCompanys!D288","v":"Karl Sæbjørn Kjøllesdal"},{"$f":"tbl_ConsultingCompanys!C288","v":160592},"Karl Sæbjørn Kjøllesdal"]
[{"$nulls":10},{"$f":"tbl_ArchitectureOffices!D289","v":"Kry sivilarkitekt mnal, Geir Cock"},{"$f":"tbl_ArchitectureOffices!C289","v":171779},"Kry sivilarkitekt mnal, Geir Cock",{"$f":"tbl_Companys!D289","v":"dyAna GmbH (Tyskland)"},{"$f":"tbl_Companys!C289","v":245788},"dyAna GmbH (Tyskland)",{"$f":"tbl_ConsultingCompanys!D289","v":"Kilde Akustikk AS "},{"$f":"tbl_ConsultingCompanys!C289","v":155178},"Kilde Akustikk AS"]
[{"$nulls":10},{"$f":"tbl_ArchitectureOffices!D290","v":"Kuben Arkitektkontor"},{"$f":"tbl_ArchitectureOffices!C290","v":243552},"Kuben Arkitektkontor",{"$f":"tbl_Companys!D290","v":"Dyrvik Arkitekter AS"},{"$f":"tbl_Companys!C290","v":166570},"Dyrvik Arkitekter AS",{"$f":"tbl_ConsultingCompanys!D290","v":"KILDE akustikk as (RIAKU)"},{"$f":"tbl_ConsultingCompanys!C290","v":215429},"KILDE akustikk as (RIAKU)"]
[{"$nulls":10},{"$f":"tbl_ArchitectureOffices!D291","v":"Kvadrat as, Arkitektkontoret "},{"$f":"tbl_ArchitectureOffices!C291","v":171778},"Kvadrat as, Arkitektkontoret",{"$f":"tbl_Companys!D291","v":"ECT AS"},{"$f":"tbl_Companys!C291","v":98463},"ECT AS",{"$f":"tbl_ConsultingCompanys!D291","v":"Kjell Garshol AS, Bærum"},{"$f":"tbl_ConsultingCompanys!C291","v":120019},"Kjell Garshol AS, Bærum"]
[{"$nulls":10},{"$f":"tbl_ArchitectureOffices!D292","v":"Kvalvik & Kaada Arkitekter AS"},{"$f":"tbl_ArchitectureOffices!C292","v":216490},"Kvalvik & Kaada Arkitekter AS",{"$f":"tbl_Companys!D292","v":"Eder Biesel Arkitekter"},{"$f":"tbl_Companys!C292","v":247887},"Eder Biesel Arkitekter",{"$f":"tbl_ConsultingCompanys!D292","v":"Kjell Ludvigsen (RIB)"},{"$f":"tbl_ConsultingCompanys!C292","v":209555},"Kjell Ludvigsen (RIB)"]
[{"$nulls":10},{"$f":"tbl_ArchitectureOffices!D293","v":"Kvam og Skjønsberg AS sivilarkitekter MNAL"},{"$f":"tbl_ArchitectureOffices!C293","v":171777},"Kvam og Skjønsberg AS sivilarkitekter MNAL",{"$f":"tbl_Companys!D293","v":"Effecta"},{"$f":"tbl_Companys!C293","v":181821},"Effecta",{"$f":"tbl_ConsultingCompanys!D293","v":"Kjell Ludvigsen AS"},{"$f":"tbl_ConsultingCompanys!C293","v":247748},"Kjell Ludvigsen AS"]
[{"$nulls":10},{"$f":"tbl_ArchitectureOffices!D294","v":"Kvartal 19 Arkitektkontor AS"},{"$f":"tbl_ArchitectureOffices!C294","v":215574},"Kvartal 19 Arkitektkontor AS",{"$f":"tbl_Companys!D294","v":"Egerhei AS"},{"$f":"tbl_Companys!C294","v":103333},"Egerhei AS",{"$f":"tbl_ConsultingCompanys!D294","v":"Kjell Sævik as"},{"$f":"tbl_ConsultingCompanys!C294","v":215430},"Kjell Sævik as"]
[{"$nulls":10},{"$f":"tbl_ArchitectureOffices!D295","v":"KVARTS arkitekter as"},{"$f":"tbl_ArchitectureOffices!C295","v":249528},"KVARTS arkitekter as",{"$f":"tbl_Companys!D295","v":"Egersund Kommune"},{"$f":"tbl_Companys!C295","v":158054},"Egersund Kommune",{"$f":"tbl_ConsultingCompanys!D295","v":"Klepp installasjon AS"},{"$f":"tbl_ConsultingCompanys!C295","v":163047},"Klepp installasjon AS"]
[{"$nulls":10},{"$f":"tbl_ArchitectureOffices!D296","v":"Kvernaas Arkitekter A/S"},{"$f":"tbl_ArchitectureOffices!C296","v":171773},"Kvernaas Arkitekter A/S",{"$f":"tbl_Companys!D296","v":"Egg arkitekter as"},{"$f":"tbl_Companys!C296","v":246134},"Egg arkitekter as",{"$f":"tbl_ConsultingCompanys!D296","v":"Klepp installasjon AS"},{"$f":"tbl_ConsultingCompanys!C296","v":165638},"Klepp installasjon AS"]
[{"$nulls":10},{"$f":"tbl_ArchitectureOffices!D297","v":"L.O.F. Arkitekter MNAL AS"},{"$f":"tbl_ArchitectureOffices!C297","v":171724},"L.O.F. Arkitekter MNAL AS",{"$f":"tbl_Companys!D297","v":"Eggen Arkitekter AS"},{"$f":"tbl_Companys!C297","v":166578},"Eggen Arkitekter AS",{"$f":"tbl_ConsultingCompanys!D297","v":"Klepp kyrkjelege fellesråd"},{"$f":"tbl_ConsultingCompanys!C297","v":228968},"Klepp kyrkjelege fellesråd"]
[{"$nulls":10},{"$f":"tbl_ArchitectureOffices!D298","v":"L2 Arkitekter AS"},{"$f":"tbl_ArchitectureOffices!C298","v":171719},"L2 Arkitekter AS",{"$f":"tbl_Companys!D298","v":"Eggen AS, Arkitektkontoret Arne "},{"$f":"tbl_Companys!C298","v":166575},"Eggen AS, Arkitektkontoret Arne",{"$f":"tbl_ConsultingCompanys!D298","v":"Klepphus AS"},{"$f":"tbl_ConsultingCompanys!C298","v":158052},"Klepphus AS"]
[{"$nulls":10},{"$f":"tbl_ArchitectureOffices!D299","v":"landsbyarkitektene as"},{"$f":"tbl_ArchitectureOffices!C299","v":171734},"landsbyarkitektene as",{"$f":"tbl_Companys!D299","v":"Eggen Sivilarkitekt MNAL, Kjellaug Sandvik "},{"$f":"tbl_Companys!C299","v":172605},"Eggen Sivilarkitekt MNAL, Kjellaug Sandvik",{"$f":"tbl_ConsultingCompanys!D299","v":"Klimat Teknologi AB"},{"$f":"tbl_ConsultingCompanys!C299","v":120058},"Klimat Teknologi AB"]
[{"$nulls":10},{"$f":"tbl_ArchitectureOffices!D300","v":"Landskapsfabrikken"},{"$f":"tbl_ArchitectureOffices!C300","v":243880},"Landskapsfabrikken",{"$f":"tbl_Companys!D300","v":"Egil Berge AS"},{"$f":"tbl_Companys!C300","v":243867},"Egil Berge AS",{"$f":"tbl_ConsultingCompanys!D300","v":"Klimatak YIT (RIV, RIE)"},{"$f":"tbl_ConsultingCompanys!C300","v":158194},"Klimatak YIT (RIV, RIE)"]
[{"$nulls":10},{"$f":"tbl_ArchitectureOffices!D301","v":"Larsson A/S, K.E. "},{"$f":"tbl_ArchitectureOffices!C301","v":171733},"Larsson A/S, K.E.",{"$f":"tbl_Companys!D301","v":"Eide entreprenør AS (Årnes)"},{"$f":"tbl_Companys!C301","v":216250},"Eide entreprenør AS (Årnes)",{"$f":"tbl_ConsultingCompanys!D301","v":"KLP Eiendom"},{"$f":"tbl_ConsultingCompanys!C301","v":208891},"KLP Eiendom"]
[{"$nulls":10},{"$f":"tbl_ArchitectureOffices!D302","v":"Lead inc. as"},{"$f":"tbl_ArchitectureOffices!C302","v":172586},"Lead inc. as",{"$f":"tbl_Companys!D302","v":"Eide og Haslestad A/S, Arkitektkontoret "},{"$f":"tbl_Companys!C302","v":166630},"Eide og Haslestad A/S, Arkitektkontoret",{"$f":"tbl_ConsultingCompanys!D302","v":"KN Kjøita AS (Egil Andre Jore)"},{"$f":"tbl_ConsultingCompanys!C302","v":158191},"KN Kjøita AS (Egil Andre Jore)"]
[{"$nulls":10},{"$f":"tbl_ArchitectureOffices!D303","v":"Lerche Arkitekter AS"},{"$f":"tbl_ArchitectureOffices!C303","v":171732},"Lerche Arkitekter AS",{"$f":"tbl_Companys!D303","v":"Eiendomsprosjektering as"},{"$f":"tbl_Companys!C303","v":247310},"Eiendomsprosjektering as",{"$f":"tbl_ConsultingCompanys!D303","v":"Knut Skutle as"},{"$f":"tbl_ConsultingCompanys!C303","v":112152},"Knut Skutle as"]
[{"$nulls":10},{"$f":"tbl_ArchitectureOffices!D304","v":"Lerum Inc."},{"$f":"tbl_ArchitectureOffices!C304","v":171731},"Lerum Inc.",{"$f":"tbl_Companys!D304","v":"EIK arkitektur & design as npa"},{"$f":"tbl_Companys!C304","v":166632},"EIK arkitektur & design as npa",{"$f":"tbl_ConsultingCompanys!D304","v":"Knut Skutle AS"},{"$f":"tbl_ConsultingCompanys!C304","v":155124},"Knut Skutle AS"]
[{"$nulls":10},{"$f":"tbl_ArchitectureOffices!D305","v":"Lie Øyen arkitekter"},{"$f":"tbl_ArchitectureOffices!C305","v":171730},"Lie Øyen arkitekter",{"$f":"tbl_Companys!D305","v":"Ekrheim Elconsult AS"},{"$f":"tbl_Companys!C305","v":162871},"Ekrheim Elconsult AS",{"$f":"tbl_ConsultingCompanys!D305","v":"Knut Skutle AS"},{"$f":"tbl_ConsultingCompanys!C305","v":155180},"Knut Skutle AS"]
[{"$nulls":10},{"$f":"tbl_ArchitectureOffices!D306","v":"lille frøen as, Arkitektgruppen"},{"$f":"tbl_ArchitectureOffices!C306","v":166500},"lille frøen as, Arkitektgruppen",{"$f":"tbl_Companys!D306","v":"El miljø AS"},{"$f":"tbl_Companys!C306","v":244638},"El miljø AS",{"$f":"tbl_ConsultingCompanys!D306","v":"Kolberg ventilasjon (RIV)"},{"$f":"tbl_ConsultingCompanys!C306","v":214147},"Kolberg ventilasjon (RIV)"]
[{"$nulls":10},{"$f":"tbl_ArchitectureOffices!D307","v":"Lillestrøm Arkitektkontor AS"},{"$f":"tbl_ArchitectureOffices!C307","v":172661},"Lillestrøm Arkitektkontor AS",{"$f":"tbl_Companys!D307","v":"Elconsultteam AS "},{"$f":"tbl_Companys!C307","v":103275},"Elconsultteam AS",{"$f":"tbl_ConsultingCompanys!D307","v":"Kolnes maskin"},{"$f":"tbl_ConsultingCompanys!C307","v":163151},"Kolnes maskin"]
[{"$nulls":10},{"$f":"tbl_ArchitectureOffices!D308","v":"Linberg & Simmons"},{"$f":"tbl_ArchitectureOffices!C308","v":171729},"Linberg & Simmons",{"$f":"tbl_Companys!D308","v":"Elconsultteam Sør"},{"$f":"tbl_Companys!C308","v":217000},"Elconsultteam Sør",{"$f":"tbl_ConsultingCompanys!D308","v":"Kolnes Maskin"},{"$f":"tbl_ConsultingCompanys!C308","v":165636},"Kolnes Maskin"]
[{"$nulls":10},{"$f":"tbl_ArchitectureOffices!D309","v":"Lindstrøm, Sivilarkitekt Inga "},{"$f":"tbl_ArchitectureOffices!C309","v":171728},"Lindstrøm, Sivilarkitekt Inga",{"$f":"tbl_Companys!D309","v":"Elconsultteam sør (RIE)"},{"$f":"tbl_Companys!C309","v":216998},"Elconsultteam sør (RIE)",{"$f":"tbl_ConsultingCompanys!D309","v":"Kolnes Maskin AS"},{"$f":"tbl_ConsultingCompanys!C309","v":163048},"Kolnes Maskin AS"]
[{"$nulls":10},{"$f":"tbl_ArchitectureOffices!D310","v":"Linje arkitektur as"},{"$f":"tbl_ArchitectureOffices!C310","v":171727},"Linje arkitektur as",{"$f":"tbl_Companys!D310","v":"Electronova as"},{"$f":"tbl_Companys!C310","v":247311},"Electronova as",{"$f":"tbl_ConsultingCompanys!D310","v":"Kongsvinger kommune og Hedmark fylkeskommune"},{"$f":"tbl_ConsultingCompanys!C310","v":214729},"Kongsvinger kommune og Hedmark fylkeskommune"]
[{"$nulls":10},{"$f":"tbl_ArchitectureOffices!D311","v":"Link Arkitektur AS"},{"$f":"tbl_ArchitectureOffices!C311","v":171726},"Link Arkitektur AS",{"$f":"tbl_Companys!D311","v":"Elektro Nord AS"},{"$f":"tbl_Companys!C311","v":247733},"Elektro Nord AS",{"$f":"tbl_ConsultingCompanys!D311","v":"Konsulentfirma"},{"$f":"tbl_ConsultingCompanys!C311","v":232347},"Konsulentfirma"]
[{"$nulls":10},{"$f":"tbl_ArchitectureOffices!D312","v":"Link Signatur"},{"$f":"tbl_ArchitectureOffices!C312","v":230069},"Link Signatur",{"$f":"tbl_Companys!D312","v":"Elektroeksperten AS"},{"$f":"tbl_Companys!C312","v":246980},"Elektroeksperten AS",{"$f":"tbl_ConsultingCompanys!D312","v":"Konsulentfirma"},{"$f":"tbl_ConsultingCompanys!C312","v":232348},"Konsulentfirma"]
[{"$nulls":10},{"$f":"tbl_ArchitectureOffices!D313","v":"Liten Skala AS"},{"$f":"tbl_ArchitectureOffices!C313","v":241582},"Liten Skala AS",{"$f":"tbl_Companys!D313","v":"Elektroteam AS (RIE)"},{"$f":"tbl_Companys!C313","v":218403},"Elektroteam AS (RIE)",{"$f":"tbl_ConsultingCompanys!D313","v":"Konsulentfirma"},{"$f":"tbl_ConsultingCompanys!C313","v":232357},"Konsulentfirma"]
[{"$nulls":10},{"$f":"tbl_ArchitectureOffices!D314","v":"LMR arkitektur as"},{"$f":"tbl_ArchitectureOffices!C314","v":171725},"LMR arkitektur as",{"$f":"tbl_Companys!D314","v":"Element arkitekter as"},{"$f":"tbl_Companys!C314","v":166635},"Element arkitekter as",{"$f":"tbl_ConsultingCompanys!D314","v":"Konsulentfirma"},{"$f":"tbl_ConsultingCompanys!C314","v":247568},"Konsulentfirma"]
[{"$nulls":10},{"$f":"tbl_ArchitectureOffices!D315","v":"Logg arkitektur as"},{"$f":"tbl_ArchitectureOffices!C315","v":171723},"Logg arkitektur as",{"$f":"tbl_Companys!D315","v":"Elfrida Bull Bene AS, Arkitektstudio"},{"$f":"tbl_Companys!C315","v":166530},"Elfrida Bull Bene AS, Arkitektstudio",{"$f":"tbl_ConsultingCompanys!D315","v":"Konsulentfirma"},{"$f":"tbl_ConsultingCompanys!C315","v":247574},"Konsulentfirma"]
[{"$nulls":10},{"$f":"tbl_ArchitectureOffices!D316","v":"Longva Arkitekter AS"},{"$f":"tbl_ArchitectureOffices!C316","v":171722},"Longva Arkitekter AS",{"$f":"tbl_Companys!D316","v":"Eliassen og Lambertz-Nilssen Arkitekter AS"},{"$f":"tbl_Companys!C316","v":166636},"Eliassen og Lambertz-Nilssen Arkitekter AS",{"$f":"tbl_ConsultingCompanys!D316","v":"Konsulentfirma"},{"$f":"tbl_ConsultingCompanys!C316","v":247576},"Konsulentfirma"]
[{"$nulls":10},{"$f":"tbl_ArchitectureOffices!D317","v":"Lorentz Kielland arkitekter as"},{"$f":"tbl_ArchitectureOffices!C317","v":202237},"Lorentz Kielland arkitekter as",{"$f":"tbl_Companys!D317","v":"Elisabeth Ekjord AS"},{"$f":"tbl_Companys!C317","v":166633},"Elisabeth Ekjord AS",{"$f":"tbl_ConsultingCompanys!D317","v":"Konsulentfirma"},{"$f":"tbl_ConsultingCompanys!C317","v":247580},"Konsulentfirma"]
[{"$nulls":10},{"$f":"tbl_ArchitectureOffices!D318","v":"Lou"},{"$f":"tbl_ArchitectureOffices!C318","v":171721},"Lou",{"$f":"tbl_Companys!D318","v":"Elnan"},{"$f":"tbl_Companys!C318","v":164722},"Elnan",{"$f":"tbl_ConsultingCompanys!D318","v":"Konsulentfirma"},{"$f":"tbl_ConsultingCompanys!C318","v":247581},"Konsulentfirma"]
[{"$nulls":10},{"$f":"tbl_ArchitectureOffices!D319","v":"LPO arkitekter"},{"$f":"tbl_ArchitectureOffices!C319","v":171720},"LPO arkitekter",{"$f":"tbl_Companys!D319","v":"ELNAN AS"},{"$f":"tbl_Companys!C319","v":98985},"ELNAN AS",{"$f":"tbl_ConsultingCompanys!D319","v":"Konsulentfirma"},{"$f":"tbl_ConsultingCompanys!C319","v":248370},"Konsulentfirma"]
[{"$nulls":10},{"$f":"tbl_ArchitectureOffices!D320","v":"Lund & partnere"},{"$f":"tbl_ArchitectureOffices!C320","v":171718},"Lund & partnere",{"$f":"tbl_Companys!D320","v":"Elnan AS"},{"$f":"tbl_Companys!C320","v":111928},"Elnan AS",{"$f":"tbl_ConsultingCompanys!D320","v":"Konsulentfirma"},{"$f":"tbl_ConsultingCompanys!C320","v":249382},"Konsulentfirma"]
[{"$nulls":10},{"$f":"tbl_ArchitectureOffices!D321","v":"Lund & Slaatto Arkitekter AS"},{"$f":"tbl_ArchitectureOffices!C321","v":171713},"Lund & Slaatto Arkitekter AS",{"$f":"tbl_Companys!D321","v":"Elplan AS"},{"$f":"tbl_Companys!C321","v":178153},"Elplan AS",{"$f":"tbl_ConsultingCompanys!D321","v":"Konsulentfirmaet i trondheim på kantstein"},{"$f":"tbl_ConsultingCompanys!C321","v":212106},"Konsulentfirmaet i trondheim på kantstein"]
[{"$nulls":10},{"$f":"tbl_ArchitectureOffices!D322","v":"Lund A/S, Sivilarkitekt E. Broder "},{"$f":"tbl_ArchitectureOffices!C322","v":171717},"Lund A/S, Sivilarkitekt E. Broder",{"$f":"tbl_Companys!D322","v":"El-prosjekt"},{"$f":"tbl_Companys!C322","v":121315},"El-prosjekt",{"$f":"tbl_ConsultingCompanys!D322","v":"Krisesenteret i Telemark"},{"$f":"tbl_ConsultingCompanys!C322","v":217042},"Krisesenteret i Telemark"]
[{"$nulls":10},{"$f":"tbl_ArchitectureOffices!D323","v":"Lund Hagem Arkitekter AS"},{"$f":"tbl_ArchitectureOffices!C323","v":171715},{"$f":"IFERROR(REPLACE(K323,FIND(\" \",K323,LEN(K323)),1,\"\"),K323)","v":"Lund Hagem Arkitekter AS"},{"$f":"tbl_Companys!D323","v":"Else Dahlseng Arkitekter AS"},{"$f":"tbl_Companys!C323","v":166573},{"$f":"IFERROR(REPLACE(N323,FIND(\" \",N323,LEN(N323)),1,\"\"),N323)","v":"Else Dahlseng Arkitekter AS"},{"$f":"tbl_ConsultingCompanys!D323","v":"Kristian Fadum AS"},{"$f":"tbl_ConsultingCompanys!C323","v":112307},{"$f":"IFERROR(REPLACE(Q323,FIND(\" \",Q323,LEN(Q323)),1,\"\"),Q323)","v":"Kristian Fadum AS"}]
[{"$nulls":10},{"$f":"tbl_ArchitectureOffices!D324","v":"Lund MNAL, Sivilarkitekt Svein Erik "},{"$f":"tbl_ArchitectureOffices!C324","v":171716},"Lund MNAL, Sivilarkitekt Svein Erik",{"$f":"tbl_Companys!D324","v":"Elverland arkitekt MNAL, Hanne "},{"$f":"tbl_Companys!C324","v":166640},"Elverland arkitekt MNAL, Hanne",{"$f":"tbl_ConsultingCompanys!D324","v":"Kristiansand kommune"},{"$f":"tbl_ConsultingCompanys!C324","v":157560},"Kristiansand kommune"]
[{"$nulls":10},{"$f":"tbl_ArchitectureOffices!D325","v":"Lund-Johnsen sivilarkitekt MNAL, Roar "},{"$f":"tbl_ArchitectureOffices!C325","v":171714},"Lund-Johnsen sivilarkitekt MNAL, Roar",{"$f":"tbl_Companys!D325","v":"EM teknikk AS"},{"$f":"tbl_Companys!C325","v":120245},"EM teknikk AS",{"$f":"tbl_ConsultingCompanys!D325","v":"Kristiansand kommune"},{"$f":"tbl_ConsultingCompanys!C325","v":157561},"Kristiansand kommune"]
[{"$nulls":10},{"$f":"tbl_ArchitectureOffices!D326","v":"Lusparken Arkitekter AS"},{"$f":"tbl_ArchitectureOffices!C326","v":171712},"Lusparken Arkitekter AS",{"$f":"tbl_Companys!D326","v":"EMA AS"},{"$f":"tbl_Companys!C326","v":202453},"EMA AS",{"$f":"tbl_ConsultingCompanys!D326","v":"Kristiansand kommune v/Kristiansand Eiendom"},{"$f":"tbl_ConsultingCompanys!C326","v":216994},"Kristiansand kommune v/Kristiansand Eiendom"]
[{"$nulls":10},{"$f":"tbl_ArchitectureOffices!D327","v":"Ly Arkitekter AS"},{"$f":"tbl_ArchitectureOffices!C327","v":171711},"Ly Arkitekter AS",{"$f":"tbl_Companys!D327","v":"Endre Tvinnereim"},{"$f":"tbl_Companys!C327","v":232981},"Endre Tvinnereim",{"$f":"tbl_ConsultingCompanys!D327","v":"KRS-gruppen"},{"$f":"tbl_ConsultingCompanys!C327","v":103160},"KRS-gruppen"]
[{"$nulls":10},{"$f":"tbl_ArchitectureOffices!D328","v":"Lys og Mørk arkitektur og design"},{"$f":"tbl_ArchitectureOffices!C328","v":171710},"Lys og Mørk arkitektur og design",{"$f":"tbl_Companys!D328","v":"Energetica"},{"$f":"tbl_Companys!C328","v":235785},"Energetica",{"$f":"tbl_ConsultingCompanys!D328","v":"Kruse Smith (Arvid Fredriksen)"},{"$f":"tbl_ConsultingCompanys!C328","v":158200},"Kruse Smith (Arvid Fredriksen)"]
[{"$nulls":10},{"$f":"tbl_ArchitectureOffices!D329","v":"Løvetanna Landskap AS"},{"$f":"tbl_ArchitectureOffices!C329","v":231819},"Løvetanna Landskap AS",{"$f":"tbl_Companys!D329","v":"Enerhaugen Arkitektkontor AS"},{"$f":"tbl_Companys!C329","v":166641},"Enerhaugen Arkitektkontor AS",{"$f":"tbl_ConsultingCompanys!D329","v":"Kruse Smith (Hans Ragnar Uthus)"},{"$f":"tbl_ConsultingCompanys!C329","v":155932},"Kruse Smith (Hans Ragnar Uthus)"]
[{"$nulls":10},{"$f":"tbl_ArchitectureOffices!D330","v":"Løvseth + partners"},{"$f":"tbl_ArchitectureOffices!C330","v":219318},"Løvseth + partners",{"$f":"tbl_Companys!D330","v":"Engelbrektson, Sivilarkitekt MNAL Richard "},{"$f":"tbl_Companys!C330","v":172790},"Engelbrektson, Sivilarkitekt MNAL Richard",{"$f":"tbl_ConsultingCompanys!D330","v":"Kruse Smith Entreprenør AS"},{"$f":"tbl_ConsultingCompanys!C330","v":155929},"Kruse Smith Entreprenør AS"]
[{"$nulls":10},{"$f":"tbl_ArchitectureOffices!D331","v":"Løvseth arkitektkontor as, Morten "},{"$f":"tbl_ArchitectureOffices!C331","v":171709},"Løvseth arkitektkontor as, Morten",{"$f":"tbl_Companys!D331","v":"Entra Eiendom AS"},{"$f":"tbl_Companys!C331","v":223036},"Entra Eiendom AS",{"$f":"tbl_ConsultingCompanys!D331","v":"Landskapsentreprenørene AS"},{"$f":"tbl_ConsultingCompanys!C331","v":214836},"Landskapsentreprenørene AS"]
[{"$nulls":10},{"$f":"tbl_ArchitectureOffices!D332","v":"Mad as"},{"$f":"tbl_ArchitectureOffices!C332","v":171704},"Mad as",{"$f":"tbl_Companys!D332","v":"Entreprenør Magnar Sivertsen as (grunn og betong)"},{"$f":"tbl_Companys!C332","v":215431},"Entreprenør Magnar Sivertsen as (grunn og betong)",{"$f":"tbl_ConsultingCompanys!D332","v":"Lars Myhre AS"},{"$f":"tbl_ConsultingCompanys!C332","v":243866},"Lars Myhre AS"]
[{"$nulls":10},{"$f":"tbl_ArchitectureOffices!D333","v":"Madsø Sveen arkitekter AS"},{"$f":"tbl_ArchitectureOffices!C333","v":172655},"Madsø Sveen arkitekter AS",{"$f":"tbl_Companys!D333","v":"Entro nova AS"},{"$f":"tbl_Companys!C333","v":121244},"Entro nova AS",{"$f":"tbl_ConsultingCompanys!D333","v":"Lars Myhre Østfold AS (RIV)"},{"$f":"tbl_ConsultingCompanys!C333","v":215015},"Lars Myhre Østfold AS (RIV)"]
[{"$nulls":10},{"$f":"tbl_ArchitectureOffices!D334","v":"Magnus, Arkitektfirma Jens "},{"$f":"tbl_ArchitectureOffices!C334","v":171703},"Magnus, Arkitektfirma Jens",{"$f":"tbl_Companys!D334","v":"Enøk-senteret AS"},{"$f":"tbl_Companys!C334","v":205125},"Enøk-senteret AS",{"$f":"tbl_ConsultingCompanys!D334","v":"Lars og Marit Nilssen"},{"$f":"tbl_ConsultingCompanys!C334","v":160593},"Lars og Marit Nilssen"]
[{"$nulls":10},{"$f":"tbl_ArchitectureOffices!D335","v":"Make Arkitekter AS"},{"$f":"tbl_ArchitectureOffices!C335","v":171702},"Make Arkitekter AS",{"$f":"tbl_Companys!D335","v":"Erichsen & Horgen AS"},{"$f":"tbl_Companys!C335","v":98872},"Erichsen & Horgen AS",{"$f":"tbl_ConsultingCompanys!D335","v":"Larsen Entreprenør AS"},{"$f":"tbl_ConsultingCompanys!C335","v":178588},"Larsen Entreprenør AS"]
[{"$nulls":10},{"$f":"tbl_ArchitectureOffices!D336","v":"Malde mnal, Sivilarkitekt Paal "},{"$f":"tbl_ArchitectureOffices!C336","v":185841},"Malde mnal, Sivilarkitekt Paal",{"$f":"tbl_Companys!D336","v":"Erik Møller arkitekter"},{"$f":"tbl_Companys!C336","v":228640},"Erik Møller arkitekter",{"$f":"tbl_ConsultingCompanys!D336","v":"Lervike AS"},{"$f":"tbl_ConsultingCompanys!C336","v":247289},"Lervike AS"]
[{"$nulls":10},{"$f":"tbl_ArchitectureOffices!D337","v":"Malmquist sivilarkitekt MNAL MArch, E.B. "},{"$f":"tbl_ArchitectureOffices!C337","v":171701},"Malmquist sivilarkitekt MNAL MArch, E.B.",{"$f":"tbl_Companys!D337","v":"Eriksen og Thorsvik AS (bygg)"},{"$f":"tbl_Companys!C337","v":218404},"Eriksen og Thorsvik AS (bygg)",{"$f":"tbl_ConsultingCompanys!D337","v":"LH Bygg Berkåk og Stjern Entreprenør AS Åfjord (Kysthus)"},{"$f":"tbl_ConsultingCompanys!C337","v":230108},"LH Bygg Berkåk og Stjern Entreprenør AS Åfjord (Kysthus)"]
[{"$nulls":10},{"$f":"tbl_ArchitectureOffices!D338","v":"Mandrup Arkitektur & Design as"},{"$f":"tbl_ArchitectureOffices!C338","v":171700},"Mandrup Arkitektur & Design as",{"$f":"tbl_Companys!D338","v":"Eriksen Skajaa Arkitekter"},{"$f":"tbl_Companys!C338","v":207043},"Eriksen Skajaa Arkitekter",{"$f":"tbl_ConsultingCompanys!D338","v":"Lian AS"},{"$f":"tbl_ConsultingCompanys!C338","v":202456},"Lian AS"]
[{"$nulls":10},{"$f":"tbl_ArchitectureOffices!D339","v":"Map Arkitekter AS"},{"$f":"tbl_ArchitectureOffices!C339","v":171699},"Map Arkitekter AS",{"$f":"tbl_Companys!D339","v":"Erstad & Lekven Bergen as"},{"$f":"tbl_Companys!C339","v":224140},"Erstad & Lekven Bergen as",{"$f":"tbl_ConsultingCompanys!D339","v":"Lundenes as/ AS Anlegg"},{"$f":"tbl_ConsultingCompanys!C339","v":103472},"Lundenes as/ AS Anlegg"]
[{"$nulls":10},{"$f":"tbl_ArchitectureOffices!D340","v":"Marianne Laa"},{"$f":"tbl_ArchitectureOffices!C340","v":245540},"Marianne Laa",{"$f":"tbl_Companys!D340","v":"Erstad & Lekven Oslo AS"},{"$f":"tbl_Companys!C340","v":243696},"Erstad & Lekven Oslo AS",{"$f":"tbl_ConsultingCompanys!D340","v":"Lux Brannteknologi AS"},{"$f":"tbl_ConsultingCompanys!C340","v":243668},"Lux Brannteknologi AS"]
[{"$nulls":10},{"$f":"tbl_ArchitectureOffices!D341","v":"Marlow - Ramfelt A38 arkitektur og design as"},{"$f":"tbl_ArchitectureOffices!C341","v":181036},"Marlow - Ramfelt A38 arkitektur og design as",{"$f":"tbl_Companys!D341","v":"Esbensen Rådgivende Ingeniører AS"},{"$f":"tbl_Companys!C341","v":202457},"Esbensen Rådgivende Ingeniører AS",{"$f":"tbl_ConsultingCompanys!D341","v":"Lys og Varme AS"},{"$f":"tbl_ConsultingCompanys!C341","v":246739},"Lys og Varme AS"]
[{"$nulls":10},{"$f":"tbl_ArchitectureOffices!D342","v":"Martens Sivilarkitekt, Trond"},{"$f":"tbl_ArchitectureOffices!C342","v":172881},"Martens Sivilarkitekt, Trond",{"$f":"tbl_Companys!D342","v":"Espen Handegård sivilarkitekt MNAL"},{"$f":"tbl_Companys!C342","v":209987},"Espen Handegård sivilarkitekt MNAL",{"$f":"tbl_ConsultingCompanys!D342","v":"Lyse AS (energi)"},{"$f":"tbl_ConsultingCompanys!C342","v":162882},"Lyse AS (energi)"]
[{"$nulls":10},{"$f":"tbl_ArchitectureOffices!D343","v":"Medplan as Arkitekter"},{"$f":"tbl_ArchitectureOffices!C343","v":171697},"Medplan as Arkitekter",{"$f":"tbl_Companys!D343","v":"eStatikk"},{"$f":"tbl_Companys!C343","v":245833},"eStatikk",{"$f":"tbl_ConsultingCompanys!D343","v":"Løvik K A A/S"},{"$f":"tbl_ConsultingCompanys!C343","v":157871},"Løvik K A A/S"]
[{"$nulls":10},{"$f":"tbl_ArchitectureOffices!D344","v":"Meinich Arkitekter AS"},{"$f":"tbl_ArchitectureOffices!C344","v":178890},"Meinich Arkitekter AS",{"$f":"tbl_Companys!D344","v":"Eva Solheim sivilarkitekt MNAL"},{"$f":"tbl_Companys!C344","v":249559},"Eva Solheim sivilarkitekt MNAL",{"$f":"tbl_ConsultingCompanys!D344","v":"Løvold AS"},{"$f":"tbl_ConsultingCompanys!C344","v":121071},"Løvold AS"]
[{"$nulls":10},{"$f":"tbl_ArchitectureOffices!D345","v":"MEK Architects (Madrid)"},{"$f":"tbl_ArchitectureOffices!C345","v":243120},"MEK Architects (Madrid)",{"$f":"tbl_Companys!D345","v":"Evotek AS"},{"$f":"tbl_Companys!C345","v":98464},"Evotek AS",{"$f":"tbl_ConsultingCompanys!D345","v":"Løyning AS"},{"$f":"tbl_ConsultingCompanys!C345","v":103327},"Løyning AS"]
[{"$nulls":10},{"$f":"tbl_ArchitectureOffices!D346","v":"Mellbye Arkitekter AS"},{"$f":"tbl_ArchitectureOffices!C346","v":171695},"Mellbye Arkitekter AS",{"$f":"tbl_Companys!D346","v":"F S Platou"},{"$f":"tbl_Companys!C346","v":235806},"F S Platou",{"$f":"tbl_ConsultingCompanys!D346","v":"Malermester Per Johannesen AS"},{"$f":"tbl_ConsultingCompanys!C346","v":157875},"Malermester Per Johannesen AS"]
[{"$nulls":10},{"$f":"tbl_ArchitectureOffices!D347","v":"Metamorphosis"},{"$f":"tbl_ArchitectureOffices!C347","v":205444},"Metamorphosis",{"$f":"tbl_Companys!D347","v":"F. Stensrud AS"},{"$f":"tbl_Companys!C347","v":228141},"F. Stensrud AS",{"$f":"tbl_ConsultingCompanys!D347","v":"Malnes og Endresen AS"},{"$f":"tbl_ConsultingCompanys!C347","v":228643},"Malnes og Endresen AS"]
[{"$nulls":10},{"$f":"tbl_ArchitectureOffices!D348","v":"Meter Arkitektur AS"},{"$f":"tbl_ArchitectureOffices!C348","v":171694},"Meter Arkitektur AS",{"$f":"tbl_Companys!D348","v":"Faber bygg AS"},{"$f":"tbl_Companys!C348","v":245789},"Faber bygg AS",{"$f":"tbl_ConsultingCompanys!D348","v":"Malvin L. Hillestad"},{"$f":"tbl_ConsultingCompanys!C348","v":192375},"Malvin L. Hillestad"]
[{"$nulls":10},{"$f":"tbl_ArchitectureOffices!D349","v":"Metropolitan Workshop LLP"},{"$f":"tbl_ArchitectureOffices!C349","v":171692},"Metropolitan Workshop LLP",{"$f":"tbl_Companys!D349","v":"Fagerborg menighet"},{"$f":"tbl_Companys!C349","v":243665},"Fagerborg menighet",{"$f":"tbl_ConsultingCompanys!D349","v":"Marianne og Kim Rudolph-Lund"},{"$f":"tbl_ConsultingCompanys!C349","v":207411},"Marianne og Kim Rudolph-Lund"]
[{"$nulls":10},{"$f":"tbl_ArchitectureOffices!D350","v":"Mir Arkitektur AS"},{"$f":"tbl_ArchitectureOffices!C350","v":171691},"Mir Arkitektur AS",{"$f":"tbl_Companys!D350","v":"Falkenberg MNAL, Siv.ark. Thomas "},{"$f":"tbl_Companys!C350","v":166717},"Falkenberg MNAL, Siv.ark. Thomas",{"$f":"tbl_ConsultingCompanys!D350","v":"Martinsons Tre AB"},{"$f":"tbl_ConsultingCompanys!C350","v":178156},"Martinsons Tre AB"]
[{"$nulls":10},{"$f":"tbl_ArchitectureOffices!D351","v":"MMW sivilarkitekter mnal as"},{"$f":"tbl_ArchitectureOffices!C351","v":171690},"MMW sivilarkitekter mnal as",{"$f":"tbl_Companys!D351","v":"Farsund kommune"},{"$f":"tbl_Companys!C351","v":160582},"Farsund kommune",{"$f":"tbl_ConsultingCompanys!D351","v":"Martinsons Tre AS"},{"$f":"tbl_ConsultingCompanys!C351","v":232349},"Martinsons Tre AS"]
[{"$nulls":10},{"$f":"tbl_ArchitectureOffices!D352","v":"Moe & Løvseth AS"},{"$f":"tbl_ArchitectureOffices!C352","v":171602},"Moe & Løvseth AS",{"$f":"tbl_Companys!D352","v":"Fasting Arkitekter AS"},{"$f":"tbl_Companys!C352","v":166718},"Fasting Arkitekter AS",{"$f":"tbl_ConsultingCompanys!D352","v":"Martinsons Tre AS (rådgivn. massivtre)"},{"$f":"tbl_ConsultingCompanys!C352","v":228145},"Martinsons Tre AS (rådgivn. massivtre)"]
[{"$nulls":10},{"$f":"tbl_ArchitectureOffices!D353","v":"Moe Ltd, Sjur "},{"$f":"tbl_ArchitectureOffices!C353","v":173043},"Moe Ltd, Sjur",{"$f":"tbl_Companys!D353","v":"Faveo Prosjektledelse AS"},{"$f":"tbl_Companys!C353","v":233203},"Faveo Prosjektledelse AS",{"$f":"tbl_ConsultingCompanys!D353","v":"Materialbanken AS (Malmfuru)"},{"$f":"tbl_ConsultingCompanys!C353","v":162874},"Materialbanken AS (Malmfuru)"]
[{"$nulls":10},{"$f":"tbl_ArchitectureOffices!D354","v":"Molden AS, Mette & Morten "},{"$f":"tbl_ArchitectureOffices!C354","v":171689},"Molden AS, Mette & Morten",{"$f":"tbl_Companys!D354","v":"FAVEO/Grønn byggallianse v/Sverre Tiltnes (Miljøkoordinator)"},{"$f":"tbl_Companys!C354","v":214152},"FAVEO/Grønn byggallianse v/Sverre Tiltnes (Miljøkoordinator)",{"$f":"tbl_ConsultingCompanys!D354","v":"Maurstadgruppen"},{"$f":"tbl_ConsultingCompanys!C354","v":182978},"Maurstadgruppen"]
[{"$nulls":10},{"$f":"tbl_ArchitectureOffices!D355","v":"Momenta arkitekter"},{"$f":"tbl_ArchitectureOffices!C355","v":171688},"Momenta arkitekter",{"$f":"tbl_Companys!D355","v":"Felix Arkitekter AS"},{"$f":"tbl_Companys!C355","v":166720},"Felix Arkitekter AS",{"$f":"tbl_ConsultingCompanys!D355","v":"May Bente Aronsen (kunstner, lobby)"},{"$f":"tbl_ConsultingCompanys!C355","v":203158},"May Bente Aronsen (kunstner, lobby)"]
[{"$nulls":10},{"$f":"tbl_ArchitectureOffices!D356","v":"Momentum Arkitekter AS"},{"$f":"tbl_ArchitectureOffices!C356","v":186182},"Momentum Arkitekter AS",{"$f":"tbl_Companys!D356","v":"FERD K23 AS"},{"$f":"tbl_Companys!C356","v":246723},"FERD K23 AS",{"$f":"tbl_ConsultingCompanys!D356","v":"Mercur VVS Entreprenør AS"},{"$f":"tbl_ConsultingCompanys!C356","v":110475},"Mercur VVS Entreprenør AS"]
[{"$nulls":10},{"$f":"tbl_ArchitectureOffices!D357","v":"Morfeus Arkitekter"},{"$f":"tbl_ArchitectureOffices!C357","v":172296},"Morfeus Arkitekter",{"$f":"tbl_Companys!D357","v":"Feste AS"},{"$f":"tbl_Companys!C357","v":231899},"Feste AS",{"$f":"tbl_ConsultingCompanys!D357","v":"Mesterbygg Namsos"},{"$f":"tbl_ConsultingCompanys!C357","v":236724},"Mesterbygg Namsos"]
[{"$nulls":10},{"$f":"tbl_ArchitectureOffices!D358","v":"moseng poulsen arkitektur as"},{"$f":"tbl_ArchitectureOffices!C358","v":192072},"moseng poulsen arkitektur as",{"$f":"tbl_Companys!D358","v":"Feste Grenland AS"},{"$f":"tbl_Companys!C358","v":242831},"Feste Grenland AS",{"$f":"tbl_ConsultingCompanys!D358","v":"Mesterhus"},{"$f":"tbl_ConsultingCompanys!C358","v":204956},"Mesterhus"]
[{"$nulls":10},{"$f":"tbl_ArchitectureOffices!D359","v":"Mossige AS arkitekter"},{"$f":"tbl_ArchitectureOffices!C359","v":171686},"Mossige AS arkitekter",{"$f":"tbl_Companys!D359","v":"Filter Arkitekter AS"},{"$f":"tbl_Companys!C359","v":166721},"Filter Arkitekter AS",{"$f":"tbl_ConsultingCompanys!D359","v":"Mesterhus"},{"$f":"tbl_ConsultingCompanys!C359","v":204957},"Mesterhus"]
[{"$nulls":10},{"$f":"tbl_ArchitectureOffices!D360","v":"M-TO sivilarkitekt MNAL"},{"$f":"tbl_ArchitectureOffices!C360","v":171685},"M-TO sivilarkitekt MNAL",{"$f":"tbl_Companys!D360","v":"Fjord Arkitekter AS"},{"$f":"tbl_Companys!C360","v":218791},"Fjord Arkitekter AS",{"$f":"tbl_ConsultingCompanys!D360","v":"Meteorologisk institutt"},{"$f":"tbl_ConsultingCompanys!C360","v":181037},"Meteorologisk institutt"]
[{"$nulls":10},{"$f":"tbl_ArchitectureOffices!D361","v":"Mylius Arkitektkontor, E. "},{"$f":"tbl_ArchitectureOffices!C361","v":178657},"Mylius Arkitektkontor, E.",{"$f":"tbl_Companys!D361","v":"Fjorden Arkitekter"},{"$f":"tbl_Companys!C361","v":219703},"Fjorden Arkitekter",{"$f":"tbl_ConsultingCompanys!D361","v":"Michael Blümlein AS (RIBr)"},{"$f":"tbl_ConsultingCompanys!C361","v":215013},"Michael Blümlein AS (RIBr)"]
[{"$nulls":10},{"$f":"tbl_ArchitectureOffices!D362","v":"Myrstad AS, Arkitekt Jim "},{"$f":"tbl_ArchitectureOffices!C362","v":171683},"Myrstad AS, Arkitekt Jim",{"$f":"tbl_Companys!D362","v":"Flux Arkitekter AS"},{"$f":"tbl_Companys!C362","v":166724},"Flux Arkitekter AS",{"$f":"tbl_ConsultingCompanys!D362","v":"Miljøbyen Granås AS"},{"$f":"tbl_ConsultingCompanys!C362","v":246977},"Miljøbyen Granås AS"]
[{"$nulls":10},{"$f":"tbl_ArchitectureOffices!D363","v":"Møller, Arkitektfirmaet C.F. "},{"$f":"tbl_ArchitectureOffices!C363","v":171681},"Møller, Arkitektfirmaet C.F.",{"$f":"tbl_Companys!D363","v":"Flyt arkitektur as"},{"$f":"tbl_Companys!C363","v":199549},"Flyt arkitektur as",{"$f":"tbl_ConsultingCompanys!D363","v":"Miljøconsult AS"},{"$f":"tbl_ConsultingCompanys!C363","v":247297},"Miljøconsult AS"]
[{"$nulls":10},{"$f":"tbl_ArchitectureOffices!D364","v":"Møystad + Nielsen Arkitektur AS"},{"$f":"tbl_ArchitectureOffices!C364","v":171680},"Møystad + Nielsen Arkitektur AS",{"$f":"tbl_Companys!D364","v":"Fløibanen"},{"$f":"tbl_Companys!C364","v":182799},"Fløibanen",{"$f":"tbl_ConsultingCompanys!D364","v":"Miljøforskningssenteret ANS"},{"$f":"tbl_ConsultingCompanys!C364","v":160588},"Miljøforskningssenteret ANS"]
[{"$nulls":10},{"$f":"tbl_ArchitectureOffices!D365","v":"Narud-Stokke-Wiig sivilarkitekter as"},{"$f":"tbl_ArchitectureOffices!C365","v":171508},"Narud-Stokke-Wiig sivilarkitekter as",{"$f":"tbl_Companys!D365","v":"Follo Bygg og Eiendom AS"},{"$f":"tbl_Companys!C365","v":243669},"Follo Bygg og Eiendom AS",{"$f":"tbl_ConsultingCompanys!D365","v":"Minera Norge AS (skifer)"},{"$f":"tbl_ConsultingCompanys!C365","v":155751},"Minera Norge AS (skifer)"]
[{"$nulls":10},{"$f":"tbl_ArchitectureOffices!D366","v":"Nataas, Gisle "},{"$f":"tbl_ArchitectureOffices!C366","v":171507},"Nataas, Gisle",{"$f":"tbl_Companys!D366","v":"Forente Arkitektkontorer A/S"},{"$f":"tbl_Companys!C366","v":166725},"Forente Arkitektkontorer A/S",{"$f":"tbl_ConsultingCompanys!D366","v":"Modalsli Prosjektering"},{"$f":"tbl_ConsultingCompanys!C366","v":162870},"Modalsli Prosjektering"]
[{"$nulls":10},{"$f":"tbl_ArchitectureOffices!D367","v":"NAV A.S. Arkitekter MNAL NPA"},{"$f":"tbl_ArchitectureOffices!C367","v":171506},"NAV A.S. Arkitekter MNAL NPA",{"$f":"tbl_Companys!D367","v":"Formgiverne d.a."},{"$f":"tbl_Companys!C367","v":166726},"Formgiverne d.a.",{"$f":"tbl_ConsultingCompanys!D367","v":"Moelven Elektro AS (RIE)"},{"$f":"tbl_ConsultingCompanys!C367","v":214149},"Moelven Elektro AS (RIE)"]
[{"$nulls":10},{"$f":"tbl_ArchitectureOffices!D368","v":"Nes Arkitekter, Leiv "},{"$f":"tbl_ArchitectureOffices!C368","v":172651},"Nes Arkitekter, Leiv",{"$f":"tbl_Companys!D368","v":"Forsvarsbygg"},{"$f":"tbl_Companys!C368","v":248971},"Forsvarsbygg",{"$f":"tbl_ConsultingCompanys!D368","v":"Moelven limtre "},{"$f":"tbl_ConsultingCompanys!C368","v":162861},"Moelven limtre"]
[{"$nulls":10},{"$f":"tbl_ArchitectureOffices!D369","v":"Nesodden Arkitektkontor AS"},{"$f":"tbl_ArchitectureOffices!C369","v":172656},"Nesodden Arkitektkontor AS",{"$f":"tbl_Companys!D369","v":"Fortunen Arkitekter AS"},{"$f":"tbl_Companys!C369","v":166727},"Fortunen Arkitekter AS",{"$f":"tbl_ConsultingCompanys!D369","v":"Moelven massivtre (dekker, veggelementer)"},{"$f":"tbl_ConsultingCompanys!C369","v":162862},"Moelven massivtre (dekker, veggelementer)"]
[{"$nulls":10},{"$f":"tbl_ArchitectureOffices!D370","v":"Noncon:form (Østerrike)"},{"$f":"tbl_ArchitectureOffices!C370","v":245866},"Noncon:form (Østerrike)",{"$f":"tbl_Companys!D370","v":"Forum Arkitekter AS"},{"$f":"tbl_Companys!C370","v":166728},"Forum Arkitekter AS",{"$f":"tbl_ConsultingCompanys!D370","v":"Morten Hagen"},{"$f":"tbl_ConsultingCompanys!C370","v":110658},"Morten Hagen"]
[{"$nulls":10},{"$f":"tbl_ArchitectureOffices!D371","v":"Norconsult AS"},{"$f":"tbl_ArchitectureOffices!C371","v":247295},"Norconsult AS",{"$f":"tbl_Companys!D371","v":"Forus Næringspark AS"},{"$f":"tbl_Companys!C371","v":163053},"Forus Næringspark AS",{"$f":"tbl_ConsultingCompanys!D371","v":"Mossemøllene eiendom"},{"$f":"tbl_ConsultingCompanys!C371","v":224058},"Mossemøllene eiendom"]
[{"$nulls":10},{"$f":"tbl_ArchitectureOffices!D372","v":"Nord AS, Arkitektkontoret "},{"$f":"tbl_ArchitectureOffices!C372","v":171505},"Nord AS, Arkitektkontoret",{"$f":"tbl_Companys!D372","v":"Forus Rør AS"},{"$f":"tbl_Companys!C372","v":155841},"Forus Rør AS",{"$f":"tbl_ConsultingCompanys!D372","v":"Multiconsult"},{"$f":"tbl_ConsultingCompanys!C372","v":97927},"Multiconsult"]
[{"$nulls":10},{"$f":"tbl_ArchitectureOffices!D373","v":"Nordberg As, Sissel "},{"$f":"tbl_ArchitectureOffices!C373","v":172680},"Nordberg As, Sissel",{"$f":"tbl_Companys!D373","v":"fossland as, arkitekt"},{"$f":"tbl_Companys!C373","v":172996},"fossland as, arkitekt",{"$f":"tbl_ConsultingCompanys!D373","v":"Multiteknikk AS"},{"$f":"tbl_ConsultingCompanys!C373","v":155701},"Multiteknikk AS"]
[{"$nulls":10},{"$f":"tbl_ArchitectureOffices!D374","v":"Nordic - Office of Architecture"},{"$f":"tbl_ArchitectureOffices!C374","v":172792},"Nordic - Office of Architecture",{"$f":"tbl_Companys!D374","v":"Frank a/s, Arkitektkontoret Lene "},{"$f":"tbl_Companys!C374","v":166729},"Frank a/s, Arkitektkontoret Lene",{"$f":"tbl_ConsultingCompanys!D374","v":"Murermester Tore Sjømæling"},{"$f":"tbl_ConsultingCompanys!C374","v":225762},"Murermester Tore Sjømæling"]
[{"$nulls":10},{"$f":"tbl_ArchitectureOffices!D375","v":"Nordplan AS"},{"$f":"tbl_ArchitectureOffices!C375","v":171504},"Nordplan AS",{"$f":"tbl_Companys!D375","v":"Frank Hansen, Åfjord (Strandbar)"},{"$f":"tbl_Companys!C375","v":230107},"Frank Hansen, Åfjord (Strandbar)",{"$f":"tbl_ConsultingCompanys!D375","v":"Murmester Aksel Hansen"},{"$f":"tbl_ConsultingCompanys!C375","v":157873},"Murmester Aksel Hansen"]
[{"$nulls":10},{"$f":"tbl_ArchitectureOffices!D376","v":"Nordvest Prosjekt AS"},{"$f":"tbl_ArchitectureOffices!C376","v":171501},"Nordvest Prosjekt AS",{"$f":"tbl_Companys!D376","v":"Fredricia Miller siv.ark MNAL"},{"$f":"tbl_Companys!C376","v":119975},"Fredricia Miller siv.ark MNAL",{"$f":"tbl_ConsultingCompanys!D376","v":"Murmester Rolf Holm as"},{"$f":"tbl_ConsultingCompanys!C376","v":112153},"Murmester Rolf Holm as"]
[{"$nulls":10},{"$f":"tbl_ArchitectureOffices!D377","v":"Norgeshus"},{"$f":"tbl_ArchitectureOffices!C377","v":246279},"Norgeshus",{"$f":"tbl_Companys!D377","v":"Fredrikstad kommune"},{"$f":"tbl_Companys!C377","v":241086},"Fredrikstad kommune",{"$f":"tbl_ConsultingCompanys!D377","v":"Myhrerenga BRL"},{"$f":"tbl_ConsultingCompanys!C377","v":191299},"Myhrerenga BRL"]
[{"$nulls":10},{"$f":"tbl_ArchitectureOffices!D378","v":"Nuno arkitektur AS"},{"$f":"tbl_ArchitectureOffices!C378","v":166535},"Nuno arkitektur AS",{"$f":"tbl_Companys!D378","v":"Fredrikstad kommune, Teknisk drift"},{"$f":"tbl_Companys!C378","v":241087},"Fredrikstad kommune, Teknisk drift",{"$f":"tbl_ConsultingCompanys!D378","v":"Myklebust AS"},{"$f":"tbl_ConsultingCompanys!C378","v":178927},"Myklebust AS"]
[{"$nulls":10},{"$f":"tbl_ArchitectureOffices!D379","v":"Nydesign AS"},{"$f":"tbl_ArchitectureOffices!C379","v":207042},"Nydesign AS",{"$f":"tbl_Companys!D379","v":"Friis Arkitekter AS"},{"$f":"tbl_Companys!C379","v":178010},"Friis Arkitekter AS",{"$f":"tbl_ConsultingCompanys!D379","v":"Myrvold Utemiljø"},{"$f":"tbl_ConsultingCompanys!C379","v":178583},"Myrvold Utemiljø"]
[{"$nulls":10},{"$f":"tbl_ArchitectureOffices!D380","v":"Og Arkitekter as"},{"$f":"tbl_ArchitectureOffices!C380","v":166671},"Og Arkitekter as",{"$f":"tbl_Companys!D380","v":"Frode Olsson AS (forskaling, støp)"},{"$f":"tbl_Companys!C380","v":155839},"Frode Olsson AS (forskaling, støp)",{"$f":"tbl_ConsultingCompanys!D380","v":"Møre og Romsdal fylkeskommune"},{"$f":"tbl_ConsultingCompanys!C380","v":247286},"Møre og Romsdal fylkeskommune"]
[{"$nulls":10},{"$f":"tbl_ArchitectureOffices!D381","v":"OHC arkitektur & design as"},{"$f":"tbl_ArchitectureOffices!C381","v":172686},"OHC arkitektur & design as",{"$f":"tbl_Companys!D381","v":"Froland kommune"},{"$f":"tbl_Companys!C381","v":215887},"Froland kommune",{"$f":"tbl_ConsultingCompanys!D381","v":"National Elektro AS"},{"$f":"tbl_ConsultingCompanys!C381","v":110479},"National Elektro AS"]
[{"$nulls":10},{"$f":"tbl_ArchitectureOffices!D382","v":"OK arkitekter"},{"$f":"tbl_ArchitectureOffices!C382","v":171500},"OK arkitekter",{"$f":"tbl_Companys!D382","v":"Frost Entrepenør AS (bygningsmessige arbeider)"},{"$f":"tbl_Companys!C382","v":162920},"Frost Entrepenør AS (bygningsmessige arbeider)",{"$f":"tbl_ConsultingCompanys!D382","v":"Naturbygg AS"},{"$f":"tbl_ConsultingCompanys!C382","v":103262},"Naturbygg AS"]
[{"$nulls":10},{"$f":"tbl_ArchitectureOffices!D383","v":"ONIX (nederland)"},{"$f":"tbl_ArchitectureOffices!C383","v":245863},"ONIX (nederland)",{"$f":"tbl_Companys!D383","v":"Frost Entreprenør AS"},{"$f":"tbl_Companys!C383","v":111932},"Frost Entreprenør AS",{"$f":"tbl_ConsultingCompanys!D383","v":"NCC Construction AS"},{"$f":"tbl_ConsultingCompanys!C383","v":97922},"NCC Construction AS"]
[{"$nulls":10},{"$f":"tbl_ArchitectureOffices!D384","v":"Opus Arkitekter as"},{"$f":"tbl_ArchitectureOffices!C384","v":171499},"Opus Arkitekter as",{"$f":"tbl_Companys!D384","v":"Frydenlund og Høyer AS"},{"$f":"tbl_Companys!C384","v":243868},"Frydenlund og Høyer AS",{"$f":"tbl_ConsultingCompanys!D384","v":"NCC Construction AS"},{"$f":"tbl_ConsultingCompanys!C384","v":165388},"NCC Construction AS"]
[{"$nulls":10},{"$f":"tbl_ArchitectureOffices!D385","v":"Origo arkitektgruppe as"},{"$f":"tbl_ArchitectureOffices!C385","v":171498},"Origo arkitektgruppe as",{"$f":"tbl_Companys!D385","v":"Frøiland Bygg"},{"$f":"tbl_Companys!C385","v":158043},"Frøiland Bygg",{"$f":"tbl_ConsultingCompanys!D385","v":"NCC Property Development"},{"$f":"tbl_ConsultingCompanys!C385","v":207445},"NCC Property Development"]
[{"$nulls":10},{"$f":"tbl_ArchitectureOffices!D386","v":"Ottar arkitekter as"},{"$f":"tbl_ArchitectureOffices!C386","v":171497},"Ottar arkitekter as",{"$f":"tbl_Companys!D386","v":"Fyllingen Maskinstasjon"},{"$f":"tbl_Companys!C386","v":182796},"Fyllingen Maskinstasjon",{"$f":"tbl_ConsultingCompanys!D386","v":"Neas Consulting"},{"$f":"tbl_ConsultingCompanys!C386","v":178155},"Neas Consulting"]
[{"$nulls":10},{"$f":"tbl_ArchitectureOffices!D387","v":"P. A. Holst sivilarkitekt mnal"},{"$f":"tbl_ArchitectureOffices!C387","v":210155},{"$f":"IFERROR(REPLACE(K387,FIND(\" \",K387,LEN(K387)),1,\"\"),K387)","v":"P. A. Holst sivilarkitekt mnal"},{"$f":"tbl_Companys!D387","v":"Gaia Arkitekter"},{"$f":"tbl_Companys!C387","v":166730},{"$f":"IFERROR(REPLACE(N387,FIND(\" \",N387,LEN(N387)),1,\"\"),N387)","v":"Gaia Arkitekter"},{"$f":"tbl_ConsultingCompanys!D387","v":"Nedig AS"},{"$f":"tbl_ConsultingCompanys!C387","v":103150},{"$f":"IFERROR(REPLACE(Q387,FIND(\" \",Q387,LEN(Q387)),1,\"\"),Q387)","v":"Nedig AS"}]
[{"$nulls":10},{"$f":"tbl_ArchitectureOffices!D388","v":"Panark AS"},{"$f":"tbl_ArchitectureOffices!C388","v":171490},"Panark AS",{"$f":"tbl_Companys!D388","v":"GAIA Lista AS (RIV)"},{"$f":"tbl_Companys!C388","v":207493},"GAIA Lista AS (RIV)",{"$f":"tbl_ConsultingCompanys!D388","v":"Nedre Buskerud Boligbyggelag (NBBO)"},{"$f":"tbl_ConsultingCompanys!C388","v":207456},"Nedre Buskerud Boligbyggelag (NBBO)"]
[{"$nulls":10},{"$f":"tbl_ArchitectureOffices!D389","v":"Pedersen arkitekter as, Kyrre "},{"$f":"tbl_ArchitectureOffices!C389","v":171489},"Pedersen arkitekter as, Kyrre",{"$f":"tbl_Companys!D389","v":"Gaia Tjøme"},{"$f":"tbl_Companys!C389","v":172711},"Gaia Tjøme",{"$f":"tbl_ConsultingCompanys!D389","v":"Nesodden kommune"},{"$f":"tbl_ConsultingCompanys!C389","v":160571},"Nesodden kommune"]
[{"$nulls":10},{"$f":"tbl_ArchitectureOffices!D390","v":"Pedersen/ Ege Arkitekter AS"},{"$f":"tbl_ArchitectureOffices!C390","v":173039},"Pedersen/ Ege Arkitekter AS",{"$f":"tbl_Companys!D390","v":"Gasa A/S, Arkitektkontoret "},{"$f":"tbl_Companys!C390","v":166731},"Gasa A/S, Arkitektkontoret",{"$f":"tbl_ConsultingCompanys!D390","v":"Nexi Bygg as"},{"$f":"tbl_ConsultingCompanys!C390","v":94533},"Nexi Bygg as"]
[{"$nulls":10},{"$f":"tbl_ArchitectureOffices!D391","v":"Perspektiv Arkitekter AS"},{"$f":"tbl_ArchitectureOffices!C391","v":171488},"Perspektiv Arkitekter AS",{"$f":"tbl_Companys!D391","v":"Gauldal Bygg AS"},{"$f":"tbl_Companys!C391","v":222846},"Gauldal Bygg AS",{"$f":"tbl_ConsultingCompanys!D391","v":"Nils Ivar Bovim"},{"$f":"tbl_ConsultingCompanys!C391","v":193869},"Nils Ivar Bovim"]
[{"$nulls":10},{"$f":"tbl_ArchitectureOffices!D392","v":"Pettersen & Partners - Hospital Planning and Design"},{"$f":"tbl_ArchitectureOffices!C392","v":171486},"Pettersen & Partners - Hospital Planning and Design",{"$f":"tbl_Companys!D392","v":"Geir Knudsen AS"},{"$f":"tbl_Companys!C392","v":166298},"Geir Knudsen AS",{"$f":"tbl_ConsultingCompanys!D392","v":"NODE rådgivende ing.AS"},{"$f":"tbl_ConsultingCompanys!C392","v":166297},"NODE rådgivende ing.AS"]
[{"$nulls":10},{"$f":"tbl_ArchitectureOffices!D393","v":"Pir II AS"},{"$f":"tbl_ArchitectureOffices!C393","v":171485},"Pir II AS",{"$f":"tbl_Companys!D393","v":"Geoenergi as"},{"$f":"tbl_Companys!C393","v":120246},"Geoenergi as",{"$f":"tbl_ConsultingCompanys!D393","v":"NODE rådgivende ingeniører as (RIB)"},{"$f":"tbl_ConsultingCompanys!C393","v":215424},"NODE rådgivende ingeniører as (RIB)"]
[{"$nulls":10},{"$f":"tbl_ArchitectureOffices!D394","v":"Pir II Oslo AS"},{"$f":"tbl_ArchitectureOffices!C394","v":233236},"Pir II Oslo AS",{"$f":"tbl_Companys!D394","v":"Ghilardi+Hellsten Arkitekter"},{"$f":"tbl_Companys!C394","v":166732},"Ghilardi+Hellsten Arkitekter",{"$f":"tbl_ConsultingCompanys!D394","v":"Norconsult AS"},{"$f":"tbl_ConsultingCompanys!C394","v":103147},"Norconsult AS"]
[{"$nulls":10},{"$f":"tbl_ArchitectureOffices!D395","v":"PirII i samarbeid med Studenter ved Högskolan för Design och Konsthandtverk i Göteborg (SUB lugarer)"},{"$f":"tbl_ArchitectureOffices!C395","v":230105},"PirII i samarbeid med Studenter ved Högskolan för Design och Konsthandtverk i Göteborg (SUB lugarer)",{"$f":"tbl_Companys!D395","v":"Gjøen, Arne "},{"$f":"tbl_Companys!C395","v":166733},"Gjøen, Arne",{"$f":"tbl_ConsultingCompanys!D395","v":"NorDan AS (dører, vinduer, glassfasade)"},{"$f":"tbl_ConsultingCompanys!C395","v":172953},"NorDan AS (dører, vinduer, glassfasade)"]
[{"$nulls":10},{"$f":"tbl_ArchitectureOffices!D396","v":"pka Arkitekter"},{"$f":"tbl_ArchitectureOffices!C396","v":232085},"pka Arkitekter",{"$f":"tbl_Companys!D396","v":"Gjørven AS, Arkitektkontoret Ingrid Ulving "},{"$f":"tbl_Companys!C396","v":166734},"Gjørven AS, Arkitektkontoret Ingrid Ulving",{"$f":"tbl_ConsultingCompanys!D396","v":"Nordbohus AS v/ ingeniør Randi Nåvik "},{"$f":"tbl_ConsultingCompanys!C396","v":111983},"Nordbohus AS v/ ingeniør Randi Nåvik"]
[{"$nulls":10},{"$f":"tbl_ArchitectureOffices!D397","v":"Plan arkitekter AS"},{"$f":"tbl_ArchitectureOffices!C397","v":171483},"Plan arkitekter AS",{"$f":"tbl_Companys!D397","v":"GK Norge AS"},{"$f":"tbl_Companys!C397","v":245787},"GK Norge AS",{"$f":"tbl_ConsultingCompanys!D397","v":"Nordesign"},{"$f":"tbl_ConsultingCompanys!C397","v":232352},"Nordesign"]
[{"$nulls":10},{"$f":"tbl_ArchitectureOffices!D398","v":"PlanA AS"},{"$f":"tbl_ArchitectureOffices!C398","v":171484},"PlanA AS",{"$f":"tbl_Companys!D398","v":"Glassbygg AS"},{"$f":"tbl_Companys!C398","v":233807},"Glassbygg AS",{"$f":"tbl_ConsultingCompanys!D398","v":"Nordland Fylkeskommune"},{"$f":"tbl_ConsultingCompanys!C398","v":223331},"Nordland Fylkeskommune"]
[{"$nulls":10},{"$f":"tbl_ArchitectureOffices!D399","v":"Plan-AE"},{"$f":"tbl_ArchitectureOffices!C399","v":171482},"Plan-AE",{"$f":"tbl_Companys!D399","v":"Glassfasade GF01: Skandinaviska Glassystem"},{"$f":"tbl_Companys!C399","v":202823},"Glassfasade GF01: Skandinaviska Glassystem",{"$f":"tbl_ConsultingCompanys!D399","v":"Norelement (PREFAB)"},{"$f":"tbl_ConsultingCompanys!C399","v":158234},"Norelement (PREFAB)"]
[{"$nulls":10},{"$f":"tbl_ArchitectureOffices!D400","v":"Planforum Arkitekter AS"},{"$f":"tbl_ArchitectureOffices!C400","v":171481},"Planforum Arkitekter AS",{"$f":"tbl_Companys!D400","v":"glava as"},{"$f":"tbl_Companys!C400","v":155325},"glava as",{"$f":"tbl_ConsultingCompanys!D400","v":"Norelement Dag Kerlefsen (PREFAB)"},{"$f":"tbl_ConsultingCompanys!C400","v":158196},"Norelement Dag Kerlefsen (PREFAB)"]
[{"$nulls":10},{"$f":"tbl_ArchitectureOffices!D401","v":"Plank arkitekter AS"},{"$f":"tbl_ArchitectureOffices!C401","v":171480},"Plank arkitekter AS",{"$f":"tbl_Companys!D401","v":"Gravbrøt siv.ark. MNAL, Pia Maria"},{"$f":"tbl_Companys!C401","v":166735},"Gravbrøt siv.ark. MNAL, Pia Maria",{"$f":"tbl_ConsultingCompanys!D401","v":"Norgeshus AS"},{"$f":"tbl_ConsultingCompanys!C401","v":246401},"Norgeshus AS"]
[{"$nulls":10},{"$f":"tbl_ArchitectureOffices!D402","v":"Plot arkitekter as"},{"$f":"tbl_ArchitectureOffices!C402","v":230009},"Plot arkitekter as",{"$f":"tbl_Companys!D402","v":"Graveentreprenør Geir Stuberg"},{"$f":"tbl_Companys!C402","v":225761},"Graveentreprenør Geir Stuberg",{"$f":"tbl_ConsultingCompanys!D402","v":"Norsas"},{"$f":"tbl_ConsultingCompanys!C402","v":184491},"Norsas"]
[{"$nulls":10},{"$f":"tbl_ArchitectureOffices!D403","v":"Plus arkitektur AS"},{"$f":"tbl_ArchitectureOffices!C403","v":182236},"Plus arkitektur AS",{"$f":"tbl_Companys!D403","v":"Greåker VVS AS"},{"$f":"tbl_Companys!C403","v":103364},"Greåker VVS AS",{"$f":"tbl_ConsultingCompanys!D403","v":"Norsk brannvernforening"},{"$f":"tbl_ConsultingCompanys!C403","v":247312},"Norsk brannvernforening"]
[{"$nulls":10},{"$f":"tbl_ArchitectureOffices!D404","v":"PML Arkitektur, sivilarkitekt Per Martin Landfald MNAL"},{"$f":"tbl_ArchitectureOffices!C404","v":171479},"PML Arkitektur, sivilarkitekt Per Martin Landfald MNAL",{"$f":"tbl_Companys!D404","v":"Grieg AS, Arkitektkontoret "},{"$f":"tbl_Companys!C404","v":166736},"Grieg AS, Arkitektkontoret",{"$f":"tbl_ConsultingCompanys!D404","v":"Norsk institutt for naturforskning (NINA)"},{"$f":"tbl_ConsultingCompanys!C404","v":246946},"Norsk institutt for naturforskning (NINA)"]
[{"$nulls":10},{"$f":"tbl_ArchitectureOffices!D405","v":"Point AS arkitektur+konseptdesign"},{"$f":"tbl_ArchitectureOffices!C405","v":171478},"Point AS arkitektur+konseptdesign",{"$f":"tbl_Companys!D405","v":"Grinde AS"},{"$f":"tbl_Companys!C405","v":166737},"Grinde AS",{"$f":"tbl_ConsultingCompanys!D405","v":"Norsk Massivtre AS"},{"$f":"tbl_ConsultingCompanys!C405","v":177615},"Norsk Massivtre AS"]
[{"$nulls":10},{"$f":"tbl_ArchitectureOffices!D406","v":"Poulsson/Pran AS"},{"$f":"tbl_ArchitectureOffices!C406","v":166525},"Poulsson/Pran AS",{"$f":"tbl_Companys!D406","v":"Grip og Zen Resort (miljøsertifisering)"},{"$f":"tbl_Companys!C406","v":178591},"Grip og Zen Resort (miljøsertifisering)",{"$f":"tbl_ConsultingCompanys!D406","v":"Norsk Oljemuseum"},{"$f":"tbl_ConsultingCompanys!C406","v":192372},"Norsk Oljemuseum"]
[{"$nulls":10},{"$f":"tbl_ArchitectureOffices!D407","v":"PPR arkitektur & design AS"},{"$f":"tbl_ArchitectureOffices!C407","v":171491},"PPR arkitektur & design AS",{"$f":"tbl_Companys!D407","v":"Gro Hovda sivilarkitekt mnal"},{"$f":"tbl_Companys!C407","v":229124},"Gro Hovda sivilarkitekt mnal",{"$f":"tbl_ConsultingCompanys!D407","v":"Noveta AS "},{"$f":"tbl_ConsultingCompanys!C407","v":202451},"Noveta AS"]
[{"$nulls":10},{"$f":"tbl_ArchitectureOffices!D408","v":"Praksis sivilarkitekter as"},{"$f":"tbl_ArchitectureOffices!C408","v":171477},"Praksis sivilarkitekter as",{"$f":"tbl_Companys!D408","v":"Grong kommune"},{"$f":"tbl_Companys!C408","v":160603},"Grong kommune",{"$f":"tbl_ConsultingCompanys!D408","v":"NTNU"},{"$f":"tbl_ConsultingCompanys!C408","v":178928},"NTNU"]
[{"$nulls":10},{"$f":"tbl_ArchitectureOffices!D409","v":"Pran, Peter "},{"$f":"tbl_ArchitectureOffices!C409","v":171476},"Pran, Peter",{"$f":"tbl_Companys!D409","v":"Grøner AS"},{"$f":"tbl_Companys!C409","v":103250},"Grøner AS",{"$f":"tbl_ConsultingCompanys!D409","v":"Nygaard AS"},{"$f":"tbl_ConsultingCompanys!C409","v":192282},"Nygaard AS"]
[{"$nulls":10},{"$f":"tbl_ArchitectureOffices!D410","v":"Puls Arkitekter AS"},{"$f":"tbl_ArchitectureOffices!C410","v":171473},"Puls Arkitekter AS",{"$f":"tbl_Companys!D410","v":"Grønmyr Barnehage"},{"$f":"tbl_Companys!C410","v":218416},"Grønmyr Barnehage",{"$f":"tbl_ConsultingCompanys!D410","v":"Nyland byggeadministrasjon AS"},{"$f":"tbl_ConsultingCompanys!C410","v":245784},"Nyland byggeadministrasjon AS"]
[{"$nulls":10},{"$f":"tbl_ArchitectureOffices!D411","v":"Pushak arkitekter"},{"$f":"tbl_ArchitectureOffices!C411","v":171472},"Pushak arkitekter",{"$f":"tbl_Companys!D411","v":"Grønmyr Bygg v/Ole Eliassen"},{"$f":"tbl_Companys!C411","v":218412},"Grønmyr Bygg v/Ole Eliassen",{"$f":"tbl_ConsultingCompanys!D411","v":"OBAS"},{"$f":"tbl_ConsultingCompanys!C411","v":204487},"OBAS"]
[{"$nulls":10},{"$f":"tbl_ArchitectureOffices!D412","v":"PV arkitekter as"},{"$f":"tbl_ArchitectureOffices!C412","v":172662},"PV arkitekter as",{"$f":"tbl_Companys!D412","v":"Grønn strek as"},{"$f":"tbl_Companys!C412","v":242868},"Grønn strek as",{"$f":"tbl_ConsultingCompanys!D412","v":"OBOS nye hjem"},{"$f":"tbl_ConsultingCompanys!C412","v":160585},"OBOS nye hjem"]
[{"$nulls":10},{"$f":"tbl_ArchitectureOffices!D413","v":"PW Arkitekter AS"},{"$f":"tbl_ArchitectureOffices!C413","v":171471},"PW Arkitekter AS",{"$f":"tbl_Companys!D413","v":"Gsella, Christian "},{"$f":"tbl_Companys!C413","v":166738},"Gsella, Christian",{"$f":"tbl_ConsultingCompanys!D413","v":"OBOS Nye Hjem"},{"$f":"tbl_ConsultingCompanys!C413","v":204958},"OBOS Nye Hjem"]
[{"$nulls":10},{"$f":"tbl_ArchitectureOffices!D414","v":"RAM arkitektur as"},{"$f":"tbl_ArchitectureOffices!C414","v":172784},"RAM arkitektur as",{"$f":"tbl_Companys!D414","v":"Gunnar Karlsen AS (automatisering)"},{"$f":"tbl_Companys!C414","v":172629},"Gunnar Karlsen AS (automatisering)",{"$f":"tbl_ConsultingCompanys!D414","v":"OEC Consulting AS"},{"$f":"tbl_ConsultingCompanys!C414","v":214495},"OEC Consulting AS"]
[{"$nulls":10},{"$f":"tbl_ArchitectureOffices!D415","v":"Ramberg AS sivilarkitekter MNAL, Torstein "},{"$f":"tbl_ArchitectureOffices!C415","v":166682},"Ramberg AS sivilarkitekter MNAL, Torstein",{"$f":"tbl_Companys!D415","v":"h. arkitektiner as"},{"$f":"tbl_Companys!C415","v":171509},"h. arkitektiner as",{"$f":"tbl_ConsultingCompanys!D415","v":"OFE AS"},{"$f":"tbl_ConsultingCompanys!C415","v":101079},"OFE AS"]
[{"$nulls":10},{"$f":"tbl_ArchitectureOffices!D416","v":"Rambøll Aros AS"},{"$f":"tbl_ArchitectureOffices!C416","v":166680},"Rambøll Aros AS",{"$f":"tbl_Companys!D416","v":"H2 Byggeteknikk AS"},{"$f":"tbl_Companys!C416","v":231963},"H2 Byggeteknikk AS",{"$f":"tbl_ConsultingCompanys!D416","v":"OKK Entreprenør AS"},{"$f":"tbl_ConsultingCompanys!C416","v":214156},"OKK Entreprenør AS"]
[{"$nulls":10},{"$f":"tbl_ArchitectureOffices!D417","v":"Rambøll AS"},{"$f":"tbl_ArchitectureOffices!C417","v":247615},"Rambøll AS",{"$f":"tbl_Companys!D417","v":"Haaland AS Siv.ark. MNAL, Arkitektkontoret "},{"$f":"tbl_Companys!C417","v":172847},"Haaland AS Siv.ark. MNAL, Arkitektkontoret",{"$f":"tbl_ConsultingCompanys!D417","v":"Olaussen AS"},{"$f":"tbl_ConsultingCompanys!C417","v":213832},"Olaussen AS"]
[{"$nulls":10},{"$f":"tbl_ArchitectureOffices!D418","v":"Rambøll Norge AS Arkitektur og Plan"},{"$f":"tbl_ArchitectureOffices!C418","v":166681},"Rambøll Norge AS Arkitektur og Plan",{"$f":"tbl_Companys!D418","v":"Haarklau og Lindeberg AS"},{"$f":"tbl_Companys!C418","v":171141},"Haarklau og Lindeberg AS",{"$f":"tbl_ConsultingCompanys!D418","v":"Olav Olsen "},{"$f":"tbl_ConsultingCompanys!C418","v":120134},"Olav Olsen"]
[{"$nulls":10},{"$f":"tbl_ArchitectureOffices!D419","v":"Ramm Salbu Arkitekter"},{"$f":"tbl_ArchitectureOffices!C419","v":166626},"Ramm Salbu Arkitekter",{"$f":"tbl_Companys!D419","v":"Haga og Grov AS, sivilarkitekter MNAL"},{"$f":"tbl_Companys!C419","v":171073},"Haga og Grov AS, sivilarkitekter MNAL",{"$f":"tbl_ConsultingCompanys!D419","v":"Ole Jørgen Furdal, Sveio kommune"},{"$f":"tbl_ConsultingCompanys!C419","v":172749},"Ole Jørgen Furdal, Sveio kommune"]
[{"$nulls":10},{"$f":"tbl_ArchitectureOffices!D420","v":"Ramsfjell Arkitekter AS"},{"$f":"tbl_ArchitectureOffices!C420","v":166679},"Ramsfjell Arkitekter AS",{"$f":"tbl_Companys!D420","v":"HAK, Holen Arkitektkontor"},{"$f":"tbl_Companys!C420","v":171135},"HAK, Holen Arkitektkontor",{"$f":"tbl_ConsultingCompanys!D420","v":"Ole K. Karlsen Entreprenør AS"},{"$f":"tbl_ConsultingCompanys!C420","v":103185},"Ole K. Karlsen Entreprenør AS"]
[{"$nulls":10},{"$f":"tbl_ArchitectureOffices!D421","v":"Ramstad Arkitekter as, Reiulf "},{"$f":"tbl_ArchitectureOffices!C421","v":166684},"Ramstad Arkitekter as, Reiulf",{"$f":"tbl_Companys!D421","v":"Haldde arkitekter AS"},{"$f":"tbl_Companys!C421","v":242813},"Haldde arkitekter AS",{"$f":"tbl_ConsultingCompanys!D421","v":"Ole Sivertsen AS"},{"$f":"tbl_ConsultingCompanys!C421","v":244639},"Ole Sivertsen AS"]
[{"$nulls":10},{"$f":"tbl_ArchitectureOffices!D422","v":"Rastad & Relling Arkitektkontor AS"},{"$f":"tbl_ArchitectureOffices!C422","v":166678},"Rastad & Relling Arkitektkontor AS",{"$f":"tbl_Companys!D422","v":"Halden Arkitektkontor AS"},{"$f":"tbl_Companys!C422","v":172598},"Halden Arkitektkontor AS",{"$f":"tbl_ConsultingCompanys!D422","v":"Oleivsgard Byggconsult AS"},{"$f":"tbl_ConsultingCompanys!C422","v":247302},"Oleivsgard Byggconsult AS"]
[{"$nulls":10},{"$f":"tbl_ArchitectureOffices!D423","v":"Ratio arkitekter as"},{"$f":"tbl_ArchitectureOffices!C423","v":206444},"Ratio arkitekter as",{"$f":"tbl_Companys!D423","v":"Halvorsen & Reine AS"},{"$f":"tbl_Companys!C423","v":171075},"Halvorsen & Reine AS",{"$f":"tbl_ConsultingCompanys!D423","v":"Olset AS"},{"$f":"tbl_ConsultingCompanys!C423","v":103002},"Olset AS"]
[{"$nulls":10},{"$f":"tbl_ArchitectureOffices!D424","v":"Raugstad Arkitektur AS"},{"$f":"tbl_ArchitectureOffices!C424","v":244037},"Raugstad Arkitektur AS",{"$f":"tbl_Companys!D424","v":"Halvorsen AS sivilarkitekt MNAL, Stein"},{"$f":"tbl_Companys!C424","v":171076},"Halvorsen AS sivilarkitekt MNAL, Stein",{"$f":"tbl_ConsultingCompanys!D424","v":"Omsorgsbygg Oslo KF"},{"$f":"tbl_ConsultingCompanys!C424","v":215026},"Omsorgsbygg Oslo KF"]
[{"$nulls":10},{"$f":"tbl_ArchitectureOffices!D425","v":"Re Arkitektur AS"},{"$f":"tbl_ArchitectureOffices!C425","v":166677},"Re Arkitektur AS",{"$f":"tbl_Companys!D425","v":"Halvorsen AS, Arkitektkontoret Konrad "},{"$f":"tbl_Companys!C425","v":171074},"Halvorsen AS, Arkitektkontoret Konrad",{"$f":"tbl_ConsultingCompanys!D425","v":"OPAK AS"},{"$f":"tbl_ConsultingCompanys!C425","v":178578},"OPAK AS"]
[{"$nulls":10},{"$f":"tbl_ArchitectureOffices!D426","v":"Rede arkitekter as"},{"$f":"tbl_ArchitectureOffices!C426","v":172606},"Rede arkitekter as",{"$f":"tbl_Companys!D426","v":"Hambra"},{"$f":"tbl_Companys!C426","v":110466},"Hambra",{"$f":"tbl_ConsultingCompanys!D426","v":"Oppland bygg ans"},{"$f":"tbl_ConsultingCompanys!C426","v":247309},"Oppland bygg ans"]
[{"$nulls":10},{"$f":"tbl_ArchitectureOffices!D427","v":"Rever og Drage"},{"$f":"tbl_ArchitectureOffices!C427","v":247285},"Rever og Drage",{"$f":"tbl_Companys!D427","v":"Hammer Rådgivning"},{"$f":"tbl_Companys!C427","v":103260},"Hammer Rådgivning",{"$f":"tbl_ConsultingCompanys!D427","v":"Oppland fylkeskommune"},{"$f":"tbl_ConsultingCompanys!C427","v":247307},"Oppland fylkeskommune"]
[{"$nulls":10},{"$f":"tbl_ArchitectureOffices!D428","v":"RIFT AS"},{"$f":"tbl_ArchitectureOffices!C428","v":193622},"RIFT AS",{"$f":"tbl_Companys!D428","v":"Hamre Arkitektkontor as, Stein "},{"$f":"tbl_Companys!C428","v":171077},"Hamre Arkitektkontor as, Stein",{"$f":"tbl_ConsultingCompanys!D428","v":"Opticonsult as"},{"$f":"tbl_ConsultingCompanys!C428","v":155959},"Opticonsult as"]
[{"$nulls":10},{"$f":"tbl_ArchitectureOffices!D429","v":"RiK Arkitektur AS"},{"$f":"tbl_ArchitectureOffices!C429","v":166683},"RiK Arkitektur AS",{"$f":"tbl_Companys!D429","v":"Hamstad AS (RIV)"},{"$f":"tbl_Companys!C429","v":162916},"Hamstad AS (RIV)",{"$f":"tbl_ConsultingCompanys!D429","v":"Opticonsult Førde (EL)"},{"$f":"tbl_ConsultingCompanys!C429","v":136170},"Opticonsult Førde (EL)"]
[{"$nulls":10},{"$f":"tbl_ArchitectureOffices!D430","v":"Rintala Eggertsson Arkitekter"},{"$f":"tbl_ArchitectureOffices!C430","v":204162},"Rintala Eggertsson Arkitekter",{"$f":"tbl_Companys!D430","v":"Handegård & Pedersen AS"},{"$f":"tbl_Companys!C430","v":218047},"Handegård & Pedersen AS",{"$f":"tbl_ConsultingCompanys!D430","v":"Optimo Prosjekt AS"},{"$f":"tbl_ConsultingCompanys!C430","v":223602},"Optimo Prosjekt AS"]
[{"$nulls":10},{"$f":"tbl_ArchitectureOffices!D431","v":"Riss Landskap AS"},{"$f":"tbl_ArchitectureOffices!C431","v":245864},"Riss Landskap AS",{"$f":"tbl_Companys!D431","v":"Hans Helgesen og sønner AS"},{"$f":"tbl_Companys!C431","v":110764},"Hans Helgesen og sønner AS",{"$f":"tbl_ConsultingCompanys!D431","v":"ORAS Agder AS"},{"$f":"tbl_ConsultingCompanys!C431","v":103149},"ORAS Agder AS"]
[{"$nulls":10},{"$f":"tbl_ArchitectureOffices!D432","v":"Roald AS Arkitektur, Ola "},{"$f":"tbl_ArchitectureOffices!C432","v":166676},"Roald AS Arkitektur, Ola",{"$f":"tbl_Companys!D432","v":"Hansaparken AS"},{"$f":"tbl_Companys!C432","v":160606},"Hansaparken AS",{"$f":"tbl_ConsultingCompanys!D432","v":"Oras AS"},{"$f":"tbl_ConsultingCompanys!C432","v":248371},"Oras AS"]
[{"$nulls":10},{"$f":"tbl_ArchitectureOffices!D433","v":"Rodeo arkitekter as"},{"$f":"tbl_ArchitectureOffices!C433","v":166675},"Rodeo arkitekter as",{"$f":"tbl_Companys!D433","v":"Hansen/Bjørndal Arkitekter AS"},{"$f":"tbl_Companys!C433","v":171071},"Hansen/Bjørndal Arkitekter AS",{"$f":"tbl_ConsultingCompanys!D433","v":"Oras as (RIV)"},{"$f":"tbl_ConsultingCompanys!C433","v":214148},"Oras as (RIV)"]
[{"$nulls":10},{"$f":"tbl_ArchitectureOffices!D434","v":"Rojo arkitekter as"},{"$f":"tbl_ArchitectureOffices!C434","v":172675},"Rojo arkitekter as",{"$f":"tbl_Companys!D434","v":"HAPTIC"},{"$f":"tbl_Companys!C434","v":202235},"HAPTIC",{"$f":"tbl_ConsultingCompanys!D434","v":"Oras AS (VVS)"},{"$f":"tbl_ConsultingCompanys!C434","v":165637},"Oras AS (VVS)"]
[{"$nulls":10},{"$f":"tbl_ArchitectureOffices!D435","v":"Romerike Arkitekter AS"},{"$f":"tbl_ArchitectureOffices!C435","v":166674},"Romerike Arkitekter AS",{"$f":"tbl_Companys!D435","v":"Harboe og Leganger"},{"$f":"tbl_Companys!C435","v":165391},"Harboe og Leganger",{"$f":"tbl_ConsultingCompanys!D435","v":"Oras AS (VVS) "},{"$f":"tbl_ConsultingCompanys!C435","v":163045},"Oras AS (VVS)"]
[{"$nulls":10},{"$f":"tbl_ArchitectureOffices!D436","v":"Romlaboratoriet AS"},{"$f":"tbl_ArchitectureOffices!C436","v":219471},"Romlaboratoriet AS",{"$f":"tbl_Companys!D436","v":"Harsem prosjektering AS"},{"$f":"tbl_Companys!C436","v":112300},"Harsem prosjektering AS",{"$f":"tbl_ConsultingCompanys!D436","v":"Oras buskerud "},{"$f":"tbl_ConsultingCompanys!C436","v":119896},"Oras buskerud"]
[{"$nulls":10},{"$f":"tbl_ArchitectureOffices!D437","v":"Rønsen Arkitekter AS, Jostein "},{"$f":"tbl_ArchitectureOffices!C437","v":166672},"Rønsen Arkitekter AS, Jostein",{"$f":"tbl_Companys!D437","v":"Hartmann Prosjektrådgiving AS"},{"$f":"tbl_Companys!C437","v":240270},"Hartmann Prosjektrådgiving AS",{"$f":"tbl_ConsultingCompanys!D437","v":"Oras Trondheim as"},{"$f":"tbl_ConsultingCompanys!C437","v":164721},"Oras Trondheim as"]
[{"$nulls":10},{"$f":"tbl_ArchitectureOffices!D438","v":"Rørby AS, Arkitekt Terje"},{"$f":"tbl_ArchitectureOffices!C438","v":172668},"Rørby AS, Arkitekt Terje",{"$f":"tbl_Companys!D438","v":"Hartmann Prosjektrådgivning AS"},{"$f":"tbl_Companys!C438","v":246978},"Hartmann Prosjektrådgivning AS",{"$f":"tbl_ConsultingCompanys!D438","v":"Origo AS (VVA)"},{"$f":"tbl_ConsultingCompanys!C438","v":155700},"Origo AS (VVA)"]
[{"$nulls":10},{"$f":"tbl_ArchitectureOffices!D439","v":"Sandbakk & Pettersen Arkitekter AS"},{"$f":"tbl_ArchitectureOffices!C439","v":199606},"Sandbakk & Pettersen Arkitekter AS",{"$f":"tbl_Companys!D439","v":"Haugedal, Arnar "},{"$f":"tbl_Companys!C439","v":171079},"Haugedal, Arnar",{"$f":"tbl_ConsultingCompanys!D439","v":"Orkdal kommune"},{"$f":"tbl_ConsultingCompanys!C439","v":246803},"Orkdal kommune"]
[{"$nulls":10},{"$f":"tbl_ArchitectureOffices!D440","v":"Sandvik, Siv. ark. mnal Jarle "},{"$f":"tbl_ArchitectureOffices!C440","v":172890},"Sandvik, Siv. ark. mnal Jarle",{"$f":"tbl_Companys!D440","v":"Haugen as, Arkitektkontoret Erling "},{"$f":"tbl_Companys!C440","v":171080},"Haugen as, Arkitektkontoret Erling",{"$f":"tbl_ConsultingCompanys!D440","v":"Oslo Byggentreprenør AS"},{"$f":"tbl_ConsultingCompanys!C440","v":246926},"Oslo Byggentreprenør AS"]
[{"$nulls":10},{"$f":"tbl_ArchitectureOffices!D441","v":"Saunders Arkitektur AS"},{"$f":"tbl_ArchitectureOffices!C441","v":166623},"Saunders Arkitektur AS",{"$f":"tbl_Companys!D441","v":"Haugen/ Zohar Arkitekter"},{"$f":"tbl_Companys!C441","v":172684},"Haugen/ Zohar Arkitekter",{"$f":"tbl_ConsultingCompanys!D441","v":"Oslo kommune"},{"$f":"tbl_ConsultingCompanys!C441","v":160568},"Oslo kommune"]
[{"$nulls":10},{"$f":"tbl_ArchitectureOffices!D442","v":"Scala arkitekter AS"},{"$f":"tbl_ArchitectureOffices!C442","v":166622},"Scala arkitekter AS",{"$f":"tbl_Companys!D442","v":"Hausberg siv.ark. MNAL, Egil J "},{"$f":"tbl_Companys!C442","v":171081},"Hausberg siv.ark. MNAL, Egil J",{"$f":"tbl_ConsultingCompanys!D442","v":"Oslo Kommune ved Vann- og avløpsetaten og Friluftsetaten"},{"$f":"tbl_ConsultingCompanys!C442","v":162435},"Oslo Kommune ved Vann- og avløpsetaten og Friluftsetaten"]
[{"$nulls":10},{"$f":"tbl_ArchitectureOffices!D443","v":"Scenario"},{"$f":"tbl_ArchitectureOffices!C443","v":235782},"Scenario",{"$f":"tbl_Companys!D443","v":"HBBL"},{"$f":"tbl_Companys!C443","v":155837},"HBBL",{"$f":"tbl_ConsultingCompanys!D443","v":"Oslo kommune, Bydel Alna"},{"$f":"tbl_ConsultingCompanys!C443","v":214717},"Oslo kommune, Bydel Alna"]
[{"$nulls":10},{"$f":"tbl_ArchitectureOffices!D444","v":"Schjelderup AS sivilarkitekter MNAL NPA, Helge "},{"$f":"tbl_ArchitectureOffices!C444","v":172786},"Schjelderup AS sivilarkitekter MNAL NPA, Helge",{"$f":"tbl_Companys!D444","v":"Heggelund og Koxvold AS Arkitekter MNAL"},{"$f":"tbl_Companys!C444","v":171082},"Heggelund og Koxvold AS Arkitekter MNAL",{"$f":"tbl_ConsultingCompanys!D444","v":"Oslo kommune, Bydel Stovner"},{"$f":"tbl_ConsultingCompanys!C444","v":214749},"Oslo kommune, Bydel Stovner"]
[{"$nulls":10},{"$f":"tbl_ArchitectureOffices!D445","v":"Schmitthenner arkitekter"},{"$f":"tbl_ArchitectureOffices!C445","v":177781},"Schmitthenner arkitekter",{"$f":"tbl_Companys!D445","v":"Heggenhougen Arkitekter AS"},{"$f":"tbl_Companys!C445","v":171083},"Heggenhougen Arkitekter AS",{"$f":"tbl_ConsultingCompanys!D445","v":"Oslo kommune, Bydel Stovner"},{"$f":"tbl_ConsultingCompanys!C445","v":214750},"Oslo kommune, Bydel Stovner"]
[{"$nulls":10},{"$f":"tbl_ArchitectureOffices!D446","v":"Schønherr landskab KS"},{"$f":"tbl_ArchitectureOffices!C446","v":245865},"Schønherr landskab KS",{"$f":"tbl_Companys!D446","v":"Heiberg & Tveter (RIE)"},{"$f":"tbl_Companys!C446","v":178580},"Heiberg & Tveter (RIE)",{"$f":"tbl_ConsultingCompanys!D446","v":"Oslo kommune, Friluftsetaten"},{"$f":"tbl_ConsultingCompanys!C446","v":160595},"Oslo kommune, Friluftsetaten"]
[{"$nulls":10},{"$f":"tbl_ArchitectureOffices!D447","v":"SE-Arkitektur A/S"},{"$f":"tbl_ArchitectureOffices!C447","v":166621},"SE-Arkitektur A/S",{"$f":"tbl_Companys!D447","v":"Heimdal Bolig"},{"$f":"tbl_Companys!C447","v":240269},"Heimdal Bolig",{"$f":"tbl_ConsultingCompanys!D447","v":"Oslo kommune, Friluftsetaten og Bydel Alna"},{"$f":"tbl_ConsultingCompanys!C447","v":214740},"Oslo kommune, Friluftsetaten og Bydel Alna"]
[{"$nulls":10},{"$f":"tbl_ArchitectureOffices!D448","v":"Selberg Arkitekter AS"},{"$f":"tbl_ArchitectureOffices!C448","v":166619},"Selberg Arkitekter AS",{"$f":"tbl_Companys!D448","v":"Heimdal Entreprenør AS"},{"$f":"tbl_Companys!C448","v":164727},"Heimdal Entreprenør AS",{"$f":"tbl_ConsultingCompanys!D448","v":"Oslo kommune, idrettsetaten"},{"$f":"tbl_ConsultingCompanys!C448","v":218624},"Oslo kommune, idrettsetaten"]
[{"$nulls":10},{"$f":"tbl_ArchitectureOffices!D449","v":"September Arkitekter"},{"$f":"tbl_ArchitectureOffices!C449","v":213205},"September Arkitekter",{"$f":"tbl_Companys!D449","v":"Heindenreich-Ris & Lillefjære A/S"},{"$f":"tbl_Companys!C449","v":120139},"Heindenreich-Ris & Lillefjære A/S",{"$f":"tbl_ConsultingCompanys!D449","v":"Oslo Kommune, Kulturbyggene i Bjørvika"},{"$f":"tbl_ConsultingCompanys!C449","v":217291},"Oslo Kommune, Kulturbyggene i Bjørvika"]
[{"$nulls":10},{"$f":"tbl_ArchitectureOffices!D450","v":"SG Arkitekter AS"},{"$f":"tbl_ArchitectureOffices!C450","v":166618},"SG Arkitekter AS",{"$f":"tbl_Companys!D450","v":"HE-Kjelleveien AS"},{"$f":"tbl_Companys!C450","v":246267},"HE-Kjelleveien AS",{"$f":"tbl_ConsultingCompanys!D450","v":"Oslo kommune, Utdanningsetaten"},{"$f":"tbl_ConsultingCompanys!C450","v":217493},"Oslo kommune, Utdanningsetaten"]
[{"$nulls":10},{"$f":"tbl_ArchitectureOffices!D451","v":"Signatur Arkitekter AS"},{"$f":"tbl_ArchitectureOffices!C451","v":166617},{"$f":"IFERROR(REPLACE(K451,FIND(\" \",K451,LEN(K451)),1,\"\"),K451)","v":"Signatur Arkitekter AS"},{"$f":"tbl_Companys!D451","v":"Helen & Hard AS"},{"$f":"tbl_Companys!C451","v":192377},{"$f":"IFERROR(REPLACE(N451,FIND(\" \",N451,LEN(N451)),1,\"\"),N451)","v":"Helen & Hard AS"},{"$f":"tbl_ConsultingCompanys!D451","v":"Oslo Prosjektadministrasjon AS v/Terje Inglingstad"},{"$f":"tbl_ConsultingCompanys!C451","v":214154},{"$f":"IFERROR(REPLACE(Q451,FIND(\" \",Q451,LEN(Q451)),1,\"\"),Q451)","v":"Oslo Prosjektadministrasjon AS v/Terje Inglingstad"}]
[{"$nulls":10},{"$f":"tbl_ArchitectureOffices!D452","v":"Sivilarkitekt MNAL Randi Slåtten"},{"$f":"tbl_ArchitectureOffices!C452","v":247055},"Sivilarkitekt MNAL Randi Slåtten",{"$f":"tbl_Companys!D452","v":"Helen & Hard AS"},{"$f":"tbl_Companys!C452","v":229017},"Helen & Hard AS",{"$f":"tbl_ConsultingCompanys!D452","v":"Oslo S Utvikling AS"},{"$f":"tbl_ConsultingCompanys!C452","v":218166},"Oslo S Utvikling AS"]
[{"$nulls":10},{"$f":"tbl_ArchitectureOffices!D453","v":"Sivilarkitekt MNAL Steinar Romedal AS"},{"$f":"tbl_ArchitectureOffices!C453","v":238532},"Sivilarkitekt MNAL Steinar Romedal AS",{"$f":"tbl_Companys!D453","v":"Helén Arkitekter AS, Bernt "},{"$f":"tbl_Companys!C453","v":171084},"Helén Arkitekter AS, Bernt",{"$f":"tbl_ConsultingCompanys!D453","v":"Oslo Vei AS"},{"$f":"tbl_ConsultingCompanys!C453","v":172255},"Oslo Vei AS"]
[{"$nulls":10},{"$f":"tbl_ArchitectureOffices!D454","v":"Sivilarkitekt mnal Øyvind Poulsson"},{"$f":"tbl_ArchitectureOffices!C454","v":198799},"Sivilarkitekt mnal Øyvind Poulsson",{"$f":"tbl_Companys!D454","v":"Helge Lunde"},{"$f":"tbl_Companys!C454","v":204511},"Helge Lunde",{"$f":"tbl_ConsultingCompanys!D454","v":"Otium AS"},{"$f":"tbl_ConsultingCompanys!C454","v":158042},"Otium AS"]
[{"$nulls":10},{"$f":"tbl_ArchitectureOffices!D455","v":"Sivilarkitekt Stein Stoknes MNAL"},{"$f":"tbl_ArchitectureOffices!C455","v":234655},"Sivilarkitekt Stein Stoknes MNAL",{"$f":"tbl_Companys!D455","v":"Helling Arkitekter Oslo AS, Lars "},{"$f":"tbl_Companys!C455","v":171086},"Helling Arkitekter Oslo AS, Lars",{"$f":"tbl_ConsultingCompanys!D455","v":"Overhalla kommune"},{"$f":"tbl_ConsultingCompanys!C455","v":236723},"Overhalla kommune"]
[{"$nulls":10},{"$f":"tbl_ArchitectureOffices!D456","v":"Sivilarkitekt Tordis Hoem as"},{"$f":"tbl_ArchitectureOffices!C456","v":171093},"Sivilarkitekt Tordis Hoem as",{"$f":"tbl_Companys!D456","v":"Helsebygg Midt-Norge"},{"$f":"tbl_Companys!C456","v":243126},"Helsebygg Midt-Norge",{"$f":"tbl_ConsultingCompanys!D456","v":"Papirbredden Eiendom AS"},{"$f":"tbl_ConsultingCompanys!C456","v":207270},"Papirbredden Eiendom AS"]
[{"$nulls":10},{"$f":"tbl_ArchitectureOffices!D457","v":"Sjo Fasting Arkitekter"},{"$f":"tbl_ArchitectureOffices!C457","v":245837},"Sjo Fasting Arkitekter",{"$f":"tbl_Companys!D457","v":"Hemato Eiendom"},{"$f":"tbl_Companys!C457","v":242773},"Hemato Eiendom",{"$f":"tbl_ConsultingCompanys!D457","v":"Pascal Rådgivning AS"},{"$f":"tbl_ConsultingCompanys!C457","v":192376},"Pascal Rådgivning AS"]
[{"$nulls":10},{"$f":"tbl_ArchitectureOffices!D458","v":"Sjåtil & Fornæss AS"},{"$f":"tbl_ArchitectureOffices!C458","v":250062},"Sjåtil & Fornæss AS",{"$f":"tbl_Companys!D458","v":"Henning Stokke"},{"$f":"tbl_Companys!C458","v":162859},"Henning Stokke",{"$f":"tbl_ConsultingCompanys!D458","v":"Passivhus Norge a/s"},{"$f":"tbl_ConsultingCompanys!C458","v":111941},"Passivhus Norge a/s"]
[{"$nulls":10},{"$f":"tbl_ArchitectureOffices!D459","v":"Sjåvåg sivilarkitekt MNALm Helle "},{"$f":"tbl_ArchitectureOffices!C459","v":166616},"Sjåvåg sivilarkitekt MNALm Helle",{"$f":"tbl_Companys!D459","v":"Henriksen Arkitekter AS, Arne "},{"$f":"tbl_Companys!C459","v":172665},"Henriksen Arkitekter AS, Arne",{"$f":"tbl_ConsultingCompanys!D459","v":"Peggy Brilke"},{"$f":"tbl_ConsultingCompanys!C459","v":244637},"Peggy Brilke"]
[{"$nulls":10},{"$f":"tbl_ArchitectureOffices!D460","v":"Skaane Arkitektur + Design"},{"$f":"tbl_ArchitectureOffices!C460","v":166612},"Skaane Arkitektur + Design",{"$f":"tbl_Companys!D460","v":"HENT AS "},{"$f":"tbl_Companys!C460","v":157573},"HENT AS",{"$f":"tbl_ConsultingCompanys!D460","v":"Per Arne Hestetun og Anne Grete Gruben"},{"$f":"tbl_ConsultingCompanys!C460","v":160590},"Per Arne Hestetun og Anne Grete Gruben"]
[{"$nulls":10},{"$f":"tbl_ArchitectureOffices!D461","v":"Skaara Arkitekter AS"},{"$f":"tbl_ArchitectureOffices!C461","v":166523},"Skaara Arkitekter AS",{"$f":"tbl_Companys!D461","v":"Hent AS (Knut Alstad)"},{"$f":"tbl_Companys!C461","v":157568},"Hent AS (Knut Alstad)",{"$f":"tbl_ConsultingCompanys!D461","v":"Per Rasmussen AS, Bærum "},{"$f":"tbl_ConsultingCompanys!C461","v":120020},"Per Rasmussen AS, Bærum"]
[{"$nulls":10},{"$f":"tbl_ArchitectureOffices!D462","v":"Skagenarkitektene"},{"$f":"tbl_ArchitectureOffices!C462","v":166521},"Skagenarkitektene",{"$f":"tbl_Companys!D462","v":"HENT AS (totalentreprenør)"},{"$f":"tbl_Companys!C462","v":228147},"HENT AS (totalentreprenør)",{"$f":"tbl_ConsultingCompanys!D462","v":"Pilestredet Park Boligutbygging ANS"},{"$f":"tbl_ConsultingCompanys!C462","v":164812},"Pilestredet Park Boligutbygging ANS"]
[{"$nulls":10},{"$f":"tbl_ArchitectureOffices!D463","v":"Skagenarkitektene"},{"$f":"tbl_ArchitectureOffices!C463","v":166614},"Skagenarkitektene",{"$f":"tbl_Companys!D463","v":"Hille Melbye Arkitekter AS"},{"$f":"tbl_Companys!C463","v":171087},"Hille Melbye Arkitekter AS",{"$f":"tbl_ConsultingCompanys!D463","v":"Pir II AS"},{"$f":"tbl_ConsultingCompanys!C463","v":247808},"Pir II AS"]
[{"$nulls":10},{"$f":"tbl_ArchitectureOffices!D464","v":"Skibnes Arkitekter AS"},{"$f":"tbl_ArchitectureOffices!C464","v":249788},"Skibnes Arkitekter AS",{"$f":"tbl_Companys!D464","v":"Hille Strandskogen AS arkitekter MNAL"},{"$f":"tbl_Companys!C464","v":171088},"Hille Strandskogen AS arkitekter MNAL",{"$f":"tbl_ConsultingCompanys!D464","v":"Planteknikk AS"},{"$f":"tbl_ConsultingCompanys!C464","v":241090},"Planteknikk AS"]
[{"$nulls":10},{"$f":"tbl_ArchitectureOffices!D465","v":"Skylstad as, Arkitekt Svein "},{"$f":"tbl_ArchitectureOffices!C465","v":172685},"Skylstad as, Arkitekt Svein",{"$f":"tbl_Companys!D465","v":"Hindhamar Landskapsarkitekter AS"},{"$f":"tbl_Companys!C465","v":244003},"Hindhamar Landskapsarkitekter AS",{"$f":"tbl_ConsultingCompanys!D465","v":"Polyplan AS "},{"$f":"tbl_ConsultingCompanys!C465","v":121067},"Polyplan AS"]
[{"$nulls":10},{"$f":"tbl_ArchitectureOffices!D466","v":"Sletvold Arkitekter MNAL"},{"$f":"tbl_ArchitectureOffices!C466","v":166517},"Sletvold Arkitekter MNAL",{"$f":"tbl_Companys!D466","v":"Hjelle Arkitekter AS, Harald "},{"$f":"tbl_Companys!C466","v":171089},"Hjelle Arkitekter AS, Harald",{"$f":"tbl_ConsultingCompanys!D466","v":"Porsgrunn kommune"},{"$f":"tbl_ConsultingCompanys!C466","v":248316},"Porsgrunn kommune"]
[{"$nulls":10},{"$f":"tbl_ArchitectureOffices!D467","v":"Slyngstad Aamlid Arkitekter AS"},{"$f":"tbl_ArchitectureOffices!C467","v":166609},"Slyngstad Aamlid Arkitekter AS",{"$f":"tbl_Companys!D467","v":"Hjellnes Consult AS"},{"$f":"tbl_Companys!C467","v":225259},"Hjellnes Consult AS",{"$f":"tbl_ConsultingCompanys!D467","v":"Prima-Hus AS"},{"$f":"tbl_ConsultingCompanys!C467","v":111931},"Prima-Hus AS"]
[{"$nulls":10},{"$f":"tbl_ArchitectureOffices!D468","v":"SMS arkitekter AS"},{"$f":"tbl_ArchitectureOffices!C468","v":166510},"SMS arkitekter AS",{"$f":"tbl_Companys!D468","v":"Hjelmeland Mur & Flis AS (mur og gulv)"},{"$f":"tbl_Companys!C468","v":172954},"Hjelmeland Mur & Flis AS (mur og gulv)",{"$f":"tbl_ConsultingCompanys!D468","v":"Procon AS"},{"$f":"tbl_ConsultingCompanys!C468","v":245786},"Procon AS"]
[{"$nulls":10},{"$f":"tbl_ArchitectureOffices!D469","v":"Snøhetta as"},{"$f":"tbl_ArchitectureOffices!C469","v":166509},"Snøhetta as",{"$f":"tbl_Companys!D469","v":"Hjeltnes AS, sivilarkitekter MNAL, Knut "},{"$f":"tbl_Companys!C469","v":171090},"Hjeltnes AS, sivilarkitekter MNAL, Knut",{"$f":"tbl_ConsultingCompanys!D469","v":"Prokon AS"},{"$f":"tbl_ConsultingCompanys!C469","v":243859},"Prokon AS"]
[{"$nulls":10},{"$f":"tbl_ArchitectureOffices!D470","v":"SOLARK"},{"$f":"tbl_ArchitectureOffices!C470","v":194004},"SOLARK",{"$f":"tbl_Companys!D470","v":"Hjorth Arkitekter"},{"$f":"tbl_Companys!C470","v":249016},"Hjorth Arkitekter",{"$f":"tbl_ConsultingCompanys!D470","v":"Prosjektbygg AS"},{"$f":"tbl_ConsultingCompanys!C470","v":205121},"Prosjektbygg AS"]
[{"$nulls":10},{"$f":"tbl_ArchitectureOffices!D471","v":"Solbjør Arkitektur"},{"$f":"tbl_ArchitectureOffices!C471","v":166508},"Solbjør Arkitektur",{"$f":"tbl_Companys!D471","v":"HLM arkitektur & plan A/S"},{"$f":"tbl_Companys!C471","v":171092},"HLM arkitektur & plan A/S",{"$f":"tbl_ConsultingCompanys!D471","v":"Prosjektutvikling Midt-Norge AS"},{"$f":"tbl_ConsultingCompanys!C471","v":98696},"Prosjektutvikling Midt-Norge AS"]
[{"$nulls":10},{"$f":"tbl_ArchitectureOffices!D472","v":"Solem Arkitektur AS"},{"$f":"tbl_ArchitectureOffices!C472","v":166507},"Solem Arkitektur AS",{"$f":"tbl_Companys!D472","v":"Hoff romstudio, Baard "},{"$f":"tbl_Companys!C472","v":171094},"Hoff romstudio, Baard",{"$f":"tbl_ConsultingCompanys!D472","v":"Protan Bygg og Tak AS"},{"$f":"tbl_ConsultingCompanys!C472","v":163049},"Protan Bygg og Tak AS"]
[{"$nulls":10},{"$f":"tbl_ArchitectureOffices!D473","v":"Solheim og Jacobsen arkitekter AS"},{"$f":"tbl_ArchitectureOffices!C473","v":166505},"Solheim og Jacobsen arkitekter AS",{"$f":"tbl_Companys!D473","v":"Hoffmann, Arne Arkitektene og Ib Omland Phd, sivilarkitekt mnal"},{"$f":"tbl_Companys!C473","v":200496},"Hoffmann, Arne Arkitektene og Ib Omland Phd, sivilarkitekt mnal",{"$f":"tbl_ConsultingCompanys!D473","v":"Protan Bygg og Tak AS"},{"$f":"tbl_ConsultingCompanys!C473","v":165641},"Protan Bygg og Tak AS"]
[{"$nulls":10},{"$f":"tbl_ArchitectureOffices!D474","v":"Solli Arkitekter AS"},{"$f":"tbl_ArchitectureOffices!C474","v":166503},"Solli Arkitekter AS",{"$f":"tbl_Companys!D474","v":"Hol Kirkelige Fellesråd"},{"$f":"tbl_Companys!C474","v":245537},"Hol Kirkelige Fellesråd",{"$f":"tbl_ConsultingCompanys!D474","v":"PÅ Elektroforum AS"},{"$f":"tbl_ConsultingCompanys!C474","v":200082},"PÅ Elektroforum AS"]
[{"$nulls":10},{"$f":"tbl_ArchitectureOffices!D475","v":"Solli Sivilarkitekt MNAL, Tore "},{"$f":"tbl_ArchitectureOffices!C475","v":177575},"Solli Sivilarkitekt MNAL, Tore",{"$f":"tbl_Companys!D475","v":"Holm & Grut Arkitekter MAA PAR"},{"$f":"tbl_Companys!C475","v":171136},"Holm & Grut Arkitekter MAA PAR",{"$f":"tbl_ConsultingCompanys!D475","v":"Ragnars AS"},{"$f":"tbl_ConsultingCompanys!C475","v":202455},"Ragnars AS"]
[{"$nulls":10},{"$f":"tbl_ArchitectureOffices!D476","v":"Solnes AS, Lil "},{"$f":"tbl_ArchitectureOffices!C476","v":172720},"Solnes AS, Lil",{"$f":"tbl_Companys!D476","v":"Holtefjell Entreprenør AS"},{"$f":"tbl_Companys!C476","v":204306},"Holtefjell Entreprenør AS",{"$f":"tbl_ConsultingCompanys!D476","v":"Rambøll"},{"$f":"tbl_ConsultingCompanys!C476","v":217764},"Rambøll"]
[{"$nulls":10},{"$f":"tbl_ArchitectureOffices!D477","v":"Spacegroup Arkitekter A/S"},{"$f":"tbl_ArchitectureOffices!C477","v":166485},"Spacegroup Arkitekter A/S",{"$f":"tbl_Companys!D477","v":"Holz Norge 100 (massivtreelementer)"},{"$f":"tbl_Companys!C477","v":158133},"Holz Norge 100 (massivtreelementer)",{"$f":"tbl_ConsultingCompanys!D477","v":"Ranheimsveien eiendom, Utstillingsplassen Eiendom AS, Larshus AS"},{"$f":"tbl_ConsultingCompanys!C477","v":228622},"Ranheimsveien eiendom, Utstillingsplassen Eiendom AS, Larshus AS"]
[{"$nulls":10},{"$f":"tbl_ArchitectureOffices!D478","v":"Spark arkitektur"},{"$f":"tbl_ArchitectureOffices!C478","v":166484},"Spark arkitektur",{"$f":"tbl_Companys!D478","v":"Hordaland Fylkeskommune Eigedomsseksjonen"},{"$f":"tbl_Companys!C478","v":224141},"Hordaland Fylkeskommune Eigedomsseksjonen",{"$f":"tbl_ConsultingCompanys!D478","v":"Rasmussen & Strand AS"},{"$f":"tbl_ConsultingCompanys!C478","v":247749},"Rasmussen & Strand AS"]
[{"$nulls":10},{"$f":"tbl_ArchitectureOffices!D479","v":"Spiss Arkitektur & Plan AS"},{"$f":"tbl_ArchitectureOffices!C479","v":172895},"Spiss Arkitektur & Plan AS",{"$f":"tbl_Companys!D479","v":"Horten kommune"},{"$f":"tbl_Companys!C479","v":213267},"Horten kommune",{"$f":"tbl_ConsultingCompanys!D479","v":"Raugstad as"},{"$f":"tbl_ConsultingCompanys!C479","v":155958},"Raugstad as"]
[{"$nulls":10},{"$f":"tbl_ArchitectureOffices!D480","v":"Spor Arkitekter AS"},{"$f":"tbl_ArchitectureOffices!C480","v":166481},"Spor Arkitekter AS",{"$f":"tbl_Companys!D480","v":"HR Prosjekt AS"},{"$f":"tbl_Companys!C480","v":248373},"HR Prosjekt AS",{"$f":"tbl_ConsultingCompanys!D480","v":"REC Indovent"},{"$f":"tbl_ConsultingCompanys!C480","v":178214},"REC Indovent"]
[{"$nulls":10},{"$f":"tbl_ArchitectureOffices!D481","v":"Sporstøl AS, Arkitektfirma"},{"$f":"tbl_ArchitectureOffices!C481","v":166479},"Sporstøl AS, Arkitektfirma",{"$f":"tbl_Companys!D481","v":"HRL Skien"},{"$f":"tbl_Companys!C481","v":162892},"HRL Skien",{"$f":"tbl_ConsultingCompanys!D481","v":"Reidar Kristiansen"},{"$f":"tbl_ConsultingCompanys!C481","v":119978},"Reidar Kristiansen"]
[{"$nulls":10},{"$f":"tbl_ArchitectureOffices!D482","v":"Stark Rød-Knudsen arkitekter AS"},{"$f":"tbl_ArchitectureOffices!C482","v":173200},"Stark Rød-Knudsen arkitekter AS",{"$f":"tbl_Companys!D482","v":"HRTB Arkitekter AS MNAL"},{"$f":"tbl_Companys!C482","v":171072},"HRTB Arkitekter AS MNAL",{"$f":"tbl_ConsultingCompanys!D482","v":"Reinertsen AS"},{"$f":"tbl_ConsultingCompanys!C482","v":163052},"Reinertsen AS"]
[{"$nulls":10},{"$f":"tbl_ArchitectureOffices!D483","v":"Stavseth&Lervik Arkitekter AS Mnal"},{"$f":"tbl_ArchitectureOffices!C483","v":193742},"Stavseth&Lervik Arkitekter AS Mnal",{"$f":"tbl_Companys!D483","v":"HS Vagle AS"},{"$f":"tbl_Companys!C483","v":155840},"HS Vagle AS",{"$f":"tbl_ConsultingCompanys!D483","v":"Reinertsen AS (RIAku)"},{"$f":"tbl_ConsultingCompanys!C483","v":215014},"Reinertsen AS (RIAku)"]
[{"$nulls":10},{"$f":"tbl_ArchitectureOffices!D484","v":"Steinsvik Arkitektkontor AS"},{"$f":"tbl_ArchitectureOffices!C484","v":193910},"Steinsvik Arkitektkontor AS",{"$f":"tbl_Companys!D484","v":"HSØ - Hagestande og Øvrehus Arkitektkontor AS"},{"$f":"tbl_Companys!C484","v":171138},"HSØ - Hagestande og Øvrehus Arkitektkontor AS",{"$f":"tbl_ConsultingCompanys!D484","v":"Reinertsen Engineering AS"},{"$f":"tbl_ConsultingCompanys!C484","v":110277},"Reinertsen Engineering AS"]
[{"$nulls":10},{"$f":"tbl_ArchitectureOffices!D485","v":"Steven Holl Architects"},{"$f":"tbl_ArchitectureOffices!C485","v":243879},"Steven Holl Architects",{"$f":"tbl_Companys!D485","v":"Hus AS, Arbeidsgruppen "},{"$f":"tbl_Companys!C485","v":172584},"Hus AS, Arbeidsgruppen",{"$f":"tbl_ConsultingCompanys!D485","v":"Reum og Laugtaug AS"},{"$f":"tbl_ConsultingCompanys!C485","v":111923},"Reum og Laugtaug AS"]
[{"$nulls":10},{"$f":"tbl_ArchitectureOffices!D486","v":"Stousland Arkitektkontor AS"},{"$f":"tbl_ArchitectureOffices!C486","v":166478},"Stousland Arkitektkontor AS",{"$f":"tbl_Companys!D486","v":"Huus og Heim Arkitektur"},{"$f":"tbl_Companys!C486","v":172898},"Huus og Heim Arkitektur",{"$f":"tbl_ConsultingCompanys!D486","v":"Richard Ligård, Framtidens Aktivhus AS"},{"$f":"tbl_ConsultingCompanys!C486","v":225770},"Richard Ligård, Framtidens Aktivhus AS"]
[{"$nulls":10},{"$f":"tbl_ArchitectureOffices!D487","v":"Streken arkitektgruppe as"},{"$f":"tbl_ArchitectureOffices!C487","v":166475},"Streken arkitektgruppe as",{"$f":"tbl_Companys!D487","v":"Hvoslef-Eide AS, Arkitektkontoret Didrik "},{"$f":"tbl_Companys!C487","v":171140},"Hvoslef-Eide AS, Arkitektkontoret Didrik",{"$f":"tbl_ConsultingCompanys!D487","v":"Riksheim Consulting AS (RIV)"},{"$f":"tbl_ConsultingCompanys!C487","v":205123},"Riksheim Consulting AS (RIV)"]
[{"$nulls":10},{"$f":"tbl_ArchitectureOffices!D488","v":"Studio 4 Arkitekter AS"},{"$f":"tbl_ArchitectureOffices!C488","v":166470},"Studio 4 Arkitekter AS",{"$f":"tbl_Companys!D488","v":"HWR arkitekter as"},{"$f":"tbl_Companys!C488","v":171142},"HWR arkitekter as",{"$f":"tbl_ConsultingCompanys!D488","v":"RIV Bjørkaas AS"},{"$f":"tbl_ConsultingCompanys!C488","v":110885},"RIV Bjørkaas AS"]
[{"$nulls":10},{"$f":"tbl_ArchitectureOffices!D489","v":"Studio ludo as"},{"$f":"tbl_ArchitectureOffices!C489","v":166473},"Studio ludo as",{"$f":"tbl_Companys!D489","v":"Hysj arkitekter AS"},{"$f":"tbl_Companys!C489","v":210154},"Hysj arkitekter AS",{"$f":"tbl_ConsultingCompanys!D489","v":"Rivco AS"},{"$f":"tbl_ConsultingCompanys!C489","v":216997},"Rivco AS"]
[{"$nulls":10},{"$f":"tbl_ArchitectureOffices!D490","v":"Studio Stokke"},{"$f":"tbl_ArchitectureOffices!C490","v":166471},"Studio Stokke",{"$f":"tbl_Companys!D490","v":"Häussler/H-produkter"},{"$f":"tbl_Companys!C490","v":178213},"Häussler/H-produkter",{"$f":"tbl_ConsultingCompanys!D490","v":"Roald Haldorsen v/ Oslo Prosjektadministrasjon AS"},{"$f":"tbl_ConsultingCompanys!C490","v":215021},"Roald Haldorsen v/ Oslo Prosjektadministrasjon AS"]
[{"$nulls":10},{"$f":"tbl_ArchitectureOffices!D491","v":"Sundt arkitekter"},{"$f":"tbl_ArchitectureOffices!C491","v":172654},"Sundt arkitekter",{"$f":"tbl_Companys!D491","v":"i NOR as (RIE)"},{"$f":"tbl_Companys!C491","v":182981},"i NOR as (RIE)",{"$f":"tbl_ConsultingCompanys!D491","v":"Roar Jørgensen AS"},{"$f":"tbl_ConsultingCompanys!C491","v":247750},"Roar Jørgensen AS"]
[{"$nulls":10},{"$f":"tbl_ArchitectureOffices!D492","v":"Svein Skibnes Arkitektkontor AS"},{"$f":"tbl_ArchitectureOffices!C492","v":243755},"Svein Skibnes Arkitektkontor AS",{"$f":"tbl_Companys!D492","v":"i2i.no as"},{"$f":"tbl_Companys!C492","v":171148},"i2i.no as",{"$f":"tbl_ConsultingCompanys!D492","v":"Roar Ousland og Marit Grinaker Wright"},{"$f":"tbl_ConsultingCompanys!C492","v":242772},"Roar Ousland og Marit Grinaker Wright"]
[{"$nulls":10},{"$f":"tbl_ArchitectureOffices!D493","v":"Sydarkitekter AS"},{"$f":"tbl_ArchitectureOffices!C493","v":248323},"Sydarkitekter AS",{"$f":"tbl_Companys!D493","v":"IBR el-prosjekt AS"},{"$f":"tbl_Companys!C493","v":181046},"IBR el-prosjekt AS",{"$f":"tbl_ConsultingCompanys!D493","v":"Roar Svenning & Torild Landklopp"},{"$f":"tbl_ConsultingCompanys!C493","v":230104},"Roar Svenning & Torild Landklopp"]
[{"$nulls":10},{"$f":"tbl_ArchitectureOffices!D494","v":"Sæther og Gythfeldt AS, Arkitektkontoret"},{"$f":"tbl_ArchitectureOffices!C494","v":166468},"Sæther og Gythfeldt AS, Arkitektkontoret",{"$f":"tbl_Companys!D494","v":"IDA arkitekter as"},{"$f":"tbl_Companys!C494","v":232354},"IDA arkitekter as",{"$f":"tbl_ConsultingCompanys!D494","v":"Robak VVS as (RIVA)"},{"$f":"tbl_ConsultingCompanys!C494","v":215425},"Robak VVS as (RIVA)"]
[{"$nulls":10},{"$f":"tbl_ArchitectureOffices!D495","v":"Sødal, Arkitekt Arne "},{"$f":"tbl_ArchitectureOffices!C495","v":172896},"Sødal, Arkitekt Arne",{"$f":"tbl_Companys!D495","v":"Ide Arkitekter"},{"$f":"tbl_Companys!C495","v":171144},"Ide Arkitekter",{"$f":"tbl_ConsultingCompanys!D495","v":"Rockwool"},{"$f":"tbl_ConsultingCompanys!C495","v":177641},"Rockwool"]
[{"$nulls":10},{"$f":"tbl_ArchitectureOffices!D496","v":"Sør AS, Arkitektkontoret "},{"$f":"tbl_ArchitectureOffices!C496","v":172596},"Sør AS, Arkitektkontoret",{"$f":"tbl_Companys!D496","v":"IdealBygg AS"},{"$f":"tbl_Companys!C496","v":247502},"IdealBygg AS",{"$f":"tbl_ConsultingCompanys!D496","v":"Rogaland bygg og prosjektutvikling AS"},{"$f":"tbl_ConsultingCompanys!C496","v":158048},"Rogaland bygg og prosjektutvikling AS"]
[{"$nulls":10},{"$f":"tbl_ArchitectureOffices!D497","v":"Sørli arkitekter as"},{"$f":"tbl_ArchitectureOffices!C497","v":172893},"Sørli arkitekter as",{"$f":"tbl_Companys!D497","v":"Iguzzini (lys)"},{"$f":"tbl_Companys!C497","v":198981},"Iguzzini (lys)",{"$f":"tbl_ConsultingCompanys!D497","v":"Rogaland entreprenør AS"},{"$f":"tbl_ConsultingCompanys!C497","v":163150},"Rogaland entreprenør AS"]
[{"$nulls":10},{"$f":"tbl_ArchitectureOffices!D498","v":"Sørli og Haugstad (Shark) AS Arkitektkontor"},{"$f":"tbl_ArchitectureOffices!C498","v":166467},"Sørli og Haugstad (Shark) AS Arkitektkontor",{"$f":"tbl_Companys!D498","v":"Ikke offentlig"},{"$f":"tbl_Companys!C498","v":245832},"Ikke offentlig",{"$f":"tbl_ConsultingCompanys!D498","v":"Rogaland entreprenør AS"},{"$f":"tbl_ConsultingCompanys!C498","v":172632},"Rogaland entreprenør AS"]
[{"$nulls":10},{"$f":"tbl_ArchitectureOffices!D499","v":"Sørumgård, Marit"},{"$f":"tbl_ArchitectureOffices!C499","v":166466},"Sørumgård, Marit",{"$f":"tbl_Companys!D499","v":"Ilje AS"},{"$f":"tbl_Companys!C499","v":160572},"Ilje AS",{"$f":"tbl_ConsultingCompanys!D499","v":"Rogaland entreprnør AS"},{"$f":"tbl_ConsultingCompanys!C499","v":165639},"Rogaland entreprnør AS"]
[{"$nulls":10},{"$f":"tbl_ArchitectureOffices!D500","v":"Tandberg Arkitekter MNAL"},{"$f":"tbl_ArchitectureOffices!C500","v":172901},"Tandberg Arkitekter MNAL",{"$f":"tbl_Companys!D500","v":"In`by AS"},{"$f":"tbl_Companys!C500","v":160569},"In`by AS",{"$f":"tbl_ConsultingCompanys!D500","v":"Rolf Selvaag"},{"$f":"tbl_ConsultingCompanys!C500","v":205918},"Rolf Selvaag"]
[{"$nulls":10},{"$f":"tbl_ArchitectureOffices!D501","v":"TBA Arkitekter"},{"$f":"tbl_ArchitectureOffices!C501","v":166465},"TBA Arkitekter",{"$f":"tbl_Companys!D501","v":"Indigo Arkitekter AS"},{"$f":"tbl_Companys!C501","v":171146},"Indigo Arkitekter AS",{"$f":"tbl_ConsultingCompanys!D501","v":"ROM Eiendom AS"},{"$f":"tbl_ConsultingCompanys!C501","v":214139},"ROM Eiendom AS"]
[{"$nulls":10},{"$f":"tbl_ArchitectureOffices!D502","v":"Team St. Olav ANS"},{"$f":"tbl_ArchitectureOffices!C502","v":243127},"Team St. Olav ANS",{"$f":"tbl_Companys!D502","v":"Ineo Eiendom & Base Property"},{"$f":"tbl_Companys!C502","v":249381},"Ineo Eiendom & Base Property",{"$f":"tbl_ConsultingCompanys!D502","v":"Rose Marie Steinsvik sivilark. MNAL"},{"$f":"tbl_ConsultingCompanys!C502","v":182979},"Rose Marie Steinsvik sivilark. MNAL"]
[{"$nulls":10},{"$f":"tbl_ArchitectureOffices!D503","v":"Tegn 3 AS"},{"$f":"tbl_ArchitectureOffices!C503","v":234630},"Tegn 3 AS",{"$f":"tbl_Companys!D503","v":"Ing. Evensen AS"},{"$f":"tbl_Companys!C503","v":241091},"Ing. Evensen AS",{"$f":"tbl_ConsultingCompanys!D503","v":"Rosenborg Utvikling AS"},{"$f":"tbl_ConsultingCompanys!C503","v":164717},"Rosenborg Utvikling AS"]
[{"$nulls":10},{"$f":"tbl_ArchitectureOffices!D504","v":"Tegn arkitektur og design as"},{"$f":"tbl_ArchitectureOffices!C504","v":166464},"Tegn arkitektur og design as",{"$f":"tbl_Companys!D504","v":"Ing. Jan Johannessen as"},{"$f":"tbl_Companys!C504","v":155960},"Ing. Jan Johannessen as",{"$f":"tbl_ConsultingCompanys!D504","v":"RSG AS"},{"$f":"tbl_ConsultingCompanys!C504","v":231900},"RSG AS"]
[{"$nulls":10},{"$f":"tbl_ArchitectureOffices!D505","v":"Tegneverket Arkitekter AS"},{"$f":"tbl_ArchitectureOffices!C505","v":172735},"Tegneverket Arkitekter AS",{"$f":"tbl_Companys!D505","v":"Ing. K. Simonsen A/S"},{"$f":"tbl_Companys!C505","v":101080},"Ing. K. Simonsen A/S",{"$f":"tbl_ConsultingCompanys!D505","v":"Runde Miljøbygg AS"},{"$f":"tbl_ConsultingCompanys!C505","v":205126},"Runde Miljøbygg AS"]
[{"$nulls":10},{"$f":"tbl_ArchitectureOffices!D506","v":"Teiknistofan Trød"},{"$f":"tbl_ArchitectureOffices!C506","v":166446},"Teiknistofan Trød",{"$f":"tbl_Companys!D506","v":"Ing. Per Ødemark"},{"$f":"tbl_Companys!C506","v":110995},"Ing. Per Ødemark",{"$f":"tbl_ConsultingCompanys!D506","v":"Rye-Kittelsen AS"},{"$f":"tbl_ConsultingCompanys!C506","v":121314},"Rye-Kittelsen AS"]
[{"$nulls":10},{"$f":"tbl_ArchitectureOffices!D507","v":"Thorenfeldt Arkitekter AS"},{"$f":"tbl_ArchitectureOffices!C507","v":166462},"Thorenfeldt Arkitekter AS",{"$f":"tbl_Companys!D507","v":"Ing. Seim & Hultgreen AS"},{"$f":"tbl_Companys!C507","v":103278},"Ing. Seim & Hultgreen AS",{"$f":"tbl_ConsultingCompanys!D507","v":"Ryenstubben Invest AS"},{"$f":"tbl_ConsultingCompanys!C507","v":246737},"Ryenstubben Invest AS"]
[{"$nulls":10},{"$f":"tbl_ArchitectureOffices!D508","v":"Thorsnes Arkitekter AS, Thomas "},{"$f":"tbl_ArchitectureOffices!C508","v":166460},"Thorsnes Arkitekter AS, Thomas",{"$f":"tbl_Companys!D508","v":"Ingar Ellefsrød, Erling Vermelid, Odd Skadsem, Steinar Wegger"},{"$f":"tbl_Companys!C508","v":121096},"Ingar Ellefsrød, Erling Vermelid, Odd Skadsem, Steinar Wegger",{"$f":"tbl_ConsultingCompanys!D508","v":"Rygg Maskin AS (graveentrepenør)"},{"$f":"tbl_ConsultingCompanys!C508","v":155707},"Rygg Maskin AS (graveentrepenør)"]
[{"$nulls":10},{"$f":"tbl_ArchitectureOffices!D509","v":"Thrane AS, Klaus "},{"$f":"tbl_ArchitectureOffices!C509","v":172676},"Thrane AS, Klaus",{"$f":"tbl_Companys!D509","v":"Ingenia AS"},{"$f":"tbl_Companys!C509","v":214726},"Ingenia AS",{"$f":"tbl_ConsultingCompanys!D509","v":"Rørfunn AS"},{"$f":"tbl_ConsultingCompanys!C509","v":228142},"Rørfunn AS"]
[{"$nulls":10},{"$f":"tbl_ArchitectureOffices!D510","v":"Tippetue Arkitekter as"},{"$f":"tbl_ArchitectureOffices!C510","v":172657},"Tippetue Arkitekter as",{"$f":"tbl_Companys!D510","v":"Ingeniør Petter Nome AS (RIV)"},{"$f":"tbl_Companys!C510","v":209552},"Ingeniør Petter Nome AS (RIV)",{"$f":"tbl_ConsultingCompanys!D510","v":"Rørteknikk AS"},{"$f":"tbl_ConsultingCompanys!C510","v":225766},"Rørteknikk AS"]
[{"$nulls":10},{"$f":"tbl_ArchitectureOffices!D511","v":"Tjøme arkitektkontor"},{"$f":"tbl_ArchitectureOffices!C511","v":166459},"Tjøme arkitektkontor",{"$f":"tbl_Companys!D511","v":"Ingvaldsen sivilarkitekt MNAL, Arne "},{"$f":"tbl_Companys!C511","v":171147},"Ingvaldsen sivilarkitekt MNAL, Arne",{"$f":"tbl_ConsultingCompanys!D511","v":"Rørteknikk AS "},{"$f":"tbl_ConsultingCompanys!C511","v":111926},"Rørteknikk AS"]
[{"$nulls":10},{"$f":"tbl_ArchitectureOffices!D512","v":"Tollaas, Inger-Johanne "},{"$f":"tbl_ArchitectureOffices!C512","v":166458},"Tollaas, Inger-Johanne",{"$f":"tbl_Companys!D512","v":"Instanes AS"},{"$f":"tbl_Companys!C512","v":110753},"Instanes AS",{"$f":"tbl_ConsultingCompanys!D512","v":"Samferdselsetaten, Oslo kommune"},{"$f":"tbl_ConsultingCompanys!C512","v":172254},"Samferdselsetaten, Oslo kommune"]
[{"$nulls":10},{"$f":"tbl_ArchitectureOffices!D513","v":"Tom Edvardsen Arkitekter AS"},{"$f":"tbl_ArchitectureOffices!C513","v":247051},"Tom Edvardsen Arkitekter AS",{"$f":"tbl_Companys!D513","v":"Interconsult ASA "},{"$f":"tbl_Companys!C513","v":102852},"Interconsult ASA",{"$f":"tbl_ConsultingCompanys!D513","v":"Samnanger kommune"},{"$f":"tbl_ConsultingCompanys!C513","v":160602},"Samnanger kommune"]
[{"$nulls":10},{"$f":"tbl_ArchitectureOffices!D514","v":"Topos arkitektur og design as"},{"$f":"tbl_ArchitectureOffices!C514","v":166454},"Topos arkitektur og design as",{"$f":"tbl_Companys!D514","v":"Interiørarkitekt MNIL Siri Obrestad Fuhr "},{"$f":"tbl_Companys!C514","v":228971},"Interiørarkitekt MNIL Siri Obrestad Fuhr",{"$f":"tbl_ConsultingCompanys!D514","v":"Sandnes kommune"},{"$f":"tbl_ConsultingCompanys!C514","v":158019},"Sandnes kommune"]
[{"$nulls":10},{"$f":"tbl_ArchitectureOffices!D515","v":"Tornes, Sivilarkitekt MNAL Anne Britt "},{"$f":"tbl_ArchitectureOffices!C515","v":166452},{"$f":"IFERROR(REPLACE(K515,FIND(\" \",K515,LEN(K515)),1,\"\"),K515)","v":"Tornes, Sivilarkitekt MNAL Anne Britt"},{"$f":"tbl_Companys!D515","v":"Ipark Eiendom AS"},{"$f":"tbl_Companys!C515","v":245783},{"$f":"IFERROR(REPLACE(N515,FIND(\" \",N515,LEN(N515)),1,\"\"),N515)","v":"Ipark Eiendom AS"},{"$f":"tbl_ConsultingCompanys!D515","v":"Sandnes Kommune (Ragna Stakland)"},{"$f":"tbl_ConsultingCompanys!C515","v":162854},{"$f":"IFERROR(REPLACE(Q515,FIND(\" \",Q515,LEN(Q515)),1,\"\"),Q515)","v":"Sandnes Kommune (Ragna Stakland)"}]
[{"$nulls":10},{"$f":"tbl_ArchitectureOffices!D516","v":"Torp AS Arkitekter MNAL, Niels"},{"$f":"tbl_ArchitectureOffices!C516","v":166451},"Torp AS Arkitekter MNAL, Niels",{"$f":"tbl_Companys!D516","v":"Isola"},{"$f":"tbl_Companys!C516","v":178211},"Isola",{"$f":"tbl_ConsultingCompanys!D516","v":"Sandås bygg AS"},{"$f":"tbl_ConsultingCompanys!C516","v":112304},"Sandås bygg AS"]
[{"$nulls":10},{"$f":"tbl_ArchitectureOffices!D517","v":"Torsteinsrud-Smith Arkitekter"},{"$f":"tbl_ArchitectureOffices!C517","v":166450},"Torsteinsrud-Smith Arkitekter",{"$f":"tbl_Companys!D517","v":"ISS Landscaping AS ved Stein Anders Sundbye "},{"$f":"tbl_Companys!C517","v":121092},"ISS Landscaping AS ved Stein Anders Sundbye",{"$f":"tbl_ConsultingCompanys!D517","v":"SAPA (dører og vinduer)"},{"$f":"tbl_ConsultingCompanys!C517","v":205249},"SAPA (dører og vinduer)"]
[{"$nulls":10},{"$f":"tbl_ArchitectureOffices!D518","v":"TRAFO arkitektur"},{"$f":"tbl_ArchitectureOffices!C518","v":210075},"TRAFO arkitektur",{"$f":"tbl_Companys!D518","v":"ISS O.Skaaret AS"},{"$f":"tbl_Companys!C518","v":103188},"ISS O.Skaaret AS",{"$f":"tbl_ConsultingCompanys!D518","v":"Scandiaconsult "},{"$f":"tbl_ConsultingCompanys!C518","v":98705},"Scandiaconsult"]
[{"$nulls":10},{"$f":"tbl_ArchitectureOffices!D519","v":"Trollvegg Arkitektstudio AS"},{"$f":"tbl_ArchitectureOffices!C519","v":173041},"Trollvegg Arkitektstudio AS",{"$f":"tbl_Companys!D519","v":"Istad Tekniske AS"},{"$f":"tbl_Companys!C519","v":240271},"Istad Tekniske AS",{"$f":"tbl_ConsultingCompanys!D519","v":"Scandic Oslo Airport"},{"$f":"tbl_ConsultingCompanys!C519","v":228616},"Scandic Oslo Airport"]
[{"$nulls":10},{"$f":"tbl_ArchitectureOffices!D520","v":"Tupelo a+d"},{"$f":"tbl_ArchitectureOffices!C520","v":166445},"Tupelo a+d",{"$f":"tbl_Companys!D520","v":"ITECH (EL, VVS)"},{"$f":"tbl_Companys!C520","v":164238},"ITECH (EL, VVS)",{"$f":"tbl_ConsultingCompanys!D520","v":"SCC AS "},{"$f":"tbl_ConsultingCompanys!C520","v":110988},"SCC AS"]
[{"$nulls":10},{"$f":"tbl_ArchitectureOffices!D521","v":"Tveit as, Arkitektkontoret Nils"},{"$f":"tbl_ArchitectureOffices!C521","v":173194},"Tveit as, Arkitektkontoret Nils",{"$f":"tbl_Companys!D521","v":"IversenPetch AS"},{"$f":"tbl_Companys!C521","v":171487},"IversenPetch AS",{"$f":"tbl_ConsultingCompanys!D521","v":"Schüco International KG "},{"$f":"tbl_ConsultingCompanys!C521","v":162455},"Schüco International KG"]
[{"$nulls":10},{"$f":"tbl_ArchitectureOffices!D522","v":"TYIN tegnestue Arkitekter AS"},{"$f":"tbl_ArchitectureOffices!C522","v":216543},"TYIN tegnestue Arkitekter AS",{"$f":"tbl_Companys!D522","v":"Jackon"},{"$f":"tbl_Companys!C522","v":178212},"Jackon",{"$f":"tbl_ConsultingCompanys!D522","v":"Seabrokers"},{"$f":"tbl_ConsultingCompanys!C522","v":155927},"Seabrokers"]
[{"$nulls":10},{"$f":"tbl_ArchitectureOffices!D523","v":"Tysseland Arkitektur AS"},{"$f":"tbl_ArchitectureOffices!C523","v":171156},"Tysseland Arkitektur AS",{"$f":"tbl_Companys!D523","v":"Jacobsen og Reiten Arkitektkontor AS"},{"$f":"tbl_Companys!C523","v":171149},"Jacobsen og Reiten Arkitektkontor AS",{"$f":"tbl_ConsultingCompanys!D523","v":"Seby AS"},{"$f":"tbl_ConsultingCompanys!C523","v":121070},"Seby AS"]
[{"$nulls":10},{"$f":"tbl_ArchitectureOffices!D524","v":"Urban Rabbe arkitekter as"},{"$f":"tbl_ArchitectureOffices!C524","v":166442},"Urban Rabbe arkitekter as",{"$f":"tbl_Companys!D524","v":"Jadarhus AS"},{"$f":"tbl_Companys!C524","v":155835},"Jadarhus AS",{"$f":"tbl_ConsultingCompanys!D524","v":"Seko Elektro AS"},{"$f":"tbl_ConsultingCompanys!C524","v":178584},"Seko Elektro AS"]
[{"$nulls":10},{"$f":"tbl_ArchitectureOffices!D525","v":"Ustad, Sivilarkitekt MNAL Atle"},{"$f":"tbl_ArchitectureOffices!C525","v":166440},"Ustad, Sivilarkitekt MNAL Atle",{"$f":"tbl_Companys!D525","v":"Jan Brataas Ecobas AS"},{"$f":"tbl_Companys!C525","v":119775},"Jan Brataas Ecobas AS",{"$f":"tbl_ConsultingCompanys!D525","v":"Selmer AS"},{"$f":"tbl_ConsultingCompanys!C525","v":97845},"Selmer AS"]
[{"$nulls":10},{"$f":"tbl_ArchitectureOffices!D526","v":"Various Architects AS"},{"$f":"tbl_ArchitectureOffices!C526","v":172894},"Various Architects AS",{"$f":"tbl_Companys!D526","v":"Jan Nilsen Robstad (VVS)"},{"$f":"tbl_Companys!C526","v":158195},"Jan Nilsen Robstad (VVS)",{"$f":"tbl_ConsultingCompanys!D526","v":"Selvaagbygg"},{"$f":"tbl_ConsultingCompanys!C526","v":119895},"Selvaagbygg"]
[{"$nulls":10},{"$f":"tbl_ArchitectureOffices!D527","v":"Vatne sivilarkitekt MNAL NPA, Kjell"},{"$f":"tbl_ArchitectureOffices!C527","v":166438},"Vatne sivilarkitekt MNAL NPA, Kjell",{"$f":"tbl_Companys!D527","v":"Jan Willy Førland (PTL)"},{"$f":"tbl_Companys!C527","v":158201},"Jan Willy Førland (PTL)",{"$f":"tbl_ConsultingCompanys!D527","v":"Senterbygg Entreprenør AS"},{"$f":"tbl_ConsultingCompanys!C527","v":248972},"Senterbygg Entreprenør AS"]
[{"$nulls":10},{"$f":"tbl_ArchitectureOffices!D528","v":"Verte landskap - arkitektur as"},{"$f":"tbl_ArchitectureOffices!C528","v":191305},"Verte landskap - arkitektur as",{"$f":"tbl_Companys!D528","v":"Jansen Arkitekter AS"},{"$f":"tbl_Companys!C528","v":171150},"Jansen Arkitekter AS",{"$f":"tbl_ConsultingCompanys!D528","v":"SFS intec AS"},{"$f":"tbl_ConsultingCompanys!C528","v":193872},"SFS intec AS"]
[{"$nulls":10},{"$f":"tbl_ArchitectureOffices!D529","v":"Vest AS, Arkitektkontoret "},{"$f":"tbl_ArchitectureOffices!C529","v":166437},"Vest AS, Arkitektkontoret",{"$f":"tbl_Companys!D529","v":"Jarmund Arkitekter as mnal, Kristin "},{"$f":"tbl_Companys!C529","v":171152},"Jarmund Arkitekter as mnal, Kristin",{"$f":"tbl_ConsultingCompanys!D529","v":"Sig. Halvorsen (rørlegger)"},{"$f":"tbl_ConsultingCompanys!C529","v":162881},"Sig. Halvorsen (rørlegger)"]
[{"$nulls":10},{"$f":"tbl_ArchitectureOffices!D530","v":"Vesterlid, Arkitekt MNAL Arne "},{"$f":"tbl_ArchitectureOffices!C530","v":166436},"Vesterlid, Arkitekt MNAL Arne",{"$f":"tbl_Companys!D530","v":"Jarmund/ Vigsnæs AS Arkitekter MNAL"},{"$f":"tbl_Companys!C530","v":171151},"Jarmund/ Vigsnæs AS Arkitekter MNAL",{"$f":"tbl_ConsultingCompanys!D530","v":"Sigurd Eide"},{"$f":"tbl_ConsultingCompanys!C530","v":204512},"Sigurd Eide"]
[{"$nulls":10},{"$f":"tbl_ArchitectureOffices!D531","v":"Vikanes Bungum Arkitekter AS"},{"$f":"tbl_ArchitectureOffices!C531","v":166431},"Vikanes Bungum Arkitekter AS",{"$f":"tbl_Companys!D531","v":"Jensen & Skodvin Arkitektkontor"},{"$f":"tbl_Companys!C531","v":171154},"Jensen & Skodvin Arkitektkontor",{"$f":"tbl_ConsultingCompanys!D531","v":"Simex AS"},{"$f":"tbl_ConsultingCompanys!C531","v":97932},"Simex AS"]
[{"$nulls":10},{"$f":"tbl_ArchitectureOffices!D532","v":"Vindveggen Arkitekter AS"},{"$f":"tbl_ArchitectureOffices!C532","v":172783},"Vindveggen Arkitekter AS",{"$f":"tbl_Companys!D532","v":"Jensen AS, Arkitektkontoret Kjell "},{"$f":"tbl_Companys!C532","v":171153},"Jensen AS, Arkitektkontoret Kjell",{"$f":"tbl_ConsultingCompanys!D532","v":"SINTEF"},{"$f":"tbl_ConsultingCompanys!C532","v":98459},"SINTEF"]
[{"$nulls":10},{"$f":"tbl_ArchitectureOffices!D533","v":"Vindveggen, Martin Glomnes"},{"$f":"tbl_ArchitectureOffices!C533","v":166430},"Vindveggen, Martin Glomnes",{"$f":"tbl_Companys!D533","v":"jm arkitektkontor"},{"$f":"tbl_Companys!C533","v":171155},"jm arkitektkontor",{"$f":"tbl_ConsultingCompanys!D533","v":"SINTEF (energiteknikk, byggteknikk)"},{"$f":"tbl_ConsultingCompanys!C533","v":162918},"SINTEF (energiteknikk, byggteknikk)"]
[{"$nulls":10},{"$f":"tbl_ArchitectureOffices!D534","v":"Vis-à-vis"},{"$f":"tbl_ArchitectureOffices!C534","v":172683},"Vis-à-vis",{"$f":"tbl_Companys!D534","v":"JM Byggholt AS"},{"$f":"tbl_Companys!C534","v":215940},"JM Byggholt AS",{"$f":"tbl_ConsultingCompanys!D534","v":"SINTEF Byggforsk"},{"$f":"tbl_ConsultingCompanys!C534","v":166300},"SINTEF Byggforsk"]
[{"$nulls":10},{"$f":"tbl_ArchitectureOffices!D535","v":"Vulkan arkitekter as"},{"$f":"tbl_ArchitectureOffices!C535","v":166428},"Vulkan arkitekter as",{"$f":"tbl_Companys!D535","v":"Jo Toftdal (byggmester)"},{"$f":"tbl_Companys!C535","v":177643},"Jo Toftdal (byggmester)",{"$f":"tbl_ConsultingCompanys!D535","v":"SINTEF Byggforsk"},{"$f":"tbl_ConsultingCompanys!C535","v":193873},"SINTEF Byggforsk"]
[{"$nulls":10},{"$f":"tbl_ArchitectureOffices!D536","v":"VY as arkitektur"},{"$f":"tbl_ArchitectureOffices!C536","v":166628},"VY as arkitektur",{"$f":"tbl_Companys!D536","v":"Joachim Eble architektur"},{"$f":"tbl_Companys!C536","v":207495},"Joachim Eble architektur",{"$f":"tbl_ConsultingCompanys!D536","v":"Sinus AS"},{"$f":"tbl_ConsultingCompanys!C536","v":217517},"Sinus AS"]
[{"$nulls":10},{"$f":"tbl_ArchitectureOffices!D537","v":"Wendt AS, Arkitektkontoret Gjertrud "},{"$f":"tbl_ArchitectureOffices!C537","v":172730},"Wendt AS, Arkitektkontoret Gjertrud",{"$f":"tbl_Companys!D537","v":"Johannes Lipphardt, Trondheim kommune"},{"$f":"tbl_Companys!C537","v":232345},"Johannes Lipphardt, Trondheim kommune",{"$f":"tbl_ConsultingCompanys!D537","v":"Sinus AS v/Tønnes Ognedal og Svein Folkvord (akustikk)"},{"$f":"tbl_ConsultingCompanys!C537","v":172611},"Sinus AS v/Tønnes Ognedal og Svein Folkvord (akustikk)"]
[{"$nulls":10},{"$f":"tbl_ArchitectureOffices!D538","v":"Westad & Brusletto as, Arkitektkontoret "},{"$f":"tbl_ArchitectureOffices!C538","v":166425},"Westad & Brusletto as, Arkitektkontoret",{"$f":"tbl_Companys!D538","v":"Johansen, Jonny sivilarkitekt MNAL"},{"$f":"tbl_Companys!C538","v":200495},"Johansen, Jonny sivilarkitekt MNAL",{"$f":"tbl_ConsultingCompanys!D538","v":"Sinus Elektro (Elektro)"},{"$f":"tbl_ConsultingCompanys!C538","v":162872},"Sinus Elektro (Elektro)"]
[{"$nulls":10},{"$f":"tbl_ArchitectureOffices!D539","v":"Wiberg AS Arkitektur & plan"},{"$f":"tbl_ArchitectureOffices!C539","v":228511},"Wiberg AS Arkitektur & plan",{"$f":"tbl_Companys!D539","v":"Johs E. Øvsthus AS"},{"$f":"tbl_Companys!C539","v":230174},"Johs E. Øvsthus AS",{"$f":"tbl_ConsultingCompanys!D539","v":"SiT Eiendom"},{"$f":"tbl_ConsultingCompanys!C539","v":165390},"SiT Eiendom"]
[{"$nulls":10},{"$f":"tbl_ArchitectureOffices!D540","v":"WOOD arkitektur+design"},{"$f":"tbl_ArchitectureOffices!C540","v":207151},"WOOD arkitektur+design",{"$f":"tbl_Companys!D540","v":"Jon Bojer Godal"},{"$f":"tbl_Companys!C540","v":247287},"Jon Bojer Godal",{"$f":"tbl_ConsultingCompanys!D540","v":"Siv ing Haug og Blom-Bakke AS"},{"$f":"tbl_ConsultingCompanys!C540","v":172595},"Siv ing Haug og Blom-Bakke AS"]
[{"$nulls":10},{"$f":"tbl_ArchitectureOffices!D541","v":"Yran, Petter  & Bjørn Storbraaten Architects AS"},{"$f":"tbl_ArchitectureOffices!C541","v":166414},"Yran, Petter  & Bjørn Storbraaten Architects AS",{"$f":"tbl_Companys!D541","v":"Jonsson Arkitektkontor, Gudmundur "},{"$f":"tbl_Companys!C541","v":173253},"Jonsson Arkitektkontor, Gudmundur",{"$f":"tbl_ConsultingCompanys!D541","v":"Siv. ing. Karl Knudsen"},{"$f":"tbl_ConsultingCompanys!C541","v":184492},"Siv. ing. Karl Knudsen"]
[{"$nulls":10},{"$f":"tbl_ArchitectureOffices!D542","v":"Zinc AS"},{"$f":"tbl_ArchitectureOffices!C542","v":230397},"Zinc AS",{"$f":"tbl_Companys!D542","v":"Jorunn Sannes (kunstner, fasade)"},{"$f":"tbl_Companys!C542","v":202820},"Jorunn Sannes (kunstner, fasade)",{"$f":"tbl_ConsultingCompanys!D542","v":"Siv. Ing. Netteberg AS (VVS)"},{"$f":"tbl_ConsultingCompanys!C542","v":155175},"Siv. Ing. Netteberg AS (VVS)"]
[{"$nulls":10},{"$f":"tbl_ArchitectureOffices!D543","v":"ØKAW AS Arkitekter MNAL"},{"$f":"tbl_ArchitectureOffices!C543","v":166405},"ØKAW AS Arkitekter MNAL",{"$f":"tbl_Companys!D543","v":"JST Arkitekter AS"},{"$f":"tbl_Companys!C543","v":214510},"JST Arkitekter AS",{"$f":"tbl_ConsultingCompanys!D543","v":"Siv. Ing. P.O. Danielsen"},{"$f":"tbl_ConsultingCompanys!C543","v":164718},"Siv. Ing. P.O. Danielsen"]
[{"$nulls":10},{"$f":"tbl_ArchitectureOffices!D544","v":"Østengen og Bergo Landskapsarkitekter AS"},{"$f":"tbl_ArchitectureOffices!C544","v":245624},"Østengen og Bergo Landskapsarkitekter AS",{"$f":"tbl_Companys!D544","v":"Jærbetong AS"},{"$f":"tbl_Companys!C544","v":228972},"Jærbetong AS",{"$f":"tbl_ConsultingCompanys!D544","v":"Siv. Ing. Trond Thorvaldsen AS"},{"$f":"tbl_ConsultingCompanys!C544","v":204307},"Siv. Ing. Trond Thorvaldsen AS"]
[{"$nulls":10},{"$f":"tbl_ArchitectureOffices!D545","v":"Østgaard Arkitekter AS"},{"$f":"tbl_ArchitectureOffices!C545","v":166402},"Østgaard Arkitekter AS",{"$f":"tbl_Companys!D545","v":"K. Lund / ORAS"},{"$f":"tbl_Companys!C545","v":98982},"K. Lund / ORAS",{"$f":"tbl_ConsultingCompanys!D545","v":"Siv.Ing Knut Finseth AS (RIB)"},{"$f":"tbl_ConsultingCompanys!C545","v":214145},"Siv.Ing Knut Finseth AS (RIB)"]
[{"$nulls":10},{"$f":"tbl_ArchitectureOffices!D546","v":"Øye arkitektkontor as, Georg"},{"$f":"tbl_ArchitectureOffices!C546","v":166398},"Øye arkitektkontor as, Georg",{"$f":"tbl_Companys!D546","v":"K16 AS, Arkitektkontoret "},{"$f":"tbl_Companys!C546","v":171824},"K16 AS, Arkitektkontoret",{"$f":"tbl_ConsultingCompanys!D546","v":"Siv.ing. Christian Svenkerud"},{"$f":"tbl_ConsultingCompanys!C546","v":110760},"Siv.ing. Christian Svenkerud"]
[{"$nulls":10},{"$f":"tbl_ArchitectureOffices!D547","v":"Øystein Thommesen AS"},{"$f":"tbl_ArchitectureOffices!C547","v":244635},"Øystein Thommesen AS",{"$f":"tbl_Companys!D547","v":"Kahrs Arkitekter AS, Paal J."},{"$f":"tbl_Companys!C547","v":171823},"Kahrs Arkitekter AS, Paal J.",{"$f":"tbl_ConsultingCompanys!D547","v":"Siv.ing. JP Dybdahl AS (RIV)"},{"$f":"tbl_ConsultingCompanys!C547","v":202688},"Siv.ing. JP Dybdahl AS (RIV)"]
[{"$nulls":10},{"$f":"tbl_ArchitectureOffices!D548","v":"Øystein Thommesen AS"},{"$f":"tbl_ArchitectureOffices!C548","v":248257},"Øystein Thommesen AS",{"$f":"tbl_Companys!D548","v":"Kai Paulsen (Skanska AS)"},{"$f":"tbl_Companys!C548","v":160688},"Kai Paulsen (Skanska AS)",{"$f":"tbl_ConsultingCompanys!D548","v":"Siv.ing. P.O.Danielsen AS (RIB)"},{"$f":"tbl_ConsultingCompanys!C548","v":208884},"Siv.ing. P.O.Danielsen AS (RIB)"]
[{"$nulls":10},{"$f":"tbl_ArchitectureOffices!D549","v":0},{"$f":"tbl_ArchitectureOffices!C549","v":0},0,{"$f":"tbl_Companys!D549","v":"Kanvas"},{"$f":"tbl_Companys!C549","v":157879},"Kanvas",{"$f":"tbl_ConsultingCompanys!D549","v":"Siv.ing. Terje Orlien AS"},{"$f":"tbl_ConsultingCompanys!C549","v":119831},"Siv.ing. Terje Orlien AS"]
[{"$nulls":10},{"$f":"tbl_ArchitectureOffices!D550","v":0},{"$f":"tbl_ArchitectureOffices!C550","v":0},0,{"$f":"tbl_Companys!D550","v":"Kanvas v/ Lisbet Andresen"},{"$f":"tbl_Companys!C550","v":157878},"Kanvas v/ Lisbet Andresen",{"$f":"tbl_ConsultingCompanys!D550","v":"Siv.ing. Trond Amundsen AS (RIB)"},{"$f":"tbl_ConsultingCompanys!C550","v":162915},"Siv.ing. Trond Amundsen AS (RIB)"]
[{"$nulls":10},{"$f":"tbl_ArchitectureOffices!D551","v":0},{"$f":"tbl_ArchitectureOffices!C551","v":0},0,{"$f":"tbl_Companys!D551","v":"Kap - kontor for arkitektur og plan"},{"$f":"tbl_Companys!C551","v":171822},"Kap - kontor for arkitektur og plan",{"$f":"tbl_ConsultingCompanys!D551","v":"Siv.Ing. Øyvind Berntsen AS (RIV)"},{"$f":"tbl_ConsultingCompanys!C551","v":160691},"Siv.Ing. Øyvind Berntsen AS (RIV)"]
[{"$nulls":10},{"$f":"tbl_ArchitectureOffices!D552","v":0},{"$f":"tbl_ArchitectureOffices!C552","v":0},0,{"$f":"tbl_Companys!D552","v":"Kapsel design as"},{"$f":"tbl_Companys!C552","v":247308},"Kapsel design as",{"$f":"tbl_ConsultingCompanys!D552","v":"Sivilarkitekt Erik Ask"},{"$f":"tbl_ConsultingCompanys!C552","v":160576},"Sivilarkitekt Erik Ask"]
[{"$nulls":10},{"$f":"tbl_ArchitectureOffices!D553","v":0},{"$f":"tbl_ArchitectureOffices!C553","v":0},0,{"$f":"tbl_Companys!D553","v":"Karl Kvalsund AS (RIE)"},{"$f":"tbl_Companys!C553","v":205124},"Karl Kvalsund AS (RIE)",{"$f":"tbl_ConsultingCompanys!D553","v":"Sivilingeniørene Storkmoen og Hamre AS "},{"$f":"tbl_ConsultingCompanys!C553","v":112147},"Sivilingeniørene Storkmoen og Hamre AS"]
[{"$nulls":10},{"$f":"tbl_ArchitectureOffices!D554","v":0},{"$f":"tbl_ArchitectureOffices!C554","v":0},0,{"$f":"tbl_Companys!D554","v":"Karl Sæbjørn Kjøllesdal"},{"$f":"tbl_Companys!C554","v":160592},"Karl Sæbjørn Kjøllesdal",{"$f":"tbl_ConsultingCompanys!D554","v":"SK Langeland (byggeleder grunn & betong)"},{"$f":"tbl_ConsultingCompanys!C554","v":162877},"SK Langeland (byggeleder grunn & betong)"]
[{"$nulls":10},{"$f":"tbl_ArchitectureOffices!D555","v":0},{"$f":"tbl_ArchitectureOffices!C555","v":0},0,{"$f":"tbl_Companys!D555","v":"Karsten T. Huitfeldt sivilarkitekt MNAL"},{"$f":"tbl_Companys!C555","v":233829},"Karsten T. Huitfeldt sivilarkitekt MNAL",{"$f":"tbl_ConsultingCompanys!D555","v":"Skaaret AS"},{"$f":"tbl_ConsultingCompanys!C555","v":191906},"Skaaret AS"]
[{"$nulls":10},{"$f":"tbl_ArchitectureOffices!D556","v":0},{"$f":"tbl_ArchitectureOffices!C556","v":0},0,{"$f":"tbl_Companys!D556","v":"Katarsis as"},{"$f":"tbl_Companys!C556","v":172671},"Katarsis as",{"$f":"tbl_ConsultingCompanys!D556","v":"Skandinaviska Glassystem AB"},{"$f":"tbl_ConsultingCompanys!C556","v":166655},"Skandinaviska Glassystem AB"]
[{"$nulls":10},{"$f":"tbl_ArchitectureOffices!D557","v":0},{"$f":"tbl_ArchitectureOffices!C557","v":0},0,{"$f":"tbl_Companys!D557","v":"KEO arkitekter AS"},{"$f":"tbl_Companys!C557","v":171826},"KEO arkitekter AS",{"$f":"tbl_ConsultingCompanys!D557","v":"Skansen AS"},{"$f":"tbl_ConsultingCompanys!C557","v":160587},"Skansen AS"]
[{"$nulls":10},{"$f":"tbl_ArchitectureOffices!D558","v":0},{"$f":"tbl_ArchitectureOffices!C558","v":0},0,{"$f":"tbl_Companys!D558","v":"Kester Bunyan Arkitektur as"},{"$f":"tbl_Companys!C558","v":227234},"Kester Bunyan Arkitektur as",{"$f":"tbl_ConsultingCompanys!D558","v":"Skansen Consult AS"},{"$f":"tbl_ConsultingCompanys!C558","v":236409},"Skansen Consult AS"]
[{"$nulls":10},{"$f":"tbl_ArchitectureOffices!D559","v":0},{"$f":"tbl_ArchitectureOffices!C559","v":0},0,{"$f":"tbl_Companys!D559","v":"KEY arkitekter as mnal"},{"$f":"tbl_Companys!C559","v":215756},"KEY arkitekter as mnal",{"$f":"tbl_ConsultingCompanys!D559","v":"Skanska AS"},{"$f":"tbl_ConsultingCompanys!C559","v":160687},"Skanska AS"]
[{"$nulls":10},{"$f":"tbl_ArchitectureOffices!D560","v":0},{"$f":"tbl_ArchitectureOffices!C560","v":0},0,{"$f":"tbl_Companys!D560","v":"Kibsgaard-Petersen AS"},{"$f":"tbl_Companys!C560","v":229864},"Kibsgaard-Petersen AS",{"$f":"tbl_ConsultingCompanys!D560","v":"Skanska Eiendomsutvikling"},{"$f":"tbl_ConsultingCompanys!C560","v":231962},"Skanska Eiendomsutvikling"]
[{"$nulls":10},{"$f":"tbl_ArchitectureOffices!D561","v":0},{"$f":"tbl_ArchitectureOffices!C561","v":0},0,{"$f":"tbl_Companys!D561","v":"Kilde Akustikk AS "},{"$f":"tbl_Companys!C561","v":155178},"Kilde Akustikk AS",{"$f":"tbl_ConsultingCompanys!D561","v":"Skanska KEB"},{"$f":"tbl_ConsultingCompanys!C561","v":246725},"Skanska KEB"]
[{"$nulls":10},{"$f":"tbl_ArchitectureOffices!D562","v":0},{"$f":"tbl_ArchitectureOffices!C562","v":0},0,{"$f":"tbl_Companys!D562","v":"KILDE akustikk as (RIAKU)"},{"$f":"tbl_Companys!C562","v":215429},"KILDE akustikk as (RIAKU)",{"$f":"tbl_ConsultingCompanys!D562","v":"Skanska Region Bergen"},{"$f":"tbl_ConsultingCompanys!C562","v":231965},"Skanska Region Bergen"]
[{"$nulls":10},{"$f":"tbl_ArchitectureOffices!D563","v":0},{"$f":"tbl_ArchitectureOffices!C563","v":0},0,{"$f":"tbl_Companys!D563","v":"Kile Stokholm Arkitekter AS"},{"$f":"tbl_Companys!C563","v":171820},"Kile Stokholm Arkitekter AS",{"$f":"tbl_ConsultingCompanys!D563","v":"Skanska SPU"},{"$f":"tbl_ConsultingCompanys!C563","v":246724},"Skanska SPU"]
[{"$nulls":10},{"$f":"tbl_ArchitectureOffices!D564","v":0},{"$f":"tbl_ArchitectureOffices!C564","v":0},0,{"$f":"tbl_Companys!D564","v":"KIMA arkitektur as"},{"$f":"tbl_Companys!C564","v":171603},"KIMA arkitektur as",{"$f":"tbl_ConsultingCompanys!D564","v":"Skanska Tekniske"},{"$f":"tbl_ConsultingCompanys!C564","v":231964},"Skanska Tekniske"]
[{"$nulls":10},{"$f":"tbl_ArchitectureOffices!D565","v":0},{"$f":"tbl_ArchitectureOffices!C565","v":0},0,{"$f":"tbl_Companys!D565","v":"Kjell Garshol AS, Bærum"},{"$f":"tbl_Companys!C565","v":120019},"Kjell Garshol AS, Bærum",{"$f":"tbl_ConsultingCompanys!D565","v":"Skanska Tekniske Enteprise"},{"$f":"tbl_ConsultingCompanys!C565","v":246726},"Skanska Tekniske Enteprise"]
[{"$nulls":10},{"$f":"tbl_ArchitectureOffices!D566","v":0},{"$f":"tbl_ArchitectureOffices!C566","v":0},0,{"$f":"tbl_Companys!D566","v":"Kjell Ludvigsen (RIB)"},{"$f":"tbl_Companys!C566","v":209555},"Kjell Ludvigsen (RIB)",{"$f":"tbl_ConsultingCompanys!D566","v":"Ski boligbyggelag"},{"$f":"tbl_ConsultingCompanys!C566","v":160573},"Ski boligbyggelag"]
[{"$nulls":10},{"$f":"tbl_ArchitectureOffices!D567","v":0},{"$f":"tbl_ArchitectureOffices!C567","v":0},0,{"$f":"tbl_Companys!D567","v":"Kjell Ludvigsen AS"},{"$f":"tbl_Companys!C567","v":247748},"Kjell Ludvigsen AS",{"$f":"tbl_ConsultingCompanys!D567","v":"Skien Kommune"},{"$f":"tbl_ConsultingCompanys!C567","v":155980},"Skien Kommune"]
[{"$nulls":10},{"$f":"tbl_ArchitectureOffices!D568","v":0},{"$f":"tbl_ArchitectureOffices!C568","v":0},0,{"$f":"tbl_Companys!D568","v":"Kjell Sævik as"},{"$f":"tbl_Companys!C568","v":215430},"Kjell Sævik as",{"$f":"tbl_ConsultingCompanys!D568","v":"Skien kommune"},{"$f":"tbl_ConsultingCompanys!C568","v":217041},"Skien kommune"]
[{"$nulls":10},{"$f":"tbl_ArchitectureOffices!D569","v":0},{"$f":"tbl_ArchitectureOffices!C569","v":0},0,{"$f":"tbl_Companys!D569","v":"Kjernehuset Arkitektkontor"},{"$f":"tbl_Companys!C569","v":171819},"Kjernehuset Arkitektkontor",{"$f":"tbl_ConsultingCompanys!D569","v":"Smed Alsaker AS"},{"$f":"tbl_ConsultingCompanys!C569","v":157877},"Smed Alsaker AS"]
[{"$nulls":10},{"$f":"tbl_ArchitectureOffices!D570","v":0},{"$f":"tbl_ArchitectureOffices!C570","v":0},0,{"$f":"tbl_Companys!D570","v":"Kleihues+Schuwerk Gesellschaft von Architekten mbH"},{"$f":"tbl_Companys!C570","v":245623},"Kleihues+Schuwerk Gesellschaft von Architekten mbH",{"$f":"tbl_ConsultingCompanys!D570","v":"SMI energi og miljø AS"},{"$f":"tbl_ConsultingCompanys!C570","v":245785},"SMI energi og miljø AS"]
[{"$nulls":10},{"$f":"tbl_ArchitectureOffices!D571","v":0},{"$f":"tbl_ArchitectureOffices!C571","v":0},0,{"$f":"tbl_Companys!D571","v":"Klepp installasjon AS"},{"$f":"tbl_Companys!C571","v":163047},"Klepp installasjon AS",{"$f":"tbl_ConsultingCompanys!D571","v":"Smidt & Ingebrigtsen AS"},{"$f":"tbl_ConsultingCompanys!C571","v":218044},"Smidt & Ingebrigtsen AS"]
[{"$nulls":10},{"$f":"tbl_ArchitectureOffices!D572","v":0},{"$f":"tbl_ArchitectureOffices!C572","v":0},0,{"$f":"tbl_Companys!D572","v":"Klepp installasjon AS"},{"$f":"tbl_Companys!C572","v":165638},"Klepp installasjon AS",{"$f":"tbl_ConsultingCompanys!D572","v":"SNO Sogndal"},{"$f":"tbl_ConsultingCompanys!C572","v":214842},"SNO Sogndal"]
[{"$nulls":10},{"$f":"tbl_ArchitectureOffices!D573","v":0},{"$f":"tbl_ArchitectureOffices!C573","v":0},0,{"$f":"tbl_Companys!D573","v":"Klepp kyrkjelege fellesråd"},{"$f":"tbl_Companys!C573","v":228968},"Klepp kyrkjelege fellesråd",{"$f":"tbl_ConsultingCompanys!D573","v":"Sohlberg og Toftenes AS"},{"$f":"tbl_ConsultingCompanys!C573","v":181038},"Sohlberg og Toftenes AS"]
[{"$nulls":10},{"$f":"tbl_ArchitectureOffices!D574","v":0},{"$f":"tbl_ArchitectureOffices!C574","v":0},0,{"$f":"tbl_Companys!D574","v":"Klepphus AS"},{"$f":"tbl_Companys!C574","v":158052},"Klepphus AS",{"$f":"tbl_ConsultingCompanys!D574","v":"Solarnor AS"},{"$f":"tbl_ConsultingCompanys!C574","v":103201},"Solarnor AS"]
[{"$nulls":10},{"$f":"tbl_ArchitectureOffices!D575","v":0},{"$f":"tbl_ArchitectureOffices!C575","v":0},0,{"$f":"tbl_Companys!D575","v":"Klimat Teknologi AB"},{"$f":"tbl_Companys!C575","v":120058},"Klimat Teknologi AB",{"$f":"tbl_ConsultingCompanys!D575","v":"Solberg & Toftenes (RIBR)"},{"$f":"tbl_ConsultingCompanys!C575","v":214150},"Solberg & Toftenes (RIBR)"]
[{"$nulls":10},{"$f":"tbl_ArchitectureOffices!D576","v":0},{"$f":"tbl_ArchitectureOffices!C576","v":0},0,{"$f":"tbl_Companys!D576","v":"Klimatak YIT (RIV, RIE)"},{"$f":"tbl_Companys!C576","v":158194},"Klimatak YIT (RIV, RIE)",{"$f":"tbl_ConsultingCompanys!D576","v":"Solberg og Toftenes AS"},{"$f":"tbl_ConsultingCompanys!C576","v":160580},"Solberg og Toftenes AS"]
[{"$nulls":10},{"$f":"tbl_ArchitectureOffices!D577","v":0},{"$f":"tbl_ArchitectureOffices!C577","v":0},0,{"$f":"tbl_Companys!D577","v":"KLP Eiendom"},{"$f":"tbl_Companys!C577","v":208891},"KLP Eiendom",{"$f":"tbl_ConsultingCompanys!D577","v":"Solland AS (ventilasjon)"},{"$f":"tbl_ConsultingCompanys!C577","v":155703},"Solland AS (ventilasjon)"]
[{"$nulls":10},{"$f":"tbl_ArchitectureOffices!D578","v":0},{"$f":"tbl_ArchitectureOffices!C578","v":0},0,{"$f":"tbl_Companys!D578","v":"KN Kjøita AS (Egil Andre Jore)"},{"$f":"tbl_Companys!C578","v":158191},"KN Kjøita AS (Egil Andre Jore)",{"$f":"tbl_ConsultingCompanys!D578","v":"SOS Brannsikring AS"},{"$f":"tbl_ConsultingCompanys!C578","v":245543},"SOS Brannsikring AS"]
[{"$nulls":10},{"$f":"tbl_ArchitectureOffices!D579","v":0},{"$f":"tbl_ArchitectureOffices!C579","v":0},{"$f":"IFERROR(REPLACE(K579,FIND(\" \",K579,LEN(K579)),1,\"\"),K579)","v":0},{"$f":"tbl_Companys!D579","v":"Knudsen Arkitektkontor AS, Per "},{"$f":"tbl_Companys!C579","v":171818},{"$f":"IFERROR(REPLACE(N579,FIND(\" \",N579,LEN(N579)),1,\"\"),N579)","v":"Knudsen Arkitektkontor AS, Per"},{"$f":"tbl_ConsultingCompanys!D579","v":"Sparebank 1 SMN kvartalet"},{"$f":"tbl_ConsultingCompanys!C579","v":178925},{"$f":"IFERROR(REPLACE(Q579,FIND(\" \",Q579,LEN(Q579)),1,\"\"),Q579)","v":"Sparebank 1 SMN kvartalet"}]
[{"$nulls":10},{"$f":"tbl_ArchitectureOffices!D580","v":0},{"$f":"tbl_ArchitectureOffices!C580","v":0},0,{"$f":"tbl_Companys!D580","v":"Knudtsen AS, Arkitekthuset "},{"$f":"tbl_Companys!C580","v":171816},"Knudtsen AS, Arkitekthuset",{"$f":"tbl_ConsultingCompanys!D580","v":"Spets AS "},{"$f":"tbl_ConsultingCompanys!C580","v":165393},"Spets AS"]
[{"$nulls":10},{"$f":"tbl_ArchitectureOffices!D581","v":0},{"$f":"tbl_ArchitectureOffices!C581","v":0},0,{"$f":"tbl_Companys!D581","v":"Knut Skutle as"},{"$f":"tbl_Companys!C581","v":112152},"Knut Skutle as",{"$f":"tbl_ConsultingCompanys!D581","v":"SSBYGG AS"},{"$f":"tbl_ConsultingCompanys!C581","v":225764},"SSBYGG AS"]
[{"$nulls":10},{"$f":"tbl_ArchitectureOffices!D582","v":0},{"$f":"tbl_ArchitectureOffices!C582","v":0},0,{"$f":"tbl_Companys!D582","v":"Knut Skutle AS"},{"$f":"tbl_Companys!C582","v":155124},"Knut Skutle AS",{"$f":"tbl_ConsultingCompanys!D582","v":"Statens vegvesen"},{"$f":"tbl_ConsultingCompanys!C582","v":158051},"Statens vegvesen"]
[{"$nulls":10},{"$f":"tbl_ArchitectureOffices!D583","v":0},{"$f":"tbl_ArchitectureOffices!C583","v":0},0,{"$f":"tbl_Companys!D583","v":"Knut Skutle AS"},{"$f":"tbl_Companys!C583","v":155180},"Knut Skutle AS",{"$f":"tbl_ConsultingCompanys!D583","v":"Statens vegvesen, Turistvegkontoret"},{"$f":"tbl_ConsultingCompanys!C583","v":180285},"Statens vegvesen, Turistvegkontoret"]
[{"$nulls":10},{"$f":"tbl_ArchitectureOffices!D584","v":0},{"$f":"tbl_ArchitectureOffices!C584","v":0},0,{"$f":"tbl_Companys!D584","v":"Koda Arkitekter AS"},{"$f":"tbl_Companys!C584","v":171813},"Koda Arkitekter AS",{"$f":"tbl_ConsultingCompanys!D584","v":"Statkraft Grøner AS"},{"$f":"tbl_ConsultingCompanys!C584","v":120022},"Statkraft Grøner AS"]
[{"$nulls":10},{"$f":"tbl_ArchitectureOffices!D585","v":0},{"$f":"tbl_ArchitectureOffices!C585","v":0},0,{"$f":"tbl_Companys!D585","v":"Kolberg ventilasjon (RIV)"},{"$f":"tbl_Companys!C585","v":214147},"Kolberg ventilasjon (RIV)",{"$f":"tbl_ConsultingCompanys!D585","v":"Statnett SF"},{"$f":"tbl_ConsultingCompanys!C585","v":243117},"Statnett SF"]
[{"$nulls":10},{"$f":"tbl_ArchitectureOffices!D586","v":0},{"$f":"tbl_ArchitectureOffices!C586","v":0},0,{"$f":"tbl_Companys!D586","v":"Kolnes maskin"},{"$f":"tbl_Companys!C586","v":163151},"Kolnes maskin",{"$f":"tbl_ConsultingCompanys!D586","v":"Statsbygg"},{"$f":"tbl_ConsultingCompanys!C586","v":160597},"Statsbygg"]
[{"$nulls":10},{"$f":"tbl_ArchitectureOffices!D587","v":0},{"$f":"tbl_ArchitectureOffices!C587","v":0},0,{"$f":"tbl_Companys!D587","v":"Kolnes Maskin"},{"$f":"tbl_Companys!C587","v":165636},"Kolnes Maskin",{"$f":"tbl_ConsultingCompanys!D587","v":"Stavanger boligbyggelag"},{"$f":"tbl_ConsultingCompanys!C587","v":155706},"Stavanger boligbyggelag"]
[{"$nulls":10},{"$f":"tbl_ArchitectureOffices!D588","v":0},{"$f":"tbl_ArchitectureOffices!C588","v":0},0,{"$f":"tbl_Companys!D588","v":"Kolnes Maskin AS"},{"$f":"tbl_Companys!C588","v":163048},"Kolnes Maskin AS",{"$f":"tbl_ConsultingCompanys!D588","v":"Stavanger boligbyggelag"},{"$f":"tbl_ConsultingCompanys!C588","v":158050},"Stavanger boligbyggelag"]
[{"$nulls":10},{"$f":"tbl_ArchitectureOffices!D589","v":0},{"$f":"tbl_ArchitectureOffices!C589","v":0},0,{"$f":"tbl_Companys!D589","v":"Kongsvinger kommune og Hedmark fylkeskommune"},{"$f":"tbl_Companys!C589","v":214729},"Kongsvinger kommune og Hedmark fylkeskommune",{"$f":"tbl_ConsultingCompanys!D589","v":"Stavanger kommune"},{"$f":"tbl_ConsultingCompanys!C589","v":216181},"Stavanger kommune"]
[{"$nulls":10},{"$f":"tbl_ArchitectureOffices!D590","v":0},{"$f":"tbl_ArchitectureOffices!C590","v":0},0,{"$f":"tbl_Companys!D590","v":"Kon-sul AS"},{"$f":"tbl_Companys!C590","v":171785},"Kon-sul AS",{"$f":"tbl_ConsultingCompanys!D590","v":"Stavanger kommune v/ Stavanger Eiendom"},{"$f":"tbl_ConsultingCompanys!C590","v":160511},"Stavanger kommune v/ Stavanger Eiendom"]
[{"$nulls":10},{"$f":"tbl_ArchitectureOffices!D591","v":0},{"$f":"tbl_ArchitectureOffices!C591","v":0},0,{"$f":"tbl_Companys!D591","v":"Konsulentfirma"},{"$f":"tbl_Companys!C591","v":232347},"Konsulentfirma",{"$f":"tbl_ConsultingCompanys!D591","v":"Stavanger Turistforening"},{"$f":"tbl_ConsultingCompanys!C591","v":155750},"Stavanger Turistforening"]
[{"$nulls":10},{"$f":"tbl_ArchitectureOffices!D592","v":0},{"$f":"tbl_ArchitectureOffices!C592","v":0},0,{"$f":"tbl_Companys!D592","v":"Konsulentfirma"},{"$f":"tbl_Companys!C592","v":232348},"Konsulentfirma",{"$f":"tbl_ConsultingCompanys!D592","v":"Stavne Gård AS"},{"$f":"tbl_ConsultingCompanys!C592","v":110817},"Stavne Gård AS"]
[{"$nulls":10},{"$f":"tbl_ArchitectureOffices!D593","v":0},{"$f":"tbl_ArchitectureOffices!C593","v":0},0,{"$f":"tbl_Companys!D593","v":"Konsulentfirma"},{"$f":"tbl_Companys!C593","v":232357},"Konsulentfirma",{"$f":"tbl_ConsultingCompanys!D593","v":"Steen & Lund"},{"$f":"tbl_ConsultingCompanys!C593","v":193821},"Steen & Lund"]
[{"$nulls":10},{"$f":"tbl_ArchitectureOffices!D594","v":0},{"$f":"tbl_ArchitectureOffices!C594","v":0},0,{"$f":"tbl_Companys!D594","v":"Konsulentfirma"},{"$f":"tbl_Companys!C594","v":247568},"Konsulentfirma",{"$f":"tbl_ConsultingCompanys!D594","v":"STEIEN Consult AS"},{"$f":"tbl_ConsultingCompanys!C594","v":243667},"STEIEN Consult AS"]
[{"$nulls":10},{"$f":"tbl_ArchitectureOffices!D595","v":0},{"$f":"tbl_ArchitectureOffices!C595","v":0},0,{"$f":"tbl_Companys!D595","v":"Konsulentfirma"},{"$f":"tbl_Companys!C595","v":247574},"Konsulentfirma",{"$f":"tbl_ConsultingCompanys!D595","v":"Stein Stoknes"},{"$f":"tbl_ConsultingCompanys!C595","v":177614},"Stein Stoknes"]
[{"$nulls":10},{"$f":"tbl_ArchitectureOffices!D596","v":0},{"$f":"tbl_ArchitectureOffices!C596","v":0},0,{"$f":"tbl_Companys!D596","v":"Konsulentfirma"},{"$f":"tbl_Companys!C596","v":247576},"Konsulentfirma",{"$f":"tbl_ConsultingCompanys!D596","v":"Steinar Johansen (tømrer)"},{"$f":"tbl_ConsultingCompanys!C596","v":112571},"Steinar Johansen (tømrer)"]
[{"$nulls":10},{"$f":"tbl_ArchitectureOffices!D597","v":0},{"$f":"tbl_ArchitectureOffices!C597","v":0},0,{"$f":"tbl_Companys!D597","v":"Konsulentfirma"},{"$f":"tbl_Companys!C597","v":247580},"Konsulentfirma",{"$f":"tbl_ConsultingCompanys!D597","v":"Steinar Moldal"},{"$f":"tbl_ConsultingCompanys!C597","v":247288},"Steinar Moldal"]
[{"$nulls":10},{"$f":"tbl_ArchitectureOffices!D598","v":0},{"$f":"tbl_ArchitectureOffices!C598","v":0},0,{"$f":"tbl_Companys!D598","v":"Konsulentfirma"},{"$f":"tbl_Companys!C598","v":247581},"Konsulentfirma",{"$f":"tbl_ConsultingCompanys!D598","v":"Stensrud og Danielsen"},{"$f":"tbl_ConsultingCompanys!C598","v":121159},"Stensrud og Danielsen"]
[{"$nulls":10},{"$f":"tbl_ArchitectureOffices!D599","v":0},{"$f":"tbl_ArchitectureOffices!C599","v":0},0,{"$f":"tbl_Companys!D599","v":"Konsulentfirma"},{"$f":"tbl_Companys!C599","v":248370},"Konsulentfirma",{"$f":"tbl_ConsultingCompanys!D599","v":"Stiftelsen Kirkens Bymisjon"},{"$f":"tbl_ConsultingCompanys!C599","v":247747},"Stiftelsen Kirkens Bymisjon"]
[{"$nulls":10},{"$f":"tbl_ArchitectureOffices!D600","v":0},{"$f":"tbl_ArchitectureOffices!C600","v":0},0,{"$f":"tbl_Companys!D600","v":"Konsulentfirma"},{"$f":"tbl_Companys!C600","v":249382},"Konsulentfirma",{"$f":"tbl_ConsultingCompanys!D600","v":"Stiftelsen Østfoldforskning "},{"$f":"tbl_ConsultingCompanys!C600","v":110820},"Stiftelsen Østfoldforskning"]
[{"$nulls":10},{"$f":"tbl_ArchitectureOffices!D601","v":0},{"$f":"tbl_ArchitectureOffices!C601","v":0},0,{"$f":"tbl_Companys!D601","v":"Konsulentfirmaet i trondheim på kantstein"},{"$f":"tbl_Companys!C601","v":212106},"Konsulentfirmaet i trondheim på kantstein",{"$f":"tbl_ConsultingCompanys!D601","v":"Stjern AS"},{"$f":"tbl_ConsultingCompanys!C601","v":110280},"Stjern AS"]
[{"$nulls":10},{"$f":"tbl_ArchitectureOffices!D602","v":0},{"$f":"tbl_ArchitectureOffices!C602","v":0},0,{"$f":"tbl_Companys!D602","v":"Kosbergs Arkitektkontor AS"},{"$f":"tbl_Companys!C602","v":171783},"Kosbergs Arkitektkontor AS",{"$f":"tbl_ConsultingCompanys!D602","v":"Stjern Entreprenør AS Åfjord (SUB-lugarer) "},{"$f":"tbl_ConsultingCompanys!C602","v":230106},"Stjern Entreprenør AS Åfjord (SUB-lugarer)"]
[{"$nulls":10},{"$f":"tbl_ArchitectureOffices!D603","v":0},{"$f":"tbl_ArchitectureOffices!C603","v":0},0,{"$f":"tbl_Companys!D603","v":"Kraft arkitektkontor as"},{"$f":"tbl_Companys!C603","v":171782},"Kraft arkitektkontor as",{"$f":"tbl_ConsultingCompanys!D603","v":"Stockholm Lighting AB"},{"$f":"tbl_ConsultingCompanys!C603","v":233808},"Stockholm Lighting AB"]
[{"$nulls":10},{"$f":"tbl_ArchitectureOffices!D604","v":0},{"$f":"tbl_ArchitectureOffices!C604","v":0},0,{"$f":"tbl_Companys!D604","v":"Krisesenteret i Telemark"},{"$f":"tbl_Companys!C604","v":217042},"Krisesenteret i Telemark",{"$f":"tbl_ConsultingCompanys!D604","v":"Stokke Stål AS Fundamenter og betongkonstruksjoner; Dr. Ing. Olav Olsen AS (vindskjermer)"},{"$f":"tbl_ConsultingCompanys!C604","v":155184},"Stokke Stål AS Fundamenter og betongkonstruksjoner; Dr. Ing. Olav Olsen AS (vindskjermer)"]
[{"$nulls":10},{"$f":"tbl_ArchitectureOffices!D605","v":0},{"$f":"tbl_ArchitectureOffices!C605","v":0},0,{"$f":"tbl_Companys!D605","v":"Kristian Fadum AS"},{"$f":"tbl_Companys!C605","v":112307},"Kristian Fadum AS",{"$f":"tbl_ConsultingCompanys!D605","v":"Stokke Stål AS Fundamenter og betongkonstruksjoner; Dr. Ing. Olav Olsen AS (vindskjermer)"},{"$f":"tbl_ConsultingCompanys!C605","v":155187},"Stokke Stål AS Fundamenter og betongkonstruksjoner; Dr. Ing. Olav Olsen AS (vindskjermer)"]
[{"$nulls":10},{"$f":"tbl_ArchitectureOffices!D606","v":0},{"$f":"tbl_ArchitectureOffices!C606","v":0},0,{"$f":"tbl_Companys!D606","v":"Kristiansand kommune"},{"$f":"tbl_Companys!C606","v":157560},"Kristiansand kommune",{"$f":"tbl_ConsultingCompanys!D606","v":"Stoltz Røthing AS"},{"$f":"tbl_ConsultingCompanys!C606","v":228271},"Stoltz Røthing AS"]
[{"$nulls":10},{"$f":"tbl_ArchitectureOffices!D607","v":0},{"$f":"tbl_ArchitectureOffices!C607","v":0},0,{"$f":"tbl_Companys!D607","v":"Kristiansand kommune"},{"$f":"tbl_Companys!C607","v":157561},"Kristiansand kommune",{"$f":"tbl_ConsultingCompanys!D607","v":"Storebrand Livsforsikring v/Storebrand Eiendom AS"},{"$f":"tbl_ConsultingCompanys!C607","v":202313},"Storebrand Livsforsikring v/Storebrand Eiendom AS"]
[{"$nulls":10},{"$f":"tbl_ArchitectureOffices!D608","v":0},{"$f":"tbl_ArchitectureOffices!C608","v":0},0,{"$f":"tbl_Companys!D608","v":"Kristiansand kommune v/Kristiansand Eiendom"},{"$f":"tbl_Companys!C608","v":216994},"Kristiansand kommune v/Kristiansand Eiendom",{"$f":"tbl_ConsultingCompanys!D608","v":"Stormorken og Hamre AS"},{"$f":"tbl_ConsultingCompanys!C608","v":214725},"Stormorken og Hamre AS"]
[{"$nulls":10},{"$f":"tbl_ArchitectureOffices!D609","v":0},{"$f":"tbl_ArchitectureOffices!C609","v":0},0,{"$f":"tbl_Companys!D609","v":"Kristiansen & Bernhardt Arkitekter MNAL NPA, AS "},{"$f":"tbl_Companys!C609","v":171825},"Kristiansen & Bernhardt Arkitekter MNAL NPA, AS",{"$f":"tbl_ConsultingCompanys!D609","v":"Stor-Oslo Prosjekt AS"},{"$f":"tbl_ConsultingCompanys!C609","v":246738},"Stor-Oslo Prosjekt AS"]
[{"$nulls":10},{"$f":"tbl_ArchitectureOffices!D610","v":0},{"$f":"tbl_ArchitectureOffices!C610","v":0},0,{"$f":"tbl_Companys!D610","v":"Kristiansen & Selmer - Olsen AS"},{"$f":"tbl_Companys!C610","v":173040},"Kristiansen & Selmer - Olsen AS",{"$f":"tbl_ConsultingCompanys!D610","v":"Strand forskaling (betong)"},{"$f":"tbl_ConsultingCompanys!C610","v":162878},"Strand forskaling (betong)"]
[{"$nulls":10},{"$f":"tbl_ArchitectureOffices!D611","v":0},{"$f":"tbl_ArchitectureOffices!C611","v":0},0,{"$f":"tbl_Companys!D611","v":"Kritt Arkitekter AS"},{"$f":"tbl_Companys!C611","v":171781},"Kritt Arkitekter AS",{"$f":"tbl_ConsultingCompanys!D611","v":"Straume AS"},{"$f":"tbl_ConsultingCompanys!C611","v":218046},"Straume AS"]
[{"$nulls":10},{"$f":"tbl_ArchitectureOffices!D612","v":0},{"$f":"tbl_ArchitectureOffices!C612","v":0},0,{"$f":"tbl_Companys!D612","v":"Krogness Arkitekt MNAL, Ole A. "},{"$f":"tbl_Companys!C612","v":171780},"Krogness Arkitekt MNAL, Ole A.",{"$f":"tbl_ConsultingCompanys!D612","v":"Structura AS"},{"$f":"tbl_ConsultingCompanys!C612","v":162912},"Structura AS"]
[{"$nulls":10},{"$f":"tbl_ArchitectureOffices!D613","v":0},{"$f":"tbl_ArchitectureOffices!C613","v":0},0,{"$f":"tbl_Companys!D613","v":"Kronen AS sivilarkitekt MNAL, Bente "},{"$f":"tbl_Companys!C613","v":172648},"Kronen AS sivilarkitekt MNAL, Bente",{"$f":"tbl_ConsultingCompanys!D613","v":"Structura AS (Roberth Nøsen)"},{"$f":"tbl_ConsultingCompanys!C613","v":162921},"Structura AS (Roberth Nøsen)"]
[{"$nulls":10},{"$f":"tbl_ArchitectureOffices!D614","v":0},{"$f":"tbl_ArchitectureOffices!C614","v":0},0,{"$f":"tbl_Companys!D614","v":"KRS-gruppen"},{"$f":"tbl_Companys!C614","v":103160},"KRS-gruppen",{"$f":"tbl_ConsultingCompanys!D614","v":"Strøm Gundersen AS"},{"$f":"tbl_ConsultingCompanys!C614","v":228043},"Strøm Gundersen AS"]
[{"$nulls":10},{"$f":"tbl_ArchitectureOffices!D615","v":0},{"$f":"tbl_ArchitectureOffices!C615","v":0},0,{"$f":"tbl_Companys!D615","v":"Kruse Smith (Arvid Fredriksen)"},{"$f":"tbl_Companys!C615","v":158200},"Kruse Smith (Arvid Fredriksen)",{"$f":"tbl_ConsultingCompanys!D615","v":"Studentsamskibnaden i Oslo"},{"$f":"tbl_ConsultingCompanys!C615","v":160574},"Studentsamskibnaden i Oslo"]
[{"$nulls":10},{"$f":"tbl_ArchitectureOffices!D616","v":0},{"$f":"tbl_ArchitectureOffices!C616","v":0},0,{"$f":"tbl_Companys!D616","v":"Kruse Smith (Hans Ragnar Uthus)"},{"$f":"tbl_Companys!C616","v":155932},"Kruse Smith (Hans Ragnar Uthus)",{"$f":"tbl_ConsultingCompanys!D616","v":"Studentsamskibnaden i Oslo"},{"$f":"tbl_ConsultingCompanys!C616","v":160604},"Studentsamskibnaden i Oslo"]
[{"$nulls":10},{"$f":"tbl_ArchitectureOffices!D617","v":0},{"$f":"tbl_ArchitectureOffices!C617","v":0},0,{"$f":"tbl_Companys!D617","v":"Kruse Smith Entreprenør AS"},{"$f":"tbl_Companys!C617","v":155929},"Kruse Smith Entreprenør AS",{"$f":"tbl_ConsultingCompanys!D617","v":"Studentsamskipnaden i Trondheim (SiT)"},{"$f":"tbl_ConsultingCompanys!C617","v":165386},"Studentsamskipnaden i Trondheim (SiT)"]
[{"$nulls":10},{"$f":"tbl_ArchitectureOffices!D618","v":0},{"$f":"tbl_ArchitectureOffices!C618","v":0},0,{"$f":"tbl_Companys!D618","v":"Kry sivilarkitekt mnal, Geir Cock"},{"$f":"tbl_Companys!C618","v":171779},"Kry sivilarkitekt mnal, Geir Cock",{"$f":"tbl_ConsultingCompanys!D618","v":"Stærk & Co AS (RIB/RIBr)"},{"$f":"tbl_ConsultingCompanys!C618","v":160690},"Stærk & Co AS (RIB/RIBr)"]
[{"$nulls":10},{"$f":"tbl_ArchitectureOffices!D619","v":0},{"$f":"tbl_ArchitectureOffices!C619","v":0},0,{"$f":"tbl_Companys!D619","v":"Kuben Arkitektkontor"},{"$f":"tbl_Companys!C619","v":243552},"Kuben Arkitektkontor",{"$f":"tbl_ConsultingCompanys!D619","v":"Støltun"},{"$f":"tbl_ConsultingCompanys!C619","v":201860},"Støltun"]
[{"$nulls":10},{"$f":"tbl_ArchitectureOffices!D620","v":0},{"$f":"tbl_ArchitectureOffices!C620","v":0},0,{"$f":"tbl_Companys!D620","v":"Kvadrat as, Arkitektkontoret "},{"$f":"tbl_Companys!C620","v":171778},"Kvadrat as, Arkitektkontoret",{"$f":"tbl_ConsultingCompanys!D620","v":"Svartlamoen boligstiftelse"},{"$f":"tbl_ConsultingCompanys!C620","v":160586},"Svartlamoen boligstiftelse"]
[{"$nulls":10},{"$f":"tbl_ArchitectureOffices!D621","v":0},{"$f":"tbl_ArchitectureOffices!C621","v":0},0,{"$f":"tbl_Companys!D621","v":"Kvalvik & Kaada Arkitekter AS"},{"$f":"tbl_Companys!C621","v":216490},"Kvalvik & Kaada Arkitekter AS",{"$f":"tbl_ConsultingCompanys!D621","v":"Svartlamoen boligstiftelse / Trondheim kommune"},{"$f":"tbl_ConsultingCompanys!C621","v":217121},"Svartlamoen boligstiftelse / Trondheim kommune"]
[{"$nulls":10},{"$f":"tbl_ArchitectureOffices!D622","v":0},{"$f":"tbl_ArchitectureOffices!C622","v":0},0,{"$f":"tbl_Companys!D622","v":"Kvam og Skjønsberg AS sivilarkitekter MNAL"},{"$f":"tbl_Companys!C622","v":171777},"Kvam og Skjønsberg AS sivilarkitekter MNAL",{"$f":"tbl_ConsultingCompanys!D622","v":"Svein Aase"},{"$f":"tbl_ConsultingCompanys!C622","v":172878},"Svein Aase"]
[{"$nulls":10},{"$f":"tbl_ArchitectureOffices!D623","v":0},{"$f":"tbl_ArchitectureOffices!C623","v":0},0,{"$f":"tbl_Companys!D623","v":"Kvartal 19 Arkitektkontor AS"},{"$f":"tbl_Companys!C623","v":215574},"Kvartal 19 Arkitektkontor AS",{"$f":"tbl_ConsultingCompanys!D623","v":"Svein Arne Bøyum"},{"$f":"tbl_ConsultingCompanys!C623","v":215411},"Svein Arne Bøyum"]
[{"$nulls":10},{"$f":"tbl_ArchitectureOffices!D624","v":0},{"$f":"tbl_ArchitectureOffices!C624","v":0},0,{"$f":"tbl_Companys!D624","v":"KVARTS arkitekter as"},{"$f":"tbl_Companys!C624","v":249528},"KVARTS arkitekter as",{"$f":"tbl_ConsultingCompanys!D624","v":"Svein Boasson AS"},{"$f":"tbl_ConsultingCompanys!C624","v":182797},"Svein Boasson AS"]
[{"$nulls":10},{"$f":"tbl_ArchitectureOffices!D625","v":0},{"$f":"tbl_ArchitectureOffices!C625","v":0},0,{"$f":"tbl_Companys!D625","v":"Kvernaas Arkitekter A/S"},{"$f":"tbl_Companys!C625","v":171773},"Kvernaas Arkitekter A/S",{"$f":"tbl_ConsultingCompanys!D625","v":"Svein Søvik AS"},{"$f":"tbl_ConsultingCompanys!C625","v":101074},"Svein Søvik AS"]
[{"$nulls":10},{"$f":"tbl_ArchitectureOffices!D626","v":0},{"$f":"tbl_ArchitectureOffices!C626","v":0},0,{"$f":"tbl_Companys!D626","v":"L.O.F. Arkitekter MNAL AS"},{"$f":"tbl_Companys!C626","v":171724},"L.O.F. Arkitekter MNAL AS",{"$f":"tbl_ConsultingCompanys!D626","v":"Svein Søvik AS"},{"$f":"tbl_ConsultingCompanys!C626","v":119844},"Svein Søvik AS"]
[{"$nulls":10},{"$f":"tbl_ArchitectureOffices!D627","v":0},{"$f":"tbl_ArchitectureOffices!C627","v":0},0,{"$f":"tbl_Companys!D627","v":"L2 Arkitekter AS"},{"$f":"tbl_Companys!C627","v":171719},"L2 Arkitekter AS",{"$f":"tbl_ConsultingCompanys!D627","v":"Sveio Kommune"},{"$f":"tbl_ConsultingCompanys!C627","v":158055},"Sveio Kommune"]
[{"$nulls":10},{"$f":"tbl_ArchitectureOffices!D628","v":0},{"$f":"tbl_ArchitectureOffices!C628","v":0},0,{"$f":"tbl_Companys!D628","v":"landsbyarkitektene as"},{"$f":"tbl_Companys!C628","v":171734},"landsbyarkitektene as",{"$f":"tbl_ConsultingCompanys!D628","v":"Svendby Bygg Consult AS"},{"$f":"tbl_ConsultingCompanys!C628","v":98697},"Svendby Bygg Consult AS"]
[{"$nulls":10},{"$f":"tbl_ArchitectureOffices!D629","v":0},{"$f":"tbl_ArchitectureOffices!C629","v":0},0,{"$f":"tbl_Companys!D629","v":"Landskapsentreprenørene AS"},{"$f":"tbl_Companys!C629","v":214836},"Landskapsentreprenørene AS",{"$f":"tbl_ConsultingCompanys!D629","v":"Svenneby sag og høvleri (gulv)"},{"$f":"tbl_ConsultingCompanys!C629","v":200375},"Svenneby sag og høvleri (gulv)"]
[{"$nulls":10},{"$f":"tbl_ArchitectureOffices!D630","v":0},{"$f":"tbl_ArchitectureOffices!C630","v":0},0,{"$f":"tbl_Companys!D630","v":"Landskapsfabrikken"},{"$f":"tbl_Companys!C630","v":243880},"Landskapsfabrikken",{"$f":"tbl_ConsultingCompanys!D630","v":"Sweco"},{"$f":"tbl_ConsultingCompanys!C630","v":218407},"Sweco"]
[{"$nulls":10},{"$f":"tbl_ArchitectureOffices!D631","v":0},{"$f":"tbl_ArchitectureOffices!C631","v":0},0,{"$f":"tbl_Companys!D631","v":"Lars Myhre AS"},{"$f":"tbl_Companys!C631","v":243866},"Lars Myhre AS",{"$f":"tbl_ConsultingCompanys!D631","v":"Swedoor"},{"$f":"tbl_ConsultingCompanys!C631","v":232351},"Swedoor"]
[{"$nulls":10},{"$f":"tbl_ArchitectureOffices!D632","v":0},{"$f":"tbl_ArchitectureOffices!C632","v":0},0,{"$f":"tbl_Companys!D632","v":"Lars Myhre Østfold AS (RIV)"},{"$f":"tbl_Companys!C632","v":215015},"Lars Myhre Østfold AS (RIV)",{"$f":"tbl_ConsultingCompanys!D632","v":"System air"},{"$f":"tbl_ConsultingCompanys!C632","v":119804},"System air"]
[{"$nulls":10},{"$f":"tbl_ArchitectureOffices!D633","v":0},{"$f":"tbl_ArchitectureOffices!C633","v":0},0,{"$f":"tbl_Companys!D633","v":"Lars og Marit Nilssen"},{"$f":"tbl_Companys!C633","v":160593},"Lars og Marit Nilssen",{"$f":"tbl_ConsultingCompanys!D633","v":"Systemair AS"},{"$f":"tbl_ConsultingCompanys!C633","v":172755},"Systemair AS"]
[{"$nulls":10},{"$f":"tbl_ArchitectureOffices!D634","v":0},{"$f":"tbl_ArchitectureOffices!C634","v":0},0,{"$f":"tbl_Companys!D634","v":"Larsen Entreprenør AS"},{"$f":"tbl_Companys!C634","v":178588},"Larsen Entreprenør AS",{"$f":"tbl_ConsultingCompanys!D634","v":"Systemhus Norge AS"},{"$f":"tbl_ConsultingCompanys!C634","v":120940},"Systemhus Norge AS"]
[{"$nulls":10},{"$f":"tbl_ArchitectureOffices!D635","v":0},{"$f":"tbl_ArchitectureOffices!C635","v":0},0,{"$f":"tbl_Companys!D635","v":"Larsson A/S, K.E. "},{"$f":"tbl_Companys!C635","v":171733},"Larsson A/S, K.E.",{"$f":"tbl_ConsultingCompanys!D635","v":"Søbstad AS"},{"$f":"tbl_ConsultingCompanys!C635","v":165404},"Søbstad AS"]
[{"$nulls":10},{"$f":"tbl_ArchitectureOffices!D636","v":0},{"$f":"tbl_ArchitectureOffices!C636","v":0},0,{"$f":"tbl_Companys!D636","v":"Lead inc. as"},{"$f":"tbl_Companys!C636","v":172586},"Lead inc. as",{"$f":"tbl_ConsultingCompanys!D636","v":"Sør-Trøndelag fylkeskommune"},{"$f":"tbl_ConsultingCompanys!C636","v":247323},"Sør-Trøndelag fylkeskommune"]
[{"$nulls":10},{"$f":"tbl_ArchitectureOffices!D637","v":0},{"$f":"tbl_ArchitectureOffices!C637","v":0},0,{"$f":"tbl_Companys!D637","v":"Lerche Arkitekter AS"},{"$f":"tbl_Companys!C637","v":171732},"Lerche Arkitekter AS",{"$f":"tbl_ConsultingCompanys!D637","v":"T. Johansen Drift AS"},{"$f":"tbl_ConsultingCompanys!C637","v":247731},"T. Johansen Drift AS"]
[{"$nulls":10},{"$f":"tbl_ArchitectureOffices!D638","v":0},{"$f":"tbl_ArchitectureOffices!C638","v":0},0,{"$f":"tbl_Companys!D638","v":"Lerum Inc."},{"$f":"tbl_Companys!C638","v":171731},"Lerum Inc.",{"$f":"tbl_ConsultingCompanys!D638","v":"Tangen Ing. og arkitektkontor"},{"$f":"tbl_ConsultingCompanys!C638","v":213268},"Tangen Ing. og arkitektkontor"]
[{"$nulls":10},{"$f":"tbl_ArchitectureOffices!D639","v":0},{"$f":"tbl_ArchitectureOffices!C639","v":0},0,{"$f":"tbl_Companys!D639","v":"Lervike AS"},{"$f":"tbl_Companys!C639","v":247289},"Lervike AS",{"$f":"tbl_ConsultingCompanys!D639","v":"Team Rør AS (rørlegger)"},{"$f":"tbl_ConsultingCompanys!C639","v":155704},"Team Rør AS (rørlegger)"]
[{"$nulls":10},{"$f":"tbl_ArchitectureOffices!D640","v":0},{"$f":"tbl_ArchitectureOffices!C640","v":0},0,{"$f":"tbl_Companys!D640","v":"LH Bygg Berkåk og Stjern Entreprenør AS Åfjord (Kysthus)"},{"$f":"tbl_Companys!C640","v":230108},"LH Bygg Berkåk og Stjern Entreprenør AS Åfjord (Kysthus)",{"$f":"tbl_ConsultingCompanys!D640","v":"Team St. Olav ANS"},{"$f":"tbl_ConsultingCompanys!C640","v":243128},"Team St. Olav ANS"]
[{"$nulls":10},{"$f":"tbl_ArchitectureOffices!D641","v":0},{"$f":"tbl_ArchitectureOffices!C641","v":0},0,{"$f":"tbl_Companys!D641","v":"Lian AS"},{"$f":"tbl_Companys!C641","v":202456},"Lian AS",{"$f":"tbl_ConsultingCompanys!D641","v":"Teaterplassen 1 AS"},{"$f":"tbl_ConsultingCompanys!C641","v":160689},"Teaterplassen 1 AS"]
[{"$nulls":10},{"$f":"tbl_ArchitectureOffices!D642","v":0},{"$f":"tbl_ArchitectureOffices!C642","v":0},0,{"$f":"tbl_Companys!D642","v":"Lie Øyen arkitekter"},{"$f":"tbl_Companys!C642","v":171730},"Lie Øyen arkitekter",{"$f":"tbl_ConsultingCompanys!D642","v":"Technoconsult AS (Ribr)"},{"$f":"tbl_ConsultingCompanys!C642","v":162917},"Technoconsult AS (Ribr)"]
[{"$nulls":10},{"$f":"tbl_ArchitectureOffices!D643","v":0},{"$f":"tbl_ArchitectureOffices!C643","v":0},{"$f":"IFERROR(REPLACE(K643,FIND(\" \",K643,LEN(K643)),1,\"\"),K643)","v":0},{"$f":"tbl_Companys!D643","v":"lille frøen as, Arkitektgruppen"},{"$f":"tbl_Companys!C643","v":166500},{"$f":"IFERROR(REPLACE(N643,FIND(\" \",N643,LEN(N643)),1,\"\"),N643)","v":"lille frøen as, Arkitektgruppen"},{"$f":"tbl_ConsultingCompanys!D643","v":"Teka Eiendom AS"},{"$f":"tbl_ConsultingCompanys!C643","v":247582},{"$f":"IFERROR(REPLACE(Q643,FIND(\" \",Q643,LEN(Q643)),1,\"\"),Q643)","v":"Teka Eiendom AS"}]
[{"$nulls":10},{"$f":"tbl_ArchitectureOffices!D644","v":0},{"$f":"tbl_ArchitectureOffices!C644","v":0},0,{"$f":"tbl_Companys!D644","v":"Lillestrøm Arkitektkontor AS"},{"$f":"tbl_Companys!C644","v":172661},"Lillestrøm Arkitektkontor AS",{"$f":"tbl_ConsultingCompanys!D644","v":"Teknisk byrå AS"},{"$f":"tbl_ConsultingCompanys!C644","v":97933},"Teknisk byrå AS"]
[{"$nulls":10},{"$f":"tbl_ArchitectureOffices!D645","v":0},{"$f":"tbl_ArchitectureOffices!C645","v":0},0,{"$f":"tbl_Companys!D645","v":"Linberg & Simmons"},{"$f":"tbl_Companys!C645","v":171729},"Linberg & Simmons",{"$f":"tbl_ConsultingCompanys!D645","v":"Teknisk Ventilasjon AS"},{"$f":"tbl_ConsultingCompanys!C645","v":228144},"Teknisk Ventilasjon AS"]
[{"$nulls":10},{"$f":"tbl_ArchitectureOffices!D646","v":0},{"$f":"tbl_ArchitectureOffices!C646","v":0},0,{"$f":"tbl_Companys!D646","v":"Lindstrøm, Sivilarkitekt Inga "},{"$f":"tbl_Companys!C646","v":171728},"Lindstrøm, Sivilarkitekt Inga",{"$f":"tbl_ConsultingCompanys!D646","v":"Tekno Team AS "},{"$f":"tbl_ConsultingCompanys!C646","v":165395},"Tekno Team AS"]
[{"$nulls":10},{"$f":"tbl_ArchitectureOffices!D647","v":0},{"$f":"tbl_ArchitectureOffices!C647","v":0},0,{"$f":"tbl_Companys!D647","v":"Linje arkitektur as"},{"$f":"tbl_Companys!C647","v":171727},"Linje arkitektur as",{"$f":"tbl_ConsultingCompanys!D647","v":"Teknobygg AS"},{"$f":"tbl_ConsultingCompanys!C647","v":178920},"Teknobygg AS"]
[{"$nulls":10},{"$f":"tbl_ArchitectureOffices!D648","v":0},{"$f":"tbl_ArchitectureOffices!C648","v":0},0,{"$f":"tbl_Companys!D648","v":"Link Arkitektur AS"},{"$f":"tbl_Companys!C648","v":171726},"Link Arkitektur AS",{"$f":"tbl_ConsultingCompanys!D648","v":"Teknoconsult AS"},{"$f":"tbl_ConsultingCompanys!C648","v":225768},"Teknoconsult AS"]
[{"$nulls":10},{"$f":"tbl_ArchitectureOffices!D649","v":0},{"$f":"tbl_ArchitectureOffices!C649","v":0},0,{"$f":"tbl_Companys!D649","v":"Link Signatur"},{"$f":"tbl_Companys!C649","v":230069},"Link Signatur",{"$f":"tbl_ConsultingCompanys!D649","v":"Telerør"},{"$f":"tbl_ConsultingCompanys!C649","v":248369},"Telerør"]
[{"$nulls":10},{"$f":"tbl_ArchitectureOffices!D650","v":0},{"$f":"tbl_ArchitectureOffices!C650","v":0},0,{"$f":"tbl_Companys!D650","v":"Liten Skala AS"},{"$f":"tbl_Companys!C650","v":241582},"Liten Skala AS",{"$f":"tbl_ConsultingCompanys!D650","v":"Telesafe Consulting AS"},{"$f":"tbl_ConsultingCompanys!C650","v":110462},"Telesafe Consulting AS"]
[{"$nulls":10},{"$f":"tbl_ArchitectureOffices!D651","v":0},{"$f":"tbl_ArchitectureOffices!C651","v":0},0,{"$f":"tbl_Companys!D651","v":"LMR arkitektur as"},{"$f":"tbl_Companys!C651","v":171725},"LMR arkitektur as",{"$f":"tbl_ConsultingCompanys!D651","v":"Tempero Energitjenester AS"},{"$f":"tbl_ConsultingCompanys!C651","v":165394},"Tempero Energitjenester AS"]
[{"$nulls":10},{"$f":"tbl_ArchitectureOffices!D652","v":0},{"$f":"tbl_ArchitectureOffices!C652","v":0},0,{"$f":"tbl_Companys!D652","v":"Logg arkitektur as"},{"$f":"tbl_Companys!C652","v":171723},"Logg arkitektur as",{"$f":"tbl_ConsultingCompanys!D652","v":"Theorells AS"},{"$f":"tbl_ConsultingCompanys!C652","v":121191},"Theorells AS"]
[{"$nulls":10},{"$f":"tbl_ArchitectureOffices!D653","v":0},{"$f":"tbl_ArchitectureOffices!C653","v":0},0,{"$f":"tbl_Companys!D653","v":"Longva Arkitekter AS"},{"$f":"tbl_Companys!C653","v":171722},"Longva Arkitekter AS",{"$f":"tbl_ConsultingCompanys!D653","v":"Thermoplan AS"},{"$f":"tbl_ConsultingCompanys!C653","v":218396},"Thermoplan AS"]
[{"$nulls":10},{"$f":"tbl_ArchitectureOffices!D654","v":0},{"$f":"tbl_ArchitectureOffices!C654","v":0},0,{"$f":"tbl_Companys!D654","v":"Lorentz Kielland arkitekter as"},{"$f":"tbl_Companys!C654","v":202237},"Lorentz Kielland arkitekter as",{"$f":"tbl_ConsultingCompanys!D654","v":"Thermoplan AS rådgivende ingeniørfirma (VVS)"},{"$f":"tbl_ConsultingCompanys!C654","v":218402},"Thermoplan AS rådgivende ingeniørfirma (VVS)"]
[{"$nulls":10},{"$f":"tbl_ArchitectureOffices!D655","v":0},{"$f":"tbl_ArchitectureOffices!C655","v":0},0,{"$f":"tbl_Companys!D655","v":"Lou"},{"$f":"tbl_Companys!C655","v":171721},"Lou",{"$f":"tbl_ConsultingCompanys!D655","v":"Thunes Partners AS"},{"$f":"tbl_ConsultingCompanys!C655","v":110755},"Thunes Partners AS"]
[{"$nulls":10},{"$f":"tbl_ArchitectureOffices!D656","v":0},{"$f":"tbl_ArchitectureOffices!C656","v":0},0,{"$f":"tbl_Companys!D656","v":"LPO arkitekter"},{"$f":"tbl_Companys!C656","v":171720},"LPO arkitekter",{"$f":"tbl_ConsultingCompanys!D656","v":"Timber AS"},{"$f":"tbl_ConsultingCompanys!C656","v":111855},"Timber AS"]
[{"$nulls":10},{"$f":"tbl_ArchitectureOffices!D657","v":0},{"$f":"tbl_ArchitectureOffices!C657","v":0},0,{"$f":"tbl_Companys!D657","v":"Lund & partnere"},{"$f":"tbl_Companys!C657","v":171718},"Lund & partnere",{"$f":"tbl_ConsultingCompanys!D657","v":"Time kyrkje"},{"$f":"tbl_ConsultingCompanys!C657","v":230068},"Time kyrkje"]
[{"$nulls":10},{"$f":"tbl_ArchitectureOffices!D658","v":0},{"$f":"tbl_ArchitectureOffices!C658","v":0},0,{"$f":"tbl_Companys!D658","v":"Lund & Slaatto Arkitekter AS"},{"$f":"tbl_Companys!C658","v":171713},"Lund & Slaatto Arkitekter AS",{"$f":"tbl_ConsultingCompanys!D658","v":"Time kyrkjelege fellesråd"},{"$f":"tbl_ConsultingCompanys!C658","v":230118},"Time kyrkjelege fellesråd"]
[{"$nulls":10},{"$f":"tbl_ArchitectureOffices!D659","v":0},{"$f":"tbl_ArchitectureOffices!C659","v":0},0,{"$f":"tbl_Companys!D659","v":"Lund A/S, Sivilarkitekt E. Broder "},{"$f":"tbl_Companys!C659","v":171717},"Lund A/S, Sivilarkitekt E. Broder",{"$f":"tbl_ConsultingCompanys!D659","v":"Tone Ulland Stokke"},{"$f":"tbl_ConsultingCompanys!C659","v":158056},"Tone Ulland Stokke"]
[{"$nulls":10},{"$f":"tbl_ArchitectureOffices!D660","v":0},{"$f":"tbl_ArchitectureOffices!C660","v":0},0,{"$f":"tbl_Companys!D660","v":"Lund Hagem Arkitekter AS"},{"$f":"tbl_Companys!C660","v":171715},"Lund Hagem Arkitekter AS",{"$f":"tbl_ConsultingCompanys!D660","v":"Tor Entreprenør AS"},{"$f":"tbl_ConsultingCompanys!C660","v":121317},"Tor Entreprenør AS"]
[{"$nulls":10},{"$f":"tbl_ArchitectureOffices!D661","v":0},{"$f":"tbl_ArchitectureOffices!C661","v":0},0,{"$f":"tbl_Companys!D661","v":"Lund MNAL, Sivilarkitekt Svein Erik "},{"$f":"tbl_Companys!C661","v":171716},"Lund MNAL, Sivilarkitekt Svein Erik",{"$f":"tbl_ConsultingCompanys!D661","v":"Tor Helge Dokka"},{"$f":"tbl_ConsultingCompanys!C661","v":204509},"Tor Helge Dokka"]
[{"$nulls":10},{"$f":"tbl_ArchitectureOffices!D662","v":0},{"$f":"tbl_ArchitectureOffices!C662","v":0},0,{"$f":"tbl_Companys!D662","v":"Lundenes as/ AS Anlegg"},{"$f":"tbl_Companys!C662","v":103472},"Lundenes as/ AS Anlegg",{"$f":"tbl_ConsultingCompanys!D662","v":"Tor Nykvist & sønn AS"},{"$f":"tbl_ConsultingCompanys!C662","v":110966},"Tor Nykvist & sønn AS"]
[{"$nulls":10},{"$f":"tbl_ArchitectureOffices!D663","v":0},{"$f":"tbl_ArchitectureOffices!C663","v":0},0,{"$f":"tbl_Companys!D663","v":"Lund-Johnsen sivilarkitekt MNAL, Roar "},{"$f":"tbl_Companys!C663","v":171714},"Lund-Johnsen sivilarkitekt MNAL, Roar",{"$f":"tbl_ConsultingCompanys!D663","v":"Tore Ravndal AS"},{"$f":"tbl_ConsultingCompanys!C663","v":162863},"Tore Ravndal AS"]
[{"$nulls":10},{"$f":"tbl_ArchitectureOffices!D664","v":0},{"$f":"tbl_ArchitectureOffices!C664","v":0},0,{"$f":"tbl_Companys!D664","v":"Lusparken Arkitekter AS"},{"$f":"tbl_Companys!C664","v":171712},"Lusparken Arkitekter AS",{"$f":"tbl_ConsultingCompanys!D664","v":"Torleif Holm Glad"},{"$f":"tbl_ConsultingCompanys!C664","v":243666},"Torleif Holm Glad"]
[{"$nulls":10},{"$f":"tbl_ArchitectureOffices!D665","v":0},{"$f":"tbl_ArchitectureOffices!C665","v":0},0,{"$f":"tbl_Companys!D665","v":"Lux Brannteknologi AS"},{"$f":"tbl_Companys!C665","v":243668},"Lux Brannteknologi AS",{"$f":"tbl_ConsultingCompanys!D665","v":"Trebyggeriet AS"},{"$f":"tbl_ConsultingCompanys!C665","v":163046},"Trebyggeriet AS"]
[{"$nulls":10},{"$f":"tbl_ArchitectureOffices!D666","v":0},{"$f":"tbl_ArchitectureOffices!C666","v":0},0,{"$f":"tbl_Companys!D666","v":"Ly Arkitekter AS"},{"$f":"tbl_Companys!C666","v":171711},"Ly Arkitekter AS",{"$f":"tbl_ConsultingCompanys!D666","v":"TreSenteret"},{"$f":"tbl_ConsultingCompanys!C666","v":178177},"TreSenteret"]
[{"$nulls":10},{"$f":"tbl_ArchitectureOffices!D667","v":0},{"$f":"tbl_ArchitectureOffices!C667","v":0},0,{"$f":"tbl_Companys!D667","v":"Lys og Mørk arkitektur og design"},{"$f":"tbl_Companys!C667","v":171710},"Lys og Mørk arkitektur og design",{"$f":"tbl_ConsultingCompanys!D667","v":"Treteknisk Institutt, rådgivingstjenesten"},{"$f":"tbl_ConsultingCompanys!C667","v":247318},"Treteknisk Institutt, rådgivingstjenesten"]
[{"$nulls":10},{"$f":"tbl_ArchitectureOffices!D668","v":0},{"$f":"tbl_ArchitectureOffices!C668","v":0},0,{"$f":"tbl_Companys!D668","v":"Lys og Varme AS"},{"$f":"tbl_Companys!C668","v":246739},"Lys og Varme AS",{"$f":"tbl_ConsultingCompanys!D668","v":"Trifolia Landskpasarkitekter"},{"$f":"tbl_ConsultingCompanys!C668","v":214751},"Trifolia Landskpasarkitekter"]
[{"$nulls":10},{"$f":"tbl_ArchitectureOffices!D669","v":0},{"$f":"tbl_ArchitectureOffices!C669","v":0},0,{"$f":"tbl_Companys!D669","v":"Lyse AS (energi)"},{"$f":"tbl_Companys!C669","v":162882},"Lyse AS (energi)",{"$f":"tbl_ConsultingCompanys!D669","v":"Trio Entreprenør"},{"$f":"tbl_ConsultingCompanys!C669","v":213751},"Trio Entreprenør"]
[{"$nulls":10},{"$f":"tbl_ArchitectureOffices!D670","v":0},{"$f":"tbl_ArchitectureOffices!C670","v":0},0,{"$f":"tbl_Companys!D670","v":"Løvetanna Landskap AS"},{"$f":"tbl_Companys!C670","v":231819},"Løvetanna Landskap AS",{"$f":"tbl_ConsultingCompanys!D670","v":"Troll Næring as"},{"$f":"tbl_ConsultingCompanys!C670","v":224101},"Troll Næring as"]
[{"$nulls":10},{"$f":"tbl_ArchitectureOffices!D671","v":0},{"$f":"tbl_ArchitectureOffices!C671","v":0},0,{"$f":"tbl_Companys!D671","v":"Løvik K A A/S"},{"$f":"tbl_Companys!C671","v":157871},"Løvik K A A/S",{"$f":"tbl_ConsultingCompanys!D671","v":"Tromsø kommune"},{"$f":"tbl_ConsultingCompanys!C671","v":221240},"Tromsø kommune"]
[{"$nulls":10},{"$f":"tbl_ArchitectureOffices!D672","v":0},{"$f":"tbl_ArchitectureOffices!C672","v":0},0,{"$f":"tbl_Companys!D672","v":"Løvold AS"},{"$f":"tbl_Companys!C672","v":121071},"Løvold AS",{"$f":"tbl_ConsultingCompanys!D672","v":"Tromsø kommune Eiendom"},{"$f":"tbl_ConsultingCompanys!C672","v":217112},"Tromsø kommune Eiendom"]
[{"$nulls":10},{"$f":"tbl_ArchitectureOffices!D673","v":0},{"$f":"tbl_ArchitectureOffices!C673","v":0},0,{"$f":"tbl_Companys!D673","v":"Løvseth + partners"},{"$f":"tbl_Companys!C673","v":219318},"Løvseth + partners",{"$f":"tbl_ConsultingCompanys!D673","v":"Trond Wickman AS"},{"$f":"tbl_ConsultingCompanys!C673","v":166299},"Trond Wickman AS"]
[{"$nulls":10},{"$f":"tbl_ArchitectureOffices!D674","v":0},{"$f":"tbl_ArchitectureOffices!C674","v":0},0,{"$f":"tbl_Companys!D674","v":"Løvseth arkitektkontor as, Morten "},{"$f":"tbl_Companys!C674","v":171709},"Løvseth arkitektkontor as, Morten",{"$f":"tbl_ConsultingCompanys!D674","v":"Trond Wickman as (RIE)"},{"$f":"tbl_ConsultingCompanys!C674","v":215427},"Trond Wickman as (RIE)"]
[{"$nulls":10},{"$f":"tbl_ArchitectureOffices!D675","v":0},{"$f":"tbl_ArchitectureOffices!C675","v":0},0,{"$f":"tbl_Companys!D675","v":"Løyning AS"},{"$f":"tbl_Companys!C675","v":103327},"Løyning AS",{"$f":"tbl_ConsultingCompanys!D675","v":"Trondheim byteknikk"},{"$f":"tbl_ConsultingCompanys!C675","v":165405},"Trondheim byteknikk"]
[{"$nulls":10},{"$f":"tbl_ArchitectureOffices!D676","v":0},{"$f":"tbl_ArchitectureOffices!C676","v":0},0,{"$f":"tbl_Companys!D676","v":"Mad as"},{"$f":"tbl_Companys!C676","v":171704},"Mad as",{"$f":"tbl_ConsultingCompanys!D676","v":"Trondheim kommune"},{"$f":"tbl_ConsultingCompanys!C676","v":178147},"Trondheim kommune"]
[{"$nulls":10},{"$f":"tbl_ArchitectureOffices!D677","v":0},{"$f":"tbl_ArchitectureOffices!C677","v":0},0,{"$f":"tbl_Companys!D677","v":"Madsø Sveen arkitekter AS"},{"$f":"tbl_Companys!C677","v":172655},"Madsø Sveen arkitekter AS",{"$f":"tbl_ConsultingCompanys!D677","v":"Trondheim kommune"},{"$f":"tbl_ConsultingCompanys!C677","v":213052},"Trondheim kommune"]
[{"$nulls":10},{"$f":"tbl_ArchitectureOffices!D678","v":0},{"$f":"tbl_ArchitectureOffices!C678","v":0},0,{"$f":"tbl_Companys!D678","v":"Magnus, Arkitektfirma Jens "},{"$f":"tbl_Companys!C678","v":171703},"Magnus, Arkitektfirma Jens",{"$f":"tbl_ConsultingCompanys!D678","v":"Trondheim kommune v/ Trondheim eiendom"},{"$f":"tbl_ConsultingCompanys!C678","v":160601},"Trondheim kommune v/ Trondheim eiendom"]
[{"$nulls":10},{"$f":"tbl_ArchitectureOffices!D679","v":0},{"$f":"tbl_ArchitectureOffices!C679","v":0},0,{"$f":"tbl_Companys!D679","v":"Make Arkitekter AS"},{"$f":"tbl_Companys!C679","v":171702},"Make Arkitekter AS",{"$f":"tbl_ConsultingCompanys!D679","v":"Tronrud Entreprenør AS"},{"$f":"tbl_ConsultingCompanys!C679","v":178579},"Tronrud Entreprenør AS"]
[{"$nulls":10},{"$f":"tbl_ArchitectureOffices!D680","v":0},{"$f":"tbl_ArchitectureOffices!C680","v":0},0,{"$f":"tbl_Companys!D680","v":"Malde mnal, Sivilarkitekt Paal "},{"$f":"tbl_Companys!C680","v":185841},"Malde mnal, Sivilarkitekt Paal",{"$f":"tbl_ConsultingCompanys!D680","v":"Trygve Leiksett (SMN Kvartalet)"},{"$f":"tbl_ConsultingCompanys!C680","v":178934},"Trygve Leiksett (SMN Kvartalet)"]
[{"$nulls":10},{"$f":"tbl_ArchitectureOffices!D681","v":0},{"$f":"tbl_ArchitectureOffices!C681","v":0},0,{"$f":"tbl_Companys!D681","v":"Malermester Per Johannesen AS"},{"$f":"tbl_Companys!C681","v":157875},"Malermester Per Johannesen AS",{"$f":"tbl_ConsultingCompanys!D681","v":"Trønderplan"},{"$f":"tbl_ConsultingCompanys!C681","v":236737},"Trønderplan"]
[{"$nulls":10},{"$f":"tbl_ArchitectureOffices!D682","v":0},{"$f":"tbl_ArchitectureOffices!C682","v":0},0,{"$f":"tbl_Companys!D682","v":"Malmquist sivilarkitekt MNAL MArch, E.B. "},{"$f":"tbl_Companys!C682","v":171701},"Malmquist sivilarkitekt MNAL MArch, E.B.",{"$f":"tbl_ConsultingCompanys!D682","v":"Tunge AS Mesterhus"},{"$f":"tbl_ConsultingCompanys!C682","v":155708},"Tunge AS Mesterhus"]
[{"$nulls":10},{"$f":"tbl_ArchitectureOffices!D683","v":0},{"$f":"tbl_ArchitectureOffices!C683","v":0},0,{"$f":"tbl_Companys!D683","v":"Malnes og Endresen AS"},{"$f":"tbl_Companys!C683","v":228643},"Malnes og Endresen AS",{"$f":"tbl_ConsultingCompanys!D683","v":"Tunge Maskin AS"},{"$f":"tbl_ConsultingCompanys!C683","v":155838},"Tunge Maskin AS"]
[{"$nulls":10},{"$f":"tbl_ArchitectureOffices!D684","v":0},{"$f":"tbl_ArchitectureOffices!C684","v":0},0,{"$f":"tbl_Companys!D684","v":"Malvin L. Hillestad"},{"$f":"tbl_Companys!C684","v":192375},"Malvin L. Hillestad",{"$f":"tbl_ConsultingCompanys!D684","v":"Tømrer-Tomas AS (byggeleder)"},{"$f":"tbl_ConsultingCompanys!C684","v":207498},"Tømrer-Tomas AS (byggeleder)"]
[{"$nulls":10},{"$f":"tbl_ArchitectureOffices!D685","v":0},{"$f":"tbl_ArchitectureOffices!C685","v":0},0,{"$f":"tbl_Companys!D685","v":"Mandrup Arkitektur & Design as"},{"$f":"tbl_Companys!C685","v":171700},"Mandrup Arkitektur & Design as",{"$f":"tbl_ConsultingCompanys!D685","v":"Tønsberg kommunale eiendom KF"},{"$f":"tbl_ConsultingCompanys!C685","v":213757},"Tønsberg kommunale eiendom KF"]
[{"$nulls":10},{"$f":"tbl_ArchitectureOffices!D686","v":0},{"$f":"tbl_ArchitectureOffices!C686","v":0},0,{"$f":"tbl_Companys!D686","v":"Map Arkitekter AS"},{"$f":"tbl_Companys!C686","v":171699},"Map Arkitekter AS",{"$f":"tbl_ConsultingCompanys!D686","v":"Ulsteinvik kommune"},{"$f":"tbl_ConsultingCompanys!C686","v":157538},"Ulsteinvik kommune"]
[{"$nulls":10},{"$f":"tbl_ArchitectureOffices!D687","v":0},{"$f":"tbl_ArchitectureOffices!C687","v":0},0,{"$f":"tbl_Companys!D687","v":"Marianne Laa"},{"$f":"tbl_Companys!C687","v":245540},"Marianne Laa",{"$f":"tbl_ConsultingCompanys!D687","v":"Undervisningsbygg Oslo KF"},{"$f":"tbl_ConsultingCompanys!C687","v":225258},"Undervisningsbygg Oslo KF"]
[{"$nulls":10},{"$f":"tbl_ArchitectureOffices!D688","v":0},{"$f":"tbl_ArchitectureOffices!C688","v":0},0,{"$f":"tbl_Companys!D688","v":"Marianne og Kim Rudolph-Lund"},{"$f":"tbl_Companys!C688","v":207411},"Marianne og Kim Rudolph-Lund",{"$f":"tbl_ConsultingCompanys!D688","v":"Unico AS"},{"$f":"tbl_ConsultingCompanys!C688","v":119773},"Unico AS"]
[{"$nulls":10},{"$f":"tbl_ArchitectureOffices!D689","v":0},{"$f":"tbl_ArchitectureOffices!C689","v":0},0,{"$f":"tbl_Companys!D689","v":"Marlow - Ramfelt A38 arkitektur og design as"},{"$f":"tbl_Companys!C689","v":181036},"Marlow - Ramfelt A38 arkitektur og design as",{"$f":"tbl_ConsultingCompanys!D689","v":"Unison Elektro AS (elektro)"},{"$f":"tbl_ConsultingCompanys!C689","v":155705},"Unison Elektro AS (elektro)"]
[{"$nulls":10},{"$f":"tbl_ArchitectureOffices!D690","v":0},{"$f":"tbl_ArchitectureOffices!C690","v":0},0,{"$f":"tbl_Companys!D690","v":"Martens Sivilarkitekt, Trond"},{"$f":"tbl_Companys!C690","v":172881},"Martens Sivilarkitekt, Trond",{"$f":"tbl_ConsultingCompanys!D690","v":"Universell Utforming AS"},{"$f":"tbl_ConsultingCompanys!C690","v":245581},"Universell Utforming AS"]
[{"$nulls":10},{"$f":"tbl_ArchitectureOffices!D691","v":0},{"$f":"tbl_ArchitectureOffices!C691","v":0},0,{"$f":"tbl_Companys!D691","v":"Martinsons Tre AB"},{"$f":"tbl_Companys!C691","v":178156},"Martinsons Tre AB",{"$f":"tbl_ConsultingCompanys!D691","v":"Urd Klima Sandnes AS (ventilasjon)"},{"$f":"tbl_ConsultingCompanys!C691","v":162873},"Urd Klima Sandnes AS (ventilasjon)"]
[{"$nulls":10},{"$f":"tbl_ArchitectureOffices!D692","v":0},{"$f":"tbl_ArchitectureOffices!C692","v":0},0,{"$f":"tbl_Companys!D692","v":"Martinsons Tre AS"},{"$f":"tbl_Companys!C692","v":232349},"Martinsons Tre AS",{"$f":"tbl_ConsultingCompanys!D692","v":"USBL (Stig Paugaard)"},{"$f":"tbl_ConsultingCompanys!C692","v":191298},"USBL (Stig Paugaard)"]
[{"$nulls":10},{"$f":"tbl_ArchitectureOffices!D693","v":0},{"$f":"tbl_ArchitectureOffices!C693","v":0},0,{"$f":"tbl_Companys!D693","v":"Martinsons Tre AS (rådgivn. massivtre)"},{"$f":"tbl_Companys!C693","v":228145},"Martinsons Tre AS (rådgivn. massivtre)",{"$f":"tbl_ConsultingCompanys!D693","v":"Utdanningsforbundet"},{"$f":"tbl_ConsultingCompanys!C693","v":202685},"Utdanningsforbundet"]
[{"$nulls":10},{"$f":"tbl_ArchitectureOffices!D694","v":0},{"$f":"tbl_ArchitectureOffices!C694","v":0},0,{"$f":"tbl_Companys!D694","v":"Materialbanken AS (Malmfuru)"},{"$f":"tbl_Companys!C694","v":162874},"Materialbanken AS (Malmfuru)",{"$f":"tbl_ConsultingCompanys!D694","v":"Utstillingsplassen Eiendom"},{"$f":"tbl_ConsultingCompanys!C694","v":228617},"Utstillingsplassen Eiendom"]
[{"$nulls":10},{"$f":"tbl_ArchitectureOffices!D695","v":0},{"$f":"tbl_ArchitectureOffices!C695","v":0},0,{"$f":"tbl_Companys!D695","v":"Maurstadgruppen"},{"$f":"tbl_Companys!C695","v":182978},"Maurstadgruppen",{"$f":"tbl_ConsultingCompanys!D695","v":"Varde byggadministrasjon AS"},{"$f":"tbl_ConsultingCompanys!C695","v":172761},"Varde byggadministrasjon AS"]
[{"$nulls":10},{"$f":"tbl_ArchitectureOffices!D696","v":0},{"$f":"tbl_ArchitectureOffices!C696","v":0},0,{"$f":"tbl_Companys!D696","v":"May Bente Aronsen (kunstner, lobby)"},{"$f":"tbl_Companys!C696","v":203158},"May Bente Aronsen (kunstner, lobby)",{"$f":"tbl_ConsultingCompanys!D696","v":"VAR-prosjekt AS, Bærum "},{"$f":"tbl_ConsultingCompanys!C696","v":120021},"VAR-prosjekt AS, Bærum"]
[{"$nulls":10},{"$f":"tbl_ArchitectureOffices!D697","v":0},{"$f":"tbl_ArchitectureOffices!C697","v":0},0,{"$f":"tbl_Companys!D697","v":"Medplan as Arkitekter"},{"$f":"tbl_Companys!C697","v":171697},"Medplan as Arkitekter",{"$f":"tbl_ConsultingCompanys!D697","v":"VEF Entreprenør"},{"$f":"tbl_ConsultingCompanys!C697","v":231291},"VEF Entreprenør"]
[{"$nulls":10},{"$f":"tbl_ArchitectureOffices!D698","v":0},{"$f":"tbl_ArchitectureOffices!C698","v":0},0,{"$f":"tbl_Companys!D698","v":"Meinich Arkitekter AS"},{"$f":"tbl_Companys!C698","v":178890},"Meinich Arkitekter AS",{"$f":"tbl_ConsultingCompanys!D698","v":"Veg Tech AB (sedumstaket)"},{"$f":"tbl_ConsultingCompanys!C698","v":155181},"Veg Tech AB (sedumstaket)"]
[{"$nulls":10},{"$f":"tbl_ArchitectureOffices!D699","v":0},{"$f":"tbl_ArchitectureOffices!C699","v":0},0,{"$f":"tbl_Companys!D699","v":"MEK Architects (Madrid)"},{"$f":"tbl_Companys!C699","v":243120},"MEK Architects (Madrid)",{"$f":"tbl_ConsultingCompanys!D699","v":"Veg Tech AB (sedumstaket)"},{"$f":"tbl_ConsultingCompanys!C699","v":155182},"Veg Tech AB (sedumstaket)"]
[{"$nulls":10},{"$f":"tbl_ArchitectureOffices!D700","v":0},{"$f":"tbl_ArchitectureOffices!C700","v":0},0,{"$f":"tbl_Companys!D700","v":"Mellbye Arkitekter AS"},{"$f":"tbl_Companys!C700","v":171695},"Mellbye Arkitekter AS",{"$f":"tbl_ConsultingCompanys!D700","v":"Veidekke ASA"},{"$f":"tbl_ConsultingCompanys!C700","v":103003},"Veidekke ASA"]
[{"$nulls":10},{"$f":"tbl_ArchitectureOffices!D701","v":0},{"$f":"tbl_ArchitectureOffices!C701","v":0},0,{"$f":"tbl_Companys!D701","v":"Mercur VVS Entreprenør AS"},{"$f":"tbl_Companys!C701","v":110475},"Mercur VVS Entreprenør AS",{"$f":"tbl_ConsultingCompanys!D701","v":"Veidekke Eiedom AS"},{"$f":"tbl_ConsultingCompanys!C701","v":164235},"Veidekke Eiedom AS"]
[{"$nulls":10},{"$f":"tbl_ArchitectureOffices!D702","v":0},{"$f":"tbl_ArchitectureOffices!C702","v":0},0,{"$f":"tbl_Companys!D702","v":"Mesterbygg Namsos"},{"$f":"tbl_Companys!C702","v":236724},"Mesterbygg Namsos",{"$f":"tbl_ConsultingCompanys!D702","v":"Veidekke entreprenør AS"},{"$f":"tbl_ConsultingCompanys!C702","v":165881},"Veidekke entreprenør AS"]
[{"$nulls":10},{"$f":"tbl_ArchitectureOffices!D703","v":0},{"$f":"tbl_ArchitectureOffices!C703","v":0},0,{"$f":"tbl_Companys!D703","v":"Mesterhus"},{"$f":"tbl_Companys!C703","v":204956},"Mesterhus",{"$f":"tbl_ConsultingCompanys!D703","v":"Velux Norge AS (takvinduer)"},{"$f":"tbl_ConsultingCompanys!C703","v":162875},"Velux Norge AS (takvinduer)"]
[{"$nulls":10},{"$f":"tbl_ArchitectureOffices!D704","v":0},{"$f":"tbl_ArchitectureOffices!C704","v":0},0,{"$f":"tbl_Companys!D704","v":"Mesterhus"},{"$f":"tbl_Companys!C704","v":204957},"Mesterhus",{"$f":"tbl_ConsultingCompanys!D704","v":"Vennesla kommune"},{"$f":"tbl_ConsultingCompanys!C704","v":231289},"Vennesla kommune"]
[{"$nulls":10},{"$f":"tbl_ArchitectureOffices!D705","v":0},{"$f":"tbl_ArchitectureOffices!C705","v":0},0,{"$f":"tbl_Companys!D705","v":"Metamorphosis"},{"$f":"tbl_Companys!C705","v":205444},"Metamorphosis",{"$f":"tbl_ConsultingCompanys!D705","v":"Vest Consult (VVS)"},{"$f":"tbl_ConsultingCompanys!C705","v":101065},"Vest Consult (VVS)"]
[{"$nulls":10},{"$f":"tbl_ArchitectureOffices!D706","v":0},{"$f":"tbl_ArchitectureOffices!C706","v":0},0,{"$f":"tbl_Companys!D706","v":"Meteorologisk institutt"},{"$f":"tbl_Companys!C706","v":181037},"Meteorologisk institutt",{"$f":"tbl_ConsultingCompanys!D706","v":"Vestafjell as (grunn og betong)"},{"$f":"tbl_ConsultingCompanys!C706","v":218406},"Vestafjell as (grunn og betong)"]
[{"$nulls":10},{"$f":"tbl_ArchitectureOffices!D707","v":0},{"$f":"tbl_ArchitectureOffices!C707","v":0},{"$f":"IFERROR(REPLACE(K707,FIND(\" \",K707,LEN(K707)),1,\"\"),K707)","v":0},{"$f":"tbl_Companys!D707","v":"Meter Arkitektur AS"},{"$f":"tbl_Companys!C707","v":171694},{"$f":"IFERROR(REPLACE(N707,FIND(\" \",N707,LEN(N707)),1,\"\"),N707)","v":"Meter Arkitektur AS"},{"$f":"tbl_ConsultingCompanys!D707","v":"Via Nova AS"},{"$f":"tbl_ConsultingCompanys!C707","v":97856},{"$f":"IFERROR(REPLACE(Q707,FIND(\" \",Q707,LEN(Q707)),1,\"\"),Q707)","v":"Via Nova AS"}]
[{"$nulls":10},{"$f":"tbl_ArchitectureOffices!D708","v":0},{"$f":"tbl_ArchitectureOffices!C708","v":0},0,{"$f":"tbl_Companys!D708","v":"Metropolitan Workshop LLP"},{"$f":"tbl_Companys!C708","v":171692},"Metropolitan Workshop LLP",{"$f":"tbl_ConsultingCompanys!D708","v":"Viken skog"},{"$f":"tbl_ConsultingCompanys!C708","v":243864},"Viken skog"]
[{"$nulls":10},{"$f":"tbl_ArchitectureOffices!D709","v":0},{"$f":"tbl_ArchitectureOffices!C709","v":0},0,{"$f":"tbl_Companys!D709","v":"Michael Blümlein AS (RIBr)"},{"$f":"tbl_Companys!C709","v":215013},"Michael Blümlein AS (RIBr)",{"$f":"tbl_ConsultingCompanys!D709","v":"Vink Plast AS (Vindskjermer)"},{"$f":"tbl_ConsultingCompanys!C709","v":155183},"Vink Plast AS (Vindskjermer)"]
[{"$nulls":10},{"$f":"tbl_ArchitectureOffices!D710","v":0},{"$f":"tbl_ArchitectureOffices!C710","v":0},0,{"$f":"tbl_Companys!D710","v":"Miljøbyen Granås AS"},{"$f":"tbl_Companys!C710","v":246977},"Miljøbyen Granås AS",{"$f":"tbl_ConsultingCompanys!D710","v":"Vink Plast AS (Vindskjermer)"},{"$f":"tbl_ConsultingCompanys!C710","v":155185},"Vink Plast AS (Vindskjermer)"]
[{"$nulls":10},{"$f":"tbl_ArchitectureOffices!D711","v":0},{"$f":"tbl_ArchitectureOffices!C711","v":0},0,{"$f":"tbl_Companys!D711","v":"Miljøconsult AS"},{"$f":"tbl_Companys!C711","v":247297},"Miljøconsult AS",{"$f":"tbl_ConsultingCompanys!D711","v":"Vintervoll AS"},{"$f":"tbl_ConsultingCompanys!C711","v":225765},"Vintervoll AS"]
[{"$nulls":10},{"$f":"tbl_ArchitectureOffices!D712","v":0},{"$f":"tbl_ArchitectureOffices!C712","v":0},0,{"$f":"tbl_Companys!D712","v":"Miljøforskningssenteret ANS"},{"$f":"tbl_Companys!C712","v":160588},"Miljøforskningssenteret ANS",{"$f":"tbl_ConsultingCompanys!D712","v":"Vision Bygg AS"},{"$f":"tbl_ConsultingCompanys!C712","v":245834},"Vision Bygg AS"]
[{"$nulls":10},{"$f":"tbl_ArchitectureOffices!D713","v":0},{"$f":"tbl_ArchitectureOffices!C713","v":0},0,{"$f":"tbl_Companys!D713","v":"Minera Norge AS (skifer)"},{"$f":"tbl_Companys!C713","v":155751},"Minera Norge AS (skifer)",{"$f":"tbl_ConsultingCompanys!D713","v":"VVS Norplan AS"},{"$f":"tbl_ConsultingCompanys!C713","v":178154},"VVS Norplan AS"]
[{"$nulls":10},{"$f":"tbl_ArchitectureOffices!D714","v":0},{"$f":"tbl_ArchitectureOffices!C714","v":0},0,{"$f":"tbl_Companys!D714","v":"Mir Arkitektur AS"},{"$f":"tbl_Companys!C714","v":171691},"Mir Arkitektur AS",{"$f":"tbl_ConsultingCompanys!D714","v":"Wegger & Kvalsvik AS (totalentreprenør)"},{"$f":"tbl_ConsultingCompanys!C714","v":215020},"Wegger & Kvalsvik AS (totalentreprenør)"]
[{"$nulls":10},{"$f":"tbl_ArchitectureOffices!D715","v":0},{"$f":"tbl_ArchitectureOffices!C715","v":0},0,{"$f":"tbl_Companys!D715","v":"MMW sivilarkitekter mnal as"},{"$f":"tbl_Companys!C715","v":171690},"MMW sivilarkitekter mnal as",{"$f":"tbl_ConsultingCompanys!D715","v":"Wiberg arkitektur & plan"},{"$f":"tbl_ConsultingCompanys!C715","v":228272},"Wiberg arkitektur & plan"]
[{"$nulls":10},{"$f":"tbl_ArchitectureOffices!D716","v":0},{"$f":"tbl_ArchitectureOffices!C716","v":0},0,{"$f":"tbl_Companys!D716","v":"Modalsli Prosjektering"},{"$f":"tbl_Companys!C716","v":162870},"Modalsli Prosjektering",{"$f":"tbl_ConsultingCompanys!D716","v":"Will Arentz AS"},{"$f":"tbl_ConsultingCompanys!C716","v":103206},"Will Arentz AS"]
[{"$nulls":10},{"$f":"tbl_ArchitectureOffices!D717","v":0},{"$f":"tbl_ArchitectureOffices!C717","v":0},0,{"$f":"tbl_Companys!D717","v":"Moe & Løvseth AS"},{"$f":"tbl_Companys!C717","v":171602},"Moe & Løvseth AS",{"$f":"tbl_ConsultingCompanys!D717","v":"Will Arentz, Rådgivende ingeniører "},{"$f":"tbl_ConsultingCompanys!C717","v":164237},"Will Arentz, Rådgivende ingeniører"]
[{"$nulls":10},{"$f":"tbl_ArchitectureOffices!D718","v":0},{"$f":"tbl_ArchitectureOffices!C718","v":0},0,{"$f":"tbl_Companys!D718","v":"Moe Ltd, Sjur "},{"$f":"tbl_Companys!C718","v":173043},"Moe Ltd, Sjur",{"$f":"tbl_ConsultingCompanys!D718","v":"Wörle Sparowitz Ingenieure (statikk)"},{"$f":"tbl_ConsultingCompanys!C718","v":172575},"Wörle Sparowitz Ingenieure (statikk)"]
[{"$nulls":10},{"$f":"tbl_ArchitectureOffices!D719","v":0},{"$f":"tbl_ArchitectureOffices!C719","v":0},0,{"$f":"tbl_Companys!D719","v":"Moelven Elektro AS (RIE)"},{"$f":"tbl_Companys!C719","v":214149},"Moelven Elektro AS (RIE)",{"$f":"tbl_ConsultingCompanys!D719","v":"YIT"},{"$f":"tbl_ConsultingCompanys!C719","v":178922},"YIT"]
[{"$nulls":10},{"$f":"tbl_ArchitectureOffices!D720","v":0},{"$f":"tbl_ArchitectureOffices!C720","v":0},0,{"$f":"tbl_Companys!D720","v":"Moelven limtre "},{"$f":"tbl_Companys!C720","v":162861},"Moelven limtre",{"$f":"tbl_ConsultingCompanys!D720","v":"YIT (tekniske løsninger)"},{"$f":"tbl_ConsultingCompanys!C720","v":158235},"YIT (tekniske løsninger)"]
[{"$nulls":10},{"$f":"tbl_ArchitectureOffices!D721","v":0},{"$f":"tbl_ArchitectureOffices!C721","v":0},0,{"$f":"tbl_Companys!D721","v":"Moelven massivtre (dekker, veggelementer)"},{"$f":"tbl_Companys!C721","v":162862},"Moelven massivtre (dekker, veggelementer)",{"$f":"tbl_ConsultingCompanys!D721","v":"YIT (ventilasjon, EL)"},{"$f":"tbl_ConsultingCompanys!C721","v":157872},"YIT (ventilasjon, EL)"]
[{"$nulls":10},{"$f":"tbl_ArchitectureOffices!D722","v":0},{"$f":"tbl_ArchitectureOffices!C722","v":0},0,{"$f":"tbl_Companys!D722","v":"Molden AS, Mette & Morten "},{"$f":"tbl_Companys!C722","v":171689},"Molden AS, Mette & Morten",{"$f":"tbl_ConsultingCompanys!D722","v":"YIT, Gard Olsen (Elektro)"},{"$f":"tbl_ConsultingCompanys!C722","v":158193},"YIT, Gard Olsen (Elektro)"]
[{"$nulls":10},{"$f":"tbl_ArchitectureOffices!D723","v":0},{"$f":"tbl_ArchitectureOffices!C723","v":0},0,{"$f":"tbl_Companys!D723","v":"Momenta arkitekter"},{"$f":"tbl_Companys!C723","v":171688},"Momenta arkitekter",{"$f":"tbl_ConsultingCompanys!D723","v":"YIT/Optimo Prosjekt"},{"$f":"tbl_ConsultingCompanys!C723","v":236448},"YIT/Optimo Prosjekt"]
[{"$nulls":10},{"$f":"tbl_ArchitectureOffices!D724","v":0},{"$f":"tbl_ArchitectureOffices!C724","v":0},0,{"$f":"tbl_Companys!D724","v":"Momentum Arkitekter AS"},{"$f":"tbl_Companys!C724","v":186182},"Momentum Arkitekter AS",{"$f":"tbl_ConsultingCompanys!D724","v":"Zen Resort & Spa, Norge"},{"$f":"tbl_ConsultingCompanys!C724","v":178577},"Zen Resort & Spa, Norge"]
[{"$nulls":10},{"$f":"tbl_ArchitectureOffices!D725","v":0},{"$f":"tbl_ArchitectureOffices!C725","v":0},0,{"$f":"tbl_Companys!D725","v":"Morfeus Arkitekter"},{"$f":"tbl_Companys!C725","v":172296},"Morfeus Arkitekter",{"$f":"tbl_ConsultingCompanys!D725","v":"Øivin Vestre"},{"$f":"tbl_ConsultingCompanys!C725","v":192373},"Øivin Vestre"]
[{"$nulls":10},{"$f":"tbl_ArchitectureOffices!D726","v":0},{"$f":"tbl_ArchitectureOffices!C726","v":0},0,{"$f":"tbl_Companys!D726","v":"Morten Hagen"},{"$f":"tbl_Companys!C726","v":110658},"Morten Hagen",{"$f":"tbl_ConsultingCompanys!D726","v":"Økologisk håndverksbedrift / NJH"},{"$f":"tbl_ConsultingCompanys!C726","v":112306},"Økologisk håndverksbedrift / NJH"]
[{"$nulls":10},{"$f":"tbl_ArchitectureOffices!D727","v":0},{"$f":"tbl_ArchitectureOffices!C727","v":0},0,{"$f":"tbl_Companys!D727","v":"moseng poulsen arkitektur as"},{"$f":"tbl_Companys!C727","v":192072},"moseng poulsen arkitektur as",{"$f":"tbl_ConsultingCompanys!D727","v":"Øren Consult"},{"$f":"tbl_ConsultingCompanys!C727","v":172587},"Øren Consult"]
[{"$nulls":10},{"$f":"tbl_ArchitectureOffices!D728","v":0},{"$f":"tbl_ArchitectureOffices!C728","v":0},0,{"$f":"tbl_Companys!D728","v":"Mossemøllene eiendom"},{"$f":"tbl_Companys!C728","v":224058},"Mossemøllene eiendom",{"$f":"tbl_ConsultingCompanys!D728","v":"Øvre Romerike Prosjektering AS"},{"$f":"tbl_ConsultingCompanys!C728","v":103255},"Øvre Romerike Prosjektering AS"]
[{"$nulls":10},{"$f":"tbl_ArchitectureOffices!D729","v":0},{"$f":"tbl_ArchitectureOffices!C729","v":0},0,{"$f":"tbl_Companys!D729","v":"Mossige AS arkitekter"},{"$f":"tbl_Companys!C729","v":171686},"Mossige AS arkitekter",{"$f":"tbl_ConsultingCompanys!D729","v":"Øystein Thommesen AS"},{"$f":"tbl_ConsultingCompanys!C729","v":244636},"Øystein Thommesen AS"]
[{"$nulls":10},{"$f":"tbl_ArchitectureOffices!D730","v":0},{"$f":"tbl_ArchitectureOffices!C730","v":0},0,{"$f":"tbl_Companys!D730","v":"M-TO sivilarkitekt MNAL"},{"$f":"tbl_Companys!C730","v":171685},"M-TO sivilarkitekt MNAL",{"$f":"tbl_ConsultingCompanys!D730","v":"ÅF - Consult AS"},{"$f":"tbl_ConsultingCompanys!C730","v":214727},"ÅF - Consult AS"]
[{"$nulls":10},{"$f":"tbl_ArchitectureOffices!D731","v":0},{"$f":"tbl_ArchitectureOffices!C731","v":0},0,{"$f":"tbl_Companys!D731","v":"Multiconsult"},{"$f":"tbl_Companys!C731","v":97927},"Multiconsult",{"$f":"tbl_ConsultingCompanys!D731","v":"ÅF Engineering AS"},{"$f":"tbl_ConsultingCompanys!C731","v":213756},"ÅF Engineering AS"]
[{"$nulls":10},{"$f":"tbl_ArchitectureOffices!D732","v":0},{"$f":"tbl_ArchitectureOffices!C732","v":0},0,{"$f":"tbl_Companys!D732","v":"Multiteknikk AS"},{"$f":"tbl_Companys!C732","v":155701},"Multiteknikk AS",{"$f":"tbl_ConsultingCompanys!D732","v":"ÅF-consulting AS (RIE)"},{"$f":"tbl_ConsultingCompanys!C732","v":209553},"ÅF-consulting AS (RIE)"]
[{"$nulls":10},{"$f":"tbl_ArchitectureOffices!D733","v":0},{"$f":"tbl_ArchitectureOffices!C733","v":0},0,{"$f":"tbl_Companys!D733","v":"Murermester Tore Sjømæling"},{"$f":"tbl_Companys!C733","v":225762},"Murermester Tore Sjømæling",{"$f":"tbl_ConsultingCompanys!D733","v":"Åke Larson Construction AS"},{"$f":"tbl_ConsultingCompanys!C733","v":160581},"Åke Larson Construction AS"]
[{"$nulls":10},{"$f":"tbl_ArchitectureOffices!D734","v":0},{"$f":"tbl_ArchitectureOffices!C734","v":0},0,{"$f":"tbl_Companys!D734","v":"Murmester Aksel Hansen"},{"$f":"tbl_Companys!C734","v":157873},"Murmester Aksel Hansen",{"$f":"tbl_ConsultingCompanys!D734","v":"Åsane Byggmesterforretning AS"},{"$f":"tbl_ConsultingCompanys!C734","v":218050},"Åsane Byggmesterforretning AS"]
[{"$nulls":10},{"$f":"tbl_ArchitectureOffices!D735","v":0},{"$f":"tbl_ArchitectureOffices!C735","v":0},0,{"$f":"tbl_Companys!D735","v":"Murmester Rolf Holm as"},{"$f":"tbl_Companys!C735","v":112153},"Murmester Rolf Holm as",{"$f":"tbl_ConsultingCompanys!D735","v":"Åsane Byggmesterforretning AS"},{"$f":"tbl_ConsultingCompanys!C735","v":218051},"Åsane Byggmesterforretning AS"]
[{"$nulls":10},{"$f":"tbl_ArchitectureOffices!D736","v":0},{"$f":"tbl_ArchitectureOffices!C736","v":0},0,{"$f":"tbl_Companys!D736","v":"Myhrerenga BRL"},{"$f":"tbl_Companys!C736","v":191299},"Myhrerenga BRL",{"$f":"tbl_ConsultingCompanys!D736","v":0},{"$f":"tbl_ConsultingCompanys!C736","v":0},0]
[{"$nulls":10},{"$f":"tbl_ArchitectureOffices!D737","v":0},{"$f":"tbl_ArchitectureOffices!C737","v":0},0,{"$f":"tbl_Companys!D737","v":"Myklebust AS"},{"$f":"tbl_Companys!C737","v":178927},"Myklebust AS",{"$f":"tbl_ConsultingCompanys!D737","v":0},{"$f":"tbl_ConsultingCompanys!C737","v":0},0]
[{"$nulls":10},{"$f":"tbl_ArchitectureOffices!D738","v":0},{"$f":"tbl_ArchitectureOffices!C738","v":0},0,{"$f":"tbl_Companys!D738","v":"Mylius Arkitektkontor, E. "},{"$f":"tbl_Companys!C738","v":178657},"Mylius Arkitektkontor, E.",{"$f":"tbl_ConsultingCompanys!D738","v":0},{"$f":"tbl_ConsultingCompanys!C738","v":0},0]
[{"$nulls":10},{"$f":"tbl_ArchitectureOffices!D739","v":0},{"$f":"tbl_ArchitectureOffices!C739","v":0},0,{"$f":"tbl_Companys!D739","v":"Myrstad AS, Arkitekt Jim "},{"$f":"tbl_Companys!C739","v":171683},"Myrstad AS, Arkitekt Jim",{"$f":"tbl_ConsultingCompanys!D739","v":0},{"$f":"tbl_ConsultingCompanys!C739","v":0},0]
[{"$nulls":10},{"$f":"tbl_ArchitectureOffices!D740","v":0},{"$f":"tbl_ArchitectureOffices!C740","v":0},0,{"$f":"tbl_Companys!D740","v":"Myrvold Utemiljø"},{"$f":"tbl_Companys!C740","v":178583},"Myrvold Utemiljø",{"$f":"tbl_ConsultingCompanys!D740","v":0},{"$f":"tbl_ConsultingCompanys!C740","v":0},0]
[{"$nulls":10},{"$f":"tbl_ArchitectureOffices!D741","v":0},{"$f":"tbl_ArchitectureOffices!C741","v":0},0,{"$f":"tbl_Companys!D741","v":"Møller, Arkitektfirmaet C.F. "},{"$f":"tbl_Companys!C741","v":171681},"Møller, Arkitektfirmaet C.F.",{"$f":"tbl_ConsultingCompanys!D741","v":0},{"$f":"tbl_ConsultingCompanys!C741","v":0},0]
[{"$nulls":10},{"$f":"tbl_ArchitectureOffices!D742","v":0},{"$f":"tbl_ArchitectureOffices!C742","v":0},0,{"$f":"tbl_Companys!D742","v":"Møre og Romsdal fylkeskommune"},{"$f":"tbl_Companys!C742","v":247286},"Møre og Romsdal fylkeskommune",{"$f":"tbl_ConsultingCompanys!D742","v":0},{"$f":"tbl_ConsultingCompanys!C742","v":0},0]
[{"$nulls":10},{"$f":"tbl_ArchitectureOffices!D743","v":0},{"$f":"tbl_ArchitectureOffices!C743","v":0},0,{"$f":"tbl_Companys!D743","v":"Møystad + Nielsen Arkitektur AS"},{"$f":"tbl_Companys!C743","v":171680},"Møystad + Nielsen Arkitektur AS",{"$f":"tbl_ConsultingCompanys!D743","v":0},{"$f":"tbl_ConsultingCompanys!C743","v":0},0]
[{"$nulls":10},{"$f":"tbl_ArchitectureOffices!D744","v":0},{"$f":"tbl_ArchitectureOffices!C744","v":0},0,{"$f":"tbl_Companys!D744","v":"Narud-Stokke-Wiig sivilarkitekter as"},{"$f":"tbl_Companys!C744","v":171508},"Narud-Stokke-Wiig sivilarkitekter as",{"$f":"tbl_ConsultingCompanys!D744","v":0},{"$f":"tbl_ConsultingCompanys!C744","v":0},0]
[{"$nulls":10},{"$f":"tbl_ArchitectureOffices!D745","v":0},{"$f":"tbl_ArchitectureOffices!C745","v":0},0,{"$f":"tbl_Companys!D745","v":"Nataas, Gisle "},{"$f":"tbl_Companys!C745","v":171507},"Nataas, Gisle",{"$f":"tbl_ConsultingCompanys!D745","v":0},{"$f":"tbl_ConsultingCompanys!C745","v":0},0]
[{"$nulls":10},{"$f":"tbl_ArchitectureOffices!D746","v":0},{"$f":"tbl_ArchitectureOffices!C746","v":0},0,{"$f":"tbl_Companys!D746","v":"National Elektro AS"},{"$f":"tbl_Companys!C746","v":110479},"National Elektro AS",{"$f":"tbl_ConsultingCompanys!D746","v":0},{"$f":"tbl_ConsultingCompanys!C746","v":0},0]
[{"$nulls":10},{"$f":"tbl_ArchitectureOffices!D747","v":0},{"$f":"tbl_ArchitectureOffices!C747","v":0},0,{"$f":"tbl_Companys!D747","v":"Naturbygg AS"},{"$f":"tbl_Companys!C747","v":103262},"Naturbygg AS",{"$f":"tbl_ConsultingCompanys!D747","v":0},{"$f":"tbl_ConsultingCompanys!C747","v":0},0]
[{"$nulls":10},{"$f":"tbl_ArchitectureOffices!D748","v":0},{"$f":"tbl_ArchitectureOffices!C748","v":0},0,{"$f":"tbl_Companys!D748","v":"NAV A.S. Arkitekter MNAL NPA"},{"$f":"tbl_Companys!C748","v":171506},"NAV A.S. Arkitekter MNAL NPA",{"$f":"tbl_ConsultingCompanys!D748","v":0},{"$f":"tbl_ConsultingCompanys!C748","v":0},0]
[{"$nulls":10},{"$f":"tbl_ArchitectureOffices!D749","v":0},{"$f":"tbl_ArchitectureOffices!C749","v":0},0,{"$f":"tbl_Companys!D749","v":"NCC Construction AS"},{"$f":"tbl_Companys!C749","v":97922},"NCC Construction AS",{"$f":"tbl_ConsultingCompanys!D749","v":0},{"$f":"tbl_ConsultingCompanys!C749","v":0},0]
[{"$nulls":10},{"$f":"tbl_ArchitectureOffices!D750","v":0},{"$f":"tbl_ArchitectureOffices!C750","v":0},0,{"$f":"tbl_Companys!D750","v":"NCC Construction AS"},{"$f":"tbl_Companys!C750","v":165388},"NCC Construction AS",{"$f":"tbl_ConsultingCompanys!D750","v":0},{"$f":"tbl_ConsultingCompanys!C750","v":0},0]
[{"$nulls":10},{"$f":"tbl_ArchitectureOffices!D751","v":0},{"$f":"tbl_ArchitectureOffices!C751","v":0},0,{"$f":"tbl_Companys!D751","v":"NCC Property Development"},{"$f":"tbl_Companys!C751","v":207445},"NCC Property Development",{"$f":"tbl_ConsultingCompanys!D751","v":0},{"$f":"tbl_ConsultingCompanys!C751","v":0},0]
[{"$nulls":10},{"$f":"tbl_ArchitectureOffices!D752","v":0},{"$f":"tbl_ArchitectureOffices!C752","v":0},0,{"$f":"tbl_Companys!D752","v":"Neas Consulting"},{"$f":"tbl_Companys!C752","v":178155},"Neas Consulting",{"$f":"tbl_ConsultingCompanys!D752","v":0},{"$f":"tbl_ConsultingCompanys!C752","v":0},0]
[{"$nulls":10},{"$f":"tbl_ArchitectureOffices!D753","v":0},{"$f":"tbl_ArchitectureOffices!C753","v":0},0,{"$f":"tbl_Companys!D753","v":"Nedig AS"},{"$f":"tbl_Companys!C753","v":103150},"Nedig AS",{"$f":"tbl_ConsultingCompanys!D753","v":0},{"$f":"tbl_ConsultingCompanys!C753","v":0},0]
[{"$nulls":10},{"$f":"tbl_ArchitectureOffices!D754","v":0},{"$f":"tbl_ArchitectureOffices!C754","v":0},0,{"$f":"tbl_Companys!D754","v":"Nedre Buskerud Boligbyggelag (NBBO)"},{"$f":"tbl_Companys!C754","v":207456},"Nedre Buskerud Boligbyggelag (NBBO)",{"$f":"tbl_ConsultingCompanys!D754","v":0},{"$f":"tbl_ConsultingCompanys!C754","v":0},0]
[{"$nulls":10},{"$f":"tbl_ArchitectureOffices!D755","v":0},{"$f":"tbl_ArchitectureOffices!C755","v":0},0,{"$f":"tbl_Companys!D755","v":"Nes Arkitekter, Leiv "},{"$f":"tbl_Companys!C755","v":172651},"Nes Arkitekter, Leiv",{"$f":"tbl_ConsultingCompanys!D755","v":0},{"$f":"tbl_ConsultingCompanys!C755","v":0},0]
[{"$nulls":10},{"$f":"tbl_ArchitectureOffices!D756","v":0},{"$f":"tbl_ArchitectureOffices!C756","v":0},0,{"$f":"tbl_Companys!D756","v":"Nesodden Arkitektkontor AS"},{"$f":"tbl_Companys!C756","v":172656},"Nesodden Arkitektkontor AS",{"$f":"tbl_ConsultingCompanys!D756","v":0},{"$f":"tbl_ConsultingCompanys!C756","v":0},0]
[{"$nulls":10},{"$f":"tbl_ArchitectureOffices!D757","v":0},{"$f":"tbl_ArchitectureOffices!C757","v":0},0,{"$f":"tbl_Companys!D757","v":"Nesodden kommune"},{"$f":"tbl_Companys!C757","v":160571},"Nesodden kommune",{"$f":"tbl_ConsultingCompanys!D757","v":0},{"$f":"tbl_ConsultingCompanys!C757","v":0},0]
[{"$nulls":10},{"$f":"tbl_ArchitectureOffices!D758","v":0},{"$f":"tbl_ArchitectureOffices!C758","v":0},0,{"$f":"tbl_Companys!D758","v":"Nexi Bygg as"},{"$f":"tbl_Companys!C758","v":94533},"Nexi Bygg as",{"$f":"tbl_ConsultingCompanys!D758","v":0},{"$f":"tbl_ConsultingCompanys!C758","v":0},0]
[{"$nulls":10},{"$f":"tbl_ArchitectureOffices!D759","v":0},{"$f":"tbl_ArchitectureOffices!C759","v":0},0,{"$f":"tbl_Companys!D759","v":"Nils Ivar Bovim"},{"$f":"tbl_Companys!C759","v":193869},"Nils Ivar Bovim",{"$f":"tbl_ConsultingCompanys!D759","v":0},{"$f":"tbl_ConsultingCompanys!C759","v":0},0]
[{"$nulls":10},{"$f":"tbl_ArchitectureOffices!D760","v":0},{"$f":"tbl_ArchitectureOffices!C760","v":0},0,{"$f":"tbl_Companys!D760","v":"NODE rådgivende ing.AS"},{"$f":"tbl_Companys!C760","v":166297},"NODE rådgivende ing.AS",{"$f":"tbl_ConsultingCompanys!D760","v":0},{"$f":"tbl_ConsultingCompanys!C760","v":0},0]
[{"$nulls":10},{"$f":"tbl_ArchitectureOffices!D761","v":0},{"$f":"tbl_ArchitectureOffices!C761","v":0},0,{"$f":"tbl_Companys!D761","v":"NODE rådgivende ingeniører as (RIB)"},{"$f":"tbl_Companys!C761","v":215424},"NODE rådgivende ingeniører as (RIB)",{"$f":"tbl_ConsultingCompanys!D761","v":0},{"$f":"tbl_ConsultingCompanys!C761","v":0},0]
[{"$nulls":10},{"$f":"tbl_ArchitectureOffices!D762","v":0},{"$f":"tbl_ArchitectureOffices!C762","v":0},0,{"$f":"tbl_Companys!D762","v":"Noncon:form (Østerrike)"},{"$f":"tbl_Companys!C762","v":245866},"Noncon:form (Østerrike)",{"$f":"tbl_ConsultingCompanys!D762","v":0},{"$f":"tbl_ConsultingCompanys!C762","v":0},0]
[{"$nulls":10},{"$f":"tbl_ArchitectureOffices!D763","v":0},{"$f":"tbl_ArchitectureOffices!C763","v":0},0,{"$f":"tbl_Companys!D763","v":"Norconsult AS"},{"$f":"tbl_Companys!C763","v":103147},"Norconsult AS",{"$f":"tbl_ConsultingCompanys!D763","v":0},{"$f":"tbl_ConsultingCompanys!C763","v":0},0]
[{"$nulls":10},{"$f":"tbl_ArchitectureOffices!D764","v":0},{"$f":"tbl_ArchitectureOffices!C764","v":0},0,{"$f":"tbl_Companys!D764","v":"Norconsult AS"},{"$f":"tbl_Companys!C764","v":247295},"Norconsult AS",{"$f":"tbl_ConsultingCompanys!D764","v":0},{"$f":"tbl_ConsultingCompanys!C764","v":0},0]
[{"$nulls":10},{"$f":"tbl_ArchitectureOffices!D765","v":0},{"$f":"tbl_ArchitectureOffices!C765","v":0},0,{"$f":"tbl_Companys!D765","v":"Nord AS, Arkitektkontoret "},{"$f":"tbl_Companys!C765","v":171505},"Nord AS, Arkitektkontoret",{"$f":"tbl_ConsultingCompanys!D765","v":0},{"$f":"tbl_ConsultingCompanys!C765","v":0},0]
[{"$nulls":10},{"$f":"tbl_ArchitectureOffices!D766","v":0},{"$f":"tbl_ArchitectureOffices!C766","v":0},0,{"$f":"tbl_Companys!D766","v":"NorDan AS (dører, vinduer, glassfasade)"},{"$f":"tbl_Companys!C766","v":172953},"NorDan AS (dører, vinduer, glassfasade)",{"$f":"tbl_ConsultingCompanys!D766","v":0},{"$f":"tbl_ConsultingCompanys!C766","v":0},0]
[{"$nulls":10},{"$f":"tbl_ArchitectureOffices!D767","v":0},{"$f":"tbl_ArchitectureOffices!C767","v":0},0,{"$f":"tbl_Companys!D767","v":"Nordberg As, Sissel "},{"$f":"tbl_Companys!C767","v":172680},"Nordberg As, Sissel",{"$f":"tbl_ConsultingCompanys!D767","v":0},{"$f":"tbl_ConsultingCompanys!C767","v":0},0]
[{"$nulls":10},{"$f":"tbl_ArchitectureOffices!D768","v":0},{"$f":"tbl_ArchitectureOffices!C768","v":0},0,{"$f":"tbl_Companys!D768","v":"Nordbohus AS v/ ingeniør Randi Nåvik "},{"$f":"tbl_Companys!C768","v":111983},"Nordbohus AS v/ ingeniør Randi Nåvik",{"$f":"tbl_ConsultingCompanys!D768","v":0},{"$f":"tbl_ConsultingCompanys!C768","v":0},0]
[{"$nulls":10},{"$f":"tbl_ArchitectureOffices!D769","v":0},{"$f":"tbl_ArchitectureOffices!C769","v":0},0,{"$f":"tbl_Companys!D769","v":"Nordesign"},{"$f":"tbl_Companys!C769","v":232352},"Nordesign",{"$f":"tbl_ConsultingCompanys!D769","v":0},{"$f":"tbl_ConsultingCompanys!C769","v":0},0]
[{"$nulls":10},{"$f":"tbl_ArchitectureOffices!D770","v":0},{"$f":"tbl_ArchitectureOffices!C770","v":0},0,{"$f":"tbl_Companys!D770","v":"Nordic - Office of Architecture"},{"$f":"tbl_Companys!C770","v":172792},"Nordic - Office of Architecture",{"$f":"tbl_ConsultingCompanys!D770","v":0},{"$f":"tbl_ConsultingCompanys!C770","v":0},0]
[{"$nulls":10},{"$f":"tbl_ArchitectureOffices!D771","v":0},{"$f":"tbl_ArchitectureOffices!C771","v":0},{"$f":"IFERROR(REPLACE(K771,FIND(\" \",K771,LEN(K771)),1,\"\"),K771)","v":0},{"$f":"tbl_Companys!D771","v":"Nordland Fylkeskommune"},{"$f":"tbl_Companys!C771","v":223331},{"$f":"IFERROR(REPLACE(N771,FIND(\" \",N771,LEN(N771)),1,\"\"),N771)","v":"Nordland Fylkeskommune"},{"$f":"tbl_ConsultingCompanys!D771","v":0},{"$f":"tbl_ConsultingCompanys!C771","v":0},{"$f":"IFERROR(REPLACE(Q771,FIND(\" \",Q771,LEN(Q771)),1,\"\"),Q771)","v":0}]
[{"$nulls":10},{"$f":"tbl_ArchitectureOffices!D772","v":0},{"$f":"tbl_ArchitectureOffices!C772","v":0},0,{"$f":"tbl_Companys!D772","v":"Nordplan AS"},{"$f":"tbl_Companys!C772","v":171504},"Nordplan AS",{"$f":"tbl_ConsultingCompanys!D772","v":0},{"$f":"tbl_ConsultingCompanys!C772","v":0},0]
[{"$nulls":10},{"$f":"tbl_ArchitectureOffices!D773","v":0},{"$f":"tbl_ArchitectureOffices!C773","v":0},0,{"$f":"tbl_Companys!D773","v":"Nordvest Prosjekt AS"},{"$f":"tbl_Companys!C773","v":171501},"Nordvest Prosjekt AS",{"$f":"tbl_ConsultingCompanys!D773","v":0},{"$f":"tbl_ConsultingCompanys!C773","v":0},0]
[{"$nulls":10},{"$f":"tbl_ArchitectureOffices!D774","v":0},{"$f":"tbl_ArchitectureOffices!C774","v":0},0,{"$f":"tbl_Companys!D774","v":"Norelement (PREFAB)"},{"$f":"tbl_Companys!C774","v":158234},"Norelement (PREFAB)",{"$f":"tbl_ConsultingCompanys!D774","v":0},{"$f":"tbl_ConsultingCompanys!C774","v":0},0]
[{"$nulls":10},{"$f":"tbl_ArchitectureOffices!D775","v":0},{"$f":"tbl_ArchitectureOffices!C775","v":0},0,{"$f":"tbl_Companys!D775","v":"Norelement Dag Kerlefsen (PREFAB)"},{"$f":"tbl_Companys!C775","v":158196},"Norelement Dag Kerlefsen (PREFAB)",{"$f":"tbl_ConsultingCompanys!D775","v":0},{"$f":"tbl_ConsultingCompanys!C775","v":0},0]
[{"$nulls":10},{"$f":"tbl_ArchitectureOffices!D776","v":0},{"$f":"tbl_ArchitectureOffices!C776","v":0},0,{"$f":"tbl_Companys!D776","v":"Norgeshus"},{"$f":"tbl_Companys!C776","v":246279},"Norgeshus",{"$f":"tbl_ConsultingCompanys!D776","v":0},{"$f":"tbl_ConsultingCompanys!C776","v":0},0]
[{"$nulls":10},{"$f":"tbl_ArchitectureOffices!D777","v":0},{"$f":"tbl_ArchitectureOffices!C777","v":0},0,{"$f":"tbl_Companys!D777","v":"Norgeshus AS"},{"$f":"tbl_Companys!C777","v":246401},"Norgeshus AS",{"$f":"tbl_ConsultingCompanys!D777","v":0},{"$f":"tbl_ConsultingCompanys!C777","v":0},0]
[{"$nulls":10},{"$f":"tbl_ArchitectureOffices!D778","v":0},{"$f":"tbl_ArchitectureOffices!C778","v":0},0,{"$f":"tbl_Companys!D778","v":"Norsas"},{"$f":"tbl_Companys!C778","v":184491},"Norsas",{"$f":"tbl_ConsultingCompanys!D778","v":0},{"$f":"tbl_ConsultingCompanys!C778","v":0},0]
[{"$nulls":10},{"$f":"tbl_ArchitectureOffices!D779","v":0},{"$f":"tbl_ArchitectureOffices!C779","v":0},0,{"$f":"tbl_Companys!D779","v":"Norsk brannvernforening"},{"$f":"tbl_Companys!C779","v":247312},"Norsk brannvernforening",{"$f":"tbl_ConsultingCompanys!D779","v":0},{"$f":"tbl_ConsultingCompanys!C779","v":0},0]
[{"$nulls":10},{"$f":"tbl_ArchitectureOffices!D780","v":0},{"$f":"tbl_ArchitectureOffices!C780","v":0},0,{"$f":"tbl_Companys!D780","v":"Norsk institutt for naturforskning (NINA)"},{"$f":"tbl_Companys!C780","v":246946},"Norsk institutt for naturforskning (NINA)",{"$f":"tbl_ConsultingCompanys!D780","v":0},{"$f":"tbl_ConsultingCompanys!C780","v":0},0]
[{"$nulls":10},{"$f":"tbl_ArchitectureOffices!D781","v":0},{"$f":"tbl_ArchitectureOffices!C781","v":0},0,{"$f":"tbl_Companys!D781","v":"Norsk Massivtre AS"},{"$f":"tbl_Companys!C781","v":177615},"Norsk Massivtre AS",{"$f":"tbl_ConsultingCompanys!D781","v":0},{"$f":"tbl_ConsultingCompanys!C781","v":0},0]
[{"$nulls":10},{"$f":"tbl_ArchitectureOffices!D782","v":0},{"$f":"tbl_ArchitectureOffices!C782","v":0},0,{"$f":"tbl_Companys!D782","v":"Norsk Oljemuseum"},{"$f":"tbl_Companys!C782","v":192372},"Norsk Oljemuseum",{"$f":"tbl_ConsultingCompanys!D782","v":0},{"$f":"tbl_ConsultingCompanys!C782","v":0},0]
[{"$nulls":10},{"$f":"tbl_ArchitectureOffices!D783","v":0},{"$f":"tbl_ArchitectureOffices!C783","v":0},0,{"$f":"tbl_Companys!D783","v":"Noveta AS "},{"$f":"tbl_Companys!C783","v":202451},"Noveta AS",{"$f":"tbl_ConsultingCompanys!D783","v":0},{"$f":"tbl_ConsultingCompanys!C783","v":0},0]
[{"$nulls":10},{"$f":"tbl_ArchitectureOffices!D784","v":0},{"$f":"tbl_ArchitectureOffices!C784","v":0},0,{"$f":"tbl_Companys!D784","v":"NTNU"},{"$f":"tbl_Companys!C784","v":178928},"NTNU",{"$f":"tbl_ConsultingCompanys!D784","v":0},{"$f":"tbl_ConsultingCompanys!C784","v":0},0]
[{"$nulls":10},{"$f":"tbl_ArchitectureOffices!D785","v":0},{"$f":"tbl_ArchitectureOffices!C785","v":0},0,{"$f":"tbl_Companys!D785","v":"Nuno arkitektur AS"},{"$f":"tbl_Companys!C785","v":166535},"Nuno arkitektur AS",{"$f":"tbl_ConsultingCompanys!D785","v":0},{"$f":"tbl_ConsultingCompanys!C785","v":0},0]
[{"$nulls":10},{"$f":"tbl_ArchitectureOffices!D786","v":0},{"$f":"tbl_ArchitectureOffices!C786","v":0},0,{"$f":"tbl_Companys!D786","v":"Nydesign AS"},{"$f":"tbl_Companys!C786","v":207042},"Nydesign AS",{"$f":"tbl_ConsultingCompanys!D786","v":0},{"$f":"tbl_ConsultingCompanys!C786","v":0},0]
[{"$nulls":10},{"$f":"tbl_ArchitectureOffices!D787","v":0},{"$f":"tbl_ArchitectureOffices!C787","v":0},0,{"$f":"tbl_Companys!D787","v":"Nygaard AS"},{"$f":"tbl_Companys!C787","v":192282},"Nygaard AS",{"$f":"tbl_ConsultingCompanys!D787","v":0},{"$f":"tbl_ConsultingCompanys!C787","v":0},0]
[{"$nulls":10},{"$f":"tbl_ArchitectureOffices!D788","v":0},{"$f":"tbl_ArchitectureOffices!C788","v":0},0,{"$f":"tbl_Companys!D788","v":"Nyland byggeadministrasjon AS"},{"$f":"tbl_Companys!C788","v":245784},"Nyland byggeadministrasjon AS",{"$f":"tbl_ConsultingCompanys!D788","v":0},{"$f":"tbl_ConsultingCompanys!C788","v":0},0]
[{"$nulls":10},{"$f":"tbl_ArchitectureOffices!D789","v":0},{"$f":"tbl_ArchitectureOffices!C789","v":0},0,{"$f":"tbl_Companys!D789","v":"OBAS"},{"$f":"tbl_Companys!C789","v":204487},"OBAS",{"$f":"tbl_ConsultingCompanys!D789","v":0},{"$f":"tbl_ConsultingCompanys!C789","v":0},0]
[{"$nulls":10},{"$f":"tbl_ArchitectureOffices!D790","v":0},{"$f":"tbl_ArchitectureOffices!C790","v":0},0,{"$f":"tbl_Companys!D790","v":"OBOS nye hjem"},{"$f":"tbl_Companys!C790","v":160585},"OBOS nye hjem",{"$f":"tbl_ConsultingCompanys!D790","v":0},{"$f":"tbl_ConsultingCompanys!C790","v":0},0]
[{"$nulls":10},{"$f":"tbl_ArchitectureOffices!D791","v":0},{"$f":"tbl_ArchitectureOffices!C791","v":0},0,{"$f":"tbl_Companys!D791","v":"OBOS Nye Hjem"},{"$f":"tbl_Companys!C791","v":204958},"OBOS Nye Hjem",{"$f":"tbl_ConsultingCompanys!D791","v":0},{"$f":"tbl_ConsultingCompanys!C791","v":0},0]
[{"$nulls":10},{"$f":"tbl_ArchitectureOffices!D792","v":0},{"$f":"tbl_ArchitectureOffices!C792","v":0},0,{"$f":"tbl_Companys!D792","v":"OEC Consulting AS"},{"$f":"tbl_Companys!C792","v":214495},"OEC Consulting AS",{"$f":"tbl_ConsultingCompanys!D792","v":0},{"$f":"tbl_ConsultingCompanys!C792","v":0},0]
[{"$nulls":10},{"$f":"tbl_ArchitectureOffices!D793","v":0},{"$f":"tbl_ArchitectureOffices!C793","v":0},0,{"$f":"tbl_Companys!D793","v":"OFE AS"},{"$f":"tbl_Companys!C793","v":101079},"OFE AS",{"$f":"tbl_ConsultingCompanys!D793","v":0},{"$f":"tbl_ConsultingCompanys!C793","v":0},0]
[{"$nulls":10},{"$f":"tbl_ArchitectureOffices!D794","v":0},{"$f":"tbl_ArchitectureOffices!C794","v":0},0,{"$f":"tbl_Companys!D794","v":"Og Arkitekter as"},{"$f":"tbl_Companys!C794","v":166671},"Og Arkitekter as",{"$f":"tbl_ConsultingCompanys!D794","v":0},{"$f":"tbl_ConsultingCompanys!C794","v":0},0]
[{"$nulls":10},{"$f":"tbl_ArchitectureOffices!D795","v":0},{"$f":"tbl_ArchitectureOffices!C795","v":0},0,{"$f":"tbl_Companys!D795","v":"OHC arkitektur & design as"},{"$f":"tbl_Companys!C795","v":172686},"OHC arkitektur & design as",{"$f":"tbl_ConsultingCompanys!D795","v":0},{"$f":"tbl_ConsultingCompanys!C795","v":0},0]
[{"$nulls":10},{"$f":"tbl_ArchitectureOffices!D796","v":0},{"$f":"tbl_ArchitectureOffices!C796","v":0},0,{"$f":"tbl_Companys!D796","v":"OK arkitekter"},{"$f":"tbl_Companys!C796","v":171500},"OK arkitekter",{"$f":"tbl_ConsultingCompanys!D796","v":0},{"$f":"tbl_ConsultingCompanys!C796","v":0},0]
[{"$nulls":10},{"$f":"tbl_ArchitectureOffices!D797","v":0},{"$f":"tbl_ArchitectureOffices!C797","v":0},0,{"$f":"tbl_Companys!D797","v":"OKK Entreprenør AS"},{"$f":"tbl_Companys!C797","v":214156},"OKK Entreprenør AS",{"$f":"tbl_ConsultingCompanys!D797","v":0},{"$f":"tbl_ConsultingCompanys!C797","v":0},0]
[{"$nulls":10},{"$f":"tbl_ArchitectureOffices!D798","v":0},{"$f":"tbl_ArchitectureOffices!C798","v":0},0,{"$f":"tbl_Companys!D798","v":"Olaussen AS"},{"$f":"tbl_Companys!C798","v":213832},"Olaussen AS",{"$f":"tbl_ConsultingCompanys!D798","v":0},{"$f":"tbl_ConsultingCompanys!C798","v":0},0]
[{"$nulls":10},{"$f":"tbl_ArchitectureOffices!D799","v":0},{"$f":"tbl_ArchitectureOffices!C799","v":0},0,{"$f":"tbl_Companys!D799","v":"Olav Olsen "},{"$f":"tbl_Companys!C799","v":120134},"Olav Olsen",{"$f":"tbl_ConsultingCompanys!D799","v":0},{"$f":"tbl_ConsultingCompanys!C799","v":0},0]
[{"$nulls":10},{"$f":"tbl_ArchitectureOffices!D800","v":0},{"$f":"tbl_ArchitectureOffices!C800","v":0},0,{"$f":"tbl_Companys!D800","v":"Ole Jørgen Furdal, Sveio kommune"},{"$f":"tbl_Companys!C800","v":172749},"Ole Jørgen Furdal, Sveio kommune",{"$f":"tbl_ConsultingCompanys!D800","v":0},{"$f":"tbl_ConsultingCompanys!C800","v":0},0]
[{"$nulls":10},{"$f":"tbl_ArchitectureOffices!D801","v":0},{"$f":"tbl_ArchitectureOffices!C801","v":0},0,{"$f":"tbl_Companys!D801","v":"Ole K. Karlsen Entreprenør AS"},{"$f":"tbl_Companys!C801","v":103185},"Ole K. Karlsen Entreprenør AS",{"$f":"tbl_ConsultingCompanys!D801","v":0},{"$f":"tbl_ConsultingCompanys!C801","v":0},0]
[{"$nulls":10},{"$f":"tbl_ArchitectureOffices!D802","v":0},{"$f":"tbl_ArchitectureOffices!C802","v":0},0,{"$f":"tbl_Companys!D802","v":"Ole Sivertsen AS"},{"$f":"tbl_Companys!C802","v":244639},"Ole Sivertsen AS",{"$f":"tbl_ConsultingCompanys!D802","v":0},{"$f":"tbl_ConsultingCompanys!C802","v":0},0]
[{"$nulls":10},{"$f":"tbl_ArchitectureOffices!D803","v":0},{"$f":"tbl_ArchitectureOffices!C803","v":0},0,{"$f":"tbl_Companys!D803","v":"Oleivsgard Byggconsult AS"},{"$f":"tbl_Companys!C803","v":247302},"Oleivsgard Byggconsult AS",{"$f":"tbl_ConsultingCompanys!D803","v":0},{"$f":"tbl_ConsultingCompanys!C803","v":0},0]
[{"$nulls":10},{"$f":"tbl_ArchitectureOffices!D804","v":0},{"$f":"tbl_ArchitectureOffices!C804","v":0},0,{"$f":"tbl_Companys!D804","v":"Olset AS"},{"$f":"tbl_Companys!C804","v":103002},"Olset AS",{"$f":"tbl_ConsultingCompanys!D804","v":0},{"$f":"tbl_ConsultingCompanys!C804","v":0},0]
[{"$nulls":10},{"$f":"tbl_ArchitectureOffices!D805","v":0},{"$f":"tbl_ArchitectureOffices!C805","v":0},0,{"$f":"tbl_Companys!D805","v":"Omsorgsbygg Oslo KF"},{"$f":"tbl_Companys!C805","v":215026},"Omsorgsbygg Oslo KF",{"$f":"tbl_ConsultingCompanys!D805","v":0},{"$f":"tbl_ConsultingCompanys!C805","v":0},0]
[{"$nulls":10},{"$f":"tbl_ArchitectureOffices!D806","v":0},{"$f":"tbl_ArchitectureOffices!C806","v":0},0,{"$f":"tbl_Companys!D806","v":"ONIX (nederland)"},{"$f":"tbl_Companys!C806","v":245863},"ONIX (nederland)",{"$f":"tbl_ConsultingCompanys!D806","v":0},{"$f":"tbl_ConsultingCompanys!C806","v":0},0]
[{"$nulls":10},{"$f":"tbl_ArchitectureOffices!D807","v":0},{"$f":"tbl_ArchitectureOffices!C807","v":0},0,{"$f":"tbl_Companys!D807","v":"OPAK AS"},{"$f":"tbl_Companys!C807","v":178578},"OPAK AS",{"$f":"tbl_ConsultingCompanys!D807","v":0},{"$f":"tbl_ConsultingCompanys!C807","v":0},0]
[{"$nulls":10},{"$f":"tbl_ArchitectureOffices!D808","v":0},{"$f":"tbl_ArchitectureOffices!C808","v":0},0,{"$f":"tbl_Companys!D808","v":"Oppland bygg ans"},{"$f":"tbl_Companys!C808","v":247309},"Oppland bygg ans",{"$f":"tbl_ConsultingCompanys!D808","v":0},{"$f":"tbl_ConsultingCompanys!C808","v":0},0]
[{"$nulls":10},{"$f":"tbl_ArchitectureOffices!D809","v":0},{"$f":"tbl_ArchitectureOffices!C809","v":0},0,{"$f":"tbl_Companys!D809","v":"Oppland fylkeskommune"},{"$f":"tbl_Companys!C809","v":247307},"Oppland fylkeskommune",{"$f":"tbl_ConsultingCompanys!D809","v":0},{"$f":"tbl_ConsultingCompanys!C809","v":0},0]
[{"$nulls":10},{"$f":"tbl_ArchitectureOffices!D810","v":0},{"$f":"tbl_ArchitectureOffices!C810","v":0},0,{"$f":"tbl_Companys!D810","v":"Opticonsult as"},{"$f":"tbl_Companys!C810","v":155959},"Opticonsult as",{"$f":"tbl_ConsultingCompanys!D810","v":0},{"$f":"tbl_ConsultingCompanys!C810","v":0},0]
[{"$nulls":10},{"$f":"tbl_ArchitectureOffices!D811","v":0},{"$f":"tbl_ArchitectureOffices!C811","v":0},0,{"$f":"tbl_Companys!D811","v":"Opticonsult Førde (EL)"},{"$f":"tbl_Companys!C811","v":136170},"Opticonsult Førde (EL)",{"$f":"tbl_ConsultingCompanys!D811","v":0},{"$f":"tbl_ConsultingCompanys!C811","v":0},0]
[{"$nulls":10},{"$f":"tbl_ArchitectureOffices!D812","v":0},{"$f":"tbl_ArchitectureOffices!C812","v":0},0,{"$f":"tbl_Companys!D812","v":"Optimo Prosjekt AS"},{"$f":"tbl_Companys!C812","v":223602},"Optimo Prosjekt AS",{"$f":"tbl_ConsultingCompanys!D812","v":0},{"$f":"tbl_ConsultingCompanys!C812","v":0},0]
[{"$nulls":10},{"$f":"tbl_ArchitectureOffices!D813","v":0},{"$f":"tbl_ArchitectureOffices!C813","v":0},0,{"$f":"tbl_Companys!D813","v":"Opus Arkitekter as"},{"$f":"tbl_Companys!C813","v":171499},"Opus Arkitekter as",{"$f":"tbl_ConsultingCompanys!D813","v":0},{"$f":"tbl_ConsultingCompanys!C813","v":0},0]
[{"$nulls":10},{"$f":"tbl_ArchitectureOffices!D814","v":0},{"$f":"tbl_ArchitectureOffices!C814","v":0},0,{"$f":"tbl_Companys!D814","v":"ORAS Agder AS"},{"$f":"tbl_Companys!C814","v":103149},"ORAS Agder AS",{"$f":"tbl_ConsultingCompanys!D814","v":0},{"$f":"tbl_ConsultingCompanys!C814","v":0},0]
[{"$nulls":10},{"$f":"tbl_ArchitectureOffices!D815","v":0},{"$f":"tbl_ArchitectureOffices!C815","v":0},0,{"$f":"tbl_Companys!D815","v":"Oras AS"},{"$f":"tbl_Companys!C815","v":248371},"Oras AS",{"$f":"tbl_ConsultingCompanys!D815","v":0},{"$f":"tbl_ConsultingCompanys!C815","v":0},0]
[{"$nulls":10},{"$f":"tbl_ArchitectureOffices!D816","v":0},{"$f":"tbl_ArchitectureOffices!C816","v":0},0,{"$f":"tbl_Companys!D816","v":"Oras as (RIV)"},{"$f":"tbl_Companys!C816","v":214148},"Oras as (RIV)",{"$f":"tbl_ConsultingCompanys!D816","v":0},{"$f":"tbl_ConsultingCompanys!C816","v":0},0]
[{"$nulls":10},{"$f":"tbl_ArchitectureOffices!D817","v":0},{"$f":"tbl_ArchitectureOffices!C817","v":0},0,{"$f":"tbl_Companys!D817","v":"Oras AS (VVS)"},{"$f":"tbl_Companys!C817","v":165637},"Oras AS (VVS)",{"$f":"tbl_ConsultingCompanys!D817","v":0},{"$f":"tbl_ConsultingCompanys!C817","v":0},0]
[{"$nulls":10},{"$f":"tbl_ArchitectureOffices!D818","v":0},{"$f":"tbl_ArchitectureOffices!C818","v":0},0,{"$f":"tbl_Companys!D818","v":"Oras AS (VVS) "},{"$f":"tbl_Companys!C818","v":163045},"Oras AS (VVS)",{"$f":"tbl_ConsultingCompanys!D818","v":0},{"$f":"tbl_ConsultingCompanys!C818","v":0},0]
[{"$nulls":10},{"$f":"tbl_ArchitectureOffices!D819","v":0},{"$f":"tbl_ArchitectureOffices!C819","v":0},0,{"$f":"tbl_Companys!D819","v":"Oras buskerud "},{"$f":"tbl_Companys!C819","v":119896},"Oras buskerud",{"$f":"tbl_ConsultingCompanys!D819","v":0},{"$f":"tbl_ConsultingCompanys!C819","v":0},0]
[{"$nulls":10},{"$f":"tbl_ArchitectureOffices!D820","v":0},{"$f":"tbl_ArchitectureOffices!C820","v":0},0,{"$f":"tbl_Companys!D820","v":"Oras Trondheim as"},{"$f":"tbl_Companys!C820","v":164721},"Oras Trondheim as",{"$f":"tbl_ConsultingCompanys!D820","v":0},{"$f":"tbl_ConsultingCompanys!C820","v":0},0]
[{"$nulls":10},{"$f":"tbl_ArchitectureOffices!D821","v":0},{"$f":"tbl_ArchitectureOffices!C821","v":0},0,{"$f":"tbl_Companys!D821","v":"Origo arkitektgruppe as"},{"$f":"tbl_Companys!C821","v":171498},"Origo arkitektgruppe as",{"$f":"tbl_ConsultingCompanys!D821","v":0},{"$f":"tbl_ConsultingCompanys!C821","v":0},0]
[{"$nulls":10},{"$f":"tbl_ArchitectureOffices!D822","v":0},{"$f":"tbl_ArchitectureOffices!C822","v":0},0,{"$f":"tbl_Companys!D822","v":"Origo AS (VVA)"},{"$f":"tbl_Companys!C822","v":155700},"Origo AS (VVA)",{"$f":"tbl_ConsultingCompanys!D822","v":0},{"$f":"tbl_ConsultingCompanys!C822","v":0},0]
[{"$nulls":10},{"$f":"tbl_ArchitectureOffices!D823","v":0},{"$f":"tbl_ArchitectureOffices!C823","v":0},0,{"$f":"tbl_Companys!D823","v":"Orkdal kommune"},{"$f":"tbl_Companys!C823","v":246803},"Orkdal kommune",{"$f":"tbl_ConsultingCompanys!D823","v":0},{"$f":"tbl_ConsultingCompanys!C823","v":0},0]
[{"$nulls":10},{"$f":"tbl_ArchitectureOffices!D824","v":0},{"$f":"tbl_ArchitectureOffices!C824","v":0},0,{"$f":"tbl_Companys!D824","v":"Oslo Byggentreprenør AS"},{"$f":"tbl_Companys!C824","v":246926},"Oslo Byggentreprenør AS",{"$f":"tbl_ConsultingCompanys!D824","v":0},{"$f":"tbl_ConsultingCompanys!C824","v":0},0]
[{"$nulls":10},{"$f":"tbl_ArchitectureOffices!D825","v":0},{"$f":"tbl_ArchitectureOffices!C825","v":0},0,{"$f":"tbl_Companys!D825","v":"Oslo kommune"},{"$f":"tbl_Companys!C825","v":160568},"Oslo kommune",{"$f":"tbl_ConsultingCompanys!D825","v":0},{"$f":"tbl_ConsultingCompanys!C825","v":0},0]
[{"$nulls":10},{"$f":"tbl_ArchitectureOffices!D826","v":0},{"$f":"tbl_ArchitectureOffices!C826","v":0},0,{"$f":"tbl_Companys!D826","v":"Oslo Kommune ved Vann- og avløpsetaten og Friluftsetaten"},{"$f":"tbl_Companys!C826","v":162435},"Oslo Kommune ved Vann- og avløpsetaten og Friluftsetaten",{"$f":"tbl_ConsultingCompanys!D826","v":0},{"$f":"tbl_ConsultingCompanys!C826","v":0},0]
[{"$nulls":10},{"$f":"tbl_ArchitectureOffices!D827","v":0},{"$f":"tbl_ArchitectureOffices!C827","v":0},0,{"$f":"tbl_Companys!D827","v":"Oslo kommune, Bydel Alna"},{"$f":"tbl_Companys!C827","v":214717},"Oslo kommune, Bydel Alna",{"$f":"tbl_ConsultingCompanys!D827","v":0},{"$f":"tbl_ConsultingCompanys!C827","v":0},0]
[{"$nulls":10},{"$f":"tbl_ArchitectureOffices!D828","v":0},{"$f":"tbl_ArchitectureOffices!C828","v":0},0,{"$f":"tbl_Companys!D828","v":"Oslo kommune, Bydel Stovner"},{"$f":"tbl_Companys!C828","v":214749},"Oslo kommune, Bydel Stovner",{"$f":"tbl_ConsultingCompanys!D828","v":0},{"$f":"tbl_ConsultingCompanys!C828","v":0},0]
[{"$nulls":10},{"$f":"tbl_ArchitectureOffices!D829","v":0},{"$f":"tbl_ArchitectureOffices!C829","v":0},0,{"$f":"tbl_Companys!D829","v":"Oslo kommune, Bydel Stovner"},{"$f":"tbl_Companys!C829","v":214750},"Oslo kommune, Bydel Stovner",{"$f":"tbl_ConsultingCompanys!D829","v":0},{"$f":"tbl_ConsultingCompanys!C829","v":0},0]
[{"$nulls":10},{"$f":"tbl_ArchitectureOffices!D830","v":0},{"$f":"tbl_ArchitectureOffices!C830","v":0},0,{"$f":"tbl_Companys!D830","v":"Oslo kommune, Friluftsetaten"},{"$f":"tbl_Companys!C830","v":160595},"Oslo kommune, Friluftsetaten",{"$f":"tbl_ConsultingCompanys!D830","v":0},{"$f":"tbl_ConsultingCompanys!C830","v":0},0]
[{"$nulls":10},{"$f":"tbl_ArchitectureOffices!D831","v":0},{"$f":"tbl_ArchitectureOffices!C831","v":0},0,{"$f":"tbl_Companys!D831","v":"Oslo kommune, Friluftsetaten og Bydel Alna"},{"$f":"tbl_Companys!C831","v":214740},"Oslo kommune, Friluftsetaten og Bydel Alna",{"$f":"tbl_ConsultingCompanys!D831","v":0},{"$f":"tbl_ConsultingCompanys!C831","v":0},0]
[{"$nulls":10},{"$f":"tbl_ArchitectureOffices!D832","v":0},{"$f":"tbl_ArchitectureOffices!C832","v":0},0,{"$f":"tbl_Companys!D832","v":"Oslo kommune, idrettsetaten"},{"$f":"tbl_Companys!C832","v":218624},"Oslo kommune, idrettsetaten",{"$f":"tbl_ConsultingCompanys!D832","v":0},{"$f":"tbl_ConsultingCompanys!C832","v":0},0]
[{"$nulls":10},{"$f":"tbl_ArchitectureOffices!D833","v":0},{"$f":"tbl_ArchitectureOffices!C833","v":0},0,{"$f":"tbl_Companys!D833","v":"Oslo Kommune, Kulturbyggene i Bjørvika"},{"$f":"tbl_Companys!C833","v":217291},"Oslo Kommune, Kulturbyggene i Bjørvika",{"$f":"tbl_ConsultingCompanys!D833","v":0},{"$f":"tbl_ConsultingCompanys!C833","v":0},0]
[{"$nulls":10},{"$f":"tbl_ArchitectureOffices!D834","v":0},{"$f":"tbl_ArchitectureOffices!C834","v":0},0,{"$f":"tbl_Companys!D834","v":"Oslo kommune, Utdanningsetaten"},{"$f":"tbl_Companys!C834","v":217493},"Oslo kommune, Utdanningsetaten",{"$f":"tbl_ConsultingCompanys!D834","v":0},{"$f":"tbl_ConsultingCompanys!C834","v":0},0]
[{"$nulls":10},{"$f":"tbl_ArchitectureOffices!D835","v":0},{"$f":"tbl_ArchitectureOffices!C835","v":0},{"$f":"IFERROR(REPLACE(K835,FIND(\" \",K835,LEN(K835)),1,\"\"),K835)","v":0},{"$f":"tbl_Companys!D835","v":"Oslo Prosjektadministrasjon AS v/Terje Inglingstad"},{"$f":"tbl_Companys!C835","v":214154},{"$f":"IFERROR(REPLACE(N835,FIND(\" \",N835,LEN(N835)),1,\"\"),N835)","v":"Oslo Prosjektadministrasjon AS v/Terje Inglingstad"},{"$f":"tbl_ConsultingCompanys!D835","v":0},{"$f":"tbl_ConsultingCompanys!C835","v":0},{"$f":"IFERROR(REPLACE(Q835,FIND(\" \",Q835,LEN(Q835)),1,\"\"),Q835)","v":0}]
[{"$nulls":10},{"$f":"tbl_ArchitectureOffices!D836","v":0},{"$f":"tbl_ArchitectureOffices!C836","v":0},0,{"$f":"tbl_Companys!D836","v":"Oslo S Utvikling AS"},{"$f":"tbl_Companys!C836","v":218166},"Oslo S Utvikling AS",{"$f":"tbl_ConsultingCompanys!D836","v":0},{"$f":"tbl_ConsultingCompanys!C836","v":0},0]
[{"$nulls":10},{"$f":"tbl_ArchitectureOffices!D837","v":0},{"$f":"tbl_ArchitectureOffices!C837","v":0},0,{"$f":"tbl_Companys!D837","v":"Oslo Vei AS"},{"$f":"tbl_Companys!C837","v":172255},"Oslo Vei AS",{"$f":"tbl_ConsultingCompanys!D837","v":0},{"$f":"tbl_ConsultingCompanys!C837","v":0},0]
[{"$nulls":10},{"$f":"tbl_ArchitectureOffices!D838","v":0},{"$f":"tbl_ArchitectureOffices!C838","v":0},0,{"$f":"tbl_Companys!D838","v":"Otium AS"},{"$f":"tbl_Companys!C838","v":158042},"Otium AS",{"$f":"tbl_ConsultingCompanys!D838","v":0},{"$f":"tbl_ConsultingCompanys!C838","v":0},0]
[{"$nulls":10},{"$f":"tbl_ArchitectureOffices!D839","v":0},{"$f":"tbl_ArchitectureOffices!C839","v":0},0,{"$f":"tbl_Companys!D839","v":"Ottar arkitekter as"},{"$f":"tbl_Companys!C839","v":171497},"Ottar arkitekter as",{"$f":"tbl_ConsultingCompanys!D839","v":0},{"$f":"tbl_ConsultingCompanys!C839","v":0},0]
[{"$nulls":10},{"$f":"tbl_ArchitectureOffices!D840","v":0},{"$f":"tbl_ArchitectureOffices!C840","v":0},0,{"$f":"tbl_Companys!D840","v":"Overhalla kommune"},{"$f":"tbl_Companys!C840","v":236723},"Overhalla kommune",{"$f":"tbl_ConsultingCompanys!D840","v":0},{"$f":"tbl_ConsultingCompanys!C840","v":0},0]
[{"$nulls":10},{"$f":"tbl_ArchitectureOffices!D841","v":0},{"$f":"tbl_ArchitectureOffices!C841","v":0},0,{"$f":"tbl_Companys!D841","v":"P. A. Holst sivilarkitekt mnal"},{"$f":"tbl_Companys!C841","v":210155},"P. A. Holst sivilarkitekt mnal",{"$f":"tbl_ConsultingCompanys!D841","v":0},{"$f":"tbl_ConsultingCompanys!C841","v":0},0]
[{"$nulls":10},{"$f":"tbl_ArchitectureOffices!D842","v":0},{"$f":"tbl_ArchitectureOffices!C842","v":0},0,{"$f":"tbl_Companys!D842","v":"Panark AS"},{"$f":"tbl_Companys!C842","v":171490},"Panark AS",{"$f":"tbl_ConsultingCompanys!D842","v":0},{"$f":"tbl_ConsultingCompanys!C842","v":0},0]
[{"$nulls":10},{"$f":"tbl_ArchitectureOffices!D843","v":0},{"$f":"tbl_ArchitectureOffices!C843","v":0},0,{"$f":"tbl_Companys!D843","v":"Papirbredden Eiendom AS"},{"$f":"tbl_Companys!C843","v":207270},"Papirbredden Eiendom AS",{"$f":"tbl_ConsultingCompanys!D843","v":0},{"$f":"tbl_ConsultingCompanys!C843","v":0},0]
[{"$nulls":10},{"$f":"tbl_ArchitectureOffices!D844","v":0},{"$f":"tbl_ArchitectureOffices!C844","v":0},0,{"$f":"tbl_Companys!D844","v":"Pascal Rådgivning AS"},{"$f":"tbl_Companys!C844","v":192376},"Pascal Rådgivning AS",{"$f":"tbl_ConsultingCompanys!D844","v":0},{"$f":"tbl_ConsultingCompanys!C844","v":0},0]
[{"$nulls":10},{"$f":"tbl_ArchitectureOffices!D845","v":0},{"$f":"tbl_ArchitectureOffices!C845","v":0},0,{"$f":"tbl_Companys!D845","v":"Passivhus Norge a/s"},{"$f":"tbl_Companys!C845","v":111941},"Passivhus Norge a/s",{"$f":"tbl_ConsultingCompanys!D845","v":0},{"$f":"tbl_ConsultingCompanys!C845","v":0},0]
[{"$nulls":10},{"$f":"tbl_ArchitectureOffices!D846","v":0},{"$f":"tbl_ArchitectureOffices!C846","v":0},0,{"$f":"tbl_Companys!D846","v":"Pedersen arkitekter as, Kyrre "},{"$f":"tbl_Companys!C846","v":171489},"Pedersen arkitekter as, Kyrre",{"$f":"tbl_ConsultingCompanys!D846","v":0},{"$f":"tbl_ConsultingCompanys!C846","v":0},0]
[{"$nulls":10},{"$f":"tbl_ArchitectureOffices!D847","v":0},{"$f":"tbl_ArchitectureOffices!C847","v":0},0,{"$f":"tbl_Companys!D847","v":"Pedersen/ Ege Arkitekter AS"},{"$f":"tbl_Companys!C847","v":173039},"Pedersen/ Ege Arkitekter AS",{"$f":"tbl_ConsultingCompanys!D847","v":0},{"$f":"tbl_ConsultingCompanys!C847","v":0},0]
[{"$nulls":10},{"$f":"tbl_ArchitectureOffices!D848","v":0},{"$f":"tbl_ArchitectureOffices!C848","v":0},0,{"$f":"tbl_Companys!D848","v":"Peggy Brilke"},{"$f":"tbl_Companys!C848","v":244637},"Peggy Brilke",{"$f":"tbl_ConsultingCompanys!D848","v":0},{"$f":"tbl_ConsultingCompanys!C848","v":0},0]
[{"$nulls":10},{"$f":"tbl_ArchitectureOffices!D849","v":0},{"$f":"tbl_ArchitectureOffices!C849","v":0},0,{"$f":"tbl_Companys!D849","v":"Per Arne Hestetun og Anne Grete Gruben"},{"$f":"tbl_Companys!C849","v":160590},"Per Arne Hestetun og Anne Grete Gruben",{"$f":"tbl_ConsultingCompanys!D849","v":0},{"$f":"tbl_ConsultingCompanys!C849","v":0},0]
[{"$nulls":10},{"$f":"tbl_ArchitectureOffices!D850","v":0},{"$f":"tbl_ArchitectureOffices!C850","v":0},0,{"$f":"tbl_Companys!D850","v":"Per Rasmussen AS, Bærum "},{"$f":"tbl_Companys!C850","v":120020},"Per Rasmussen AS, Bærum",{"$f":"tbl_ConsultingCompanys!D850","v":0},{"$f":"tbl_ConsultingCompanys!C850","v":0},0]
[{"$nulls":10},{"$f":"tbl_ArchitectureOffices!D851","v":0},{"$f":"tbl_ArchitectureOffices!C851","v":0},0,{"$f":"tbl_Companys!D851","v":"Perspektiv Arkitekter AS"},{"$f":"tbl_Companys!C851","v":171488},"Perspektiv Arkitekter AS",{"$f":"tbl_ConsultingCompanys!D851","v":0},{"$f":"tbl_ConsultingCompanys!C851","v":0},0]
[{"$nulls":10},{"$f":"tbl_ArchitectureOffices!D852","v":0},{"$f":"tbl_ArchitectureOffices!C852","v":0},0,{"$f":"tbl_Companys!D852","v":"Pettersen & Partners - Hospital Planning and Design"},{"$f":"tbl_Companys!C852","v":171486},"Pettersen & Partners - Hospital Planning and Design",{"$f":"tbl_ConsultingCompanys!D852","v":0},{"$f":"tbl_ConsultingCompanys!C852","v":0},0]
[{"$nulls":10},{"$f":"tbl_ArchitectureOffices!D853","v":0},{"$f":"tbl_ArchitectureOffices!C853","v":0},0,{"$f":"tbl_Companys!D853","v":"Pilestredet Park Boligutbygging ANS"},{"$f":"tbl_Companys!C853","v":164812},"Pilestredet Park Boligutbygging ANS",{"$f":"tbl_ConsultingCompanys!D853","v":0},{"$f":"tbl_ConsultingCompanys!C853","v":0},0]
[{"$nulls":10},{"$f":"tbl_ArchitectureOffices!D854","v":0},{"$f":"tbl_ArchitectureOffices!C854","v":0},0,{"$f":"tbl_Companys!D854","v":"Pir II AS"},{"$f":"tbl_Companys!C854","v":171485},"Pir II AS",{"$f":"tbl_ConsultingCompanys!D854","v":0},{"$f":"tbl_ConsultingCompanys!C854","v":0},0]
[{"$nulls":10},{"$f":"tbl_ArchitectureOffices!D855","v":0},{"$f":"tbl_ArchitectureOffices!C855","v":0},0,{"$f":"tbl_Companys!D855","v":"Pir II AS"},{"$f":"tbl_Companys!C855","v":247808},"Pir II AS",{"$f":"tbl_ConsultingCompanys!D855","v":0},{"$f":"tbl_ConsultingCompanys!C855","v":0},0]
[{"$nulls":10},{"$f":"tbl_ArchitectureOffices!D856","v":0},{"$f":"tbl_ArchitectureOffices!C856","v":0},0,{"$f":"tbl_Companys!D856","v":"Pir II Oslo AS"},{"$f":"tbl_Companys!C856","v":233236},"Pir II Oslo AS",{"$f":"tbl_ConsultingCompanys!D856","v":0},{"$f":"tbl_ConsultingCompanys!C856","v":0},0]
[{"$nulls":10},{"$f":"tbl_ArchitectureOffices!D857","v":0},{"$f":"tbl_ArchitectureOffices!C857","v":0},0,{"$f":"tbl_Companys!D857","v":"PirII i samarbeid med Studenter ved Högskolan för Design och Konsthandtverk i Göteborg (SUB lugarer)"},{"$f":"tbl_Companys!C857","v":230105},"PirII i samarbeid med Studenter ved Högskolan för Design och Konsthandtverk i Göteborg (SUB lugarer)",{"$f":"tbl_ConsultingCompanys!D857","v":0},{"$f":"tbl_ConsultingCompanys!C857","v":0},0]
[{"$nulls":10},{"$f":"tbl_ArchitectureOffices!D858","v":0},{"$f":"tbl_ArchitectureOffices!C858","v":0},0,{"$f":"tbl_Companys!D858","v":"pka Arkitekter"},{"$f":"tbl_Companys!C858","v":232085},"pka Arkitekter",{"$f":"tbl_ConsultingCompanys!D858","v":0},{"$f":"tbl_ConsultingCompanys!C858","v":0},0]
[{"$nulls":10},{"$f":"tbl_ArchitectureOffices!D859","v":0},{"$f":"tbl_ArchitectureOffices!C859","v":0},0,{"$f":"tbl_Companys!D859","v":"Plan arkitekter AS"},{"$f":"tbl_Companys!C859","v":171483},"Plan arkitekter AS",{"$f":"tbl_ConsultingCompanys!D859","v":0},{"$f":"tbl_ConsultingCompanys!C859","v":0},0]
[{"$nulls":10},{"$f":"tbl_ArchitectureOffices!D860","v":0},{"$f":"tbl_ArchitectureOffices!C860","v":0},0,{"$f":"tbl_Companys!D860","v":"PlanA AS"},{"$f":"tbl_Companys!C860","v":171484},"PlanA AS",{"$f":"tbl_ConsultingCompanys!D860","v":0},{"$f":"tbl_ConsultingCompanys!C860","v":0},0]
[{"$nulls":10},{"$f":"tbl_ArchitectureOffices!D861","v":0},{"$f":"tbl_ArchitectureOffices!C861","v":0},0,{"$f":"tbl_Companys!D861","v":"Plan-AE"},{"$f":"tbl_Companys!C861","v":171482},"Plan-AE",{"$f":"tbl_ConsultingCompanys!D861","v":0},{"$f":"tbl_ConsultingCompanys!C861","v":0},0]
[{"$nulls":10},{"$f":"tbl_ArchitectureOffices!D862","v":0},{"$f":"tbl_ArchitectureOffices!C862","v":0},0,{"$f":"tbl_Companys!D862","v":"Planforum Arkitekter AS"},{"$f":"tbl_Companys!C862","v":171481},"Planforum Arkitekter AS",{"$f":"tbl_ConsultingCompanys!D862","v":0},{"$f":"tbl_ConsultingCompanys!C862","v":0},0]
[{"$nulls":10},{"$f":"tbl_ArchitectureOffices!D863","v":0},{"$f":"tbl_ArchitectureOffices!C863","v":0},0,{"$f":"tbl_Companys!D863","v":"Plank arkitekter AS"},{"$f":"tbl_Companys!C863","v":171480},"Plank arkitekter AS",{"$f":"tbl_ConsultingCompanys!D863","v":0},{"$f":"tbl_ConsultingCompanys!C863","v":0},0]
[{"$nulls":10},{"$f":"tbl_ArchitectureOffices!D864","v":0},{"$f":"tbl_ArchitectureOffices!C864","v":0},0,{"$f":"tbl_Companys!D864","v":"Planteknikk AS"},{"$f":"tbl_Companys!C864","v":241090},"Planteknikk AS",{"$f":"tbl_ConsultingCompanys!D864","v":0},{"$f":"tbl_ConsultingCompanys!C864","v":0},0]
[{"$nulls":10},{"$f":"tbl_ArchitectureOffices!D865","v":0},{"$f":"tbl_ArchitectureOffices!C865","v":0},0,{"$f":"tbl_Companys!D865","v":"Plot arkitekter as"},{"$f":"tbl_Companys!C865","v":230009},"Plot arkitekter as",{"$f":"tbl_ConsultingCompanys!D865","v":0},{"$f":"tbl_ConsultingCompanys!C865","v":0},0]
[{"$nulls":10},{"$f":"tbl_ArchitectureOffices!D866","v":0},{"$f":"tbl_ArchitectureOffices!C866","v":0},0,{"$f":"tbl_Companys!D866","v":"Plus arkitektur AS"},{"$f":"tbl_Companys!C866","v":182236},"Plus arkitektur AS",{"$f":"tbl_ConsultingCompanys!D866","v":0},{"$f":"tbl_ConsultingCompanys!C866","v":0},0]
[{"$nulls":10},{"$f":"tbl_ArchitectureOffices!D867","v":0},{"$f":"tbl_ArchitectureOffices!C867","v":0},0,{"$f":"tbl_Companys!D867","v":"PML Arkitektur, sivilarkitekt Per Martin Landfald MNAL"},{"$f":"tbl_Companys!C867","v":171479},"PML Arkitektur, sivilarkitekt Per Martin Landfald MNAL",{"$f":"tbl_ConsultingCompanys!D867","v":0},{"$f":"tbl_ConsultingCompanys!C867","v":0},0]
[{"$nulls":10},{"$f":"tbl_ArchitectureOffices!D868","v":0},{"$f":"tbl_ArchitectureOffices!C868","v":0},0,{"$f":"tbl_Companys!D868","v":"Point AS arkitektur+konseptdesign"},{"$f":"tbl_Companys!C868","v":171478},"Point AS arkitektur+konseptdesign",{"$f":"tbl_ConsultingCompanys!D868","v":0},{"$f":"tbl_ConsultingCompanys!C868","v":0},0]
[{"$nulls":10},{"$f":"tbl_ArchitectureOffices!D869","v":0},{"$f":"tbl_ArchitectureOffices!C869","v":0},0,{"$f":"tbl_Companys!D869","v":"Polyplan AS "},{"$f":"tbl_Companys!C869","v":121067},"Polyplan AS",{"$f":"tbl_ConsultingCompanys!D869","v":0},{"$f":"tbl_ConsultingCompanys!C869","v":0},0]
[{"$nulls":10},{"$f":"tbl_ArchitectureOffices!D870","v":0},{"$f":"tbl_ArchitectureOffices!C870","v":0},0,{"$f":"tbl_Companys!D870","v":"Porsgrunn kommune"},{"$f":"tbl_Companys!C870","v":248316},"Porsgrunn kommune",{"$f":"tbl_ConsultingCompanys!D870","v":0},{"$f":"tbl_ConsultingCompanys!C870","v":0},0]
[{"$nulls":10},{"$f":"tbl_ArchitectureOffices!D871","v":0},{"$f":"tbl_ArchitectureOffices!C871","v":0},0,{"$f":"tbl_Companys!D871","v":"Poulsson/Pran AS"},{"$f":"tbl_Companys!C871","v":166525},"Poulsson/Pran AS",{"$f":"tbl_ConsultingCompanys!D871","v":0},{"$f":"tbl_ConsultingCompanys!C871","v":0},0]
[{"$nulls":10},{"$f":"tbl_ArchitectureOffices!D872","v":0},{"$f":"tbl_ArchitectureOffices!C872","v":0},0,{"$f":"tbl_Companys!D872","v":"PPR arkitektur & design AS"},{"$f":"tbl_Companys!C872","v":171491},"PPR arkitektur & design AS",{"$f":"tbl_ConsultingCompanys!D872","v":0},{"$f":"tbl_ConsultingCompanys!C872","v":0},0]
[{"$nulls":10},{"$f":"tbl_ArchitectureOffices!D873","v":0},{"$f":"tbl_ArchitectureOffices!C873","v":0},0,{"$f":"tbl_Companys!D873","v":"Praksis sivilarkitekter as"},{"$f":"tbl_Companys!C873","v":171477},"Praksis sivilarkitekter as",{"$f":"tbl_ConsultingCompanys!D873","v":0},{"$f":"tbl_ConsultingCompanys!C873","v":0},0]
[{"$nulls":10},{"$f":"tbl_ArchitectureOffices!D874","v":0},{"$f":"tbl_ArchitectureOffices!C874","v":0},0,{"$f":"tbl_Companys!D874","v":"Pran, Peter "},{"$f":"tbl_Companys!C874","v":171476},"Pran, Peter",{"$f":"tbl_ConsultingCompanys!D874","v":0},{"$f":"tbl_ConsultingCompanys!C874","v":0},0]
[{"$nulls":10},{"$f":"tbl_ArchitectureOffices!D875","v":0},{"$f":"tbl_ArchitectureOffices!C875","v":0},0,{"$f":"tbl_Companys!D875","v":"Prima-Hus AS"},{"$f":"tbl_Companys!C875","v":111931},"Prima-Hus AS",{"$f":"tbl_ConsultingCompanys!D875","v":0},{"$f":"tbl_ConsultingCompanys!C875","v":0},0]
[{"$nulls":10},{"$f":"tbl_ArchitectureOffices!D876","v":0},{"$f":"tbl_ArchitectureOffices!C876","v":0},0,{"$f":"tbl_Companys!D876","v":"Procon AS"},{"$f":"tbl_Companys!C876","v":245786},"Procon AS",{"$f":"tbl_ConsultingCompanys!D876","v":0},{"$f":"tbl_ConsultingCompanys!C876","v":0},0]
[{"$nulls":10},{"$f":"tbl_ArchitectureOffices!D877","v":0},{"$f":"tbl_ArchitectureOffices!C877","v":0},0,{"$f":"tbl_Companys!D877","v":"Prokon AS"},{"$f":"tbl_Companys!C877","v":243859},"Prokon AS",{"$f":"tbl_ConsultingCompanys!D877","v":0},{"$f":"tbl_ConsultingCompanys!C877","v":0},0]
[{"$nulls":10},{"$f":"tbl_ArchitectureOffices!D878","v":0},{"$f":"tbl_ArchitectureOffices!C878","v":0},0,{"$f":"tbl_Companys!D878","v":"Prosjektbygg AS"},{"$f":"tbl_Companys!C878","v":205121},"Prosjektbygg AS",{"$f":"tbl_ConsultingCompanys!D878","v":0},{"$f":"tbl_ConsultingCompanys!C878","v":0},0]
[{"$nulls":10},{"$f":"tbl_ArchitectureOffices!D879","v":0},{"$f":"tbl_ArchitectureOffices!C879","v":0},0,{"$f":"tbl_Companys!D879","v":"Prosjektutvikling Midt-Norge AS"},{"$f":"tbl_Companys!C879","v":98696},"Prosjektutvikling Midt-Norge AS",{"$f":"tbl_ConsultingCompanys!D879","v":0},{"$f":"tbl_ConsultingCompanys!C879","v":0},0]
[{"$nulls":10},{"$f":"tbl_ArchitectureOffices!D880","v":0},{"$f":"tbl_ArchitectureOffices!C880","v":0},0,{"$f":"tbl_Companys!D880","v":"Protan Bygg og Tak AS"},{"$f":"tbl_Companys!C880","v":163049},"Protan Bygg og Tak AS",{"$f":"tbl_ConsultingCompanys!D880","v":0},{"$f":"tbl_ConsultingCompanys!C880","v":0},0]
[{"$nulls":10},{"$f":"tbl_ArchitectureOffices!D881","v":0},{"$f":"tbl_ArchitectureOffices!C881","v":0},0,{"$f":"tbl_Companys!D881","v":"Protan Bygg og Tak AS"},{"$f":"tbl_Companys!C881","v":165641},"Protan Bygg og Tak AS",{"$f":"tbl_ConsultingCompanys!D881","v":0},{"$f":"tbl_ConsultingCompanys!C881","v":0},0]
[{"$nulls":10},{"$f":"tbl_ArchitectureOffices!D882","v":0},{"$f":"tbl_ArchitectureOffices!C882","v":0},0,{"$f":"tbl_Companys!D882","v":"Puls Arkitekter AS"},{"$f":"tbl_Companys!C882","v":171473},"Puls Arkitekter AS",{"$f":"tbl_ConsultingCompanys!D882","v":0},{"$f":"tbl_ConsultingCompanys!C882","v":0},0]
[{"$nulls":10},{"$f":"tbl_ArchitectureOffices!D883","v":0},{"$f":"tbl_ArchitectureOffices!C883","v":0},0,{"$f":"tbl_Companys!D883","v":"Pushak arkitekter"},{"$f":"tbl_Companys!C883","v":171472},"Pushak arkitekter",{"$f":"tbl_ConsultingCompanys!D883","v":0},{"$f":"tbl_ConsultingCompanys!C883","v":0},0]
[{"$nulls":10},{"$f":"tbl_ArchitectureOffices!D884","v":0},{"$f":"tbl_ArchitectureOffices!C884","v":0},0,{"$f":"tbl_Companys!D884","v":"PV arkitekter as"},{"$f":"tbl_Companys!C884","v":172662},"PV arkitekter as",{"$f":"tbl_ConsultingCompanys!D884","v":0},{"$f":"tbl_ConsultingCompanys!C884","v":0},0]
[{"$nulls":10},{"$f":"tbl_ArchitectureOffices!D885","v":0},{"$f":"tbl_ArchitectureOffices!C885","v":0},0,{"$f":"tbl_Companys!D885","v":"PW Arkitekter AS"},{"$f":"tbl_Companys!C885","v":171471},"PW Arkitekter AS",{"$f":"tbl_ConsultingCompanys!D885","v":0},{"$f":"tbl_ConsultingCompanys!C885","v":0},0]
[{"$nulls":10},{"$f":"tbl_ArchitectureOffices!D886","v":0},{"$f":"tbl_ArchitectureOffices!C886","v":0},0,{"$f":"tbl_Companys!D886","v":"PÅ Elektroforum AS"},{"$f":"tbl_Companys!C886","v":200082},"PÅ Elektroforum AS",{"$f":"tbl_ConsultingCompanys!D886","v":0},{"$f":"tbl_ConsultingCompanys!C886","v":0},0]
[{"$nulls":10},{"$f":"tbl_ArchitectureOffices!D887","v":0},{"$f":"tbl_ArchitectureOffices!C887","v":0},0,{"$f":"tbl_Companys!D887","v":"Ragnars AS"},{"$f":"tbl_Companys!C887","v":202455},"Ragnars AS",{"$f":"tbl_ConsultingCompanys!D887","v":0},{"$f":"tbl_ConsultingCompanys!C887","v":0},0]
[{"$nulls":10},{"$f":"tbl_ArchitectureOffices!D888","v":0},{"$f":"tbl_ArchitectureOffices!C888","v":0},0,{"$f":"tbl_Companys!D888","v":"RAM arkitektur as"},{"$f":"tbl_Companys!C888","v":172784},"RAM arkitektur as",{"$f":"tbl_ConsultingCompanys!D888","v":0},{"$f":"tbl_ConsultingCompanys!C888","v":0},0]
[{"$nulls":10},{"$f":"tbl_ArchitectureOffices!D889","v":0},{"$f":"tbl_ArchitectureOffices!C889","v":0},0,{"$f":"tbl_Companys!D889","v":"Ramberg AS sivilarkitekter MNAL, Torstein "},{"$f":"tbl_Companys!C889","v":166682},"Ramberg AS sivilarkitekter MNAL, Torstein",{"$f":"tbl_ConsultingCompanys!D889","v":0},{"$f":"tbl_ConsultingCompanys!C889","v":0},0]
[{"$nulls":10},{"$f":"tbl_ArchitectureOffices!D890","v":0},{"$f":"tbl_ArchitectureOffices!C890","v":0},0,{"$f":"tbl_Companys!D890","v":"Rambøll"},{"$f":"tbl_Companys!C890","v":217764},"Rambøll",{"$f":"tbl_ConsultingCompanys!D890","v":0},{"$f":"tbl_ConsultingCompanys!C890","v":0},0]
[{"$nulls":10},{"$f":"tbl_ArchitectureOffices!D891","v":0},{"$f":"tbl_ArchitectureOffices!C891","v":0},0,{"$f":"tbl_Companys!D891","v":"Rambøll Aros AS"},{"$f":"tbl_Companys!C891","v":166680},"Rambøll Aros AS",{"$f":"tbl_ConsultingCompanys!D891","v":0},{"$f":"tbl_ConsultingCompanys!C891","v":0},0]
[{"$nulls":10},{"$f":"tbl_ArchitectureOffices!D892","v":0},{"$f":"tbl_ArchitectureOffices!C892","v":0},0,{"$f":"tbl_Companys!D892","v":"Rambøll AS"},{"$f":"tbl_Companys!C892","v":247615},"Rambøll AS",{"$f":"tbl_ConsultingCompanys!D892","v":0},{"$f":"tbl_ConsultingCompanys!C892","v":0},0]
[{"$nulls":10},{"$f":"tbl_ArchitectureOffices!D893","v":0},{"$f":"tbl_ArchitectureOffices!C893","v":0},0,{"$f":"tbl_Companys!D893","v":"Rambøll Norge AS Arkitektur og Plan"},{"$f":"tbl_Companys!C893","v":166681},"Rambøll Norge AS Arkitektur og Plan",{"$f":"tbl_ConsultingCompanys!D893","v":0},{"$f":"tbl_ConsultingCompanys!C893","v":0},0]
[{"$nulls":10},{"$f":"tbl_ArchitectureOffices!D894","v":0},{"$f":"tbl_ArchitectureOffices!C894","v":0},0,{"$f":"tbl_Companys!D894","v":"Ramm Salbu Arkitekter"},{"$f":"tbl_Companys!C894","v":166626},"Ramm Salbu Arkitekter",{"$f":"tbl_ConsultingCompanys!D894","v":0},{"$f":"tbl_ConsultingCompanys!C894","v":0},0]
[{"$nulls":10},{"$f":"tbl_ArchitectureOffices!D895","v":0},{"$f":"tbl_ArchitectureOffices!C895","v":0},0,{"$f":"tbl_Companys!D895","v":"Ramsfjell Arkitekter AS"},{"$f":"tbl_Companys!C895","v":166679},"Ramsfjell Arkitekter AS",{"$f":"tbl_ConsultingCompanys!D895","v":0},{"$f":"tbl_ConsultingCompanys!C895","v":0},0]
[{"$nulls":10},{"$f":"tbl_ArchitectureOffices!D896","v":0},{"$f":"tbl_ArchitectureOffices!C896","v":0},0,{"$f":"tbl_Companys!D896","v":"Ramstad Arkitekter as, Reiulf "},{"$f":"tbl_Companys!C896","v":166684},"Ramstad Arkitekter as, Reiulf",{"$f":"tbl_ConsultingCompanys!D896","v":0},{"$f":"tbl_ConsultingCompanys!C896","v":0},0]
[{"$nulls":10},{"$f":"tbl_ArchitectureOffices!D897","v":0},{"$f":"tbl_ArchitectureOffices!C897","v":0},0,{"$f":"tbl_Companys!D897","v":"Ranheimsveien eiendom, Utstillingsplassen Eiendom AS, Larshus AS"},{"$f":"tbl_Companys!C897","v":228622},"Ranheimsveien eiendom, Utstillingsplassen Eiendom AS, Larshus AS",{"$f":"tbl_ConsultingCompanys!D897","v":0},{"$f":"tbl_ConsultingCompanys!C897","v":0},0]
[{"$nulls":10},{"$f":"tbl_ArchitectureOffices!D898","v":0},{"$f":"tbl_ArchitectureOffices!C898","v":0},0,{"$f":"tbl_Companys!D898","v":"Rasmussen & Strand AS"},{"$f":"tbl_Companys!C898","v":247749},"Rasmussen & Strand AS",{"$f":"tbl_ConsultingCompanys!D898","v":0},{"$f":"tbl_ConsultingCompanys!C898","v":0},0]
[{"$nulls":10},{"$f":"tbl_ArchitectureOffices!D899","v":0},{"$f":"tbl_ArchitectureOffices!C899","v":0},{"$f":"IFERROR(REPLACE(K899,FIND(\" \",K899,LEN(K899)),1,\"\"),K899)","v":0},{"$f":"tbl_Companys!D899","v":"Rastad & Relling Arkitektkontor AS"},{"$f":"tbl_Companys!C899","v":166678},{"$f":"IFERROR(REPLACE(N899,FIND(\" \",N899,LEN(N899)),1,\"\"),N899)","v":"Rastad & Relling Arkitektkontor AS"},{"$f":"tbl_ConsultingCompanys!D899","v":0},{"$f":"tbl_ConsultingCompanys!C899","v":0},{"$f":"IFERROR(REPLACE(Q899,FIND(\" \",Q899,LEN(Q899)),1,\"\"),Q899)","v":0}]
[{"$nulls":10},{"$f":"tbl_ArchitectureOffices!D900","v":0},{"$f":"tbl_ArchitectureOffices!C900","v":0},0,{"$f":"tbl_Companys!D900","v":"Ratio arkitekter as"},{"$f":"tbl_Companys!C900","v":206444},"Ratio arkitekter as",{"$f":"tbl_ConsultingCompanys!D900","v":0},{"$f":"tbl_ConsultingCompanys!C900","v":0},0]
[{"$nulls":10},{"$f":"tbl_ArchitectureOffices!D901","v":0},{"$f":"tbl_ArchitectureOffices!C901","v":0},0,{"$f":"tbl_Companys!D901","v":"Raugstad Arkitektur AS"},{"$f":"tbl_Companys!C901","v":244037},"Raugstad Arkitektur AS",{"$f":"tbl_ConsultingCompanys!D901","v":0},{"$f":"tbl_ConsultingCompanys!C901","v":0},0]
[{"$nulls":10},{"$f":"tbl_ArchitectureOffices!D902","v":0},{"$f":"tbl_ArchitectureOffices!C902","v":0},0,{"$f":"tbl_Companys!D902","v":"Raugstad as"},{"$f":"tbl_Companys!C902","v":155958},"Raugstad as",{"$f":"tbl_ConsultingCompanys!D902","v":0},{"$f":"tbl_ConsultingCompanys!C902","v":0},0]
[{"$nulls":10},{"$f":"tbl_ArchitectureOffices!D903","v":0},{"$f":"tbl_ArchitectureOffices!C903","v":0},0,{"$f":"tbl_Companys!D903","v":"Re Arkitektur AS"},{"$f":"tbl_Companys!C903","v":166677},"Re Arkitektur AS",{"$f":"tbl_ConsultingCompanys!D903","v":0},{"$f":"tbl_ConsultingCompanys!C903","v":0},0]
[{"$nulls":10},{"$f":"tbl_ArchitectureOffices!D904","v":0},{"$f":"tbl_ArchitectureOffices!C904","v":0},0,{"$f":"tbl_Companys!D904","v":"REC Indovent"},{"$f":"tbl_Companys!C904","v":178214},"REC Indovent",{"$f":"tbl_ConsultingCompanys!D904","v":0},{"$f":"tbl_ConsultingCompanys!C904","v":0},0]
[{"$nulls":10},{"$f":"tbl_ArchitectureOffices!D905","v":0},{"$f":"tbl_ArchitectureOffices!C905","v":0},0,{"$f":"tbl_Companys!D905","v":"Rede arkitekter as"},{"$f":"tbl_Companys!C905","v":172606},"Rede arkitekter as",{"$f":"tbl_ConsultingCompanys!D905","v":0},{"$f":"tbl_ConsultingCompanys!C905","v":0},0]
[{"$nulls":10},{"$f":"tbl_ArchitectureOffices!D906","v":0},{"$f":"tbl_ArchitectureOffices!C906","v":0},0,{"$f":"tbl_Companys!D906","v":"Reidar Kristiansen"},{"$f":"tbl_Companys!C906","v":119978},"Reidar Kristiansen",{"$f":"tbl_ConsultingCompanys!D906","v":0},{"$f":"tbl_ConsultingCompanys!C906","v":0},0]
[{"$nulls":10},{"$f":"tbl_ArchitectureOffices!D907","v":0},{"$f":"tbl_ArchitectureOffices!C907","v":0},0,{"$f":"tbl_Companys!D907","v":"Reinertsen AS"},{"$f":"tbl_Companys!C907","v":163052},"Reinertsen AS",{"$f":"tbl_ConsultingCompanys!D907","v":0},{"$f":"tbl_ConsultingCompanys!C907","v":0},0]
[{"$nulls":10},{"$f":"tbl_ArchitectureOffices!D908","v":0},{"$f":"tbl_ArchitectureOffices!C908","v":0},0,{"$f":"tbl_Companys!D908","v":"Reinertsen AS (RIAku)"},{"$f":"tbl_Companys!C908","v":215014},"Reinertsen AS (RIAku)",{"$f":"tbl_ConsultingCompanys!D908","v":0},{"$f":"tbl_ConsultingCompanys!C908","v":0},0]
[{"$nulls":10},{"$f":"tbl_ArchitectureOffices!D909","v":0},{"$f":"tbl_ArchitectureOffices!C909","v":0},0,{"$f":"tbl_Companys!D909","v":"Reinertsen Engineering AS"},{"$f":"tbl_Companys!C909","v":110277},"Reinertsen Engineering AS",{"$f":"tbl_ConsultingCompanys!D909","v":0},{"$f":"tbl_ConsultingCompanys!C909","v":0},0]
[{"$nulls":10},{"$f":"tbl_ArchitectureOffices!D910","v":0},{"$f":"tbl_ArchitectureOffices!C910","v":0},0,{"$f":"tbl_Companys!D910","v":"Reum og Laugtaug AS"},{"$f":"tbl_Companys!C910","v":111923},"Reum og Laugtaug AS",{"$f":"tbl_ConsultingCompanys!D910","v":0},{"$f":"tbl_ConsultingCompanys!C910","v":0},0]
[{"$nulls":10},{"$f":"tbl_ArchitectureOffices!D911","v":0},{"$f":"tbl_ArchitectureOffices!C911","v":0},0,{"$f":"tbl_Companys!D911","v":"Rever og Drage"},{"$f":"tbl_Companys!C911","v":247285},"Rever og Drage",{"$f":"tbl_ConsultingCompanys!D911","v":0},{"$f":"tbl_ConsultingCompanys!C911","v":0},0]
[{"$nulls":10},{"$f":"tbl_ArchitectureOffices!D912","v":0},{"$f":"tbl_ArchitectureOffices!C912","v":0},0,{"$f":"tbl_Companys!D912","v":"Richard Ligård, Framtidens Aktivhus AS"},{"$f":"tbl_Companys!C912","v":225770},"Richard Ligård, Framtidens Aktivhus AS",{"$f":"tbl_ConsultingCompanys!D912","v":0},{"$f":"tbl_ConsultingCompanys!C912","v":0},0]
[{"$nulls":10},{"$f":"tbl_ArchitectureOffices!D913","v":0},{"$f":"tbl_ArchitectureOffices!C913","v":0},0,{"$f":"tbl_Companys!D913","v":"RIFT AS"},{"$f":"tbl_Companys!C913","v":193622},"RIFT AS",{"$f":"tbl_ConsultingCompanys!D913","v":0},{"$f":"tbl_ConsultingCompanys!C913","v":0},0]
[{"$nulls":10},{"$f":"tbl_ArchitectureOffices!D914","v":0},{"$f":"tbl_ArchitectureOffices!C914","v":0},0,{"$f":"tbl_Companys!D914","v":"RiK Arkitektur AS"},{"$f":"tbl_Companys!C914","v":166683},"RiK Arkitektur AS",{"$f":"tbl_ConsultingCompanys!D914","v":0},{"$f":"tbl_ConsultingCompanys!C914","v":0},0]
[{"$nulls":10},{"$f":"tbl_ArchitectureOffices!D915","v":0},{"$f":"tbl_ArchitectureOffices!C915","v":0},0,{"$f":"tbl_Companys!D915","v":"Riksheim Consulting AS (RIV)"},{"$f":"tbl_Companys!C915","v":205123},"Riksheim Consulting AS (RIV)",{"$f":"tbl_ConsultingCompanys!D915","v":0},{"$f":"tbl_ConsultingCompanys!C915","v":0},0]
[{"$nulls":10},{"$f":"tbl_ArchitectureOffices!D916","v":0},{"$f":"tbl_ArchitectureOffices!C916","v":0},0,{"$f":"tbl_Companys!D916","v":"Rintala Eggertsson Arkitekter"},{"$f":"tbl_Companys!C916","v":204162},"Rintala Eggertsson Arkitekter",{"$f":"tbl_ConsultingCompanys!D916","v":0},{"$f":"tbl_ConsultingCompanys!C916","v":0},0]
[{"$nulls":10},{"$f":"tbl_ArchitectureOffices!D917","v":0},{"$f":"tbl_ArchitectureOffices!C917","v":0},0,{"$f":"tbl_Companys!D917","v":"Riss Landskap AS"},{"$f":"tbl_Companys!C917","v":245864},"Riss Landskap AS",{"$f":"tbl_ConsultingCompanys!D917","v":0},{"$f":"tbl_ConsultingCompanys!C917","v":0},0]
[{"$nulls":10},{"$f":"tbl_ArchitectureOffices!D918","v":0},{"$f":"tbl_ArchitectureOffices!C918","v":0},0,{"$f":"tbl_Companys!D918","v":"RIV Bjørkaas AS"},{"$f":"tbl_Companys!C918","v":110885},"RIV Bjørkaas AS",{"$f":"tbl_ConsultingCompanys!D918","v":0},{"$f":"tbl_ConsultingCompanys!C918","v":0},0]
[{"$nulls":10},{"$f":"tbl_ArchitectureOffices!D919","v":0},{"$f":"tbl_ArchitectureOffices!C919","v":0},0,{"$f":"tbl_Companys!D919","v":"Rivco AS"},{"$f":"tbl_Companys!C919","v":216997},"Rivco AS",{"$f":"tbl_ConsultingCompanys!D919","v":0},{"$f":"tbl_ConsultingCompanys!C919","v":0},0]
[{"$nulls":10},{"$f":"tbl_ArchitectureOffices!D920","v":0},{"$f":"tbl_ArchitectureOffices!C920","v":0},0,{"$f":"tbl_Companys!D920","v":"Roald AS Arkitektur, Ola "},{"$f":"tbl_Companys!C920","v":166676},"Roald AS Arkitektur, Ola",{"$f":"tbl_ConsultingCompanys!D920","v":0},{"$f":"tbl_ConsultingCompanys!C920","v":0},0]
[{"$nulls":10},{"$f":"tbl_ArchitectureOffices!D921","v":0},{"$f":"tbl_ArchitectureOffices!C921","v":0},0,{"$f":"tbl_Companys!D921","v":"Roald Haldorsen v/ Oslo Prosjektadministrasjon AS"},{"$f":"tbl_Companys!C921","v":215021},"Roald Haldorsen v/ Oslo Prosjektadministrasjon AS",{"$f":"tbl_ConsultingCompanys!D921","v":0},{"$f":"tbl_ConsultingCompanys!C921","v":0},0]
[{"$nulls":10},{"$f":"tbl_ArchitectureOffices!D922","v":0},{"$f":"tbl_ArchitectureOffices!C922","v":0},0,{"$f":"tbl_Companys!D922","v":"Roar Jørgensen AS"},{"$f":"tbl_Companys!C922","v":247750},"Roar Jørgensen AS",{"$f":"tbl_ConsultingCompanys!D922","v":0},{"$f":"tbl_ConsultingCompanys!C922","v":0},0]
[{"$nulls":10},{"$f":"tbl_ArchitectureOffices!D923","v":0},{"$f":"tbl_ArchitectureOffices!C923","v":0},0,{"$f":"tbl_Companys!D923","v":"Roar Ousland og Marit Grinaker Wright"},{"$f":"tbl_Companys!C923","v":242772},"Roar Ousland og Marit Grinaker Wright",{"$f":"tbl_ConsultingCompanys!D923","v":0},{"$f":"tbl_ConsultingCompanys!C923","v":0},0]
[{"$nulls":10},{"$f":"tbl_ArchitectureOffices!D924","v":0},{"$f":"tbl_ArchitectureOffices!C924","v":0},0,{"$f":"tbl_Companys!D924","v":"Roar Svenning & Torild Landklopp"},{"$f":"tbl_Companys!C924","v":230104},"Roar Svenning & Torild Landklopp",{"$f":"tbl_ConsultingCompanys!D924","v":0},{"$f":"tbl_ConsultingCompanys!C924","v":0},0]
[{"$nulls":10},{"$f":"tbl_ArchitectureOffices!D925","v":0},{"$f":"tbl_ArchitectureOffices!C925","v":0},0,{"$f":"tbl_Companys!D925","v":"Robak VVS as (RIVA)"},{"$f":"tbl_Companys!C925","v":215425},"Robak VVS as (RIVA)",{"$f":"tbl_ConsultingCompanys!D925","v":0},{"$f":"tbl_ConsultingCompanys!C925","v":0},0]
[{"$nulls":10},{"$f":"tbl_ArchitectureOffices!D926","v":0},{"$f":"tbl_ArchitectureOffices!C926","v":0},0,{"$f":"tbl_Companys!D926","v":"Rockwool"},{"$f":"tbl_Companys!C926","v":177641},"Rockwool",{"$f":"tbl_ConsultingCompanys!D926","v":0},{"$f":"tbl_ConsultingCompanys!C926","v":0},0]
[{"$nulls":10},{"$f":"tbl_ArchitectureOffices!D927","v":0},{"$f":"tbl_ArchitectureOffices!C927","v":0},0,{"$f":"tbl_Companys!D927","v":"Rodeo arkitekter as"},{"$f":"tbl_Companys!C927","v":166675},"Rodeo arkitekter as",{"$f":"tbl_ConsultingCompanys!D927","v":0},{"$f":"tbl_ConsultingCompanys!C927","v":0},0]
[{"$nulls":10},{"$f":"tbl_ArchitectureOffices!D928","v":0},{"$f":"tbl_ArchitectureOffices!C928","v":0},0,{"$f":"tbl_Companys!D928","v":"Rogaland bygg og prosjektutvikling AS"},{"$f":"tbl_Companys!C928","v":158048},"Rogaland bygg og prosjektutvikling AS",{"$f":"tbl_ConsultingCompanys!D928","v":0},{"$f":"tbl_ConsultingCompanys!C928","v":0},0]
[{"$nulls":10},{"$f":"tbl_ArchitectureOffices!D929","v":0},{"$f":"tbl_ArchitectureOffices!C929","v":0},0,{"$f":"tbl_Companys!D929","v":"Rogaland entreprenør AS"},{"$f":"tbl_Companys!C929","v":163150},"Rogaland entreprenør AS",{"$f":"tbl_ConsultingCompanys!D929","v":0},{"$f":"tbl_ConsultingCompanys!C929","v":0},0]
[{"$nulls":10},{"$f":"tbl_ArchitectureOffices!D930","v":0},{"$f":"tbl_ArchitectureOffices!C930","v":0},0,{"$f":"tbl_Companys!D930","v":"Rogaland entreprenør AS"},{"$f":"tbl_Companys!C930","v":172632},"Rogaland entreprenør AS",{"$f":"tbl_ConsultingCompanys!D930","v":0},{"$f":"tbl_ConsultingCompanys!C930","v":0},0]
[{"$nulls":10},{"$f":"tbl_ArchitectureOffices!D931","v":0},{"$f":"tbl_ArchitectureOffices!C931","v":0},0,{"$f":"tbl_Companys!D931","v":"Rogaland entreprnør AS"},{"$f":"tbl_Companys!C931","v":165639},"Rogaland entreprnør AS",{"$f":"tbl_ConsultingCompanys!D931","v":0},{"$f":"tbl_ConsultingCompanys!C931","v":0},0]
[{"$nulls":10},{"$f":"tbl_ArchitectureOffices!D932","v":0},{"$f":"tbl_ArchitectureOffices!C932","v":0},0,{"$f":"tbl_Companys!D932","v":"Rojo arkitekter as"},{"$f":"tbl_Companys!C932","v":172675},"Rojo arkitekter as",{"$f":"tbl_ConsultingCompanys!D932","v":0},{"$f":"tbl_ConsultingCompanys!C932","v":0},0]
[{"$nulls":10},{"$f":"tbl_ArchitectureOffices!D933","v":0},{"$f":"tbl_ArchitectureOffices!C933","v":0},0,{"$f":"tbl_Companys!D933","v":"Rolf Selvaag"},{"$f":"tbl_Companys!C933","v":205918},"Rolf Selvaag",{"$f":"tbl_ConsultingCompanys!D933","v":0},{"$f":"tbl_ConsultingCompanys!C933","v":0},0]
[{"$nulls":10},{"$f":"tbl_ArchitectureOffices!D934","v":0},{"$f":"tbl_ArchitectureOffices!C934","v":0},0,{"$f":"tbl_Companys!D934","v":"ROM Eiendom AS"},{"$f":"tbl_Companys!C934","v":214139},"ROM Eiendom AS",{"$f":"tbl_ConsultingCompanys!D934","v":0},{"$f":"tbl_ConsultingCompanys!C934","v":0},0]
[{"$nulls":10},{"$f":"tbl_ArchitectureOffices!D935","v":0},{"$f":"tbl_ArchitectureOffices!C935","v":0},0,{"$f":"tbl_Companys!D935","v":"Romerike Arkitekter AS"},{"$f":"tbl_Companys!C935","v":166674},"Romerike Arkitekter AS",{"$f":"tbl_ConsultingCompanys!D935","v":0},{"$f":"tbl_ConsultingCompanys!C935","v":0},0]
[{"$nulls":10},{"$f":"tbl_ArchitectureOffices!D936","v":0},{"$f":"tbl_ArchitectureOffices!C936","v":0},0,{"$f":"tbl_Companys!D936","v":"Romlaboratoriet AS"},{"$f":"tbl_Companys!C936","v":219471},"Romlaboratoriet AS",{"$f":"tbl_ConsultingCompanys!D936","v":0},{"$f":"tbl_ConsultingCompanys!C936","v":0},0]
[{"$nulls":10},{"$f":"tbl_ArchitectureOffices!D937","v":0},{"$f":"tbl_ArchitectureOffices!C937","v":0},0,{"$f":"tbl_Companys!D937","v":"Rose Marie Steinsvik sivilark. MNAL"},{"$f":"tbl_Companys!C937","v":182979},"Rose Marie Steinsvik sivilark. MNAL",{"$f":"tbl_ConsultingCompanys!D937","v":0},{"$f":"tbl_ConsultingCompanys!C937","v":0},0]
[{"$nulls":10},{"$f":"tbl_ArchitectureOffices!D938","v":0},{"$f":"tbl_ArchitectureOffices!C938","v":0},0,{"$f":"tbl_Companys!D938","v":"Rosenborg Utvikling AS"},{"$f":"tbl_Companys!C938","v":164717},"Rosenborg Utvikling AS",{"$f":"tbl_ConsultingCompanys!D938","v":0},{"$f":"tbl_ConsultingCompanys!C938","v":0},0]
[{"$nulls":10},{"$f":"tbl_ArchitectureOffices!D939","v":0},{"$f":"tbl_ArchitectureOffices!C939","v":0},0,{"$f":"tbl_Companys!D939","v":"RSG AS"},{"$f":"tbl_Companys!C939","v":231900},"RSG AS",{"$f":"tbl_ConsultingCompanys!D939","v":0},{"$f":"tbl_ConsultingCompanys!C939","v":0},0]
[{"$nulls":10},{"$f":"tbl_ArchitectureOffices!D940","v":0},{"$f":"tbl_ArchitectureOffices!C940","v":0},0,{"$f":"tbl_Companys!D940","v":"Runde Miljøbygg AS"},{"$f":"tbl_Companys!C940","v":205126},"Runde Miljøbygg AS",{"$f":"tbl_ConsultingCompanys!D940","v":0},{"$f":"tbl_ConsultingCompanys!C940","v":0},0]
[{"$nulls":10},{"$f":"tbl_ArchitectureOffices!D941","v":0},{"$f":"tbl_ArchitectureOffices!C941","v":0},0,{"$f":"tbl_Companys!D941","v":"Rye-Kittelsen AS"},{"$f":"tbl_Companys!C941","v":121314},"Rye-Kittelsen AS",{"$f":"tbl_ConsultingCompanys!D941","v":0},{"$f":"tbl_ConsultingCompanys!C941","v":0},0]
[{"$nulls":10},{"$f":"tbl_ArchitectureOffices!D942","v":0},{"$f":"tbl_ArchitectureOffices!C942","v":0},0,{"$f":"tbl_Companys!D942","v":"Ryenstubben Invest AS"},{"$f":"tbl_Companys!C942","v":246737},"Ryenstubben Invest AS",{"$f":"tbl_ConsultingCompanys!D942","v":0},{"$f":"tbl_ConsultingCompanys!C942","v":0},0]
[{"$nulls":10},{"$f":"tbl_ArchitectureOffices!D943","v":0},{"$f":"tbl_ArchitectureOffices!C943","v":0},0,{"$f":"tbl_Companys!D943","v":"Rygg Maskin AS (graveentrepenør)"},{"$f":"tbl_Companys!C943","v":155707},"Rygg Maskin AS (graveentrepenør)",{"$f":"tbl_ConsultingCompanys!D943","v":0},{"$f":"tbl_ConsultingCompanys!C943","v":0},0]
[{"$nulls":10},{"$f":"tbl_ArchitectureOffices!D944","v":0},{"$f":"tbl_ArchitectureOffices!C944","v":0},0,{"$f":"tbl_Companys!D944","v":"Rønsen Arkitekter AS, Jostein "},{"$f":"tbl_Companys!C944","v":166672},"Rønsen Arkitekter AS, Jostein",{"$f":"tbl_ConsultingCompanys!D944","v":0},{"$f":"tbl_ConsultingCompanys!C944","v":0},0]
[{"$nulls":10},{"$f":"tbl_ArchitectureOffices!D945","v":0},{"$f":"tbl_ArchitectureOffices!C945","v":0},0,{"$f":"tbl_Companys!D945","v":"Rørby AS, Arkitekt Terje"},{"$f":"tbl_Companys!C945","v":172668},"Rørby AS, Arkitekt Terje",{"$f":"tbl_ConsultingCompanys!D945","v":0},{"$f":"tbl_ConsultingCompanys!C945","v":0},0]
[{"$nulls":10},{"$f":"tbl_ArchitectureOffices!D946","v":0},{"$f":"tbl_ArchitectureOffices!C946","v":0},0,{"$f":"tbl_Companys!D946","v":"Rørfunn AS"},{"$f":"tbl_Companys!C946","v":228142},"Rørfunn AS",{"$f":"tbl_ConsultingCompanys!D946","v":0},{"$f":"tbl_ConsultingCompanys!C946","v":0},0]
[{"$nulls":10},{"$f":"tbl_ArchitectureOffices!D947","v":0},{"$f":"tbl_ArchitectureOffices!C947","v":0},0,{"$f":"tbl_Companys!D947","v":"Rørteknikk AS"},{"$f":"tbl_Companys!C947","v":225766},"Rørteknikk AS",{"$f":"tbl_ConsultingCompanys!D947","v":0},{"$f":"tbl_ConsultingCompanys!C947","v":0},0]
[{"$nulls":10},{"$f":"tbl_ArchitectureOffices!D948","v":0},{"$f":"tbl_ArchitectureOffices!C948","v":0},0,{"$f":"tbl_Companys!D948","v":"Rørteknikk AS "},{"$f":"tbl_Companys!C948","v":111926},"Rørteknikk AS",{"$f":"tbl_ConsultingCompanys!D948","v":0},{"$f":"tbl_ConsultingCompanys!C948","v":0},0]
[{"$nulls":10},{"$f":"tbl_ArchitectureOffices!D949","v":0},{"$f":"tbl_ArchitectureOffices!C949","v":0},0,{"$f":"tbl_Companys!D949","v":"Samferdselsetaten, Oslo kommune"},{"$f":"tbl_Companys!C949","v":172254},"Samferdselsetaten, Oslo kommune",{"$f":"tbl_ConsultingCompanys!D949","v":0},{"$f":"tbl_ConsultingCompanys!C949","v":0},0]
[{"$nulls":10},{"$f":"tbl_ArchitectureOffices!D950","v":0},{"$f":"tbl_ArchitectureOffices!C950","v":0},0,{"$f":"tbl_Companys!D950","v":"Samnanger kommune"},{"$f":"tbl_Companys!C950","v":160602},"Samnanger kommune",{"$f":"tbl_ConsultingCompanys!D950","v":0},{"$f":"tbl_ConsultingCompanys!C950","v":0},0]
[{"$nulls":10},{"$f":"tbl_ArchitectureOffices!D951","v":0},{"$f":"tbl_ArchitectureOffices!C951","v":0},0,{"$f":"tbl_Companys!D951","v":"Sandbakk & Pettersen Arkitekter AS"},{"$f":"tbl_Companys!C951","v":199606},"Sandbakk & Pettersen Arkitekter AS",{"$f":"tbl_ConsultingCompanys!D951","v":0},{"$f":"tbl_ConsultingCompanys!C951","v":0},0]
[{"$nulls":10},{"$f":"tbl_ArchitectureOffices!D952","v":0},{"$f":"tbl_ArchitectureOffices!C952","v":0},0,{"$f":"tbl_Companys!D952","v":"Sandnes kommune"},{"$f":"tbl_Companys!C952","v":158019},"Sandnes kommune",{"$f":"tbl_ConsultingCompanys!D952","v":0},{"$f":"tbl_ConsultingCompanys!C952","v":0},0]
[{"$nulls":10},{"$f":"tbl_ArchitectureOffices!D953","v":0},{"$f":"tbl_ArchitectureOffices!C953","v":0},0,{"$f":"tbl_Companys!D953","v":"Sandnes Kommune (Ragna Stakland)"},{"$f":"tbl_Companys!C953","v":162854},"Sandnes Kommune (Ragna Stakland)",{"$f":"tbl_ConsultingCompanys!D953","v":0},{"$f":"tbl_ConsultingCompanys!C953","v":0},0]
[{"$nulls":10},{"$f":"tbl_ArchitectureOffices!D954","v":0},{"$f":"tbl_ArchitectureOffices!C954","v":0},0,{"$f":"tbl_Companys!D954","v":"Sandvik, Siv. ark. mnal Jarle "},{"$f":"tbl_Companys!C954","v":172890},"Sandvik, Siv. ark. mnal Jarle",{"$f":"tbl_ConsultingCompanys!D954","v":0},{"$f":"tbl_ConsultingCompanys!C954","v":0},0]
[{"$nulls":10},{"$f":"tbl_ArchitectureOffices!D955","v":0},{"$f":"tbl_ArchitectureOffices!C955","v":0},0,{"$f":"tbl_Companys!D955","v":"Sandås bygg AS"},{"$f":"tbl_Companys!C955","v":112304},"Sandås bygg AS",{"$f":"tbl_ConsultingCompanys!D955","v":0},{"$f":"tbl_ConsultingCompanys!C955","v":0},0]
[{"$nulls":10},{"$f":"tbl_ArchitectureOffices!D956","v":0},{"$f":"tbl_ArchitectureOffices!C956","v":0},0,{"$f":"tbl_Companys!D956","v":"SAPA (dører og vinduer)"},{"$f":"tbl_Companys!C956","v":205249},"SAPA (dører og vinduer)",{"$f":"tbl_ConsultingCompanys!D956","v":0},{"$f":"tbl_ConsultingCompanys!C956","v":0},0]
[{"$nulls":10},{"$f":"tbl_ArchitectureOffices!D957","v":0},{"$f":"tbl_ArchitectureOffices!C957","v":0},0,{"$f":"tbl_Companys!D957","v":"Saunders Arkitektur AS"},{"$f":"tbl_Companys!C957","v":166623},"Saunders Arkitektur AS",{"$f":"tbl_ConsultingCompanys!D957","v":0},{"$f":"tbl_ConsultingCompanys!C957","v":0},0]
[{"$nulls":10},{"$f":"tbl_ArchitectureOffices!D958","v":0},{"$f":"tbl_ArchitectureOffices!C958","v":0},0,{"$f":"tbl_Companys!D958","v":"Scala arkitekter AS"},{"$f":"tbl_Companys!C958","v":166622},"Scala arkitekter AS",{"$f":"tbl_ConsultingCompanys!D958","v":0},{"$f":"tbl_ConsultingCompanys!C958","v":0},0]
[{"$nulls":10},{"$f":"tbl_ArchitectureOffices!D959","v":0},{"$f":"tbl_ArchitectureOffices!C959","v":0},0,{"$f":"tbl_Companys!D959","v":"Scandiaconsult "},{"$f":"tbl_Companys!C959","v":98705},"Scandiaconsult",{"$f":"tbl_ConsultingCompanys!D959","v":0},{"$f":"tbl_ConsultingCompanys!C959","v":0},0]
[{"$nulls":10},{"$f":"tbl_ArchitectureOffices!D960","v":0},{"$f":"tbl_ArchitectureOffices!C960","v":0},0,{"$f":"tbl_Companys!D960","v":"Scandic Oslo Airport"},{"$f":"tbl_Companys!C960","v":228616},"Scandic Oslo Airport",{"$f":"tbl_ConsultingCompanys!D960","v":0},{"$f":"tbl_ConsultingCompanys!C960","v":0},0]
[{"$nulls":10},{"$f":"tbl_ArchitectureOffices!D961","v":0},{"$f":"tbl_ArchitectureOffices!C961","v":0},0,{"$f":"tbl_Companys!D961","v":"SCC AS "},{"$f":"tbl_Companys!C961","v":110988},"SCC AS",{"$f":"tbl_ConsultingCompanys!D961","v":0},{"$f":"tbl_ConsultingCompanys!C961","v":0},0]
[{"$nulls":10},{"$f":"tbl_ArchitectureOffices!D962","v":0},{"$f":"tbl_ArchitectureOffices!C962","v":0},0,{"$f":"tbl_Companys!D962","v":"Scenario"},{"$f":"tbl_Companys!C962","v":235782},"Scenario",{"$f":"tbl_ConsultingCompanys!D962","v":0},{"$f":"tbl_ConsultingCompanys!C962","v":0},0]
[{"$nulls":10},{"$f":"tbl_ArchitectureOffices!D963","v":0},{"$f":"tbl_ArchitectureOffices!C963","v":0},{"$f":"IFERROR(REPLACE(K963,FIND(\" \",K963,LEN(K963)),1,\"\"),K963)","v":0},{"$f":"tbl_Companys!D963","v":"Schjelderup AS sivilarkitekter MNAL NPA, Helge "},{"$f":"tbl_Companys!C963","v":172786},{"$f":"IFERROR(REPLACE(N963,FIND(\" \",N963,LEN(N963)),1,\"\"),N963)","v":"Schjelderup AS sivilarkitekter MNAL NPA, Helge"},{"$f":"tbl_ConsultingCompanys!D963","v":0},{"$f":"tbl_ConsultingCompanys!C963","v":0},{"$f":"IFERROR(REPLACE(Q963,FIND(\" \",Q963,LEN(Q963)),1,\"\"),Q963)","v":0}]
[{"$nulls":10},{"$f":"tbl_ArchitectureOffices!D964","v":0},{"$f":"tbl_ArchitectureOffices!C964","v":0},0,{"$f":"tbl_Companys!D964","v":"Schmitthenner arkitekter"},{"$f":"tbl_Companys!C964","v":177781},"Schmitthenner arkitekter",{"$f":"tbl_ConsultingCompanys!D964","v":0},{"$f":"tbl_ConsultingCompanys!C964","v":0},0]
[{"$nulls":10},{"$f":"tbl_ArchitectureOffices!D965","v":0},{"$f":"tbl_ArchitectureOffices!C965","v":0},0,{"$f":"tbl_Companys!D965","v":"Schüco International KG "},{"$f":"tbl_Companys!C965","v":162455},"Schüco International KG",{"$f":"tbl_ConsultingCompanys!D965","v":0},{"$f":"tbl_ConsultingCompanys!C965","v":0},0]
[{"$nulls":10},{"$f":"tbl_ArchitectureOffices!D966","v":0},{"$f":"tbl_ArchitectureOffices!C966","v":0},0,{"$f":"tbl_Companys!D966","v":"Schønherr landskab KS"},{"$f":"tbl_Companys!C966","v":245865},"Schønherr landskab KS",{"$f":"tbl_ConsultingCompanys!D966","v":0},{"$f":"tbl_ConsultingCompanys!C966","v":0},0]
[{"$nulls":10},{"$f":"tbl_ArchitectureOffices!D967","v":0},{"$f":"tbl_ArchitectureOffices!C967","v":0},0,{"$f":"tbl_Companys!D967","v":"Seabrokers"},{"$f":"tbl_Companys!C967","v":155927},"Seabrokers",{"$f":"tbl_ConsultingCompanys!D967","v":0},{"$f":"tbl_ConsultingCompanys!C967","v":0},0]
[{"$nulls":10},{"$f":"tbl_ArchitectureOffices!D968","v":0},{"$f":"tbl_ArchitectureOffices!C968","v":0},0,{"$f":"tbl_Companys!D968","v":"SE-Arkitektur A/S"},{"$f":"tbl_Companys!C968","v":166621},"SE-Arkitektur A/S",{"$f":"tbl_ConsultingCompanys!D968","v":0},{"$f":"tbl_ConsultingCompanys!C968","v":0},0]
[{"$nulls":10},{"$f":"tbl_ArchitectureOffices!D969","v":0},{"$f":"tbl_ArchitectureOffices!C969","v":0},0,{"$f":"tbl_Companys!D969","v":"Seby AS"},{"$f":"tbl_Companys!C969","v":121070},"Seby AS",{"$f":"tbl_ConsultingCompanys!D969","v":0},{"$f":"tbl_ConsultingCompanys!C969","v":0},0]
[{"$nulls":10},{"$f":"tbl_ArchitectureOffices!D970","v":0},{"$f":"tbl_ArchitectureOffices!C970","v":0},0,{"$f":"tbl_Companys!D970","v":"Seko Elektro AS"},{"$f":"tbl_Companys!C970","v":178584},"Seko Elektro AS",{"$f":"tbl_ConsultingCompanys!D970","v":0},{"$f":"tbl_ConsultingCompanys!C970","v":0},0]
[{"$nulls":10},{"$f":"tbl_ArchitectureOffices!D971","v":0},{"$f":"tbl_ArchitectureOffices!C971","v":0},0,{"$f":"tbl_Companys!D971","v":"Selberg Arkitekter AS"},{"$f":"tbl_Companys!C971","v":166619},"Selberg Arkitekter AS",{"$f":"tbl_ConsultingCompanys!D971","v":0},{"$f":"tbl_ConsultingCompanys!C971","v":0},0]
[{"$nulls":10},{"$f":"tbl_ArchitectureOffices!D972","v":0},{"$f":"tbl_ArchitectureOffices!C972","v":0},0,{"$f":"tbl_Companys!D972","v":"Selmer AS"},{"$f":"tbl_Companys!C972","v":97845},"Selmer AS",{"$f":"tbl_ConsultingCompanys!D972","v":0},{"$f":"tbl_ConsultingCompanys!C972","v":0},0]
[{"$nulls":10},{"$f":"tbl_ArchitectureOffices!D973","v":0},{"$f":"tbl_ArchitectureOffices!C973","v":0},0,{"$f":"tbl_Companys!D973","v":"Selvaagbygg"},{"$f":"tbl_Companys!C973","v":119895},"Selvaagbygg",{"$f":"tbl_ConsultingCompanys!D973","v":0},{"$f":"tbl_ConsultingCompanys!C973","v":0},0]
[{"$nulls":10},{"$f":"tbl_ArchitectureOffices!D974","v":0},{"$f":"tbl_ArchitectureOffices!C974","v":0},0,{"$f":"tbl_Companys!D974","v":"Senterbygg Entreprenør AS"},{"$f":"tbl_Companys!C974","v":248972},"Senterbygg Entreprenør AS",{"$f":"tbl_ConsultingCompanys!D974","v":0},{"$f":"tbl_ConsultingCompanys!C974","v":0},0]
[{"$nulls":10},{"$f":"tbl_ArchitectureOffices!D975","v":0},{"$f":"tbl_ArchitectureOffices!C975","v":0},0,{"$f":"tbl_Companys!D975","v":"September Arkitekter"},{"$f":"tbl_Companys!C975","v":213205},"September Arkitekter",{"$f":"tbl_ConsultingCompanys!D975","v":0},{"$f":"tbl_ConsultingCompanys!C975","v":0},0]
[{"$nulls":10},{"$f":"tbl_ArchitectureOffices!D976","v":0},{"$f":"tbl_ArchitectureOffices!C976","v":0},0,{"$f":"tbl_Companys!D976","v":"SFS intec AS"},{"$f":"tbl_Companys!C976","v":193872},"SFS intec AS",{"$f":"tbl_ConsultingCompanys!D976","v":0},{"$f":"tbl_ConsultingCompanys!C976","v":0},0]
[{"$nulls":10},{"$f":"tbl_ArchitectureOffices!D977","v":0},{"$f":"tbl_ArchitectureOffices!C977","v":0},0,{"$f":"tbl_Companys!D977","v":"SG Arkitekter AS"},{"$f":"tbl_Companys!C977","v":166618},"SG Arkitekter AS",{"$f":"tbl_ConsultingCompanys!D977","v":0},{"$f":"tbl_ConsultingCompanys!C977","v":0},0]
[{"$nulls":10},{"$f":"tbl_ArchitectureOffices!D978","v":0},{"$f":"tbl_ArchitectureOffices!C978","v":0},0,{"$f":"tbl_Companys!D978","v":"Sig. Halvorsen (rørlegger)"},{"$f":"tbl_Companys!C978","v":162881},"Sig. Halvorsen (rørlegger)",{"$f":"tbl_ConsultingCompanys!D978","v":0},{"$f":"tbl_ConsultingCompanys!C978","v":0},0]
[{"$nulls":10},{"$f":"tbl_ArchitectureOffices!D979","v":0},{"$f":"tbl_ArchitectureOffices!C979","v":0},0,{"$f":"tbl_Companys!D979","v":"Signatur Arkitekter AS"},{"$f":"tbl_Companys!C979","v":166617},"Signatur Arkitekter AS",{"$f":"tbl_ConsultingCompanys!D979","v":0},{"$f":"tbl_ConsultingCompanys!C979","v":0},0]
[{"$nulls":10},{"$f":"tbl_ArchitectureOffices!D980","v":0},{"$f":"tbl_ArchitectureOffices!C980","v":0},0,{"$f":"tbl_Companys!D980","v":"Sigurd Eide"},{"$f":"tbl_Companys!C980","v":204512},"Sigurd Eide",{"$f":"tbl_ConsultingCompanys!D980","v":0},{"$f":"tbl_ConsultingCompanys!C980","v":0},0]
[{"$nulls":10},{"$f":"tbl_ArchitectureOffices!D981","v":0},{"$f":"tbl_ArchitectureOffices!C981","v":0},0,{"$f":"tbl_Companys!D981","v":"Simex AS"},{"$f":"tbl_Companys!C981","v":97932},"Simex AS",{"$f":"tbl_ConsultingCompanys!D981","v":0},{"$f":"tbl_ConsultingCompanys!C981","v":0},0]
[{"$nulls":10},{"$f":"tbl_ArchitectureOffices!D982","v":0},{"$f":"tbl_ArchitectureOffices!C982","v":0},0,{"$f":"tbl_Companys!D982","v":"SINTEF"},{"$f":"tbl_Companys!C982","v":98459},"SINTEF",{"$f":"tbl_ConsultingCompanys!D982","v":0},{"$f":"tbl_ConsultingCompanys!C982","v":0},0]
[{"$nulls":10},{"$f":"tbl_ArchitectureOffices!D983","v":0},{"$f":"tbl_ArchitectureOffices!C983","v":0},0,{"$f":"tbl_Companys!D983","v":"SINTEF (energiteknikk, byggteknikk)"},{"$f":"tbl_Companys!C983","v":162918},"SINTEF (energiteknikk, byggteknikk)",{"$f":"tbl_ConsultingCompanys!D983","v":0},{"$f":"tbl_ConsultingCompanys!C983","v":0},0]
[{"$nulls":10},{"$f":"tbl_ArchitectureOffices!D984","v":0},{"$f":"tbl_ArchitectureOffices!C984","v":0},0,{"$f":"tbl_Companys!D984","v":"SINTEF Byggforsk"},{"$f":"tbl_Companys!C984","v":166300},"SINTEF Byggforsk",{"$f":"tbl_ConsultingCompanys!D984","v":0},{"$f":"tbl_ConsultingCompanys!C984","v":0},0]
[{"$nulls":10},{"$f":"tbl_ArchitectureOffices!D985","v":0},{"$f":"tbl_ArchitectureOffices!C985","v":0},0,{"$f":"tbl_Companys!D985","v":"SINTEF Byggforsk"},{"$f":"tbl_Companys!C985","v":193873},"SINTEF Byggforsk",{"$f":"tbl_ConsultingCompanys!D985","v":0},{"$f":"tbl_ConsultingCompanys!C985","v":0},0]
[{"$nulls":10},{"$f":"tbl_ArchitectureOffices!D986","v":0},{"$f":"tbl_ArchitectureOffices!C986","v":0},0,{"$f":"tbl_Companys!D986","v":"Sinus AS"},{"$f":"tbl_Companys!C986","v":217517},"Sinus AS",{"$f":"tbl_ConsultingCompanys!D986","v":0},{"$f":"tbl_ConsultingCompanys!C986","v":0},0]
[{"$nulls":10},{"$f":"tbl_ArchitectureOffices!D987","v":0},{"$f":"tbl_ArchitectureOffices!C987","v":0},0,{"$f":"tbl_Companys!D987","v":"Sinus AS v/Tønnes Ognedal og Svein Folkvord (akustikk)"},{"$f":"tbl_Companys!C987","v":172611},"Sinus AS v/Tønnes Ognedal og Svein Folkvord (akustikk)",{"$f":"tbl_ConsultingCompanys!D987","v":0},{"$f":"tbl_ConsultingCompanys!C987","v":0},0]
[{"$nulls":10},{"$f":"tbl_ArchitectureOffices!D988","v":0},{"$f":"tbl_ArchitectureOffices!C988","v":0},0,{"$f":"tbl_Companys!D988","v":"Sinus Elektro (Elektro)"},{"$f":"tbl_Companys!C988","v":162872},"Sinus Elektro (Elektro)",{"$f":"tbl_ConsultingCompanys!D988","v":0},{"$f":"tbl_ConsultingCompanys!C988","v":0},0]
[{"$nulls":10},{"$f":"tbl_ArchitectureOffices!D989","v":0},{"$f":"tbl_ArchitectureOffices!C989","v":0},0,{"$f":"tbl_Companys!D989","v":"SiT Eiendom"},{"$f":"tbl_Companys!C989","v":165390},"SiT Eiendom",{"$f":"tbl_ConsultingCompanys!D989","v":0},{"$f":"tbl_ConsultingCompanys!C989","v":0},0]
[{"$nulls":10},{"$f":"tbl_ArchitectureOffices!D990","v":0},{"$f":"tbl_ArchitectureOffices!C990","v":0},0,{"$f":"tbl_Companys!D990","v":"Siv ing Haug og Blom-Bakke AS"},{"$f":"tbl_Companys!C990","v":172595},"Siv ing Haug og Blom-Bakke AS",{"$f":"tbl_ConsultingCompanys!D990","v":0},{"$f":"tbl_ConsultingCompanys!C990","v":0},0]
[{"$nulls":10},{"$f":"tbl_ArchitectureOffices!D991","v":0},{"$f":"tbl_ArchitectureOffices!C991","v":0},0,{"$f":"tbl_Companys!D991","v":"Siv. ing. Karl Knudsen"},{"$f":"tbl_Companys!C991","v":184492},"Siv. ing. Karl Knudsen",{"$f":"tbl_ConsultingCompanys!D991","v":0},{"$f":"tbl_ConsultingCompanys!C991","v":0},0]
[{"$nulls":10},{"$f":"tbl_ArchitectureOffices!D992","v":0},{"$f":"tbl_ArchitectureOffices!C992","v":0},0,{"$f":"tbl_Companys!D992","v":"Siv. Ing. Netteberg AS (VVS)"},{"$f":"tbl_Companys!C992","v":155175},"Siv. Ing. Netteberg AS (VVS)",{"$f":"tbl_ConsultingCompanys!D992","v":0},{"$f":"tbl_ConsultingCompanys!C992","v":0},0]
[{"$nulls":10},{"$f":"tbl_ArchitectureOffices!D993","v":0},{"$f":"tbl_ArchitectureOffices!C993","v":0},0,{"$f":"tbl_Companys!D993","v":"Siv. Ing. P.O. Danielsen"},{"$f":"tbl_Companys!C993","v":164718},"Siv. Ing. P.O. Danielsen",{"$f":"tbl_ConsultingCompanys!D993","v":0},{"$f":"tbl_ConsultingCompanys!C993","v":0},0]
[{"$nulls":10},{"$f":"tbl_ArchitectureOffices!D994","v":0},{"$f":"tbl_ArchitectureOffices!C994","v":0},0,{"$f":"tbl_Companys!D994","v":"Siv. Ing. Trond Thorvaldsen AS"},{"$f":"tbl_Companys!C994","v":204307},"Siv. Ing. Trond Thorvaldsen AS",{"$f":"tbl_ConsultingCompanys!D994","v":0},{"$f":"tbl_ConsultingCompanys!C994","v":0},0]
[{"$nulls":10},{"$f":"tbl_ArchitectureOffices!D995","v":0},{"$f":"tbl_ArchitectureOffices!C995","v":0},0,{"$f":"tbl_Companys!D995","v":"Siv.Ing Knut Finseth AS (RIB)"},{"$f":"tbl_Companys!C995","v":214145},"Siv.Ing Knut Finseth AS (RIB)",{"$f":"tbl_ConsultingCompanys!D995","v":0},{"$f":"tbl_ConsultingCompanys!C995","v":0},0]
[{"$nulls":10},{"$f":"tbl_ArchitectureOffices!D996","v":0},{"$f":"tbl_ArchitectureOffices!C996","v":0},0,{"$f":"tbl_Companys!D996","v":"Siv.ing. Christian Svenkerud"},{"$f":"tbl_Companys!C996","v":110760},"Siv.ing. Christian Svenkerud",{"$f":"tbl_ConsultingCompanys!D996","v":0},{"$f":"tbl_ConsultingCompanys!C996","v":0},0]
[{"$nulls":10},{"$f":"tbl_ArchitectureOffices!D997","v":0},{"$f":"tbl_ArchitectureOffices!C997","v":0},0,{"$f":"tbl_Companys!D997","v":"Siv.ing. JP Dybdahl AS (RIV)"},{"$f":"tbl_Companys!C997","v":202688},"Siv.ing. JP Dybdahl AS (RIV)",{"$f":"tbl_ConsultingCompanys!D997","v":0},{"$f":"tbl_ConsultingCompanys!C997","v":0},0]
[{"$nulls":10},{"$f":"tbl_ArchitectureOffices!D998","v":0},{"$f":"tbl_ArchitectureOffices!C998","v":0},0,{"$f":"tbl_Companys!D998","v":"Siv.ing. P.O.Danielsen AS (RIB)"},{"$f":"tbl_Companys!C998","v":208884},"Siv.ing. P.O.Danielsen AS (RIB)",{"$f":"tbl_ConsultingCompanys!D998","v":0},{"$f":"tbl_ConsultingCompanys!C998","v":0},0]
[{"$nulls":10},{"$f":"tbl_ArchitectureOffices!D999","v":0},{"$f":"tbl_ArchitectureOffices!C999","v":0},0,{"$f":"tbl_Companys!D999","v":"Siv.ing. Terje Orlien AS"},{"$f":"tbl_Companys!C999","v":119831},"Siv.ing. Terje Orlien AS",{"$f":"tbl_ConsultingCompanys!D999","v":0},{"$f":"tbl_ConsultingCompanys!C999","v":0},0]
[{"$nulls":10},{"$f":"tbl_ArchitectureOffices!D1000","v":0},{"$f":"tbl_ArchitectureOffices!C1000","v":0},0,{"$f":"tbl_Companys!D1000","v":"Siv.ing. Trond Amundsen AS (RIB)"},{"$f":"tbl_Companys!C1000","v":162915},"Siv.ing. Trond Amundsen AS (RIB)",{"$f":"tbl_ConsultingCompanys!D1000","v":0},{"$f":"tbl_ConsultingCompanys!C1000","v":0},0]
[{"$nulls":10},{"$f":"tbl_ArchitectureOffices!D1001","v":0},{"$f":"tbl_ArchitectureOffices!C1001","v":0},0,{"$f":"tbl_Companys!D1001","v":"Siv.Ing. Øyvind Berntsen AS (RIV)"},{"$f":"tbl_Companys!C1001","v":160691},"Siv.Ing. Øyvind Berntsen AS (RIV)",{"$f":"tbl_ConsultingCompanys!D1001","v":0},{"$f":"tbl_ConsultingCompanys!C1001","v":0},0]
[{"$nulls":10},{"$f":"tbl_ArchitectureOffices!D1002","v":0},{"$f":"tbl_ArchitectureOffices!C1002","v":0},0,{"$f":"tbl_Companys!D1002","v":"Sivilarkitekt Erik Ask"},{"$f":"tbl_Companys!C1002","v":160576},"Sivilarkitekt Erik Ask",{"$f":"tbl_ConsultingCompanys!D1002","v":0},{"$f":"tbl_ConsultingCompanys!C1002","v":0},0]
[{"$nulls":10},{"$f":"tbl_ArchitectureOffices!D1003","v":0},{"$f":"tbl_ArchitectureOffices!C1003","v":0},0,{"$f":"tbl_Companys!D1003","v":"Sivilarkitekt MNAL Randi Slåtten"},{"$f":"tbl_Companys!C1003","v":247055},"Sivilarkitekt MNAL Randi Slåtten",{"$f":"tbl_ConsultingCompanys!D1003","v":0},{"$f":"tbl_ConsultingCompanys!C1003","v":0},0]
[{"$nulls":10},{"$f":"tbl_ArchitectureOffices!D1004","v":0},{"$f":"tbl_ArchitectureOffices!C1004","v":0},0,{"$f":"tbl_Companys!D1004","v":"Sivilarkitekt MNAL Steinar Romedal AS"},{"$f":"tbl_Companys!C1004","v":238532},"Sivilarkitekt MNAL Steinar Romedal AS",{"$f":"tbl_ConsultingCompanys!D1004","v":0},{"$f":"tbl_ConsultingCompanys!C1004","v":0},0]
[{"$nulls":10},{"$f":"tbl_ArchitectureOffices!D1005","v":0},{"$f":"tbl_ArchitectureOffices!C1005","v":0},0,{"$f":"tbl_Companys!D1005","v":"Sivilarkitekt mnal Øyvind Poulsson"},{"$f":"tbl_Companys!C1005","v":198799},"Sivilarkitekt mnal Øyvind Poulsson",{"$f":"tbl_ConsultingCompanys!D1005","v":0},{"$f":"tbl_ConsultingCompanys!C1005","v":0},0]
[{"$nulls":10},{"$f":"tbl_ArchitectureOffices!D1006","v":0},{"$f":"tbl_ArchitectureOffices!C1006","v":0},0,{"$f":"tbl_Companys!D1006","v":"Sivilarkitekt Stein Stoknes MNAL"},{"$f":"tbl_Companys!C1006","v":234655},"Sivilarkitekt Stein Stoknes MNAL",{"$f":"tbl_ConsultingCompanys!D1006","v":0},{"$f":"tbl_ConsultingCompanys!C1006","v":0},0]
[{"$nulls":10},{"$f":"tbl_ArchitectureOffices!D1007","v":0},{"$f":"tbl_ArchitectureOffices!C1007","v":0},0,{"$f":"tbl_Companys!D1007","v":"Sivilarkitekt Tordis Hoem as"},{"$f":"tbl_Companys!C1007","v":171093},"Sivilarkitekt Tordis Hoem as",{"$f":"tbl_ConsultingCompanys!D1007","v":0},{"$f":"tbl_ConsultingCompanys!C1007","v":0},0]
[{"$nulls":10},{"$f":"tbl_ArchitectureOffices!D1008","v":0},{"$f":"tbl_ArchitectureOffices!C1008","v":0},0,{"$f":"tbl_Companys!D1008","v":"Sivilingeniørene Storkmoen og Hamre AS "},{"$f":"tbl_Companys!C1008","v":112147},"Sivilingeniørene Storkmoen og Hamre AS",{"$f":"tbl_ConsultingCompanys!D1008","v":0},{"$f":"tbl_ConsultingCompanys!C1008","v":0},0]
[{"$nulls":10},{"$f":"tbl_ArchitectureOffices!D1009","v":0},{"$f":"tbl_ArchitectureOffices!C1009","v":0},0,{"$f":"tbl_Companys!D1009","v":"Sjo Fasting Arkitekter"},{"$f":"tbl_Companys!C1009","v":245837},"Sjo Fasting Arkitekter",{"$f":"tbl_ConsultingCompanys!D1009","v":0},{"$f":"tbl_ConsultingCompanys!C1009","v":0},0]
[{"$nulls":10},{"$f":"tbl_ArchitectureOffices!D1010","v":0},{"$f":"tbl_ArchitectureOffices!C1010","v":0},0,{"$f":"tbl_Companys!D1010","v":"Sjåtil & Fornæss AS"},{"$f":"tbl_Companys!C1010","v":250062},"Sjåtil & Fornæss AS",{"$f":"tbl_ConsultingCompanys!D1010","v":0},{"$f":"tbl_ConsultingCompanys!C1010","v":0},0]
[{"$nulls":10},{"$f":"tbl_ArchitectureOffices!D1011","v":0},{"$f":"tbl_ArchitectureOffices!C1011","v":0},0,{"$f":"tbl_Companys!D1011","v":"Sjåvåg sivilarkitekt MNALm Helle "},{"$f":"tbl_Companys!C1011","v":166616},"Sjåvåg sivilarkitekt MNALm Helle",{"$f":"tbl_ConsultingCompanys!D1011","v":0},{"$f":"tbl_ConsultingCompanys!C1011","v":0},0]
[{"$nulls":10},{"$f":"tbl_ArchitectureOffices!D1012","v":0},{"$f":"tbl_ArchitectureOffices!C1012","v":0},0,{"$f":"tbl_Companys!D1012","v":"SK Langeland (byggeleder grunn & betong)"},{"$f":"tbl_Companys!C1012","v":162877},"SK Langeland (byggeleder grunn & betong)",{"$f":"tbl_ConsultingCompanys!D1012","v":0},{"$f":"tbl_ConsultingCompanys!C1012","v":0},0]
[{"$nulls":10},{"$f":"tbl_ArchitectureOffices!D1013","v":0},{"$f":"tbl_ArchitectureOffices!C1013","v":0},0,{"$f":"tbl_Companys!D1013","v":"Skaane Arkitektur + Design"},{"$f":"tbl_Companys!C1013","v":166612},"Skaane Arkitektur + Design",{"$f":"tbl_ConsultingCompanys!D1013","v":0},{"$f":"tbl_ConsultingCompanys!C1013","v":0},0]
[{"$nulls":10},{"$f":"tbl_ArchitectureOffices!D1014","v":0},{"$f":"tbl_ArchitectureOffices!C1014","v":0},0,{"$f":"tbl_Companys!D1014","v":"Skaara Arkitekter AS"},{"$f":"tbl_Companys!C1014","v":166523},"Skaara Arkitekter AS",{"$f":"tbl_ConsultingCompanys!D1014","v":0},{"$f":"tbl_ConsultingCompanys!C1014","v":0},0]
[{"$nulls":10},{"$f":"tbl_ArchitectureOffices!D1015","v":0},{"$f":"tbl_ArchitectureOffices!C1015","v":0},0,{"$f":"tbl_Companys!D1015","v":"Skaaret AS"},{"$f":"tbl_Companys!C1015","v":191906},"Skaaret AS",{"$f":"tbl_ConsultingCompanys!D1015","v":0},{"$f":"tbl_ConsultingCompanys!C1015","v":0},0]
[{"$nulls":10},{"$f":"tbl_ArchitectureOffices!D1016","v":0},{"$f":"tbl_ArchitectureOffices!C1016","v":0},0,{"$f":"tbl_Companys!D1016","v":"Skagenarkitektene"},{"$f":"tbl_Companys!C1016","v":166521},"Skagenarkitektene",{"$f":"tbl_ConsultingCompanys!D1016","v":0},{"$f":"tbl_ConsultingCompanys!C1016","v":0},0]
[{"$nulls":10},{"$f":"tbl_ArchitectureOffices!D1017","v":0},{"$f":"tbl_ArchitectureOffices!C1017","v":0},0,{"$f":"tbl_Companys!D1017","v":"Skagenarkitektene"},{"$f":"tbl_Companys!C1017","v":166614},"Skagenarkitektene",{"$f":"tbl_ConsultingCompanys!D1017","v":0},{"$f":"tbl_ConsultingCompanys!C1017","v":0},0]
[{"$nulls":10},{"$f":"tbl_ArchitectureOffices!D1018","v":0},{"$f":"tbl_ArchitectureOffices!C1018","v":0},0,{"$f":"tbl_Companys!D1018","v":"Skandinaviska Glassystem AB"},{"$f":"tbl_Companys!C1018","v":166655},"Skandinaviska Glassystem AB",{"$f":"tbl_ConsultingCompanys!D1018","v":0},{"$f":"tbl_ConsultingCompanys!C1018","v":0},0]
[{"$nulls":10},{"$f":"tbl_ArchitectureOffices!D1019","v":0},{"$f":"tbl_ArchitectureOffices!C1019","v":0},0,{"$f":"tbl_Companys!D1019","v":"Skansen AS"},{"$f":"tbl_Companys!C1019","v":160587},"Skansen AS",{"$f":"tbl_ConsultingCompanys!D1019","v":0},{"$f":"tbl_ConsultingCompanys!C1019","v":0},0]
[{"$nulls":10},{"$f":"tbl_ArchitectureOffices!D1020","v":0},{"$f":"tbl_ArchitectureOffices!C1020","v":0},0,{"$f":"tbl_Companys!D1020","v":"Skansen Consult AS"},{"$f":"tbl_Companys!C1020","v":236409},"Skansen Consult AS",{"$f":"tbl_ConsultingCompanys!D1020","v":0},{"$f":"tbl_ConsultingCompanys!C1020","v":0},0]
[{"$nulls":10},{"$f":"tbl_ArchitectureOffices!D1021","v":0},{"$f":"tbl_ArchitectureOffices!C1021","v":0},0,{"$f":"tbl_Companys!D1021","v":"Skanska AS"},{"$f":"tbl_Companys!C1021","v":160687},"Skanska AS",{"$f":"tbl_ConsultingCompanys!D1021","v":0},{"$f":"tbl_ConsultingCompanys!C1021","v":0},0]
[{"$nulls":10},{"$f":"tbl_ArchitectureOffices!D1022","v":0},{"$f":"tbl_ArchitectureOffices!C1022","v":0},0,{"$f":"tbl_Companys!D1022","v":"Skanska Eiendomsutvikling"},{"$f":"tbl_Companys!C1022","v":231962},"Skanska Eiendomsutvikling",{"$f":"tbl_ConsultingCompanys!D1022","v":0},{"$f":"tbl_ConsultingCompanys!C1022","v":0},0]
[{"$nulls":10},{"$f":"tbl_ArchitectureOffices!D1023","v":0},{"$f":"tbl_ArchitectureOffices!C1023","v":0},0,{"$f":"tbl_Companys!D1023","v":"Skanska KEB"},{"$f":"tbl_Companys!C1023","v":246725},"Skanska KEB",{"$f":"tbl_ConsultingCompanys!D1023","v":0},{"$f":"tbl_ConsultingCompanys!C1023","v":0},0]
[{"$nulls":10},{"$f":"tbl_ArchitectureOffices!D1024","v":0},{"$f":"tbl_ArchitectureOffices!C1024","v":0},0,{"$f":"tbl_Companys!D1024","v":"Skanska Region Bergen"},{"$f":"tbl_Companys!C1024","v":231965},"Skanska Region Bergen",{"$f":"tbl_ConsultingCompanys!D1024","v":0},{"$f":"tbl_ConsultingCompanys!C1024","v":0},0]
[{"$nulls":10},{"$f":"tbl_ArchitectureOffices!D1025","v":0},{"$f":"tbl_ArchitectureOffices!C1025","v":0},0,{"$f":"tbl_Companys!D1025","v":"Skanska SPU"},{"$f":"tbl_Companys!C1025","v":246724},"Skanska SPU",{"$f":"tbl_ConsultingCompanys!D1025","v":0},{"$f":"tbl_ConsultingCompanys!C1025","v":0},0]
[{"$nulls":10},{"$f":"tbl_ArchitectureOffices!D1026","v":0},{"$f":"tbl_ArchitectureOffices!C1026","v":0},0,{"$f":"tbl_Companys!D1026","v":"Skanska Tekniske"},{"$f":"tbl_Companys!C1026","v":231964},"Skanska Tekniske",{"$f":"tbl_ConsultingCompanys!D1026","v":0},{"$f":"tbl_ConsultingCompanys!C1026","v":0},0]
[{"$nulls":10},{"$f":"tbl_ArchitectureOffices!D1027","v":0},{"$f":"tbl_ArchitectureOffices!C1027","v":0},{"$f":"IFERROR(REPLACE(K1027,FIND(\" \",K1027,LEN(K1027)),1,\"\"),K1027)","v":0},{"$f":"tbl_Companys!D1027","v":"Skanska Tekniske Enteprise"},{"$f":"tbl_Companys!C1027","v":246726},{"$f":"IFERROR(REPLACE(N1027,FIND(\" \",N1027,LEN(N1027)),1,\"\"),N1027)","v":"Skanska Tekniske Enteprise"},{"$f":"tbl_ConsultingCompanys!D1027","v":0},{"$f":"tbl_ConsultingCompanys!C1027","v":0},{"$f":"IFERROR(REPLACE(Q1027,FIND(\" \",Q1027,LEN(Q1027)),1,\"\"),Q1027)","v":0}]
[{"$nulls":10},{"$f":"tbl_ArchitectureOffices!D1028","v":0},{"$f":"tbl_ArchitectureOffices!C1028","v":0},0,{"$f":"tbl_Companys!D1028","v":"Ski boligbyggelag"},{"$f":"tbl_Companys!C1028","v":160573},"Ski boligbyggelag",{"$f":"tbl_ConsultingCompanys!D1028","v":0},{"$f":"tbl_ConsultingCompanys!C1028","v":0},0]
[{"$nulls":10},{"$f":"tbl_ArchitectureOffices!D1029","v":0},{"$f":"tbl_ArchitectureOffices!C1029","v":0},0,{"$f":"tbl_Companys!D1029","v":"Skibnes Arkitekter AS"},{"$f":"tbl_Companys!C1029","v":249788},"Skibnes Arkitekter AS",{"$f":"tbl_ConsultingCompanys!D1029","v":0},{"$f":"tbl_ConsultingCompanys!C1029","v":0},0]
[{"$nulls":10},{"$f":"tbl_ArchitectureOffices!D1030","v":0},{"$f":"tbl_ArchitectureOffices!C1030","v":0},0,{"$f":"tbl_Companys!D1030","v":"Skien Kommune"},{"$f":"tbl_Companys!C1030","v":155980},"Skien Kommune",{"$f":"tbl_ConsultingCompanys!D1030","v":0},{"$f":"tbl_ConsultingCompanys!C1030","v":0},0]
[{"$nulls":10},{"$f":"tbl_ArchitectureOffices!D1031","v":0},{"$f":"tbl_ArchitectureOffices!C1031","v":0},0,{"$f":"tbl_Companys!D1031","v":"Skien kommune"},{"$f":"tbl_Companys!C1031","v":217041},"Skien kommune",{"$f":"tbl_ConsultingCompanys!D1031","v":0},{"$f":"tbl_ConsultingCompanys!C1031","v":0},0]
[{"$nulls":10},{"$f":"tbl_ArchitectureOffices!D1032","v":0},{"$f":"tbl_ArchitectureOffices!C1032","v":0},0,{"$f":"tbl_Companys!D1032","v":"Skylstad as, Arkitekt Svein "},{"$f":"tbl_Companys!C1032","v":172685},"Skylstad as, Arkitekt Svein",{"$f":"tbl_ConsultingCompanys!D1032","v":0},{"$f":"tbl_ConsultingCompanys!C1032","v":0},0]
[{"$nulls":10},{"$f":"tbl_ArchitectureOffices!D1033","v":0},{"$f":"tbl_ArchitectureOffices!C1033","v":0},0,{"$f":"tbl_Companys!D1033","v":"Sletvold Arkitekter MNAL"},{"$f":"tbl_Companys!C1033","v":166517},"Sletvold Arkitekter MNAL",{"$f":"tbl_ConsultingCompanys!D1033","v":0},{"$f":"tbl_ConsultingCompanys!C1033","v":0},0]
[{"$nulls":10},{"$f":"tbl_ArchitectureOffices!D1034","v":0},{"$f":"tbl_ArchitectureOffices!C1034","v":0},0,{"$f":"tbl_Companys!D1034","v":"Slyngstad Aamlid Arkitekter AS"},{"$f":"tbl_Companys!C1034","v":166609},"Slyngstad Aamlid Arkitekter AS",{"$f":"tbl_ConsultingCompanys!D1034","v":0},{"$f":"tbl_ConsultingCompanys!C1034","v":0},0]
[{"$nulls":10},{"$f":"tbl_ArchitectureOffices!D1035","v":0},{"$f":"tbl_ArchitectureOffices!C1035","v":0},0,{"$f":"tbl_Companys!D1035","v":"Smed Alsaker AS"},{"$f":"tbl_Companys!C1035","v":157877},"Smed Alsaker AS",{"$f":"tbl_ConsultingCompanys!D1035","v":0},{"$f":"tbl_ConsultingCompanys!C1035","v":0},0]
[{"$nulls":10},{"$f":"tbl_ArchitectureOffices!D1036","v":0},{"$f":"tbl_ArchitectureOffices!C1036","v":0},0,{"$f":"tbl_Companys!D1036","v":"SMI energi og miljø AS"},{"$f":"tbl_Companys!C1036","v":245785},"SMI energi og miljø AS",{"$f":"tbl_ConsultingCompanys!D1036","v":0},{"$f":"tbl_ConsultingCompanys!C1036","v":0},0]
[{"$nulls":10},{"$f":"tbl_ArchitectureOffices!D1037","v":0},{"$f":"tbl_ArchitectureOffices!C1037","v":0},0,{"$f":"tbl_Companys!D1037","v":"Smidt & Ingebrigtsen AS"},{"$f":"tbl_Companys!C1037","v":218044},"Smidt & Ingebrigtsen AS",{"$f":"tbl_ConsultingCompanys!D1037","v":0},{"$f":"tbl_ConsultingCompanys!C1037","v":0},0]
[{"$nulls":10},{"$f":"tbl_ArchitectureOffices!D1038","v":0},{"$f":"tbl_ArchitectureOffices!C1038","v":0},0,{"$f":"tbl_Companys!D1038","v":"SMS arkitekter AS"},{"$f":"tbl_Companys!C1038","v":166510},"SMS arkitekter AS",{"$f":"tbl_ConsultingCompanys!D1038","v":0},{"$f":"tbl_ConsultingCompanys!C1038","v":0},0]
[{"$nulls":10},{"$f":"tbl_ArchitectureOffices!D1039","v":0},{"$f":"tbl_ArchitectureOffices!C1039","v":0},0,{"$f":"tbl_Companys!D1039","v":"SNO Sogndal"},{"$f":"tbl_Companys!C1039","v":214842},"SNO Sogndal",{"$f":"tbl_ConsultingCompanys!D1039","v":0},{"$f":"tbl_ConsultingCompanys!C1039","v":0},0]
[{"$nulls":10},{"$f":"tbl_ArchitectureOffices!D1040","v":0},{"$f":"tbl_ArchitectureOffices!C1040","v":0},0,{"$f":"tbl_Companys!D1040","v":"Snøhetta as"},{"$f":"tbl_Companys!C1040","v":166509},"Snøhetta as",{"$f":"tbl_ConsultingCompanys!D1040","v":0},{"$f":"tbl_ConsultingCompanys!C1040","v":0},0]
[{"$nulls":10},{"$f":"tbl_ArchitectureOffices!D1041","v":0},{"$f":"tbl_ArchitectureOffices!C1041","v":0},0,{"$f":"tbl_Companys!D1041","v":"Sohlberg og Toftenes AS"},{"$f":"tbl_Companys!C1041","v":181038},"Sohlberg og Toftenes AS",{"$f":"tbl_ConsultingCompanys!D1041","v":0},{"$f":"tbl_ConsultingCompanys!C1041","v":0},0]
[{"$nulls":10},{"$f":"tbl_ArchitectureOffices!D1042","v":0},{"$f":"tbl_ArchitectureOffices!C1042","v":0},0,{"$f":"tbl_Companys!D1042","v":"SOLARK"},{"$f":"tbl_Companys!C1042","v":194004},"SOLARK",{"$f":"tbl_ConsultingCompanys!D1042","v":0},{"$f":"tbl_ConsultingCompanys!C1042","v":0},0]
[{"$nulls":10},{"$f":"tbl_ArchitectureOffices!D1043","v":0},{"$f":"tbl_ArchitectureOffices!C1043","v":0},0,{"$f":"tbl_Companys!D1043","v":"Solarnor AS"},{"$f":"tbl_Companys!C1043","v":103201},"Solarnor AS",{"$f":"tbl_ConsultingCompanys!D1043","v":0},{"$f":"tbl_ConsultingCompanys!C1043","v":0},0]
[{"$nulls":10},{"$f":"tbl_ArchitectureOffices!D1044","v":0},{"$f":"tbl_ArchitectureOffices!C1044","v":0},0,{"$f":"tbl_Companys!D1044","v":"Solberg & Toftenes (RIBR)"},{"$f":"tbl_Companys!C1044","v":214150},"Solberg & Toftenes (RIBR)",{"$f":"tbl_ConsultingCompanys!D1044","v":0},{"$f":"tbl_ConsultingCompanys!C1044","v":0},0]
[{"$nulls":10},{"$f":"tbl_ArchitectureOffices!D1045","v":0},{"$f":"tbl_ArchitectureOffices!C1045","v":0},0,{"$f":"tbl_Companys!D1045","v":"Solberg og Toftenes AS"},{"$f":"tbl_Companys!C1045","v":160580},"Solberg og Toftenes AS",{"$f":"tbl_ConsultingCompanys!D1045","v":0},{"$f":"tbl_ConsultingCompanys!C1045","v":0},0]
[{"$nulls":10},{"$f":"tbl_ArchitectureOffices!D1046","v":0},{"$f":"tbl_ArchitectureOffices!C1046","v":0},0,{"$f":"tbl_Companys!D1046","v":"Solbjør Arkitektur"},{"$f":"tbl_Companys!C1046","v":166508},"Solbjør Arkitektur",{"$f":"tbl_ConsultingCompanys!D1046","v":0},{"$f":"tbl_ConsultingCompanys!C1046","v":0},0]
[{"$nulls":10},{"$f":"tbl_ArchitectureOffices!D1047","v":0},{"$f":"tbl_ArchitectureOffices!C1047","v":0},0,{"$f":"tbl_Companys!D1047","v":"Solem Arkitektur AS"},{"$f":"tbl_Companys!C1047","v":166507},"Solem Arkitektur AS",{"$f":"tbl_ConsultingCompanys!D1047","v":0},{"$f":"tbl_ConsultingCompanys!C1047","v":0},0]
[{"$nulls":10},{"$f":"tbl_ArchitectureOffices!D1048","v":0},{"$f":"tbl_ArchitectureOffices!C1048","v":0},0,{"$f":"tbl_Companys!D1048","v":"Solheim og Jacobsen arkitekter AS"},{"$f":"tbl_Companys!C1048","v":166505},"Solheim og Jacobsen arkitekter AS",{"$f":"tbl_ConsultingCompanys!D1048","v":0},{"$f":"tbl_ConsultingCompanys!C1048","v":0},0]
[{"$nulls":10},{"$f":"tbl_ArchitectureOffices!D1049","v":0},{"$f":"tbl_ArchitectureOffices!C1049","v":0},0,{"$f":"tbl_Companys!D1049","v":"Solland AS (ventilasjon)"},{"$f":"tbl_Companys!C1049","v":155703},"Solland AS (ventilasjon)",{"$f":"tbl_ConsultingCompanys!D1049","v":0},{"$f":"tbl_ConsultingCompanys!C1049","v":0},0]
[{"$nulls":10},{"$f":"tbl_ArchitectureOffices!D1050","v":0},{"$f":"tbl_ArchitectureOffices!C1050","v":0},0,{"$f":"tbl_Companys!D1050","v":"Solli Arkitekter AS"},{"$f":"tbl_Companys!C1050","v":166503},"Solli Arkitekter AS",{"$f":"tbl_ConsultingCompanys!D1050","v":0},{"$f":"tbl_ConsultingCompanys!C1050","v":0},0]
[{"$nulls":10},{"$f":"tbl_ArchitectureOffices!D1051","v":0},{"$f":"tbl_ArchitectureOffices!C1051","v":0},0,{"$f":"tbl_Companys!D1051","v":"Solli Sivilarkitekt MNAL, Tore "},{"$f":"tbl_Companys!C1051","v":177575},"Solli Sivilarkitekt MNAL, Tore",{"$f":"tbl_ConsultingCompanys!D1051","v":0},{"$f":"tbl_ConsultingCompanys!C1051","v":0},0]
[{"$nulls":10},{"$f":"tbl_ArchitectureOffices!D1052","v":0},{"$f":"tbl_ArchitectureOffices!C1052","v":0},0,{"$f":"tbl_Companys!D1052","v":"Solnes AS, Lil "},{"$f":"tbl_Companys!C1052","v":172720},"Solnes AS, Lil",{"$f":"tbl_ConsultingCompanys!D1052","v":0},{"$f":"tbl_ConsultingCompanys!C1052","v":0},0]
[{"$nulls":10},{"$f":"tbl_ArchitectureOffices!D1053","v":0},{"$f":"tbl_ArchitectureOffices!C1053","v":0},0,{"$f":"tbl_Companys!D1053","v":"SOS Brannsikring AS"},{"$f":"tbl_Companys!C1053","v":245543},"SOS Brannsikring AS",{"$f":"tbl_ConsultingCompanys!D1053","v":0},{"$f":"tbl_ConsultingCompanys!C1053","v":0},0]
[{"$nulls":10},{"$f":"tbl_ArchitectureOffices!D1054","v":0},{"$f":"tbl_ArchitectureOffices!C1054","v":0},0,{"$f":"tbl_Companys!D1054","v":"Spacegroup Arkitekter A/S"},{"$f":"tbl_Companys!C1054","v":166485},"Spacegroup Arkitekter A/S",{"$f":"tbl_ConsultingCompanys!D1054","v":0},{"$f":"tbl_ConsultingCompanys!C1054","v":0},0]
[{"$nulls":10},{"$f":"tbl_ArchitectureOffices!D1055","v":0},{"$f":"tbl_ArchitectureOffices!C1055","v":0},0,{"$f":"tbl_Companys!D1055","v":"Sparebank 1 SMN kvartalet"},{"$f":"tbl_Companys!C1055","v":178925},"Sparebank 1 SMN kvartalet",{"$f":"tbl_ConsultingCompanys!D1055","v":0},{"$f":"tbl_ConsultingCompanys!C1055","v":0},0]
[{"$nulls":10},{"$f":"tbl_ArchitectureOffices!D1056","v":0},{"$f":"tbl_ArchitectureOffices!C1056","v":0},0,{"$f":"tbl_Companys!D1056","v":"Spark arkitektur"},{"$f":"tbl_Companys!C1056","v":166484},"Spark arkitektur",{"$f":"tbl_ConsultingCompanys!D1056","v":0},{"$f":"tbl_ConsultingCompanys!C1056","v":0},0]
[{"$nulls":10},{"$f":"tbl_ArchitectureOffices!D1057","v":0},{"$f":"tbl_ArchitectureOffices!C1057","v":0},0,{"$f":"tbl_Companys!D1057","v":"Spets AS "},{"$f":"tbl_Companys!C1057","v":165393},"Spets AS",{"$f":"tbl_ConsultingCompanys!D1057","v":0},{"$f":"tbl_ConsultingCompanys!C1057","v":0},0]
[{"$nulls":10},{"$f":"tbl_ArchitectureOffices!D1058","v":0},{"$f":"tbl_ArchitectureOffices!C1058","v":0},0,{"$f":"tbl_Companys!D1058","v":"Spiss Arkitektur & Plan AS"},{"$f":"tbl_Companys!C1058","v":172895},"Spiss Arkitektur & Plan AS",{"$f":"tbl_ConsultingCompanys!D1058","v":0},{"$f":"tbl_ConsultingCompanys!C1058","v":0},0]
[{"$nulls":10},{"$f":"tbl_ArchitectureOffices!D1059","v":0},{"$f":"tbl_ArchitectureOffices!C1059","v":0},0,{"$f":"tbl_Companys!D1059","v":"Spor Arkitekter AS"},{"$f":"tbl_Companys!C1059","v":166481},"Spor Arkitekter AS",{"$f":"tbl_ConsultingCompanys!D1059","v":0},{"$f":"tbl_ConsultingCompanys!C1059","v":0},0]
[{"$nulls":10},{"$f":"tbl_ArchitectureOffices!D1060","v":0},{"$f":"tbl_ArchitectureOffices!C1060","v":0},0,{"$f":"tbl_Companys!D1060","v":"Sporstøl AS, Arkitektfirma"},{"$f":"tbl_Companys!C1060","v":166479},"Sporstøl AS, Arkitektfirma",{"$f":"tbl_ConsultingCompanys!D1060","v":0},{"$f":"tbl_ConsultingCompanys!C1060","v":0},0]
[{"$nulls":10},{"$f":"tbl_ArchitectureOffices!D1061","v":0},{"$f":"tbl_ArchitectureOffices!C1061","v":0},0,{"$f":"tbl_Companys!D1061","v":"SSBYGG AS"},{"$f":"tbl_Companys!C1061","v":225764},"SSBYGG AS",{"$f":"tbl_ConsultingCompanys!D1061","v":0},{"$f":"tbl_ConsultingCompanys!C1061","v":0},0]
[{"$nulls":10},{"$f":"tbl_ArchitectureOffices!D1062","v":0},{"$f":"tbl_ArchitectureOffices!C1062","v":0},0,{"$f":"tbl_Companys!D1062","v":"Stark Rød-Knudsen arkitekter AS"},{"$f":"tbl_Companys!C1062","v":173200},"Stark Rød-Knudsen arkitekter AS",{"$f":"tbl_ConsultingCompanys!D1062","v":0},{"$f":"tbl_ConsultingCompanys!C1062","v":0},0]
[{"$nulls":10},{"$f":"tbl_ArchitectureOffices!D1063","v":0},{"$f":"tbl_ArchitectureOffices!C1063","v":0},0,{"$f":"tbl_Companys!D1063","v":"Statens vegvesen"},{"$f":"tbl_Companys!C1063","v":158051},"Statens vegvesen",{"$f":"tbl_ConsultingCompanys!D1063","v":0},{"$f":"tbl_ConsultingCompanys!C1063","v":0},0]
[{"$nulls":10},{"$f":"tbl_ArchitectureOffices!D1064","v":0},{"$f":"tbl_ArchitectureOffices!C1064","v":0},0,{"$f":"tbl_Companys!D1064","v":"Statens vegvesen, Turistvegkontoret"},{"$f":"tbl_Companys!C1064","v":180285},"Statens vegvesen, Turistvegkontoret",{"$f":"tbl_ConsultingCompanys!D1064","v":0},{"$f":"tbl_ConsultingCompanys!C1064","v":0},0]
[{"$nulls":10},{"$f":"tbl_ArchitectureOffices!D1065","v":0},{"$f":"tbl_ArchitectureOffices!C1065","v":0},0,{"$f":"tbl_Companys!D1065","v":"Statkraft Grøner AS"},{"$f":"tbl_Companys!C1065","v":120022},"Statkraft Grøner AS",{"$f":"tbl_ConsultingCompanys!D1065","v":0},{"$f":"tbl_ConsultingCompanys!C1065","v":0},0]
[{"$nulls":10},{"$f":"tbl_ArchitectureOffices!D1066","v":0},{"$f":"tbl_ArchitectureOffices!C1066","v":0},0,{"$f":"tbl_Companys!D1066","v":"Statnett SF"},{"$f":"tbl_Companys!C1066","v":243117},"Statnett SF",{"$f":"tbl_ConsultingCompanys!D1066","v":0},{"$f":"tbl_ConsultingCompanys!C1066","v":0},0]
[{"$nulls":10},{"$f":"tbl_ArchitectureOffices!D1067","v":0},{"$f":"tbl_ArchitectureOffices!C1067","v":0},0,{"$f":"tbl_Companys!D1067","v":"Statsbygg"},{"$f":"tbl_Companys!C1067","v":160597},"Statsbygg",{"$f":"tbl_ConsultingCompanys!D1067","v":0},{"$f":"tbl_ConsultingCompanys!C1067","v":0},0]
[{"$nulls":10},{"$f":"tbl_ArchitectureOffices!D1068","v":0},{"$f":"tbl_ArchitectureOffices!C1068","v":0},0,{"$f":"tbl_Companys!D1068","v":"Stavanger boligbyggelag"},{"$f":"tbl_Companys!C1068","v":155706},"Stavanger boligbyggelag",{"$f":"tbl_ConsultingCompanys!D1068","v":0},{"$f":"tbl_ConsultingCompanys!C1068","v":0},0]
[{"$nulls":10},{"$f":"tbl_ArchitectureOffices!D1069","v":0},{"$f":"tbl_ArchitectureOffices!C1069","v":0},0,{"$f":"tbl_Companys!D1069","v":"Stavanger boligbyggelag"},{"$f":"tbl_Companys!C1069","v":158050},"Stavanger boligbyggelag",{"$f":"tbl_ConsultingCompanys!D1069","v":0},{"$f":"tbl_ConsultingCompanys!C1069","v":0},0]
[{"$nulls":10},{"$f":"tbl_ArchitectureOffices!D1070","v":0},{"$f":"tbl_ArchitectureOffices!C1070","v":0},0,{"$f":"tbl_Companys!D1070","v":"Stavanger kommune"},{"$f":"tbl_Companys!C1070","v":216181},"Stavanger kommune",{"$f":"tbl_ConsultingCompanys!D1070","v":0},{"$f":"tbl_ConsultingCompanys!C1070","v":0},0]
[{"$nulls":10},{"$f":"tbl_ArchitectureOffices!D1071","v":0},{"$f":"tbl_ArchitectureOffices!C1071","v":0},0,{"$f":"tbl_Companys!D1071","v":"Stavanger kommune v/ Stavanger Eiendom"},{"$f":"tbl_Companys!C1071","v":160511},"Stavanger kommune v/ Stavanger Eiendom",{"$f":"tbl_ConsultingCompanys!D1071","v":0},{"$f":"tbl_ConsultingCompanys!C1071","v":0},0]
[{"$nulls":10},{"$f":"tbl_ArchitectureOffices!D1072","v":0},{"$f":"tbl_ArchitectureOffices!C1072","v":0},0,{"$f":"tbl_Companys!D1072","v":"Stavanger Turistforening"},{"$f":"tbl_Companys!C1072","v":155750},"Stavanger Turistforening",{"$f":"tbl_ConsultingCompanys!D1072","v":0},{"$f":"tbl_ConsultingCompanys!C1072","v":0},0]
[{"$nulls":10},{"$f":"tbl_ArchitectureOffices!D1073","v":0},{"$f":"tbl_ArchitectureOffices!C1073","v":0},0,{"$f":"tbl_Companys!D1073","v":"Stavne Gård AS"},{"$f":"tbl_Companys!C1073","v":110817},"Stavne Gård AS",{"$f":"tbl_ConsultingCompanys!D1073","v":0},{"$f":"tbl_ConsultingCompanys!C1073","v":0},0]
[{"$nulls":10},{"$f":"tbl_ArchitectureOffices!D1074","v":0},{"$f":"tbl_ArchitectureOffices!C1074","v":0},0,{"$f":"tbl_Companys!D1074","v":"Stavseth&Lervik Arkitekter AS Mnal"},{"$f":"tbl_Companys!C1074","v":193742},"Stavseth&Lervik Arkitekter AS Mnal",{"$f":"tbl_ConsultingCompanys!D1074","v":0},{"$f":"tbl_ConsultingCompanys!C1074","v":0},0]
[{"$nulls":10},{"$f":"tbl_ArchitectureOffices!D1075","v":0},{"$f":"tbl_ArchitectureOffices!C1075","v":0},0,{"$f":"tbl_Companys!D1075","v":"Steen & Lund"},{"$f":"tbl_Companys!C1075","v":193821},"Steen & Lund",{"$f":"tbl_ConsultingCompanys!D1075","v":0},{"$f":"tbl_ConsultingCompanys!C1075","v":0},0]
[{"$nulls":10},{"$f":"tbl_ArchitectureOffices!D1076","v":0},{"$f":"tbl_ArchitectureOffices!C1076","v":0},0,{"$f":"tbl_Companys!D1076","v":"STEIEN Consult AS"},{"$f":"tbl_Companys!C1076","v":243667},"STEIEN Consult AS",{"$f":"tbl_ConsultingCompanys!D1076","v":0},{"$f":"tbl_ConsultingCompanys!C1076","v":0},0]
[{"$nulls":10},{"$f":"tbl_ArchitectureOffices!D1077","v":0},{"$f":"tbl_ArchitectureOffices!C1077","v":0},0,{"$f":"tbl_Companys!D1077","v":"Stein Stoknes"},{"$f":"tbl_Companys!C1077","v":177614},"Stein Stoknes",{"$f":"tbl_ConsultingCompanys!D1077","v":0},{"$f":"tbl_ConsultingCompanys!C1077","v":0},0]
[{"$nulls":10},{"$f":"tbl_ArchitectureOffices!D1078","v":0},{"$f":"tbl_ArchitectureOffices!C1078","v":0},0,{"$f":"tbl_Companys!D1078","v":"Steinar Johansen (tømrer)"},{"$f":"tbl_Companys!C1078","v":112571},"Steinar Johansen (tømrer)",{"$f":"tbl_ConsultingCompanys!D1078","v":0},{"$f":"tbl_ConsultingCompanys!C1078","v":0},0]
[{"$nulls":10},{"$f":"tbl_ArchitectureOffices!D1079","v":0},{"$f":"tbl_ArchitectureOffices!C1079","v":0},0,{"$f":"tbl_Companys!D1079","v":"Steinar Moldal"},{"$f":"tbl_Companys!C1079","v":247288},"Steinar Moldal",{"$f":"tbl_ConsultingCompanys!D1079","v":0},{"$f":"tbl_ConsultingCompanys!C1079","v":0},0]
[{"$nulls":10},{"$f":"tbl_ArchitectureOffices!D1080","v":0},{"$f":"tbl_ArchitectureOffices!C1080","v":0},0,{"$f":"tbl_Companys!D1080","v":"Steinsvik Arkitektkontor AS"},{"$f":"tbl_Companys!C1080","v":193910},"Steinsvik Arkitektkontor AS",{"$f":"tbl_ConsultingCompanys!D1080","v":0},{"$f":"tbl_ConsultingCompanys!C1080","v":0},0]
[{"$nulls":10},{"$f":"tbl_ArchitectureOffices!D1081","v":0},{"$f":"tbl_ArchitectureOffices!C1081","v":0},0,{"$f":"tbl_Companys!D1081","v":"Stensrud og Danielsen"},{"$f":"tbl_Companys!C1081","v":121159},"Stensrud og Danielsen",{"$f":"tbl_ConsultingCompanys!D1081","v":0},{"$f":"tbl_ConsultingCompanys!C1081","v":0},0]
[{"$nulls":10},{"$f":"tbl_ArchitectureOffices!D1082","v":0},{"$f":"tbl_ArchitectureOffices!C1082","v":0},0,{"$f":"tbl_Companys!D1082","v":"Steven Holl Architects"},{"$f":"tbl_Companys!C1082","v":243879},"Steven Holl Architects",{"$f":"tbl_ConsultingCompanys!D1082","v":0},{"$f":"tbl_ConsultingCompanys!C1082","v":0},0]
[{"$nulls":10},{"$f":"tbl_ArchitectureOffices!D1083","v":0},{"$f":"tbl_ArchitectureOffices!C1083","v":0},0,{"$f":"tbl_Companys!D1083","v":"Stiftelsen Kirkens Bymisjon"},{"$f":"tbl_Companys!C1083","v":247747},"Stiftelsen Kirkens Bymisjon",{"$f":"tbl_ConsultingCompanys!D1083","v":0},{"$f":"tbl_ConsultingCompanys!C1083","v":0},0]
[{"$nulls":10},{"$f":"tbl_ArchitectureOffices!D1084","v":0},{"$f":"tbl_ArchitectureOffices!C1084","v":0},0,{"$f":"tbl_Companys!D1084","v":"Stiftelsen Østfoldforskning "},{"$f":"tbl_Companys!C1084","v":110820},"Stiftelsen Østfoldforskning",{"$f":"tbl_ConsultingCompanys!D1084","v":0},{"$f":"tbl_ConsultingCompanys!C1084","v":0},0]
[{"$nulls":10},{"$f":"tbl_ArchitectureOffices!D1085","v":0},{"$f":"tbl_ArchitectureOffices!C1085","v":0},0,{"$f":"tbl_Companys!D1085","v":"Stjern AS"},{"$f":"tbl_Companys!C1085","v":110280},"Stjern AS",{"$f":"tbl_ConsultingCompanys!D1085","v":0},{"$f":"tbl_ConsultingCompanys!C1085","v":0},0]
[{"$nulls":10},{"$f":"tbl_ArchitectureOffices!D1086","v":0},{"$f":"tbl_ArchitectureOffices!C1086","v":0},0,{"$f":"tbl_Companys!D1086","v":"Stjern Entreprenør AS Åfjord (SUB-lugarer) "},{"$f":"tbl_Companys!C1086","v":230106},"Stjern Entreprenør AS Åfjord (SUB-lugarer)",{"$f":"tbl_ConsultingCompanys!D1086","v":0},{"$f":"tbl_ConsultingCompanys!C1086","v":0},0]
[{"$nulls":10},{"$f":"tbl_ArchitectureOffices!D1087","v":0},{"$f":"tbl_ArchitectureOffices!C1087","v":0},0,{"$f":"tbl_Companys!D1087","v":"Stockholm Lighting AB"},{"$f":"tbl_Companys!C1087","v":233808},"Stockholm Lighting AB",{"$f":"tbl_ConsultingCompanys!D1087","v":0},{"$f":"tbl_ConsultingCompanys!C1087","v":0},0]
[{"$nulls":10},{"$f":"tbl_ArchitectureOffices!D1088","v":0},{"$f":"tbl_ArchitectureOffices!C1088","v":0},0,{"$f":"tbl_Companys!D1088","v":"Stokke Stål AS Fundamenter og betongkonstruksjoner; Dr. Ing. Olav Olsen AS (vindskjermer)"},{"$f":"tbl_Companys!C1088","v":155184},"Stokke Stål AS Fundamenter og betongkonstruksjoner; Dr. Ing. Olav Olsen AS (vindskjermer)",{"$f":"tbl_ConsultingCompanys!D1088","v":0},{"$f":"tbl_ConsultingCompanys!C1088","v":0},0]
[{"$nulls":10},{"$f":"tbl_ArchitectureOffices!D1089","v":0},{"$f":"tbl_ArchitectureOffices!C1089","v":0},0,{"$f":"tbl_Companys!D1089","v":"Stokke Stål AS Fundamenter og betongkonstruksjoner; Dr. Ing. Olav Olsen AS (vindskjermer)"},{"$f":"tbl_Companys!C1089","v":155187},"Stokke Stål AS Fundamenter og betongkonstruksjoner; Dr. Ing. Olav Olsen AS (vindskjermer)",{"$f":"tbl_ConsultingCompanys!D1089","v":0},{"$f":"tbl_ConsultingCompanys!C1089","v":0},0]
[{"$nulls":10},{"$f":"tbl_ArchitectureOffices!D1090","v":0},{"$f":"tbl_ArchitectureOffices!C1090","v":0},0,{"$f":"tbl_Companys!D1090","v":"Stoltz Røthing AS"},{"$f":"tbl_Companys!C1090","v":228271},"Stoltz Røthing AS",{"$f":"tbl_ConsultingCompanys!D1090","v":0},{"$f":"tbl_ConsultingCompanys!C1090","v":0},0]
[{"$nulls":10},{"$f":"tbl_ArchitectureOffices!D1091","v":0},{"$f":"tbl_ArchitectureOffices!C1091","v":0},{"$f":"IFERROR(REPLACE(K1091,FIND(\" \",K1091,LEN(K1091)),1,\"\"),K1091)","v":0},{"$f":"tbl_Companys!D1091","v":"Storebrand Livsforsikring v/Storebrand Eiendom AS"},{"$f":"tbl_Companys!C1091","v":202313},{"$f":"IFERROR(REPLACE(N1091,FIND(\" \",N1091,LEN(N1091)),1,\"\"),N1091)","v":"Storebrand Livsforsikring v/Storebrand Eiendom AS"},{"$f":"tbl_ConsultingCompanys!D1091","v":0},{"$f":"tbl_ConsultingCompanys!C1091","v":0},{"$f":"IFERROR(REPLACE(Q1091,FIND(\" \",Q1091,LEN(Q1091)),1,\"\"),Q1091)","v":0}]
[{"$nulls":10},{"$f":"tbl_ArchitectureOffices!D1092","v":0},{"$f":"tbl_ArchitectureOffices!C1092","v":0},0,{"$f":"tbl_Companys!D1092","v":"Stormorken og Hamre AS"},{"$f":"tbl_Companys!C1092","v":214725},"Stormorken og Hamre AS",{"$f":"tbl_ConsultingCompanys!D1092","v":0},{"$f":"tbl_ConsultingCompanys!C1092","v":0},0]
[{"$nulls":10},{"$f":"tbl_ArchitectureOffices!D1093","v":0},{"$f":"tbl_ArchitectureOffices!C1093","v":0},0,{"$f":"tbl_Companys!D1093","v":"Stor-Oslo Prosjekt AS"},{"$f":"tbl_Companys!C1093","v":246738},"Stor-Oslo Prosjekt AS",{"$f":"tbl_ConsultingCompanys!D1093","v":0},{"$f":"tbl_ConsultingCompanys!C1093","v":0},0]
[{"$nulls":10},{"$f":"tbl_ArchitectureOffices!D1094","v":0},{"$f":"tbl_ArchitectureOffices!C1094","v":0},0,{"$f":"tbl_Companys!D1094","v":"Stousland Arkitektkontor AS"},{"$f":"tbl_Companys!C1094","v":166478},"Stousland Arkitektkontor AS",{"$f":"tbl_ConsultingCompanys!D1094","v":0},{"$f":"tbl_ConsultingCompanys!C1094","v":0},0]
[{"$nulls":10},{"$f":"tbl_ArchitectureOffices!D1095","v":0},{"$f":"tbl_ArchitectureOffices!C1095","v":0},0,{"$f":"tbl_Companys!D1095","v":"Strand forskaling (betong)"},{"$f":"tbl_Companys!C1095","v":162878},"Strand forskaling (betong)",{"$f":"tbl_ConsultingCompanys!D1095","v":0},{"$f":"tbl_ConsultingCompanys!C1095","v":0},0]
[{"$nulls":10},{"$f":"tbl_ArchitectureOffices!D1096","v":0},{"$f":"tbl_ArchitectureOffices!C1096","v":0},0,{"$f":"tbl_Companys!D1096","v":"Straume AS"},{"$f":"tbl_Companys!C1096","v":218046},"Straume AS",{"$f":"tbl_ConsultingCompanys!D1096","v":0},{"$f":"tbl_ConsultingCompanys!C1096","v":0},0]
[{"$nulls":10},{"$f":"tbl_ArchitectureOffices!D1097","v":0},{"$f":"tbl_ArchitectureOffices!C1097","v":0},0,{"$f":"tbl_Companys!D1097","v":"Streken arkitektgruppe as"},{"$f":"tbl_Companys!C1097","v":166475},"Streken arkitektgruppe as",{"$f":"tbl_ConsultingCompanys!D1097","v":0},{"$f":"tbl_ConsultingCompanys!C1097","v":0},0]
[{"$nulls":10},{"$f":"tbl_ArchitectureOffices!D1098","v":0},{"$f":"tbl_ArchitectureOffices!C1098","v":0},0,{"$f":"tbl_Companys!D1098","v":"Structura AS"},{"$f":"tbl_Companys!C1098","v":162912},"Structura AS",{"$f":"tbl_ConsultingCompanys!D1098","v":0},{"$f":"tbl_ConsultingCompanys!C1098","v":0},0]
[{"$nulls":10},{"$f":"tbl_ArchitectureOffices!D1099","v":0},{"$f":"tbl_ArchitectureOffices!C1099","v":0},0,{"$f":"tbl_Companys!D1099","v":"Structura AS (Roberth Nøsen)"},{"$f":"tbl_Companys!C1099","v":162921},"Structura AS (Roberth Nøsen)",{"$f":"tbl_ConsultingCompanys!D1099","v":0},{"$f":"tbl_ConsultingCompanys!C1099","v":0},0]
[{"$nulls":10},{"$f":"tbl_ArchitectureOffices!D1100","v":0},{"$f":"tbl_ArchitectureOffices!C1100","v":0},0,{"$f":"tbl_Companys!D1100","v":"Strøm Gundersen AS"},{"$f":"tbl_Companys!C1100","v":228043},"Strøm Gundersen AS",{"$f":"tbl_ConsultingCompanys!D1100","v":0},{"$f":"tbl_ConsultingCompanys!C1100","v":0},0]
[{"$nulls":10},{"$f":"tbl_ArchitectureOffices!D1101","v":0},{"$f":"tbl_ArchitectureOffices!C1101","v":0},0,{"$f":"tbl_Companys!D1101","v":"Studentsamskibnaden i Oslo"},{"$f":"tbl_Companys!C1101","v":160574},"Studentsamskibnaden i Oslo",{"$f":"tbl_ConsultingCompanys!D1101","v":0},{"$f":"tbl_ConsultingCompanys!C1101","v":0},0]
[{"$nulls":10},{"$f":"tbl_ArchitectureOffices!D1102","v":0},{"$f":"tbl_ArchitectureOffices!C1102","v":0},0,{"$f":"tbl_Companys!D1102","v":"Studentsamskibnaden i Oslo"},{"$f":"tbl_Companys!C1102","v":160604},"Studentsamskibnaden i Oslo",{"$f":"tbl_ConsultingCompanys!D1102","v":0},{"$f":"tbl_ConsultingCompanys!C1102","v":0},0]
[{"$nulls":10},{"$f":"tbl_ArchitectureOffices!D1103","v":0},{"$f":"tbl_ArchitectureOffices!C1103","v":0},0,{"$f":"tbl_Companys!D1103","v":"Studentsamskipnaden i Trondheim (SiT)"},{"$f":"tbl_Companys!C1103","v":165386},"Studentsamskipnaden i Trondheim (SiT)",{"$f":"tbl_ConsultingCompanys!D1103","v":0},{"$f":"tbl_ConsultingCompanys!C1103","v":0},0]
[{"$nulls":10},{"$f":"tbl_ArchitectureOffices!D1104","v":0},{"$f":"tbl_ArchitectureOffices!C1104","v":0},0,{"$f":"tbl_Companys!D1104","v":"Studio 4 Arkitekter AS"},{"$f":"tbl_Companys!C1104","v":166470},"Studio 4 Arkitekter AS",{"$f":"tbl_ConsultingCompanys!D1104","v":0},{"$f":"tbl_ConsultingCompanys!C1104","v":0},0]
[{"$nulls":10},{"$f":"tbl_ArchitectureOffices!D1105","v":0},{"$f":"tbl_ArchitectureOffices!C1105","v":0},0,{"$f":"tbl_Companys!D1105","v":"Studio ludo as"},{"$f":"tbl_Companys!C1105","v":166473},"Studio ludo as",{"$f":"tbl_ConsultingCompanys!D1105","v":0},{"$f":"tbl_ConsultingCompanys!C1105","v":0},0]
[{"$nulls":10},{"$f":"tbl_ArchitectureOffices!D1106","v":0},{"$f":"tbl_ArchitectureOffices!C1106","v":0},0,{"$f":"tbl_Companys!D1106","v":"Studio Stokke"},{"$f":"tbl_Companys!C1106","v":166471},"Studio Stokke",{"$f":"tbl_ConsultingCompanys!D1106","v":0},{"$f":"tbl_ConsultingCompanys!C1106","v":0},0]
[{"$nulls":10},{"$f":"tbl_ArchitectureOffices!D1107","v":0},{"$f":"tbl_ArchitectureOffices!C1107","v":0},0,{"$f":"tbl_Companys!D1107","v":"Stærk & Co AS (RIB/RIBr)"},{"$f":"tbl_Companys!C1107","v":160690},"Stærk & Co AS (RIB/RIBr)",{"$f":"tbl_ConsultingCompanys!D1107","v":0},{"$f":"tbl_ConsultingCompanys!C1107","v":0},0]
[{"$nulls":10},{"$f":"tbl_ArchitectureOffices!D1108","v":0},{"$f":"tbl_ArchitectureOffices!C1108","v":0},0,{"$f":"tbl_Companys!D1108","v":"Støltun"},{"$f":"tbl_Companys!C1108","v":201860},"Støltun",{"$f":"tbl_ConsultingCompanys!D1108","v":0},{"$f":"tbl_ConsultingCompanys!C1108","v":0},0]
[{"$nulls":10},{"$f":"tbl_ArchitectureOffices!D1109","v":0},{"$f":"tbl_ArchitectureOffices!C1109","v":0},0,{"$f":"tbl_Companys!D1109","v":"Sundt arkitekter"},{"$f":"tbl_Companys!C1109","v":172654},"Sundt arkitekter",{"$f":"tbl_ConsultingCompanys!D1109","v":0},{"$f":"tbl_ConsultingCompanys!C1109","v":0},0]
[{"$nulls":10},{"$f":"tbl_ArchitectureOffices!D1110","v":0},{"$f":"tbl_ArchitectureOffices!C1110","v":0},0,{"$f":"tbl_Companys!D1110","v":"Svartlamoen boligstiftelse"},{"$f":"tbl_Companys!C1110","v":160586},"Svartlamoen boligstiftelse",{"$f":"tbl_ConsultingCompanys!D1110","v":0},{"$f":"tbl_ConsultingCompanys!C1110","v":0},0]
[{"$nulls":10},{"$f":"tbl_ArchitectureOffices!D1111","v":0},{"$f":"tbl_ArchitectureOffices!C1111","v":0},0,{"$f":"tbl_Companys!D1111","v":"Svartlamoen boligstiftelse / Trondheim kommune"},{"$f":"tbl_Companys!C1111","v":217121},"Svartlamoen boligstiftelse / Trondheim kommune",{"$f":"tbl_ConsultingCompanys!D1111","v":0},{"$f":"tbl_ConsultingCompanys!C1111","v":0},0]
[{"$nulls":10},{"$f":"tbl_ArchitectureOffices!D1112","v":0},{"$f":"tbl_ArchitectureOffices!C1112","v":0},0,{"$f":"tbl_Companys!D1112","v":"Svein Aase"},{"$f":"tbl_Companys!C1112","v":172878},"Svein Aase",{"$f":"tbl_ConsultingCompanys!D1112","v":0},{"$f":"tbl_ConsultingCompanys!C1112","v":0},0]
[{"$nulls":10},{"$f":"tbl_ArchitectureOffices!D1113","v":0},{"$f":"tbl_ArchitectureOffices!C1113","v":0},0,{"$f":"tbl_Companys!D1113","v":"Svein Arne Bøyum"},{"$f":"tbl_Companys!C1113","v":215411},"Svein Arne Bøyum",{"$f":"tbl_ConsultingCompanys!D1113","v":0},{"$f":"tbl_ConsultingCompanys!C1113","v":0},0]
[{"$nulls":10},{"$f":"tbl_ArchitectureOffices!D1114","v":0},{"$f":"tbl_ArchitectureOffices!C1114","v":0},0,{"$f":"tbl_Companys!D1114","v":"Svein Boasson AS"},{"$f":"tbl_Companys!C1114","v":182797},"Svein Boasson AS",{"$f":"tbl_ConsultingCompanys!D1114","v":0},{"$f":"tbl_ConsultingCompanys!C1114","v":0},0]
[{"$nulls":10},{"$f":"tbl_ArchitectureOffices!D1115","v":0},{"$f":"tbl_ArchitectureOffices!C1115","v":0},0,{"$f":"tbl_Companys!D1115","v":"Svein Skibnes Arkitektkontor AS"},{"$f":"tbl_Companys!C1115","v":243755},"Svein Skibnes Arkitektkontor AS",{"$f":"tbl_ConsultingCompanys!D1115","v":0},{"$f":"tbl_ConsultingCompanys!C1115","v":0},0]
[{"$nulls":10},{"$f":"tbl_ArchitectureOffices!D1116","v":0},{"$f":"tbl_ArchitectureOffices!C1116","v":0},0,{"$f":"tbl_Companys!D1116","v":"Svein Søvik AS"},{"$f":"tbl_Companys!C1116","v":101074},"Svein Søvik AS",{"$f":"tbl_ConsultingCompanys!D1116","v":0},{"$f":"tbl_ConsultingCompanys!C1116","v":0},0]
[{"$nulls":10},{"$f":"tbl_ArchitectureOffices!D1117","v":0},{"$f":"tbl_ArchitectureOffices!C1117","v":0},0,{"$f":"tbl_Companys!D1117","v":"Svein Søvik AS"},{"$f":"tbl_Companys!C1117","v":119844},"Svein Søvik AS",{"$f":"tbl_ConsultingCompanys!D1117","v":0},{"$f":"tbl_ConsultingCompanys!C1117","v":0},0]
[{"$nulls":10},{"$f":"tbl_ArchitectureOffices!D1118","v":0},{"$f":"tbl_ArchitectureOffices!C1118","v":0},0,{"$f":"tbl_Companys!D1118","v":"Sveio Kommune"},{"$f":"tbl_Companys!C1118","v":158055},"Sveio Kommune",{"$f":"tbl_ConsultingCompanys!D1118","v":0},{"$f":"tbl_ConsultingCompanys!C1118","v":0},0]
[{"$nulls":10},{"$f":"tbl_ArchitectureOffices!D1119","v":0},{"$f":"tbl_ArchitectureOffices!C1119","v":0},0,{"$f":"tbl_Companys!D1119","v":"Svendby Bygg Consult AS"},{"$f":"tbl_Companys!C1119","v":98697},"Svendby Bygg Consult AS",{"$f":"tbl_ConsultingCompanys!D1119","v":0},{"$f":"tbl_ConsultingCompanys!C1119","v":0},0]
[{"$nulls":10},{"$f":"tbl_ArchitectureOffices!D1120","v":0},{"$f":"tbl_ArchitectureOffices!C1120","v":0},0,{"$f":"tbl_Companys!D1120","v":"Svenneby sag og høvleri (gulv)"},{"$f":"tbl_Companys!C1120","v":200375},"Svenneby sag og høvleri (gulv)",{"$f":"tbl_ConsultingCompanys!D1120","v":0},{"$f":"tbl_ConsultingCompanys!C1120","v":0},0]
[{"$nulls":10},{"$f":"tbl_ArchitectureOffices!D1121","v":0},{"$f":"tbl_ArchitectureOffices!C1121","v":0},0,{"$f":"tbl_Companys!D1121","v":"Sweco"},{"$f":"tbl_Companys!C1121","v":218407},"Sweco",{"$f":"tbl_ConsultingCompanys!D1121","v":0},{"$f":"tbl_ConsultingCompanys!C1121","v":0},0]
[{"$nulls":10},{"$f":"tbl_ArchitectureOffices!D1122","v":0},{"$f":"tbl_ArchitectureOffices!C1122","v":0},0,{"$f":"tbl_Companys!D1122","v":"Swedoor"},{"$f":"tbl_Companys!C1122","v":232351},"Swedoor",{"$f":"tbl_ConsultingCompanys!D1122","v":0},{"$f":"tbl_ConsultingCompanys!C1122","v":0},0]
[{"$nulls":10},{"$f":"tbl_ArchitectureOffices!D1123","v":0},{"$f":"tbl_ArchitectureOffices!C1123","v":0},0,{"$f":"tbl_Companys!D1123","v":"Sydarkitekter AS"},{"$f":"tbl_Companys!C1123","v":248323},"Sydarkitekter AS",{"$f":"tbl_ConsultingCompanys!D1123","v":0},{"$f":"tbl_ConsultingCompanys!C1123","v":0},0]
[{"$nulls":10},{"$f":"tbl_ArchitectureOffices!D1124","v":0},{"$f":"tbl_ArchitectureOffices!C1124","v":0},0,{"$f":"tbl_Companys!D1124","v":"System air"},{"$f":"tbl_Companys!C1124","v":119804},"System air",{"$f":"tbl_ConsultingCompanys!D1124","v":0},{"$f":"tbl_ConsultingCompanys!C1124","v":0},0]
[{"$nulls":10},{"$f":"tbl_ArchitectureOffices!D1125","v":0},{"$f":"tbl_ArchitectureOffices!C1125","v":0},0,{"$f":"tbl_Companys!D1125","v":"Systemair AS"},{"$f":"tbl_Companys!C1125","v":172755},"Systemair AS",{"$f":"tbl_ConsultingCompanys!D1125","v":0},{"$f":"tbl_ConsultingCompanys!C1125","v":0},0]
[{"$nulls":10},{"$f":"tbl_ArchitectureOffices!D1126","v":0},{"$f":"tbl_ArchitectureOffices!C1126","v":0},0,{"$f":"tbl_Companys!D1126","v":"Systemhus Norge AS"},{"$f":"tbl_Companys!C1126","v":120940},"Systemhus Norge AS",{"$f":"tbl_ConsultingCompanys!D1126","v":0},{"$f":"tbl_ConsultingCompanys!C1126","v":0},0]
[{"$nulls":10},{"$f":"tbl_ArchitectureOffices!D1127","v":0},{"$f":"tbl_ArchitectureOffices!C1127","v":0},0,{"$f":"tbl_Companys!D1127","v":"Sæther og Gythfeldt AS, Arkitektkontoret"},{"$f":"tbl_Companys!C1127","v":166468},"Sæther og Gythfeldt AS, Arkitektkontoret",{"$f":"tbl_ConsultingCompanys!D1127","v":0},{"$f":"tbl_ConsultingCompanys!C1127","v":0},0]
[{"$nulls":10},{"$f":"tbl_ArchitectureOffices!D1128","v":0},{"$f":"tbl_ArchitectureOffices!C1128","v":0},0,{"$f":"tbl_Companys!D1128","v":"Søbstad AS"},{"$f":"tbl_Companys!C1128","v":165404},"Søbstad AS",{"$f":"tbl_ConsultingCompanys!D1128","v":0},{"$f":"tbl_ConsultingCompanys!C1128","v":0},0]
[{"$nulls":10},{"$f":"tbl_ArchitectureOffices!D1129","v":0},{"$f":"tbl_ArchitectureOffices!C1129","v":0},0,{"$f":"tbl_Companys!D1129","v":"Sødal, Arkitekt Arne "},{"$f":"tbl_Companys!C1129","v":172896},"Sødal, Arkitekt Arne",{"$f":"tbl_ConsultingCompanys!D1129","v":0},{"$f":"tbl_ConsultingCompanys!C1129","v":0},0]
[{"$nulls":10},{"$f":"tbl_ArchitectureOffices!D1130","v":0},{"$f":"tbl_ArchitectureOffices!C1130","v":0},0,{"$f":"tbl_Companys!D1130","v":"Sør AS, Arkitektkontoret "},{"$f":"tbl_Companys!C1130","v":172596},"Sør AS, Arkitektkontoret",{"$f":"tbl_ConsultingCompanys!D1130","v":0},{"$f":"tbl_ConsultingCompanys!C1130","v":0},0]
[{"$nulls":10},{"$f":"tbl_ArchitectureOffices!D1131","v":0},{"$f":"tbl_ArchitectureOffices!C1131","v":0},0,{"$f":"tbl_Companys!D1131","v":"Sørli arkitekter as"},{"$f":"tbl_Companys!C1131","v":172893},"Sørli arkitekter as",{"$f":"tbl_ConsultingCompanys!D1131","v":0},{"$f":"tbl_ConsultingCompanys!C1131","v":0},0]
[{"$nulls":10},{"$f":"tbl_ArchitectureOffices!D1132","v":0},{"$f":"tbl_ArchitectureOffices!C1132","v":0},0,{"$f":"tbl_Companys!D1132","v":"Sørli og Haugstad (Shark) AS Arkitektkontor"},{"$f":"tbl_Companys!C1132","v":166467},"Sørli og Haugstad (Shark) AS Arkitektkontor",{"$f":"tbl_ConsultingCompanys!D1132","v":0},{"$f":"tbl_ConsultingCompanys!C1132","v":0},0]
[{"$nulls":10},{"$f":"tbl_ArchitectureOffices!D1133","v":0},{"$f":"tbl_ArchitectureOffices!C1133","v":0},0,{"$f":"tbl_Companys!D1133","v":"Sør-Trøndelag fylkeskommune"},{"$f":"tbl_Companys!C1133","v":247323},"Sør-Trøndelag fylkeskommune",{"$f":"tbl_ConsultingCompanys!D1133","v":0},{"$f":"tbl_ConsultingCompanys!C1133","v":0},0]
[{"$nulls":10},{"$f":"tbl_ArchitectureOffices!D1134","v":0},{"$f":"tbl_ArchitectureOffices!C1134","v":0},0,{"$f":"tbl_Companys!D1134","v":"Sørumgård, Marit"},{"$f":"tbl_Companys!C1134","v":166466},"Sørumgård, Marit",{"$f":"tbl_ConsultingCompanys!D1134","v":0},{"$f":"tbl_ConsultingCompanys!C1134","v":0},0]
[{"$nulls":10},{"$f":"tbl_ArchitectureOffices!D1135","v":0},{"$f":"tbl_ArchitectureOffices!C1135","v":0},0,{"$f":"tbl_Companys!D1135","v":"T. Johansen Drift AS"},{"$f":"tbl_Companys!C1135","v":247731},"T. Johansen Drift AS",{"$f":"tbl_ConsultingCompanys!D1135","v":0},{"$f":"tbl_ConsultingCompanys!C1135","v":0},0]
[{"$nulls":10},{"$f":"tbl_ArchitectureOffices!D1136","v":0},{"$f":"tbl_ArchitectureOffices!C1136","v":0},0,{"$f":"tbl_Companys!D1136","v":"Tandberg Arkitekter MNAL"},{"$f":"tbl_Companys!C1136","v":172901},"Tandberg Arkitekter MNAL",{"$f":"tbl_ConsultingCompanys!D1136","v":0},{"$f":"tbl_ConsultingCompanys!C1136","v":0},0]
[{"$nulls":10},{"$f":"tbl_ArchitectureOffices!D1137","v":0},{"$f":"tbl_ArchitectureOffices!C1137","v":0},0,{"$f":"tbl_Companys!D1137","v":"Tangen Ing. og arkitektkontor"},{"$f":"tbl_Companys!C1137","v":213268},"Tangen Ing. og arkitektkontor",{"$f":"tbl_ConsultingCompanys!D1137","v":0},{"$f":"tbl_ConsultingCompanys!C1137","v":0},0]
[{"$nulls":10},{"$f":"tbl_ArchitectureOffices!D1138","v":0},{"$f":"tbl_ArchitectureOffices!C1138","v":0},0,{"$f":"tbl_Companys!D1138","v":"TBA Arkitekter"},{"$f":"tbl_Companys!C1138","v":166465},"TBA Arkitekter",{"$f":"tbl_ConsultingCompanys!D1138","v":0},{"$f":"tbl_ConsultingCompanys!C1138","v":0},0]
[{"$nulls":10},{"$f":"tbl_ArchitectureOffices!D1139","v":0},{"$f":"tbl_ArchitectureOffices!C1139","v":0},0,{"$f":"tbl_Companys!D1139","v":"Team Rør AS (rørlegger)"},{"$f":"tbl_Companys!C1139","v":155704},"Team Rør AS (rørlegger)",{"$f":"tbl_ConsultingCompanys!D1139","v":0},{"$f":"tbl_ConsultingCompanys!C1139","v":0},0]
[{"$nulls":10},{"$f":"tbl_ArchitectureOffices!D1140","v":0},{"$f":"tbl_ArchitectureOffices!C1140","v":0},0,{"$f":"tbl_Companys!D1140","v":"Team St. Olav ANS"},{"$f":"tbl_Companys!C1140","v":243127},"Team St. Olav ANS",{"$f":"tbl_ConsultingCompanys!D1140","v":0},{"$f":"tbl_ConsultingCompanys!C1140","v":0},0]
[{"$nulls":10},{"$f":"tbl_ArchitectureOffices!D1141","v":0},{"$f":"tbl_ArchitectureOffices!C1141","v":0},0,{"$f":"tbl_Companys!D1141","v":"Team St. Olav ANS"},{"$f":"tbl_Companys!C1141","v":243128},"Team St. Olav ANS",{"$f":"tbl_ConsultingCompanys!D1141","v":0},{"$f":"tbl_ConsultingCompanys!C1141","v":0},0]
[{"$nulls":10},{"$f":"tbl_ArchitectureOffices!D1142","v":0},{"$f":"tbl_ArchitectureOffices!C1142","v":0},0,{"$f":"tbl_Companys!D1142","v":"Teaterplassen 1 AS"},{"$f":"tbl_Companys!C1142","v":160689},"Teaterplassen 1 AS",{"$f":"tbl_ConsultingCompanys!D1142","v":0},{"$f":"tbl_ConsultingCompanys!C1142","v":0},0]
[{"$nulls":10},{"$f":"tbl_ArchitectureOffices!D1143","v":0},{"$f":"tbl_ArchitectureOffices!C1143","v":0},0,{"$f":"tbl_Companys!D1143","v":"Technoconsult AS (Ribr)"},{"$f":"tbl_Companys!C1143","v":162917},"Technoconsult AS (Ribr)",{"$f":"tbl_ConsultingCompanys!D1143","v":0},{"$f":"tbl_ConsultingCompanys!C1143","v":0},0]
[{"$nulls":10},{"$f":"tbl_ArchitectureOffices!D1144","v":0},{"$f":"tbl_ArchitectureOffices!C1144","v":0},0,{"$f":"tbl_Companys!D1144","v":"Tegn 3 AS"},{"$f":"tbl_Companys!C1144","v":234630},"Tegn 3 AS",{"$f":"tbl_ConsultingCompanys!D1144","v":0},{"$f":"tbl_ConsultingCompanys!C1144","v":0},0]
[{"$nulls":10},{"$f":"tbl_ArchitectureOffices!D1145","v":0},{"$f":"tbl_ArchitectureOffices!C1145","v":0},0,{"$f":"tbl_Companys!D1145","v":"Tegn arkitektur og design as"},{"$f":"tbl_Companys!C1145","v":166464},"Tegn arkitektur og design as",{"$f":"tbl_ConsultingCompanys!D1145","v":0},{"$f":"tbl_ConsultingCompanys!C1145","v":0},0]
[{"$nulls":10},{"$f":"tbl_ArchitectureOffices!D1146","v":0},{"$f":"tbl_ArchitectureOffices!C1146","v":0},0,{"$f":"tbl_Companys!D1146","v":"Tegneverket Arkitekter AS"},{"$f":"tbl_Companys!C1146","v":172735},"Tegneverket Arkitekter AS",{"$f":"tbl_ConsultingCompanys!D1146","v":0},{"$f":"tbl_ConsultingCompanys!C1146","v":0},0]
[{"$nulls":10},{"$f":"tbl_ArchitectureOffices!D1147","v":0},{"$f":"tbl_ArchitectureOffices!C1147","v":0},0,{"$f":"tbl_Companys!D1147","v":"Teiknistofan Trød"},{"$f":"tbl_Companys!C1147","v":166446},"Teiknistofan Trød",{"$f":"tbl_ConsultingCompanys!D1147","v":0},{"$f":"tbl_ConsultingCompanys!C1147","v":0},0]
[{"$nulls":10},{"$f":"tbl_ArchitectureOffices!D1148","v":0},{"$f":"tbl_ArchitectureOffices!C1148","v":0},0,{"$f":"tbl_Companys!D1148","v":"Teka Eiendom AS"},{"$f":"tbl_Companys!C1148","v":247582},"Teka Eiendom AS",{"$f":"tbl_ConsultingCompanys!D1148","v":0},{"$f":"tbl_ConsultingCompanys!C1148","v":0},0]
[{"$nulls":10},{"$f":"tbl_ArchitectureOffices!D1149","v":0},{"$f":"tbl_ArchitectureOffices!C1149","v":0},0,{"$f":"tbl_Companys!D1149","v":"Teknisk byrå AS"},{"$f":"tbl_Companys!C1149","v":97933},"Teknisk byrå AS",{"$f":"tbl_ConsultingCompanys!D1149","v":0},{"$f":"tbl_ConsultingCompanys!C1149","v":0},0]
[{"$nulls":10},{"$f":"tbl_ArchitectureOffices!D1150","v":0},{"$f":"tbl_ArchitectureOffices!C1150","v":0},0,{"$f":"tbl_Companys!D1150","v":"Teknisk Ventilasjon AS"},{"$f":"tbl_Companys!C1150","v":228144},"Teknisk Ventilasjon AS",{"$f":"tbl_ConsultingCompanys!D1150","v":0},{"$f":"tbl_ConsultingCompanys!C1150","v":0},0]
[{"$nulls":10},{"$f":"tbl_ArchitectureOffices!D1151","v":0},{"$f":"tbl_ArchitectureOffices!C1151","v":0},0,{"$f":"tbl_Companys!D1151","v":"Tekno Team AS "},{"$f":"tbl_Companys!C1151","v":165395},"Tekno Team AS",{"$f":"tbl_ConsultingCompanys!D1151","v":0},{"$f":"tbl_ConsultingCompanys!C1151","v":0},0]
[{"$nulls":10},{"$f":"tbl_ArchitectureOffices!D1152","v":0},{"$f":"tbl_ArchitectureOffices!C1152","v":0},0,{"$f":"tbl_Companys!D1152","v":"Teknobygg AS"},{"$f":"tbl_Companys!C1152","v":178920},"Teknobygg AS",{"$f":"tbl_ConsultingCompanys!D1152","v":0},{"$f":"tbl_ConsultingCompanys!C1152","v":0},0]
[{"$nulls":10},{"$f":"tbl_ArchitectureOffices!D1153","v":0},{"$f":"tbl_ArchitectureOffices!C1153","v":0},0,{"$f":"tbl_Companys!D1153","v":"Teknoconsult AS"},{"$f":"tbl_Companys!C1153","v":225768},"Teknoconsult AS",{"$f":"tbl_ConsultingCompanys!D1153","v":0},{"$f":"tbl_ConsultingCompanys!C1153","v":0},0]
[{"$nulls":10},{"$f":"tbl_ArchitectureOffices!D1154","v":0},{"$f":"tbl_ArchitectureOffices!C1154","v":0},0,{"$f":"tbl_Companys!D1154","v":"Telerør"},{"$f":"tbl_Companys!C1154","v":248369},"Telerør",{"$f":"tbl_ConsultingCompanys!D1154","v":0},{"$f":"tbl_ConsultingCompanys!C1154","v":0},0]
[{"$nulls":10},{"$f":"tbl_ArchitectureOffices!D1155","v":0},{"$f":"tbl_ArchitectureOffices!C1155","v":0},{"$f":"IFERROR(REPLACE(K1155,FIND(\" \",K1155,LEN(K1155)),1,\"\"),K1155)","v":0},{"$f":"tbl_Companys!D1155","v":"Telesafe Consulting AS"},{"$f":"tbl_Companys!C1155","v":110462},{"$f":"IFERROR(REPLACE(N1155,FIND(\" \",N1155,LEN(N1155)),1,\"\"),N1155)","v":"Telesafe Consulting AS"},{"$f":"tbl_ConsultingCompanys!D1155","v":0},{"$f":"tbl_ConsultingCompanys!C1155","v":0},{"$f":"IFERROR(REPLACE(Q1155,FIND(\" \",Q1155,LEN(Q1155)),1,\"\"),Q1155)","v":0}]
[{"$nulls":10},{"$f":"tbl_ArchitectureOffices!D1156","v":0},{"$f":"tbl_ArchitectureOffices!C1156","v":0},0,{"$f":"tbl_Companys!D1156","v":"Tempero Energitjenester AS"},{"$f":"tbl_Companys!C1156","v":165394},"Tempero Energitjenester AS",{"$f":"tbl_ConsultingCompanys!D1156","v":0},{"$f":"tbl_ConsultingCompanys!C1156","v":0},0]
[{"$nulls":10},{"$f":"tbl_ArchitectureOffices!D1157","v":0},{"$f":"tbl_ArchitectureOffices!C1157","v":0},0,{"$f":"tbl_Companys!D1157","v":"Theorells AS"},{"$f":"tbl_Companys!C1157","v":121191},"Theorells AS",{"$f":"tbl_ConsultingCompanys!D1157","v":0},{"$f":"tbl_ConsultingCompanys!C1157","v":0},0]
[{"$nulls":10},{"$f":"tbl_ArchitectureOffices!D1158","v":0},{"$f":"tbl_ArchitectureOffices!C1158","v":0},0,{"$f":"tbl_Companys!D1158","v":"Thermoplan AS"},{"$f":"tbl_Companys!C1158","v":218396},"Thermoplan AS",{"$f":"tbl_ConsultingCompanys!D1158","v":0},{"$f":"tbl_ConsultingCompanys!C1158","v":0},0]
[{"$nulls":10},{"$f":"tbl_ArchitectureOffices!D1159","v":0},{"$f":"tbl_ArchitectureOffices!C1159","v":0},0,{"$f":"tbl_Companys!D1159","v":"Thermoplan AS rådgivende ingeniørfirma (VVS)"},{"$f":"tbl_Companys!C1159","v":218402},"Thermoplan AS rådgivende ingeniørfirma (VVS)",{"$f":"tbl_ConsultingCompanys!D1159","v":0},{"$f":"tbl_ConsultingCompanys!C1159","v":0},0]
[{"$nulls":10},{"$f":"tbl_ArchitectureOffices!D1160","v":0},{"$f":"tbl_ArchitectureOffices!C1160","v":0},0,{"$f":"tbl_Companys!D1160","v":"Thorenfeldt Arkitekter AS"},{"$f":"tbl_Companys!C1160","v":166462},"Thorenfeldt Arkitekter AS",{"$f":"tbl_ConsultingCompanys!D1160","v":0},{"$f":"tbl_ConsultingCompanys!C1160","v":0},0]
[{"$nulls":10},{"$f":"tbl_ArchitectureOffices!D1161","v":0},{"$f":"tbl_ArchitectureOffices!C1161","v":0},0,{"$f":"tbl_Companys!D1161","v":"Thorsnes Arkitekter AS, Thomas "},{"$f":"tbl_Companys!C1161","v":166460},"Thorsnes Arkitekter AS, Thomas",{"$f":"tbl_ConsultingCompanys!D1161","v":0},{"$f":"tbl_ConsultingCompanys!C1161","v":0},0]
[{"$nulls":10},{"$f":"tbl_ArchitectureOffices!D1162","v":0},{"$f":"tbl_ArchitectureOffices!C1162","v":0},0,{"$f":"tbl_Companys!D1162","v":"Thrane AS, Klaus "},{"$f":"tbl_Companys!C1162","v":172676},"Thrane AS, Klaus",{"$f":"tbl_ConsultingCompanys!D1162","v":0},{"$f":"tbl_ConsultingCompanys!C1162","v":0},0]
[{"$nulls":10},{"$f":"tbl_ArchitectureOffices!D1163","v":0},{"$f":"tbl_ArchitectureOffices!C1163","v":0},0,{"$f":"tbl_Companys!D1163","v":"Thunes Partners AS"},{"$f":"tbl_Companys!C1163","v":110755},"Thunes Partners AS",{"$f":"tbl_ConsultingCompanys!D1163","v":0},{"$f":"tbl_ConsultingCompanys!C1163","v":0},0]
[{"$nulls":10},{"$f":"tbl_ArchitectureOffices!D1164","v":0},{"$f":"tbl_ArchitectureOffices!C1164","v":0},0,{"$f":"tbl_Companys!D1164","v":"Timber AS"},{"$f":"tbl_Companys!C1164","v":111855},"Timber AS",{"$f":"tbl_ConsultingCompanys!D1164","v":0},{"$f":"tbl_ConsultingCompanys!C1164","v":0},0]
[{"$nulls":10},{"$f":"tbl_ArchitectureOffices!D1165","v":0},{"$f":"tbl_ArchitectureOffices!C1165","v":0},0,{"$f":"tbl_Companys!D1165","v":"Time kyrkje"},{"$f":"tbl_Companys!C1165","v":230068},"Time kyrkje",{"$f":"tbl_ConsultingCompanys!D1165","v":0},{"$f":"tbl_ConsultingCompanys!C1165","v":0},0]
[{"$nulls":10},{"$f":"tbl_ArchitectureOffices!D1166","v":0},{"$f":"tbl_ArchitectureOffices!C1166","v":0},0,{"$f":"tbl_Companys!D1166","v":"Time kyrkjelege fellesråd"},{"$f":"tbl_Companys!C1166","v":230118},"Time kyrkjelege fellesråd",{"$f":"tbl_ConsultingCompanys!D1166","v":0},{"$f":"tbl_ConsultingCompanys!C1166","v":0},0]
[{"$nulls":10},{"$f":"tbl_ArchitectureOffices!D1167","v":0},{"$f":"tbl_ArchitectureOffices!C1167","v":0},0,{"$f":"tbl_Companys!D1167","v":"Tippetue Arkitekter as"},{"$f":"tbl_Companys!C1167","v":172657},"Tippetue Arkitekter as",{"$f":"tbl_ConsultingCompanys!D1167","v":0},{"$f":"tbl_ConsultingCompanys!C1167","v":0},0]
[{"$nulls":10},{"$f":"tbl_ArchitectureOffices!D1168","v":0},{"$f":"tbl_ArchitectureOffices!C1168","v":0},0,{"$f":"tbl_Companys!D1168","v":"Tjøme arkitektkontor"},{"$f":"tbl_Companys!C1168","v":166459},"Tjøme arkitektkontor",{"$f":"tbl_ConsultingCompanys!D1168","v":0},{"$f":"tbl_ConsultingCompanys!C1168","v":0},0]
[{"$nulls":10},{"$f":"tbl_ArchitectureOffices!D1169","v":0},{"$f":"tbl_ArchitectureOffices!C1169","v":0},0,{"$f":"tbl_Companys!D1169","v":"Tollaas, Inger-Johanne "},{"$f":"tbl_Companys!C1169","v":166458},"Tollaas, Inger-Johanne",{"$f":"tbl_ConsultingCompanys!D1169","v":0},{"$f":"tbl_ConsultingCompanys!C1169","v":0},0]
[{"$nulls":10},{"$f":"tbl_ArchitectureOffices!D1170","v":0},{"$f":"tbl_ArchitectureOffices!C1170","v":0},0,{"$f":"tbl_Companys!D1170","v":"Tom Edvardsen Arkitekter AS"},{"$f":"tbl_Companys!C1170","v":247051},"Tom Edvardsen Arkitekter AS",{"$f":"tbl_ConsultingCompanys!D1170","v":0},{"$f":"tbl_ConsultingCompanys!C1170","v":0},0]
[{"$nulls":10},{"$f":"tbl_ArchitectureOffices!D1171","v":0},{"$f":"tbl_ArchitectureOffices!C1171","v":0},0,{"$f":"tbl_Companys!D1171","v":"Tone Ulland Stokke"},{"$f":"tbl_Companys!C1171","v":158056},"Tone Ulland Stokke",{"$f":"tbl_ConsultingCompanys!D1171","v":0},{"$f":"tbl_ConsultingCompanys!C1171","v":0},0]
[{"$nulls":10},{"$f":"tbl_ArchitectureOffices!D1172","v":0},{"$f":"tbl_ArchitectureOffices!C1172","v":0},0,{"$f":"tbl_Companys!D1172","v":"Topos arkitektur og design as"},{"$f":"tbl_Companys!C1172","v":166454},"Topos arkitektur og design as",{"$f":"tbl_ConsultingCompanys!D1172","v":0},{"$f":"tbl_ConsultingCompanys!C1172","v":0},0]
[{"$nulls":10},{"$f":"tbl_ArchitectureOffices!D1173","v":0},{"$f":"tbl_ArchitectureOffices!C1173","v":0},0,{"$f":"tbl_Companys!D1173","v":"Tor Entreprenør AS"},{"$f":"tbl_Companys!C1173","v":121317},"Tor Entreprenør AS",{"$f":"tbl_ConsultingCompanys!D1173","v":0},{"$f":"tbl_ConsultingCompanys!C1173","v":0},0]
[{"$nulls":10},{"$f":"tbl_ArchitectureOffices!D1174","v":0},{"$f":"tbl_ArchitectureOffices!C1174","v":0},0,{"$f":"tbl_Companys!D1174","v":"Tor Helge Dokka"},{"$f":"tbl_Companys!C1174","v":204509},"Tor Helge Dokka",{"$f":"tbl_ConsultingCompanys!D1174","v":0},{"$f":"tbl_ConsultingCompanys!C1174","v":0},0]
[{"$nulls":10},{"$f":"tbl_ArchitectureOffices!D1175","v":0},{"$f":"tbl_ArchitectureOffices!C1175","v":0},0,{"$f":"tbl_Companys!D1175","v":"Tor Nykvist & sønn AS"},{"$f":"tbl_Companys!C1175","v":110966},"Tor Nykvist & sønn AS",{"$f":"tbl_ConsultingCompanys!D1175","v":0},{"$f":"tbl_ConsultingCompanys!C1175","v":0},0]
[{"$nulls":10},{"$f":"tbl_ArchitectureOffices!D1176","v":0},{"$f":"tbl_ArchitectureOffices!C1176","v":0},0,{"$f":"tbl_Companys!D1176","v":"Tore Ravndal AS"},{"$f":"tbl_Companys!C1176","v":162863},"Tore Ravndal AS",{"$f":"tbl_ConsultingCompanys!D1176","v":0},{"$f":"tbl_ConsultingCompanys!C1176","v":0},0]
[{"$nulls":10},{"$f":"tbl_ArchitectureOffices!D1177","v":0},{"$f":"tbl_ArchitectureOffices!C1177","v":0},0,{"$f":"tbl_Companys!D1177","v":"Torleif Holm Glad"},{"$f":"tbl_Companys!C1177","v":243666},"Torleif Holm Glad",{"$f":"tbl_ConsultingCompanys!D1177","v":0},{"$f":"tbl_ConsultingCompanys!C1177","v":0},0]
[{"$nulls":10},{"$f":"tbl_ArchitectureOffices!D1178","v":0},{"$f":"tbl_ArchitectureOffices!C1178","v":0},0,{"$f":"tbl_Companys!D1178","v":"Tornes, Sivilarkitekt MNAL Anne Britt "},{"$f":"tbl_Companys!C1178","v":166452},"Tornes, Sivilarkitekt MNAL Anne Britt",{"$f":"tbl_ConsultingCompanys!D1178","v":0},{"$f":"tbl_ConsultingCompanys!C1178","v":0},0]
[{"$nulls":10},{"$f":"tbl_ArchitectureOffices!D1179","v":0},{"$f":"tbl_ArchitectureOffices!C1179","v":0},0,{"$f":"tbl_Companys!D1179","v":"Torp AS Arkitekter MNAL, Niels"},{"$f":"tbl_Companys!C1179","v":166451},"Torp AS Arkitekter MNAL, Niels",{"$f":"tbl_ConsultingCompanys!D1179","v":0},{"$f":"tbl_ConsultingCompanys!C1179","v":0},0]
[{"$nulls":10},{"$f":"tbl_ArchitectureOffices!D1180","v":0},{"$f":"tbl_ArchitectureOffices!C1180","v":0},0,{"$f":"tbl_Companys!D1180","v":"Torsteinsrud-Smith Arkitekter"},{"$f":"tbl_Companys!C1180","v":166450},"Torsteinsrud-Smith Arkitekter",{"$f":"tbl_ConsultingCompanys!D1180","v":0},{"$f":"tbl_ConsultingCompanys!C1180","v":0},0]
[{"$nulls":10},{"$f":"tbl_ArchitectureOffices!D1181","v":0},{"$f":"tbl_ArchitectureOffices!C1181","v":0},0,{"$f":"tbl_Companys!D1181","v":"TRAFO arkitektur"},{"$f":"tbl_Companys!C1181","v":210075},"TRAFO arkitektur",{"$f":"tbl_ConsultingCompanys!D1181","v":0},{"$f":"tbl_ConsultingCompanys!C1181","v":0},0]
[{"$nulls":10},{"$f":"tbl_ArchitectureOffices!D1182","v":0},{"$f":"tbl_ArchitectureOffices!C1182","v":0},0,{"$f":"tbl_Companys!D1182","v":"Trebyggeriet AS"},{"$f":"tbl_Companys!C1182","v":163046},"Trebyggeriet AS",{"$f":"tbl_ConsultingCompanys!D1182","v":0},{"$f":"tbl_ConsultingCompanys!C1182","v":0},0]
[{"$nulls":10},{"$f":"tbl_ArchitectureOffices!D1183","v":0},{"$f":"tbl_ArchitectureOffices!C1183","v":0},0,{"$f":"tbl_Companys!D1183","v":"TreSenteret"},{"$f":"tbl_Companys!C1183","v":178177},"TreSenteret",{"$f":"tbl_ConsultingCompanys!D1183","v":0},{"$f":"tbl_ConsultingCompanys!C1183","v":0},0]
[{"$nulls":10},{"$f":"tbl_ArchitectureOffices!D1184","v":0},{"$f":"tbl_ArchitectureOffices!C1184","v":0},0,{"$f":"tbl_Companys!D1184","v":"Treteknisk Institutt, rådgivingstjenesten"},{"$f":"tbl_Companys!C1184","v":247318},"Treteknisk Institutt, rådgivingstjenesten",{"$f":"tbl_ConsultingCompanys!D1184","v":0},{"$f":"tbl_ConsultingCompanys!C1184","v":0},0]
[{"$nulls":10},{"$f":"tbl_ArchitectureOffices!D1185","v":0},{"$f":"tbl_ArchitectureOffices!C1185","v":0},0,{"$f":"tbl_Companys!D1185","v":"Trifolia Landskpasarkitekter"},{"$f":"tbl_Companys!C1185","v":214751},"Trifolia Landskpasarkitekter",{"$f":"tbl_ConsultingCompanys!D1185","v":0},{"$f":"tbl_ConsultingCompanys!C1185","v":0},0]
[{"$nulls":10},{"$f":"tbl_ArchitectureOffices!D1186","v":0},{"$f":"tbl_ArchitectureOffices!C1186","v":0},0,{"$f":"tbl_Companys!D1186","v":"Trio Entreprenør"},{"$f":"tbl_Companys!C1186","v":213751},"Trio Entreprenør",{"$f":"tbl_ConsultingCompanys!D1186","v":0},{"$f":"tbl_ConsultingCompanys!C1186","v":0},0]
[{"$nulls":10},{"$f":"tbl_ArchitectureOffices!D1187","v":0},{"$f":"tbl_ArchitectureOffices!C1187","v":0},0,{"$f":"tbl_Companys!D1187","v":"Troll Næring as"},{"$f":"tbl_Companys!C1187","v":224101},"Troll Næring as",{"$f":"tbl_ConsultingCompanys!D1187","v":0},{"$f":"tbl_ConsultingCompanys!C1187","v":0},0]
[{"$nulls":10},{"$f":"tbl_ArchitectureOffices!D1188","v":0},{"$f":"tbl_ArchitectureOffices!C1188","v":0},0,{"$f":"tbl_Companys!D1188","v":"Trollvegg Arkitektstudio AS"},{"$f":"tbl_Companys!C1188","v":173041},"Trollvegg Arkitektstudio AS",{"$f":"tbl_ConsultingCompanys!D1188","v":0},{"$f":"tbl_ConsultingCompanys!C1188","v":0},0]
[{"$nulls":10},{"$f":"tbl_ArchitectureOffices!D1189","v":0},{"$f":"tbl_ArchitectureOffices!C1189","v":0},0,{"$f":"tbl_Companys!D1189","v":"Tromsø kommune"},{"$f":"tbl_Companys!C1189","v":221240},"Tromsø kommune",{"$f":"tbl_ConsultingCompanys!D1189","v":0},{"$f":"tbl_ConsultingCompanys!C1189","v":0},0]
[{"$nulls":10},{"$f":"tbl_ArchitectureOffices!D1190","v":0},{"$f":"tbl_ArchitectureOffices!C1190","v":0},0,{"$f":"tbl_Companys!D1190","v":"Tromsø kommune Eiendom"},{"$f":"tbl_Companys!C1190","v":217112},"Tromsø kommune Eiendom",{"$f":"tbl_ConsultingCompanys!D1190","v":0},{"$f":"tbl_ConsultingCompanys!C1190","v":0},0]
[{"$nulls":10},{"$f":"tbl_ArchitectureOffices!D1191","v":0},{"$f":"tbl_ArchitectureOffices!C1191","v":0},0,{"$f":"tbl_Companys!D1191","v":"Trond Wickman AS"},{"$f":"tbl_Companys!C1191","v":166299},"Trond Wickman AS",{"$f":"tbl_ConsultingCompanys!D1191","v":0},{"$f":"tbl_ConsultingCompanys!C1191","v":0},0]
[{"$nulls":10},{"$f":"tbl_ArchitectureOffices!D1192","v":0},{"$f":"tbl_ArchitectureOffices!C1192","v":0},0,{"$f":"tbl_Companys!D1192","v":"Trond Wickman as (RIE)"},{"$f":"tbl_Companys!C1192","v":215427},"Trond Wickman as (RIE)",{"$f":"tbl_ConsultingCompanys!D1192","v":0},{"$f":"tbl_ConsultingCompanys!C1192","v":0},0]
[{"$nulls":10},{"$f":"tbl_ArchitectureOffices!D1193","v":0},{"$f":"tbl_ArchitectureOffices!C1193","v":0},0,{"$f":"tbl_Companys!D1193","v":"Trondheim byteknikk"},{"$f":"tbl_Companys!C1193","v":165405},"Trondheim byteknikk",{"$f":"tbl_ConsultingCompanys!D1193","v":0},{"$f":"tbl_ConsultingCompanys!C1193","v":0},0]
[{"$nulls":10},{"$f":"tbl_ArchitectureOffices!D1194","v":0},{"$f":"tbl_ArchitectureOffices!C1194","v":0},0,{"$f":"tbl_Companys!D1194","v":"Trondheim kommune"},{"$f":"tbl_Companys!C1194","v":178147},"Trondheim kommune",{"$f":"tbl_ConsultingCompanys!D1194","v":0},{"$f":"tbl_ConsultingCompanys!C1194","v":0},0]
[{"$nulls":10},{"$f":"tbl_ArchitectureOffices!D1195","v":0},{"$f":"tbl_ArchitectureOffices!C1195","v":0},0,{"$f":"tbl_Companys!D1195","v":"Trondheim kommune"},{"$f":"tbl_Companys!C1195","v":213052},"Trondheim kommune",{"$f":"tbl_ConsultingCompanys!D1195","v":0},{"$f":"tbl_ConsultingCompanys!C1195","v":0},0]
[{"$nulls":10},{"$f":"tbl_ArchitectureOffices!D1196","v":0},{"$f":"tbl_ArchitectureOffices!C1196","v":0},0,{"$f":"tbl_Companys!D1196","v":"Trondheim kommune v/ Trondheim eiendom"},{"$f":"tbl_Companys!C1196","v":160601},"Trondheim kommune v/ Trondheim eiendom",{"$f":"tbl_ConsultingCompanys!D1196","v":0},{"$f":"tbl_ConsultingCompanys!C1196","v":0},0]
[{"$nulls":10},{"$f":"tbl_ArchitectureOffices!D1197","v":0},{"$f":"tbl_ArchitectureOffices!C1197","v":0},0,{"$f":"tbl_Companys!D1197","v":"Tronrud Entreprenør AS"},{"$f":"tbl_Companys!C1197","v":178579},"Tronrud Entreprenør AS",{"$f":"tbl_ConsultingCompanys!D1197","v":0},{"$f":"tbl_ConsultingCompanys!C1197","v":0},0]
[{"$nulls":10},{"$f":"tbl_ArchitectureOffices!D1198","v":0},{"$f":"tbl_ArchitectureOffices!C1198","v":0},0,{"$f":"tbl_Companys!D1198","v":"Trygve Leiksett (SMN Kvartalet)"},{"$f":"tbl_Companys!C1198","v":178934},"Trygve Leiksett (SMN Kvartalet)",{"$f":"tbl_ConsultingCompanys!D1198","v":0},{"$f":"tbl_ConsultingCompanys!C1198","v":0},0]
[{"$nulls":10},{"$f":"tbl_ArchitectureOffices!D1199","v":0},{"$f":"tbl_ArchitectureOffices!C1199","v":0},0,{"$f":"tbl_Companys!D1199","v":"Trønderplan"},{"$f":"tbl_Companys!C1199","v":236737},"Trønderplan",{"$f":"tbl_ConsultingCompanys!D1199","v":0},{"$f":"tbl_ConsultingCompanys!C1199","v":0},0]
[{"$nulls":10},{"$f":"tbl_ArchitectureOffices!D1200","v":0},{"$f":"tbl_ArchitectureOffices!C1200","v":0},0,{"$f":"tbl_Companys!D1200","v":"Tunge AS Mesterhus"},{"$f":"tbl_Companys!C1200","v":155708},"Tunge AS Mesterhus",{"$f":"tbl_ConsultingCompanys!D1200","v":0},{"$f":"tbl_ConsultingCompanys!C1200","v":0},0]
[{"$nulls":10},{"$f":"tbl_ArchitectureOffices!D1201","v":0},{"$f":"tbl_ArchitectureOffices!C1201","v":0},0,{"$f":"tbl_Companys!D1201","v":"Tunge Maskin AS"},{"$f":"tbl_Companys!C1201","v":155838},"Tunge Maskin AS",{"$f":"tbl_ConsultingCompanys!D1201","v":0},{"$f":"tbl_ConsultingCompanys!C1201","v":0},0]
[{"$nulls":10},{"$f":"tbl_ArchitectureOffices!D1202","v":0},{"$f":"tbl_ArchitectureOffices!C1202","v":0},0,{"$f":"tbl_Companys!D1202","v":"Tupelo a+d"},{"$f":"tbl_Companys!C1202","v":166445},"Tupelo a+d",{"$f":"tbl_ConsultingCompanys!D1202","v":0},{"$f":"tbl_ConsultingCompanys!C1202","v":0},0]
[{"$nulls":10},{"$f":"tbl_ArchitectureOffices!D1203","v":0},{"$f":"tbl_ArchitectureOffices!C1203","v":0},0,{"$f":"tbl_Companys!D1203","v":"Tveit as, Arkitektkontoret Nils"},{"$f":"tbl_Companys!C1203","v":173194},"Tveit as, Arkitektkontoret Nils",{"$f":"tbl_ConsultingCompanys!D1203","v":0},{"$f":"tbl_ConsultingCompanys!C1203","v":0},0]
[{"$nulls":10},{"$f":"tbl_ArchitectureOffices!D1204","v":0},{"$f":"tbl_ArchitectureOffices!C1204","v":0},0,{"$f":"tbl_Companys!D1204","v":"TYIN tegnestue Arkitekter AS"},{"$f":"tbl_Companys!C1204","v":216543},"TYIN tegnestue Arkitekter AS",{"$f":"tbl_ConsultingCompanys!D1204","v":0},{"$f":"tbl_ConsultingCompanys!C1204","v":0},0]
[{"$nulls":10},{"$f":"tbl_ArchitectureOffices!D1205","v":0},{"$f":"tbl_ArchitectureOffices!C1205","v":0},0,{"$f":"tbl_Companys!D1205","v":"Tysseland Arkitektur AS"},{"$f":"tbl_Companys!C1205","v":171156},"Tysseland Arkitektur AS",{"$f":"tbl_ConsultingCompanys!D1205","v":0},{"$f":"tbl_ConsultingCompanys!C1205","v":0},0]
[{"$nulls":10},{"$f":"tbl_ArchitectureOffices!D1206","v":0},{"$f":"tbl_ArchitectureOffices!C1206","v":0},{"$f":"IFERROR(REPLACE(K1206,FIND(\" \",K1206,LEN(K1206)),1,\"\"),K1206)","v":0},{"$f":"tbl_Companys!D1206","v":"Tømrer-Tomas AS (byggeleder)"},{"$f":"tbl_Companys!C1206","v":207498},"Tømrer-Tomas AS (byggeleder)",{"$f":"tbl_ConsultingCompanys!D1206","v":0},{"$f":"tbl_ConsultingCompanys!C1206","v":0},0]
[{"$nulls":10},{"$f":"tbl_ArchitectureOffices!D1207","v":0},{"$f":"tbl_ArchitectureOffices!C1207","v":0},0,{"$f":"tbl_Companys!D1207","v":"Tønsberg kommunale eiendom KF"},{"$f":"tbl_Companys!C1207","v":213757},"Tønsberg kommunale eiendom KF",{"$f":"tbl_ConsultingCompanys!D1207","v":0},{"$f":"tbl_ConsultingCompanys!C1207","v":0},0]
[{"$nulls":10},{"$f":"tbl_ArchitectureOffices!D1208","v":0},{"$f":"tbl_ArchitectureOffices!C1208","v":0},0,{"$f":"tbl_Companys!D1208","v":"Ulsteinvik kommune"},{"$f":"tbl_Companys!C1208","v":157538},"Ulsteinvik kommune",{"$f":"tbl_ConsultingCompanys!D1208","v":0},{"$f":"tbl_ConsultingCompanys!C1208","v":0},0]
[{"$nulls":10},{"$f":"tbl_ArchitectureOffices!D1209","v":0},{"$f":"tbl_ArchitectureOffices!C1209","v":0},0,{"$f":"tbl_Companys!D1209","v":"Undervisningsbygg Oslo KF"},{"$f":"tbl_Companys!C1209","v":225258},"Undervisningsbygg Oslo KF",{"$f":"tbl_ConsultingCompanys!D1209","v":0},{"$f":"tbl_ConsultingCompanys!C1209","v":0},0]
[{"$nulls":10},{"$f":"tbl_ArchitectureOffices!D1210","v":0},{"$f":"tbl_ArchitectureOffices!C1210","v":0},0,{"$f":"tbl_Companys!D1210","v":"Unico AS"},{"$f":"tbl_Companys!C1210","v":119773},"Unico AS",{"$f":"tbl_ConsultingCompanys!D1210","v":0},{"$f":"tbl_ConsultingCompanys!C1210","v":0},0]
[{"$nulls":10},{"$f":"tbl_ArchitectureOffices!D1211","v":0},{"$f":"tbl_ArchitectureOffices!C1211","v":0},0,{"$f":"tbl_Companys!D1211","v":"Unison Elektro AS (elektro)"},{"$f":"tbl_Companys!C1211","v":155705},"Unison Elektro AS (elektro)",{"$f":"tbl_ConsultingCompanys!D1211","v":0},{"$f":"tbl_ConsultingCompanys!C1211","v":0},0]
[{"$nulls":10},{"$f":"tbl_ArchitectureOffices!D1212","v":0},{"$f":"tbl_ArchitectureOffices!C1212","v":0},0,{"$f":"tbl_Companys!D1212","v":"Universell Utforming AS"},{"$f":"tbl_Companys!C1212","v":245581},"Universell Utforming AS",{"$f":"tbl_ConsultingCompanys!D1212","v":0},{"$f":"tbl_ConsultingCompanys!C1212","v":0},0]
[{"$nulls":10},{"$f":"tbl_ArchitectureOffices!D1213","v":0},{"$f":"tbl_ArchitectureOffices!C1213","v":0},0,{"$f":"tbl_Companys!D1213","v":"Urban Rabbe arkitekter as"},{"$f":"tbl_Companys!C1213","v":166442},"Urban Rabbe arkitekter as",{"$f":"tbl_ConsultingCompanys!D1213","v":0},{"$f":"tbl_ConsultingCompanys!C1213","v":0},0]
[{"$nulls":10},{"$f":"tbl_ArchitectureOffices!D1214","v":0},{"$f":"tbl_ArchitectureOffices!C1214","v":0},0,{"$f":"tbl_Companys!D1214","v":"Urd Klima Sandnes AS (ventilasjon)"},{"$f":"tbl_Companys!C1214","v":162873},"Urd Klima Sandnes AS (ventilasjon)",{"$f":"tbl_ConsultingCompanys!D1214","v":0},{"$f":"tbl_ConsultingCompanys!C1214","v":0},0]
[{"$nulls":10},{"$f":"tbl_ArchitectureOffices!D1215","v":0},{"$f":"tbl_ArchitectureOffices!C1215","v":0},0,{"$f":"tbl_Companys!D1215","v":"USBL (Stig Paugaard)"},{"$f":"tbl_Companys!C1215","v":191298},"USBL (Stig Paugaard)",{"$f":"tbl_ConsultingCompanys!D1215","v":0},{"$f":"tbl_ConsultingCompanys!C1215","v":0},0]
[{"$nulls":10},{"$f":"tbl_ArchitectureOffices!D1216","v":0},{"$f":"tbl_ArchitectureOffices!C1216","v":0},0,{"$f":"tbl_Companys!D1216","v":"Ustad, Sivilarkitekt MNAL Atle"},{"$f":"tbl_Companys!C1216","v":166440},"Ustad, Sivilarkitekt MNAL Atle",{"$f":"tbl_ConsultingCompanys!D1216","v":0},{"$f":"tbl_ConsultingCompanys!C1216","v":0},0]
[{"$nulls":10},{"$f":"tbl_ArchitectureOffices!D1217","v":0},{"$f":"tbl_ArchitectureOffices!C1217","v":0},0,{"$f":"tbl_Companys!D1217","v":"Utdanningsforbundet"},{"$f":"tbl_Companys!C1217","v":202685},"Utdanningsforbundet",{"$f":"tbl_ConsultingCompanys!D1217","v":0},{"$f":"tbl_ConsultingCompanys!C1217","v":0},0]
[{"$nulls":10},{"$f":"tbl_ArchitectureOffices!D1218","v":0},{"$f":"tbl_ArchitectureOffices!C1218","v":0},0,{"$f":"tbl_Companys!D1218","v":"Utstillingsplassen Eiendom"},{"$f":"tbl_Companys!C1218","v":228617},"Utstillingsplassen Eiendom",{"$f":"tbl_ConsultingCompanys!D1218","v":0},{"$f":"tbl_ConsultingCompanys!C1218","v":0},0]
[{"$nulls":10},{"$f":"tbl_ArchitectureOffices!D1219","v":0},{"$f":"tbl_ArchitectureOffices!C1219","v":0},0,{"$f":"tbl_Companys!D1219","v":"Varde byggadministrasjon AS"},{"$f":"tbl_Companys!C1219","v":172761},{"$f":"IFERROR(REPLACE(N1219,FIND(\" \",N1219,LEN(N1219)),1,\"\"),N1219)","v":"Varde byggadministrasjon AS"},{"$f":"tbl_ConsultingCompanys!D1219","v":0},{"$f":"tbl_ConsultingCompanys!C1219","v":0},{"$f":"IFERROR(REPLACE(Q1219,FIND(\" \",Q1219,LEN(Q1219)),1,\"\"),Q1219)","v":0}]
[{"$nulls":10},{"$f":"tbl_ArchitectureOffices!D1220","v":0},{"$f":"tbl_ArchitectureOffices!C1220","v":0},0,{"$f":"tbl_Companys!D1220","v":"Various Architects AS"},{"$f":"tbl_Companys!C1220","v":172894},"Various Architects AS",{"$f":"tbl_ConsultingCompanys!D1220","v":0},{"$f":"tbl_ConsultingCompanys!C1220","v":0},0]
[{"$nulls":10},{"$f":"tbl_ArchitectureOffices!D1221","v":0},{"$f":"tbl_ArchitectureOffices!C1221","v":0},0,{"$f":"tbl_Companys!D1221","v":"VAR-prosjekt AS, Bærum "},{"$f":"tbl_Companys!C1221","v":120021},"VAR-prosjekt AS, Bærum",{"$f":"tbl_ConsultingCompanys!D1221","v":0},{"$f":"tbl_ConsultingCompanys!C1221","v":0},0]
[{"$nulls":10},{"$f":"tbl_ArchitectureOffices!D1222","v":0},{"$f":"tbl_ArchitectureOffices!C1222","v":0},0,{"$f":"tbl_Companys!D1222","v":"Vatne sivilarkitekt MNAL NPA, Kjell"},{"$f":"tbl_Companys!C1222","v":166438},"Vatne sivilarkitekt MNAL NPA, Kjell",{"$f":"tbl_ConsultingCompanys!D1222","v":0},{"$f":"tbl_ConsultingCompanys!C1222","v":0},0]
[{"$nulls":10},{"$f":"tbl_ArchitectureOffices!D1223","v":0},{"$f":"tbl_ArchitectureOffices!C1223","v":0},0,{"$f":"tbl_Companys!D1223","v":"VEF Entreprenør"},{"$f":"tbl_Companys!C1223","v":231291},"VEF Entreprenør",{"$f":"tbl_ConsultingCompanys!D1223","v":0},{"$f":"tbl_ConsultingCompanys!C1223","v":0},0]
[{"$nulls":10},{"$f":"tbl_ArchitectureOffices!D1224","v":0},{"$f":"tbl_ArchitectureOffices!C1224","v":0},0,{"$f":"tbl_Companys!D1224","v":"Veg Tech AB (sedumstaket)"},{"$f":"tbl_Companys!C1224","v":155181},"Veg Tech AB (sedumstaket)",{"$f":"tbl_ConsultingCompanys!D1224","v":0},{"$f":"tbl_ConsultingCompanys!C1224","v":0},0]
[{"$nulls":10},{"$f":"tbl_ArchitectureOffices!D1225","v":0},{"$f":"tbl_ArchitectureOffices!C1225","v":0},0,{"$f":"tbl_Companys!D1225","v":"Veg Tech AB (sedumstaket)"},{"$f":"tbl_Companys!C1225","v":155182},"Veg Tech AB (sedumstaket)",{"$f":"tbl_ConsultingCompanys!D1225","v":0},{"$f":"tbl_ConsultingCompanys!C1225","v":0},0]
[{"$nulls":10},{"$f":"tbl_ArchitectureOffices!D1226","v":0},{"$f":"tbl_ArchitectureOffices!C1226","v":0},0,{"$f":"tbl_Companys!D1226","v":"Veidekke ASA"},{"$f":"tbl_Companys!C1226","v":103003},"Veidekke ASA",{"$f":"tbl_ConsultingCompanys!D1226","v":0},{"$f":"tbl_ConsultingCompanys!C1226","v":0},0]
[{"$nulls":10},{"$f":"tbl_ArchitectureOffices!D1227","v":0},{"$f":"tbl_ArchitectureOffices!C1227","v":0},0,{"$f":"tbl_Companys!D1227","v":"Veidekke Eiedom AS"},{"$f":"tbl_Companys!C1227","v":164235},"Veidekke Eiedom AS",{"$f":"tbl_ConsultingCompanys!D1227","v":0},{"$f":"tbl_ConsultingCompanys!C1227","v":0},0]
[{"$nulls":10},{"$f":"tbl_ArchitectureOffices!D1228","v":0},{"$f":"tbl_ArchitectureOffices!C1228","v":0},0,{"$f":"tbl_Companys!D1228","v":"Veidekke entreprenør AS"},{"$f":"tbl_Companys!C1228","v":165881},"Veidekke entreprenør AS",{"$f":"tbl_ConsultingCompanys!D1228","v":0},{"$f":"tbl_ConsultingCompanys!C1228","v":0},0]
[{"$nulls":10},{"$f":"tbl_ArchitectureOffices!D1229","v":0},{"$f":"tbl_ArchitectureOffices!C1229","v":0},0,{"$f":"tbl_Companys!D1229","v":"Velux Norge AS (takvinduer)"},{"$f":"tbl_Companys!C1229","v":162875},"Velux Norge AS (takvinduer)",{"$f":"tbl_ConsultingCompanys!D1229","v":0},{"$f":"tbl_ConsultingCompanys!C1229","v":0},0]
[{"$nulls":10},{"$f":"tbl_ArchitectureOffices!D1230","v":0},{"$f":"tbl_ArchitectureOffices!C1230","v":0},0,{"$f":"tbl_Companys!D1230","v":"Vennesla kommune"},{"$f":"tbl_Companys!C1230","v":231289},"Vennesla kommune",{"$f":"tbl_ConsultingCompanys!D1230","v":0},{"$f":"tbl_ConsultingCompanys!C1230","v":0},0]
[{"$nulls":10},{"$f":"tbl_ArchitectureOffices!D1231","v":0},{"$f":"tbl_ArchitectureOffices!C1231","v":0},0,{"$f":"tbl_Companys!D1231","v":"Verte landskap - arkitektur as"},{"$f":"tbl_Companys!C1231","v":191305},"Verte landskap - arkitektur as",{"$f":"tbl_ConsultingCompanys!D1231","v":0},{"$f":"tbl_ConsultingCompanys!C1231","v":0},0]
[{"$nulls":10},{"$f":"tbl_ArchitectureOffices!D1232","v":0},{"$f":"tbl_ArchitectureOffices!C1232","v":0},0,{"$f":"tbl_Companys!D1232","v":"Vest AS, Arkitektkontoret "},{"$f":"tbl_Companys!C1232","v":166437},"Vest AS, Arkitektkontoret",{"$f":"tbl_ConsultingCompanys!D1232","v":0},{"$f":"tbl_ConsultingCompanys!C1232","v":0},0]
[{"$nulls":10},{"$f":"tbl_ArchitectureOffices!D1233","v":0},{"$f":"tbl_ArchitectureOffices!C1233","v":0},0,{"$f":"tbl_Companys!D1233","v":"Vest Consult (VVS)"},{"$f":"tbl_Companys!C1233","v":101065},"Vest Consult (VVS)",{"$f":"tbl_ConsultingCompanys!D1233","v":0},{"$f":"tbl_ConsultingCompanys!C1233","v":0},0]
[{"$nulls":10},{"$f":"tbl_ArchitectureOffices!D1234","v":0},{"$f":"tbl_ArchitectureOffices!C1234","v":0},0,{"$f":"tbl_Companys!D1234","v":"Vestafjell as (grunn og betong)"},{"$f":"tbl_Companys!C1234","v":218406},"Vestafjell as (grunn og betong)",{"$f":"tbl_ConsultingCompanys!D1234","v":0},{"$f":"tbl_ConsultingCompanys!C1234","v":0},0]
[{"$nulls":10},{"$f":"tbl_ArchitectureOffices!D1235","v":0},{"$f":"tbl_ArchitectureOffices!C1235","v":0},0,{"$f":"tbl_Companys!D1235","v":"Vesterlid, Arkitekt MNAL Arne "},{"$f":"tbl_Companys!C1235","v":166436},"Vesterlid, Arkitekt MNAL Arne",{"$f":"tbl_ConsultingCompanys!D1235","v":0},{"$f":"tbl_ConsultingCompanys!C1235","v":0},0]
[{"$nulls":10},{"$f":"tbl_ArchitectureOffices!D1236","v":0},{"$f":"tbl_ArchitectureOffices!C1236","v":0},0,{"$f":"tbl_Companys!D1236","v":"Via Nova AS"},{"$f":"tbl_Companys!C1236","v":97856},"Via Nova AS",{"$f":"tbl_ConsultingCompanys!D1236","v":0},{"$f":"tbl_ConsultingCompanys!C1236","v":0},0]
[{"$nulls":10},{"$f":"tbl_ArchitectureOffices!D1237","v":0},{"$f":"tbl_ArchitectureOffices!C1237","v":0},0,{"$f":"tbl_Companys!D1237","v":"Vikanes Bungum Arkitekter AS"},{"$f":"tbl_Companys!C1237","v":166431},"Vikanes Bungum Arkitekter AS",{"$f":"tbl_ConsultingCompanys!D1237","v":0},{"$f":"tbl_ConsultingCompanys!C1237","v":0},0]
[{"$nulls":10},{"$f":"tbl_ArchitectureOffices!D1238","v":0},{"$f":"tbl_ArchitectureOffices!C1238","v":0},0,{"$f":"tbl_Companys!D1238","v":"Viken skog"},{"$f":"tbl_Companys!C1238","v":243864},"Viken skog",{"$f":"tbl_ConsultingCompanys!D1238","v":0},{"$f":"tbl_ConsultingCompanys!C1238","v":0},0]
[{"$nulls":10},{"$f":"tbl_ArchitectureOffices!D1239","v":0},{"$f":"tbl_ArchitectureOffices!C1239","v":0},0,{"$f":"tbl_Companys!D1239","v":"Vindveggen Arkitekter AS"},{"$f":"tbl_Companys!C1239","v":172783},"Vindveggen Arkitekter AS",{"$f":"tbl_ConsultingCompanys!D1239","v":0},{"$f":"tbl_ConsultingCompanys!C1239","v":0},0]
[{"$nulls":10},{"$f":"tbl_ArchitectureOffices!D1240","v":0},{"$f":"tbl_ArchitectureOffices!C1240","v":0},0,{"$f":"tbl_Companys!D1240","v":"Vindveggen, Martin Glomnes"},{"$f":"tbl_Companys!C1240","v":166430},"Vindveggen, Martin Glomnes",{"$f":"tbl_ConsultingCompanys!D1240","v":0},{"$f":"tbl_ConsultingCompanys!C1240","v":0},0]
[{"$nulls":10},{"$f":"tbl_ArchitectureOffices!D1241","v":0},{"$f":"tbl_ArchitectureOffices!C1241","v":0},0,{"$f":"tbl_Companys!D1241","v":"Vink Plast AS (Vindskjermer)"},{"$f":"tbl_Companys!C1241","v":155183},"Vink Plast AS (Vindskjermer)",{"$f":"tbl_ConsultingCompanys!D1241","v":0},{"$f":"tbl_ConsultingCompanys!C1241","v":0},0]
[{"$nulls":10},{"$f":"tbl_ArchitectureOffices!D1242","v":0},{"$f":"tbl_ArchitectureOffices!C1242","v":0},0,{"$f":"tbl_Companys!D1242","v":"Vink Plast AS (Vindskjermer)"},{"$f":"tbl_Companys!C1242","v":155185},"Vink Plast AS (Vindskjermer)",{"$f":"tbl_ConsultingCompanys!D1242","v":0},{"$f":"tbl_ConsultingCompanys!C1242","v":0},0]
[{"$nulls":10},{"$f":"tbl_ArchitectureOffices!D1243","v":0},{"$f":"tbl_ArchitectureOffices!C1243","v":0},0,{"$f":"tbl_Companys!D1243","v":"Vintervoll AS"},{"$f":"tbl_Companys!C1243","v":225765},"Vintervoll AS",{"$f":"tbl_ConsultingCompanys!D1243","v":0},{"$f":"tbl_ConsultingCompanys!C1243","v":0},0]
[{"$nulls":10},{"$f":"tbl_ArchitectureOffices!D1244","v":0},{"$f":"tbl_ArchitectureOffices!C1244","v":0},0,{"$f":"tbl_Companys!D1244","v":"Vis-à-vis"},{"$f":"tbl_Companys!C1244","v":172683},"Vis-à-vis",{"$f":"tbl_ConsultingCompanys!D1244","v":0},{"$f":"tbl_ConsultingCompanys!C1244","v":0},0]
[{"$nulls":10},{"$f":"tbl_ArchitectureOffices!D1245","v":0},{"$f":"tbl_ArchitectureOffices!C1245","v":0},0,{"$f":"tbl_Companys!D1245","v":"Vision Bygg AS"},{"$f":"tbl_Companys!C1245","v":245834},"Vision Bygg AS",{"$f":"tbl_ConsultingCompanys!D1245","v":0},{"$f":"tbl_ConsultingCompanys!C1245","v":0},0]
[{"$nulls":10},{"$f":"tbl_ArchitectureOffices!D1246","v":0},{"$f":"tbl_ArchitectureOffices!C1246","v":0},0,{"$f":"tbl_Companys!D1246","v":"Vulkan arkitekter as"},{"$f":"tbl_Companys!C1246","v":166428},"Vulkan arkitekter as",{"$f":"tbl_ConsultingCompanys!D1246","v":0},{"$f":"tbl_ConsultingCompanys!C1246","v":0},0]
[{"$nulls":10},{"$f":"tbl_ArchitectureOffices!D1247","v":0},{"$f":"tbl_ArchitectureOffices!C1247","v":0},0,{"$f":"tbl_Companys!D1247","v":"VVS Norplan AS"},{"$f":"tbl_Companys!C1247","v":178154},"VVS Norplan AS",{"$f":"tbl_ConsultingCompanys!D1247","v":0},{"$f":"tbl_ConsultingCompanys!C1247","v":0},0]
[{"$nulls":10},{"$f":"tbl_ArchitectureOffices!D1248","v":0},{"$f":"tbl_ArchitectureOffices!C1248","v":0},0,{"$f":"tbl_Companys!D1248","v":"VY as arkitektur"},{"$f":"tbl_Companys!C1248","v":166628},"VY as arkitektur",{"$f":"tbl_ConsultingCompanys!D1248","v":0},{"$f":"tbl_ConsultingCompanys!C1248","v":0},0]
[{"$nulls":10},{"$f":"tbl_ArchitectureOffices!D1249","v":0},{"$f":"tbl_ArchitectureOffices!C1249","v":0},0,{"$f":"tbl_Companys!D1249","v":"Wegger & Kvalsvik AS (totalentreprenør)"},{"$f":"tbl_Companys!C1249","v":215020},"Wegger & Kvalsvik AS (totalentreprenør)",{"$f":"tbl_ConsultingCompanys!D1249","v":0},{"$f":"tbl_ConsultingCompanys!C1249","v":0},0]
[{"$nulls":10},{"$f":"tbl_ArchitectureOffices!D1250","v":0},{"$f":"tbl_ArchitectureOffices!C1250","v":0},0,{"$f":"tbl_Companys!D1250","v":"Wendt AS, Arkitektkontoret Gjertrud "},{"$f":"tbl_Companys!C1250","v":172730},"Wendt AS, Arkitektkontoret Gjertrud",{"$f":"tbl_ConsultingCompanys!D1250","v":0},{"$f":"tbl_ConsultingCompanys!C1250","v":0},0]
[{"$nulls":10},{"$f":"tbl_ArchitectureOffices!D1251","v":0},{"$f":"tbl_ArchitectureOffices!C1251","v":0},0,{"$f":"tbl_Companys!D1251","v":"Westad & Brusletto as, Arkitektkontoret "},{"$f":"tbl_Companys!C1251","v":166425},"Westad & Brusletto as, Arkitektkontoret",{"$f":"tbl_ConsultingCompanys!D1251","v":0},{"$f":"tbl_ConsultingCompanys!C1251","v":0},0]
[{"$nulls":10},{"$f":"tbl_ArchitectureOffices!D1252","v":0},{"$f":"tbl_ArchitectureOffices!C1252","v":0},0,{"$f":"tbl_Companys!D1252","v":"Wiberg arkitektur & plan"},{"$f":"tbl_Companys!C1252","v":228272},"Wiberg arkitektur & plan",{"$f":"tbl_ConsultingCompanys!D1252","v":0},{"$f":"tbl_ConsultingCompanys!C1252","v":0},0]
[{"$nulls":10},{"$f":"tbl_ArchitectureOffices!D1253","v":0},{"$f":"tbl_ArchitectureOffices!C1253","v":0},0,{"$f":"tbl_Companys!D1253","v":"Wiberg AS Arkitektur & plan"},{"$f":"tbl_Companys!C1253","v":228511},"Wiberg AS Arkitektur & plan",{"$f":"tbl_ConsultingCompanys!D1253","v":0},{"$f":"tbl_ConsultingCompanys!C1253","v":0},0]
[{"$nulls":10},{"$f":"tbl_ArchitectureOffices!D1254","v":0},{"$f":"tbl_ArchitectureOffices!C1254","v":0},0,{"$f":"tbl_Companys!D1254","v":"Will Arentz AS"},{"$f":"tbl_Companys!C1254","v":103206},"Will Arentz AS",{"$f":"tbl_ConsultingCompanys!D1254","v":0},{"$f":"tbl_ConsultingCompanys!C1254","v":0},0]
[{"$nulls":10},{"$f":"tbl_ArchitectureOffices!D1255","v":0},{"$f":"tbl_ArchitectureOffices!C1255","v":0},0,{"$f":"tbl_Companys!D1255","v":"Will Arentz, Rådgivende ingeniører "},{"$f":"tbl_Companys!C1255","v":164237},"Will Arentz, Rådgivende ingeniører",{"$f":"tbl_ConsultingCompanys!D1255","v":0},{"$f":"tbl_ConsultingCompanys!C1255","v":0},0]
[{"$nulls":10},{"$f":"tbl_ArchitectureOffices!D1256","v":0},{"$f":"tbl_ArchitectureOffices!C1256","v":0},0,{"$f":"tbl_Companys!D1256","v":"WOOD arkitektur+design"},{"$f":"tbl_Companys!C1256","v":207151},"WOOD arkitektur+design",{"$f":"tbl_ConsultingCompanys!D1256","v":0},{"$f":"tbl_ConsultingCompanys!C1256","v":0},0]
[{"$nulls":10},{"$f":"tbl_ArchitectureOffices!D1257","v":0},{"$f":"tbl_ArchitectureOffices!C1257","v":0},0,{"$f":"tbl_Companys!D1257","v":"Wörle Sparowitz Ingenieure (statikk)"},{"$f":"tbl_Companys!C1257","v":172575},"Wörle Sparowitz Ingenieure (statikk)",{"$f":"tbl_ConsultingCompanys!D1257","v":0},{"$f":"tbl_ConsultingCompanys!C1257","v":0},0]
[{"$nulls":10},{"$f":"tbl_ArchitectureOffices!D1258","v":0},{"$f":"tbl_ArchitectureOffices!C1258","v":0},0,{"$f":"tbl_Companys!D1258","v":"YIT"},{"$f":"tbl_Companys!C1258","v":178922},"YIT",{"$f":"tbl_ConsultingCompanys!D1258","v":0},{"$f":"tbl_ConsultingCompanys!C1258","v":0},0]
[{"$nulls":10},{"$f":"tbl_ArchitectureOffices!D1259","v":0},{"$f":"tbl_ArchitectureOffices!C1259","v":0},0,{"$f":"tbl_Companys!D1259","v":"YIT (tekniske løsninger)"},{"$f":"tbl_Companys!C1259","v":158235},"YIT (tekniske løsninger)",{"$f":"tbl_ConsultingCompanys!D1259","v":0},{"$f":"tbl_ConsultingCompanys!C1259","v":0},0]
[{"$nulls":10},{"$f":"tbl_ArchitectureOffices!D1260","v":0},{"$f":"tbl_ArchitectureOffices!C1260","v":0},0,{"$f":"tbl_Companys!D1260","v":"YIT (ventilasjon, EL)"},{"$f":"tbl_Companys!C1260","v":157872},"YIT (ventilasjon, EL)",{"$f":"tbl_ConsultingCompanys!D1260","v":0},{"$f":"tbl_ConsultingCompanys!C1260","v":0},0]
[{"$nulls":10},{"$f":"tbl_ArchitectureOffices!D1261","v":0},{"$f":"tbl_ArchitectureOffices!C1261","v":0},0,{"$f":"tbl_Companys!D1261","v":"YIT, Gard Olsen (Elektro)"},{"$f":"tbl_Companys!C1261","v":158193},"YIT, Gard Olsen (Elektro)",{"$f":"tbl_ConsultingCompanys!D1261","v":0},{"$f":"tbl_ConsultingCompanys!C1261","v":0},0]
[{"$nulls":10},{"$f":"tbl_ArchitectureOffices!D1262","v":0},{"$f":"tbl_ArchitectureOffices!C1262","v":0},0,{"$f":"tbl_Companys!D1262","v":"YIT/Optimo Prosjekt"},{"$f":"tbl_Companys!C1262","v":236448},"YIT/Optimo Prosjekt",{"$f":"tbl_ConsultingCompanys!D1262","v":0},{"$f":"tbl_ConsultingCompanys!C1262","v":0},0]
[{"$nulls":10},{"$f":"tbl_ArchitectureOffices!D1263","v":0},{"$f":"tbl_ArchitectureOffices!C1263","v":0},0,{"$f":"tbl_Companys!D1263","v":"Yran, Petter  & Bjørn Storbraaten Architects AS"},{"$f":"tbl_Companys!C1263","v":166414},"Yran, Petter  & Bjørn Storbraaten Architects AS",{"$f":"tbl_ConsultingCompanys!D1263","v":0},{"$f":"tbl_ConsultingCompanys!C1263","v":0},0]
[{"$nulls":10},{"$f":"tbl_ArchitectureOffices!D1264","v":0},{"$f":"tbl_ArchitectureOffices!C1264","v":0},0,{"$f":"tbl_Companys!D1264","v":"Zen Resort & Spa, Norge"},{"$f":"tbl_Companys!C1264","v":178577},"Zen Resort & Spa, Norge",{"$f":"tbl_ConsultingCompanys!D1264","v":0},{"$f":"tbl_ConsultingCompanys!C1264","v":0},0]
[{"$nulls":10},{"$f":"tbl_ArchitectureOffices!D1265","v":0},{"$f":"tbl_ArchitectureOffices!C1265","v":0},0,{"$f":"tbl_Companys!D1265","v":"Zinc AS"},{"$f":"tbl_Companys!C1265","v":230397},"Zinc AS",{"$f":"tbl_ConsultingCompanys!D1265","v":0},{"$f":"tbl_ConsultingCompanys!C1265","v":0},0]
[{"$nulls":10},{"$f":"tbl_ArchitectureOffices!D1266","v":0},{"$f":"tbl_ArchitectureOffices!C1266","v":0},0,{"$f":"tbl_Companys!D1266","v":"Øivin Vestre"},{"$f":"tbl_Companys!C1266","v":192373},"Øivin Vestre",{"$f":"tbl_ConsultingCompanys!D1266","v":0},{"$f":"tbl_ConsultingCompanys!C1266","v":0},0]
[{"$nulls":10},{"$f":"tbl_ArchitectureOffices!D1267","v":0},{"$f":"tbl_ArchitectureOffices!C1267","v":0},0,{"$f":"tbl_Companys!D1267","v":"ØKAW AS Arkitekter MNAL"},{"$f":"tbl_Companys!C1267","v":166405},"ØKAW AS Arkitekter MNAL",{"$f":"tbl_ConsultingCompanys!D1267","v":0},{"$f":"tbl_ConsultingCompanys!C1267","v":0},0]
[{"$nulls":10},{"$f":"tbl_ArchitectureOffices!D1268","v":0},{"$f":"tbl_ArchitectureOffices!C1268","v":0},0,{"$f":"tbl_Companys!D1268","v":"Økologisk håndverksbedrift / NJH"},{"$f":"tbl_Companys!C1268","v":112306},"Økologisk håndverksbedrift / NJH",{"$f":"tbl_ConsultingCompanys!D1268","v":0},{"$f":"tbl_ConsultingCompanys!C1268","v":0},0]
[{"$nulls":10},{"$f":"tbl_ArchitectureOffices!D1269","v":0},{"$f":"tbl_ArchitectureOffices!C1269","v":0},0,{"$f":"tbl_Companys!D1269","v":"Øren Consult"},{"$f":"tbl_Companys!C1269","v":172587},"Øren Consult",{"$f":"tbl_ConsultingCompanys!D1269","v":0},{"$f":"tbl_ConsultingCompanys!C1269","v":0},0]
[{"$nulls":10},{"$f":"tbl_ArchitectureOffices!D1270","v":0},{"$f":"tbl_ArchitectureOffices!C1270","v":0},{"$f":"IFERROR(REPLACE(K1270,FIND(\" \",K1270,LEN(K1270)),1,\"\"),K1270)","v":0},{"$f":"tbl_Companys!D1270","v":"Østengen og Bergo Landskapsarkitekter AS"},{"$f":"tbl_Companys!C1270","v":245624},"Østengen og Bergo Landskapsarkitekter AS",{"$f":"tbl_ConsultingCompanys!D1270","v":0},{"$f":"tbl_ConsultingCompanys!C1270","v":0},0]
[{"$nulls":10},{"$f":"tbl_ArchitectureOffices!D1271","v":0},{"$f":"tbl_ArchitectureOffices!C1271","v":0},0,{"$f":"tbl_Companys!D1271","v":"Østgaard Arkitekter AS"},{"$f":"tbl_Companys!C1271","v":166402},"Østgaard Arkitekter AS",{"$f":"tbl_ConsultingCompanys!D1271","v":0},{"$f":"tbl_ConsultingCompanys!C1271","v":0},0]
[{"$nulls":10},{"$f":"tbl_ArchitectureOffices!D1272","v":0},{"$f":"tbl_ArchitectureOffices!C1272","v":0},0,{"$f":"tbl_Companys!D1272","v":"Øvre Romerike Prosjektering AS"},{"$f":"tbl_Companys!C1272","v":103255},"Øvre Romerike Prosjektering AS",{"$f":"tbl_ConsultingCompanys!D1272","v":0},{"$f":"tbl_ConsultingCompanys!C1272","v":0},0]
[{"$nulls":10},{"$f":"tbl_ArchitectureOffices!D1273","v":0},{"$f":"tbl_ArchitectureOffices!C1273","v":0},0,{"$f":"tbl_Companys!D1273","v":"Øye arkitektkontor as, Georg"},{"$f":"tbl_Companys!C1273","v":166398},"Øye arkitektkontor as, Georg",{"$f":"tbl_ConsultingCompanys!D1273","v":0},{"$f":"tbl_ConsultingCompanys!C1273","v":0},0]
[{"$nulls":10},{"$f":"tbl_ArchitectureOffices!D1274","v":0},{"$f":"tbl_ArchitectureOffices!C1274","v":0},0,{"$f":"tbl_Companys!D1274","v":"Øystein Thommesen AS"},{"$f":"tbl_Companys!C1274","v":244635},"Øystein Thommesen AS",{"$f":"tbl_ConsultingCompanys!D1274","v":0},{"$f":"tbl_ConsultingCompanys!C1274","v":0},0]
[{"$nulls":10},{"$f":"tbl_ArchitectureOffices!D1275","v":0},{"$f":"tbl_ArchitectureOffices!C1275","v":0},0,{"$f":"tbl_Companys!D1275","v":"Øystein Thommesen AS"},{"$f":"tbl_Companys!C1275","v":244636},"Øystein Thommesen AS",{"$f":"tbl_ConsultingCompanys!D1275","v":0},{"$f":"tbl_ConsultingCompanys!C1275","v":0},0]
[{"$nulls":10},{"$f":"tbl_ArchitectureOffices!D1276","v":0},{"$f":"tbl_ArchitectureOffices!C1276","v":0},0,{"$f":"tbl_Companys!D1276","v":"Øystein Thommesen AS"},{"$f":"tbl_Companys!C1276","v":248257},"Øystein Thommesen AS",{"$f":"tbl_ConsultingCompanys!D1276","v":0},{"$f":"tbl_ConsultingCompanys!C1276","v":0},0]
[{"$nulls":10},{"$f":"tbl_ArchitectureOffices!D1277","v":0},{"$f":"tbl_ArchitectureOffices!C1277","v":0},0,{"$f":"tbl_Companys!D1277","v":"ÅF - Consult AS"},{"$f":"tbl_Companys!C1277","v":214727},"ÅF - Consult AS",{"$f":"tbl_ConsultingCompanys!D1277","v":0},{"$f":"tbl_ConsultingCompanys!C1277","v":0},0]
[{"$nulls":10},{"$f":"tbl_ArchitectureOffices!D1278","v":0},{"$f":"tbl_ArchitectureOffices!C1278","v":0},0,{"$f":"tbl_Companys!D1278","v":"ÅF Engineering AS"},{"$f":"tbl_Companys!C1278","v":213756},"ÅF Engineering AS",{"$f":"tbl_ConsultingCompanys!D1278","v":0},{"$f":"tbl_ConsultingCompanys!C1278","v":0},0]
[{"$nulls":10},{"$f":"tbl_ArchitectureOffices!D1279","v":0},{"$f":"tbl_ArchitectureOffices!C1279","v":0},0,{"$f":"tbl_Companys!D1279","v":"ÅF-consulting AS (RIE)"},{"$f":"tbl_Companys!C1279","v":209553},"ÅF-consulting AS (RIE)",{"$f":"tbl_ConsultingCompanys!D1279","v":0},{"$f":"tbl_ConsultingCompanys!C1279","v":0},0]
[{"$nulls":10},{"$f":"tbl_ArchitectureOffices!D1280","v":0},{"$f":"tbl_ArchitectureOffices!C1280","v":0},0,{"$f":"tbl_Companys!D1280","v":"Åke Larson Construction AS"},{"$f":"tbl_Companys!C1280","v":160581},"Åke Larson Construction AS",{"$f":"tbl_ConsultingCompanys!D1280","v":0},{"$f":"tbl_ConsultingCompanys!C1280","v":0},0]
[{"$nulls":10},{"$f":"tbl_ArchitectureOffices!D1281","v":0},{"$f":"tbl_ArchitectureOffices!C1281","v":0},0,{"$f":"tbl_Companys!D1281","v":"Åsane Byggmesterforretning AS"},{"$f":"tbl_Companys!C1281","v":218050},"Åsane Byggmesterforretning AS",{"$f":"tbl_ConsultingCompanys!D1281","v":0},{"$f":"tbl_ConsultingCompanys!C1281","v":0},0]
[{"$nulls":10},{"$f":"tbl_ArchitectureOffices!D1282","v":0},{"$f":"tbl_ArchitectureOffices!C1282","v":0},0,{"$f":"tbl_Companys!D1282","v":"Åsane Byggmesterforretning AS"},{"$f":"tbl_Companys!C1282","v":218051},"Åsane Byggmesterforretning AS",{"$f":"tbl_ConsultingCompanys!D1282","v":0},{"$f":"tbl_ConsultingCompanys!C1282","v":0},0]
[{"$nulls":10},{"$f":"tbl_ArchitectureOffices!D1283","v":0},{"$f":"tbl_ArchitectureOffices!C1283","v":0},0,{"$f":"tbl_Companys!D1283","v":0},{"$f":"tbl_Companys!C1283","v":0},{"$f":"IFERROR(REPLACE(N1283,FIND(\" \",N1283,LEN(N1283)),1,\"\"),N1283)","v":0},{"$f":"tbl_ConsultingCompanys!D1283","v":0},{"$f":"tbl_ConsultingCompanys!C1283","v":0},{"$f":"IFERROR(REPLACE(Q1283,FIND(\" \",Q1283,LEN(Q1283)),1,\"\"),Q1283)","v":0}]
[{"$nulls":10},{"$f":"tbl_ArchitectureOffices!D1284","v":0},{"$f":"tbl_ArchitectureOffices!C1284","v":0},0,{"$f":"tbl_Companys!D1284","v":0},{"$f":"tbl_Companys!C1284","v":0},0,{"$f":"tbl_ConsultingCompanys!D1284","v":0},{"$f":"tbl_ConsultingCompanys!C1284","v":0},0]
[{"$nulls":10},{"$f":"tbl_ArchitectureOffices!D1285","v":0},{"$f":"tbl_ArchitectureOffices!C1285","v":0},0,{"$f":"tbl_Companys!D1285","v":0},{"$f":"tbl_Companys!C1285","v":0},0,{"$f":"tbl_ConsultingCompanys!D1285","v":0},{"$f":"tbl_ConsultingCompanys!C1285","v":0},0]
[{"$nulls":10},{"$f":"tbl_ArchitectureOffices!D1286","v":0},{"$f":"tbl_ArchitectureOffices!C1286","v":0},0,{"$f":"tbl_Companys!D1286","v":0},{"$f":"tbl_Companys!C1286","v":0},0,{"$f":"tbl_ConsultingCompanys!D1286","v":0},{"$f":"tbl_ConsultingCompanys!C1286","v":0},0]
[{"$nulls":10},{"$f":"tbl_ArchitectureOffices!D1287","v":0},{"$f":"tbl_ArchitectureOffices!C1287","v":0},0,{"$f":"tbl_Companys!D1287","v":0},{"$f":"tbl_Companys!C1287","v":0},0,{"$f":"tbl_ConsultingCompanys!D1287","v":0},{"$f":"tbl_ConsultingCompanys!C1287","v":0},0]
[{"$nulls":10},{"$f":"tbl_ArchitectureOffices!D1288","v":0},{"$f":"tbl_ArchitectureOffices!C1288","v":0},0,{"$f":"tbl_Companys!D1288","v":0},{"$f":"tbl_Companys!C1288","v":0},0,{"$f":"tbl_ConsultingCompanys!D1288","v":0},{"$f":"tbl_ConsultingCompanys!C1288","v":0},0]
[{"$nulls":10},{"$f":"tbl_ArchitectureOffices!D1289","v":0},{"$f":"tbl_ArchitectureOffices!C1289","v":0},0,{"$f":"tbl_Companys!D1289","v":0},{"$f":"tbl_Companys!C1289","v":0},0,{"$f":"tbl_ConsultingCompanys!D1289","v":0},{"$f":"tbl_ConsultingCompanys!C1289","v":0},0]
[{"$nulls":10},{"$f":"tbl_ArchitectureOffices!D1290","v":0},{"$f":"tbl_ArchitectureOffices!C1290","v":0},0,{"$f":"tbl_Companys!D1290","v":0},{"$f":"tbl_Companys!C1290","v":0},0,{"$f":"tbl_ConsultingCompanys!D1290","v":0},{"$f":"tbl_ConsultingCompanys!C1290","v":0},0]
[{"$nulls":10},{"$f":"tbl_ArchitectureOffices!D1291","v":0},{"$f":"tbl_ArchitectureOffices!C1291","v":0},0,{"$f":"tbl_Companys!D1291","v":0},{"$f":"tbl_Companys!C1291","v":0},0,{"$f":"tbl_ConsultingCompanys!D1291","v":0},{"$f":"tbl_ConsultingCompanys!C1291","v":0},0]
[{"$nulls":10},{"$f":"tbl_ArchitectureOffices!D1292","v":0},{"$f":"tbl_ArchitectureOffices!C1292","v":0},0,{"$f":"tbl_Companys!D1292","v":0},{"$f":"tbl_Companys!C1292","v":0},0,{"$f":"tbl_ConsultingCompanys!D1292","v":0},{"$f":"tbl_ConsultingCompanys!C1292","v":0},0]
[{"$nulls":10},{"$f":"tbl_ArchitectureOffices!D1293","v":0},{"$f":"tbl_ArchitectureOffices!C1293","v":0},0,{"$f":"tbl_Companys!D1293","v":0},{"$f":"tbl_Companys!C1293","v":0},0,{"$f":"tbl_ConsultingCompanys!D1293","v":0},{"$f":"tbl_ConsultingCompanys!C1293","v":0},0]
[{"$nulls":10},{"$f":"tbl_ArchitectureOffices!D1294","v":0},{"$f":"tbl_ArchitectureOffices!C1294","v":0},0,{"$f":"tbl_Companys!D1294","v":0},{"$f":"tbl_Companys!C1294","v":0},0,{"$f":"tbl_ConsultingCompanys!D1294","v":0},{"$f":"tbl_ConsultingCompanys!C1294","v":0},0]
[{"$nulls":10},{"$f":"tbl_ArchitectureOffices!D1295","v":0},{"$f":"tbl_ArchitectureOffices!C1295","v":0},0,{"$f":"tbl_Companys!D1295","v":0},{"$f":"tbl_Companys!C1295","v":0},0,{"$f":"tbl_ConsultingCompanys!D1295","v":0},{"$f":"tbl_ConsultingCompanys!C1295","v":0},0]
[{"$nulls":10},{"$f":"tbl_ArchitectureOffices!D1296","v":0},{"$f":"tbl_ArchitectureOffices!C1296","v":0},0,{"$f":"tbl_Companys!D1296","v":0},{"$f":"tbl_Companys!C1296","v":0},0,{"$f":"tbl_ConsultingCompanys!D1296","v":0},{"$f":"tbl_ConsultingCompanys!C1296","v":0},0]
[{"$nulls":10},{"$f":"tbl_ArchitectureOffices!D1297","v":0},{"$f":"tbl_ArchitectureOffices!C1297","v":0},0,{"$f":"tbl_Companys!D1297","v":0},{"$f":"tbl_Companys!C1297","v":0},0,{"$f":"tbl_ConsultingCompanys!D1297","v":0},{"$f":"tbl_ConsultingCompanys!C1297","v":0},0]
[{"$nulls":10},{"$f":"tbl_ArchitectureOffices!D1298","v":0},{"$f":"tbl_ArchitectureOffices!C1298","v":0},0,{"$f":"tbl_Companys!D1298","v":0},{"$f":"tbl_Companys!C1298","v":0},0,{"$f":"tbl_ConsultingCompanys!D1298","v":0},{"$f":"tbl_ConsultingCompanys!C1298","v":0},0]
[{"$nulls":10},{"$f":"tbl_ArchitectureOffices!D1299","v":0},{"$f":"tbl_ArchitectureOffices!C1299","v":0},0,{"$f":"tbl_Companys!D1299","v":0},{"$f":"tbl_Companys!C1299","v":0},0,{"$f":"tbl_ConsultingCompanys!D1299","v":0},{"$f":"tbl_ConsultingCompanys!C1299","v":0},0]
[{"$nulls":10},{"$f":"tbl_ArchitectureOffices!D1300","v":0},{"$f":"tbl_ArchitectureOffices!C1300","v":0},0,{"$f":"tbl_Companys!D1300","v":0},{"$f":"tbl_Companys!C1300","v":0},0,{"$f":"tbl_ConsultingCompanys!D1300","v":0},{"$f":"tbl_ConsultingCompanys!C1300","v":0},0]
[{"$nulls":10},{"$f":"tbl_ArchitectureOffices!D1301","v":0},{"$f":"tbl_ArchitectureOffices!C1301","v":0},0,{"$f":"tbl_Companys!D1301","v":0},{"$f":"tbl_Companys!C1301","v":0},0,{"$f":"tbl_ConsultingCompanys!D1301","v":0},{"$f":"tbl_ConsultingCompanys!C1301","v":0},0]
[{"$nulls":10},{"$f":"tbl_ArchitectureOffices!D1302","v":0},{"$f":"tbl_ArchitectureOffices!C1302","v":0},0,{"$f":"tbl_Companys!D1302","v":0},{"$f":"tbl_Companys!C1302","v":0},0,{"$f":"tbl_ConsultingCompanys!D1302","v":0},{"$f":"tbl_ConsultingCompanys!C1302","v":0},0]
[{"$nulls":10},{"$f":"tbl_ArchitectureOffices!D1303","v":0},{"$f":"tbl_ArchitectureOffices!C1303","v":0},0,{"$f":"tbl_Companys!D1303","v":0},{"$f":"tbl_Companys!C1303","v":0},0,{"$f":"tbl_ConsultingCompanys!D1303","v":0},{"$f":"tbl_ConsultingCompanys!C1303","v":0},0]
[{"$nulls":10},{"$f":"tbl_ArchitectureOffices!D1304","v":0},{"$f":"tbl_ArchitectureOffices!C1304","v":0},0,{"$f":"tbl_Companys!D1304","v":0},{"$f":"tbl_Companys!C1304","v":0},0,{"$f":"tbl_ConsultingCompanys!D1304","v":0},{"$f":"tbl_ConsultingCompanys!C1304","v":0},0]
[{"$nulls":10},{"$f":"tbl_ArchitectureOffices!D1305","v":0},{"$f":"tbl_ArchitectureOffices!C1305","v":0},0,{"$f":"tbl_Companys!D1305","v":0},{"$f":"tbl_Companys!C1305","v":0},0,{"$f":"tbl_ConsultingCompanys!D1305","v":0},{"$f":"tbl_ConsultingCompanys!C1305","v":0},0]
[{"$nulls":10},{"$f":"tbl_ArchitectureOffices!D1306","v":0},{"$f":"tbl_ArchitectureOffices!C1306","v":0},0,{"$f":"tbl_Companys!D1306","v":0},{"$f":"tbl_Companys!C1306","v":0},0,{"$f":"tbl_ConsultingCompanys!D1306","v":0},{"$f":"tbl_ConsultingCompanys!C1306","v":0},0]
[{"$nulls":10},{"$f":"tbl_ArchitectureOffices!D1307","v":0},{"$f":"tbl_ArchitectureOffices!C1307","v":0},0,{"$f":"tbl_Companys!D1307","v":0},{"$f":"tbl_Companys!C1307","v":0},0,{"$f":"tbl_ConsultingCompanys!D1307","v":0},{"$f":"tbl_ConsultingCompanys!C1307","v":0},0]
[{"$nulls":10},{"$f":"tbl_ArchitectureOffices!D1308","v":0},{"$f":"tbl_ArchitectureOffices!C1308","v":0},0,{"$f":"tbl_Companys!D1308","v":0},{"$f":"tbl_Companys!C1308","v":0},0,{"$f":"tbl_ConsultingCompanys!D1308","v":0},{"$f":"tbl_ConsultingCompanys!C1308","v":0},0]
[{"$nulls":10},{"$f":"tbl_ArchitectureOffices!D1309","v":0},{"$f":"tbl_ArchitectureOffices!C1309","v":0},0,{"$f":"tbl_Companys!D1309","v":0},{"$f":"tbl_Companys!C1309","v":0},0,{"$f":"tbl_ConsultingCompanys!D1309","v":0},{"$f":"tbl_ConsultingCompanys!C1309","v":0},0]
[{"$nulls":10},{"$f":"tbl_ArchitectureOffices!D1310","v":0},{"$f":"tbl_ArchitectureOffices!C1310","v":0},0,{"$f":"tbl_Companys!D1310","v":0},{"$f":"tbl_Companys!C1310","v":0},0,{"$f":"tbl_ConsultingCompanys!D1310","v":0},{"$f":"tbl_ConsultingCompanys!C1310","v":0},0]
[{"$nulls":10},{"$f":"tbl_ArchitectureOffices!D1311","v":0},{"$f":"tbl_ArchitectureOffices!C1311","v":0},0,{"$f":"tbl_Companys!D1311","v":0},{"$f":"tbl_Companys!C1311","v":0},0,{"$f":"tbl_ConsultingCompanys!D1311","v":0},{"$f":"tbl_ConsultingCompanys!C1311","v":0},0]
[{"$nulls":10},{"$f":"tbl_ArchitectureOffices!D1312","v":0},{"$f":"tbl_ArchitectureOffices!C1312","v":0},0,{"$f":"tbl_Companys!D1312","v":0},{"$f":"tbl_Companys!C1312","v":0},0,{"$f":"tbl_ConsultingCompanys!D1312","v":0},{"$f":"tbl_ConsultingCompanys!C1312","v":0},0]
[{"$nulls":10},{"$f":"tbl_ArchitectureOffices!D1313","v":0},{"$f":"tbl_ArchitectureOffices!C1313","v":0},0,{"$f":"tbl_Companys!D1313","v":0},{"$f":"tbl_Companys!C1313","v":0},0,{"$f":"tbl_ConsultingCompanys!D1313","v":0},{"$f":"tbl_ConsultingCompanys!C1313","v":0},0]
[{"$nulls":10},{"$f":"tbl_ArchitectureOffices!D1314","v":0},{"$f":"tbl_ArchitectureOffices!C1314","v":0},0,{"$f":"tbl_Companys!D1314","v":0},{"$f":"tbl_Companys!C1314","v":0},0,{"$f":"tbl_ConsultingCompanys!D1314","v":0},{"$f":"tbl_ConsultingCompanys!C1314","v":0},0]
[{"$nulls":10},{"$f":"tbl_ArchitectureOffices!D1315","v":0},{"$f":"tbl_ArchitectureOffices!C1315","v":0},0,{"$f":"tbl_Companys!D1315","v":0},{"$f":"tbl_Companys!C1315","v":0},0,{"$f":"tbl_ConsultingCompanys!D1315","v":0},{"$f":"tbl_ConsultingCompanys!C1315","v":0},0]
[{"$nulls":10},{"$f":"tbl_ArchitectureOffices!D1316","v":0},{"$f":"tbl_ArchitectureOffices!C1316","v":0},0,{"$f":"tbl_Companys!D1316","v":0},{"$f":"tbl_Companys!C1316","v":0},0,{"$f":"tbl_ConsultingCompanys!D1316","v":0},{"$f":"tbl_ConsultingCompanys!C1316","v":0},0]
[{"$nulls":10},{"$f":"tbl_ArchitectureOffices!D1317","v":0},{"$f":"tbl_ArchitectureOffices!C1317","v":0},0,{"$f":"tbl_Companys!D1317","v":0},{"$f":"tbl_Companys!C1317","v":0},0,{"$f":"tbl_ConsultingCompanys!D1317","v":0},{"$f":"tbl_ConsultingCompanys!C1317","v":0},0]
[{"$nulls":10},{"$f":"tbl_ArchitectureOffices!D1318","v":0},{"$f":"tbl_ArchitectureOffices!C1318","v":0},0,{"$f":"tbl_Companys!D1318","v":0},{"$f":"tbl_Companys!C1318","v":0},0,{"$f":"tbl_ConsultingCompanys!D1318","v":0},{"$f":"tbl_ConsultingCompanys!C1318","v":0},0]
[{"$nulls":10},{"$f":"tbl_ArchitectureOffices!D1319","v":0},{"$f":"tbl_ArchitectureOffices!C1319","v":0},0,{"$f":"tbl_Companys!D1319","v":0},{"$f":"tbl_Companys!C1319","v":0},0,{"$f":"tbl_ConsultingCompanys!D1319","v":0},{"$f":"tbl_ConsultingCompanys!C1319","v":0},0]
[{"$nulls":10},{"$f":"tbl_ArchitectureOffices!D1320","v":0},{"$f":"tbl_ArchitectureOffices!C1320","v":0},0,{"$f":"tbl_Companys!D1320","v":0},{"$f":"tbl_Companys!C1320","v":0},0,{"$f":"tbl_ConsultingCompanys!D1320","v":0},{"$f":"tbl_ConsultingCompanys!C1320","v":0},0]
[{"$nulls":10},{"$f":"tbl_ArchitectureOffices!D1321","v":0},{"$f":"tbl_ArchitectureOffices!C1321","v":0},0,{"$f":"tbl_Companys!D1321","v":0},{"$f":"tbl_Companys!C1321","v":0},0,{"$f":"tbl_ConsultingCompanys!D1321","v":0},{"$f":"tbl_ConsultingCompanys!C1321","v":0},0]
[{"$nulls":10},{"$f":"tbl_ArchitectureOffices!D1322","v":0},{"$f":"tbl_ArchitectureOffices!C1322","v":0},0,{"$f":"tbl_Companys!D1322","v":0},{"$f":"tbl_Companys!C1322","v":0},0,{"$f":"tbl_ConsultingCompanys!D1322","v":0},{"$f":"tbl_ConsultingCompanys!C1322","v":0},0]
[{"$nulls":10},{"$f":"tbl_ArchitectureOffices!D1323","v":0},{"$f":"tbl_ArchitectureOffices!C1323","v":0},0,{"$f":"tbl_Companys!D1323","v":0},{"$f":"tbl_Companys!C1323","v":0},0,{"$f":"tbl_ConsultingCompanys!D1323","v":0},{"$f":"tbl_ConsultingCompanys!C1323","v":0},0]
[{"$nulls":10},{"$f":"tbl_ArchitectureOffices!D1324","v":0},{"$f":"tbl_ArchitectureOffices!C1324","v":0},0,{"$f":"tbl_Companys!D1324","v":0},{"$f":"tbl_Companys!C1324","v":0},0,{"$f":"tbl_ConsultingCompanys!D1324","v":0},{"$f":"tbl_ConsultingCompanys!C1324","v":0},0]
[{"$nulls":10},{"$f":"tbl_ArchitectureOffices!D1325","v":0},{"$f":"tbl_ArchitectureOffices!C1325","v":0},0,{"$f":"tbl_Companys!D1325","v":0},{"$f":"tbl_Companys!C1325","v":0},0,{"$f":"tbl_ConsultingCompanys!D1325","v":0},{"$f":"tbl_ConsultingCompanys!C1325","v":0},0]
[{"$nulls":10},{"$f":"tbl_ArchitectureOffices!D1326","v":0},{"$f":"tbl_ArchitectureOffices!C1326","v":0},0,{"$f":"tbl_Companys!D1326","v":0},{"$f":"tbl_Companys!C1326","v":0},0,{"$f":"tbl_ConsultingCompanys!D1326","v":0},{"$f":"tbl_ConsultingCompanys!C1326","v":0},0]
[{"$nulls":10},{"$f":"tbl_ArchitectureOffices!D1327","v":0},{"$f":"tbl_ArchitectureOffices!C1327","v":0},0,{"$f":"tbl_Companys!D1327","v":0},{"$f":"tbl_Companys!C1327","v":0},0,{"$f":"tbl_ConsultingCompanys!D1327","v":0},{"$f":"tbl_ConsultingCompanys!C1327","v":0},0]
[{"$nulls":10},{"$f":"tbl_ArchitectureOffices!D1328","v":0},{"$f":"tbl_ArchitectureOffices!C1328","v":0},0,{"$f":"tbl_Companys!D1328","v":0},{"$f":"tbl_Companys!C1328","v":0},0,{"$f":"tbl_ConsultingCompanys!D1328","v":0},{"$f":"tbl_ConsultingCompanys!C1328","v":0},0]
[{"$nulls":10},{"$f":"tbl_ArchitectureOffices!D1329","v":0},{"$f":"tbl_ArchitectureOffices!C1329","v":0},0,{"$f":"tbl_Companys!D1329","v":0},{"$f":"tbl_Companys!C1329","v":0},0,{"$f":"tbl_ConsultingCompanys!D1329","v":0},{"$f":"tbl_ConsultingCompanys!C1329","v":0},0]
[{"$nulls":10},{"$f":"tbl_ArchitectureOffices!D1330","v":0},{"$f":"tbl_ArchitectureOffices!C1330","v":0},0,{"$f":"tbl_Companys!D1330","v":0},{"$f":"tbl_Companys!C1330","v":0},0,{"$f":"tbl_ConsultingCompanys!D1330","v":0},{"$f":"tbl_ConsultingCompanys!C1330","v":0},0]
[{"$nulls":10},{"$f":"tbl_ArchitectureOffices!D1331","v":0},{"$f":"tbl_ArchitectureOffices!C1331","v":0},0,{"$f":"tbl_Companys!D1331","v":0},{"$f":"tbl_Companys!C1331","v":0},0,{"$f":"tbl_ConsultingCompanys!D1331","v":0},{"$f":"tbl_ConsultingCompanys!C1331","v":0},0]
[{"$nulls":10},{"$f":"tbl_ArchitectureOffices!D1332","v":0},{"$f":"tbl_ArchitectureOffices!C1332","v":0},0,{"$f":"tbl_Companys!D1332","v":0},{"$f":"tbl_Companys!C1332","v":0},0,{"$f":"tbl_ConsultingCompanys!D1332","v":0},{"$f":"tbl_ConsultingCompanys!C1332","v":0},0]
[{"$nulls":10},{"$f":"tbl_ArchitectureOffices!D1333","v":0},{"$f":"tbl_ArchitectureOffices!C1333","v":0},0,{"$f":"tbl_Companys!D1333","v":0},{"$f":"tbl_Companys!C1333","v":0},0,{"$f":"tbl_ConsultingCompanys!D1333","v":0},{"$f":"tbl_ConsultingCompanys!C1333","v":0},0]
[{"$nulls":10},{"$f":"tbl_ArchitectureOffices!D1334","v":0},{"$f":"tbl_ArchitectureOffices!C1334","v":0},{"$f":"IFERROR(REPLACE(K1334,FIND(\" \",K1334,LEN(K1334)),1,\"\"),K1334)","v":0},{"$f":"tbl_Companys!D1334","v":0},{"$f":"tbl_Companys!C1334","v":0},0,{"$f":"tbl_ConsultingCompanys!D1334","v":0},{"$f":"tbl_ConsultingCompanys!C1334","v":0},0]
[{"$nulls":10},{"$f":"tbl_ArchitectureOffices!D1335","v":0},{"$f":"tbl_ArchitectureOffices!C1335","v":0},0,{"$f":"tbl_Companys!D1335","v":0},{"$f":"tbl_Companys!C1335","v":0},0,{"$f":"tbl_ConsultingCompanys!D1335","v":0},{"$f":"tbl_ConsultingCompanys!C1335","v":0},0]
[{"$nulls":10},{"$f":"tbl_ArchitectureOffices!D1336","v":0},{"$f":"tbl_ArchitectureOffices!C1336","v":0},0,{"$f":"tbl_Companys!D1336","v":0},{"$f":"tbl_Companys!C1336","v":0},0,{"$f":"tbl_ConsultingCompanys!D1336","v":0},{"$f":"tbl_ConsultingCompanys!C1336","v":0},0]
[{"$nulls":10},{"$f":"tbl_ArchitectureOffices!D1337","v":0},{"$f":"tbl_ArchitectureOffices!C1337","v":0},0,{"$f":"tbl_Companys!D1337","v":0},{"$f":"tbl_Companys!C1337","v":0},0,{"$f":"tbl_ConsultingCompanys!D1337","v":0},{"$f":"tbl_ConsultingCompanys!C1337","v":0},0]
[{"$nulls":10},{"$f":"tbl_ArchitectureOffices!D1338","v":0},{"$f":"tbl_ArchitectureOffices!C1338","v":0},0,{"$f":"tbl_Companys!D1338","v":0},{"$f":"tbl_Companys!C1338","v":0},0,{"$f":"tbl_ConsultingCompanys!D1338","v":0},{"$f":"tbl_ConsultingCompanys!C1338","v":0},0]
[{"$nulls":10},{"$f":"tbl_ArchitectureOffices!D1339","v":0},{"$f":"tbl_ArchitectureOffices!C1339","v":0},0,{"$f":"tbl_Companys!D1339","v":0},{"$f":"tbl_Companys!C1339","v":0},0,{"$f":"tbl_ConsultingCompanys!D1339","v":0},{"$f":"tbl_ConsultingCompanys!C1339","v":0},0]
[{"$nulls":10},{"$f":"tbl_ArchitectureOffices!D1340","v":0},{"$f":"tbl_ArchitectureOffices!C1340","v":0},0,{"$f":"tbl_Companys!D1340","v":0},{"$f":"tbl_Companys!C1340","v":0},0,{"$f":"tbl_ConsultingCompanys!D1340","v":0},{"$f":"tbl_ConsultingCompanys!C1340","v":0},0]
[{"$nulls":10},{"$f":"tbl_ArchitectureOffices!D1341","v":0},{"$f":"tbl_ArchitectureOffices!C1341","v":0},0,{"$f":"tbl_Companys!D1341","v":0},{"$f":"tbl_Companys!C1341","v":0},0,{"$f":"tbl_ConsultingCompanys!D1341","v":0},{"$f":"tbl_ConsultingCompanys!C1341","v":0},0]
[{"$nulls":10},{"$f":"tbl_ArchitectureOffices!D1342","v":0},{"$f":"tbl_ArchitectureOffices!C1342","v":0},0,{"$f":"tbl_Companys!D1342","v":0},{"$f":"tbl_Companys!C1342","v":0},0,{"$f":"tbl_ConsultingCompanys!D1342","v":0},{"$f":"tbl_ConsultingCompanys!C1342","v":0},0]
[{"$nulls":10},{"$f":"tbl_ArchitectureOffices!D1343","v":0},{"$f":"tbl_ArchitectureOffices!C1343","v":0},0,{"$f":"tbl_Companys!D1343","v":0},{"$f":"tbl_Companys!C1343","v":0},0,{"$f":"tbl_ConsultingCompanys!D1343","v":0},{"$f":"tbl_ConsultingCompanys!C1343","v":0},0]
[{"$nulls":10},{"$f":"tbl_ArchitectureOffices!D1344","v":0},{"$f":"tbl_ArchitectureOffices!C1344","v":0},0,{"$f":"tbl_Companys!D1344","v":0},{"$f":"tbl_Companys!C1344","v":0},0,{"$f":"tbl_ConsultingCompanys!D1344","v":0},{"$f":"tbl_ConsultingCompanys!C1344","v":0},0]
[{"$nulls":10},{"$f":"tbl_ArchitectureOffices!D1345","v":0},{"$f":"tbl_ArchitectureOffices!C1345","v":0},0,{"$f":"tbl_Companys!D1345","v":0},{"$f":"tbl_Companys!C1345","v":0},0,{"$f":"tbl_ConsultingCompanys!D1345","v":0},{"$f":"tbl_ConsultingCompanys!C1345","v":0},0]
[{"$nulls":10},{"$f":"tbl_ArchitectureOffices!D1346","v":0},{"$f":"tbl_ArchitectureOffices!C1346","v":0},0,{"$f":"tbl_Companys!D1346","v":0},{"$f":"tbl_Companys!C1346","v":0},0,{"$f":"tbl_ConsultingCompanys!D1346","v":0},{"$f":"tbl_ConsultingCompanys!C1346","v":0},0]
[{"$nulls":10},{"$f":"tbl_ArchitectureOffices!D1347","v":0},{"$f":"tbl_ArchitectureOffices!C1347","v":0},0,{"$f":"tbl_Companys!D1347","v":0},{"$f":"tbl_Companys!C1347","v":0},{"$f":"IFERROR(REPLACE(N1347,FIND(\" \",N1347,LEN(N1347)),1,\"\"),N1347)","v":0},{"$f":"tbl_ConsultingCompanys!D1347","v":0},{"$f":"tbl_ConsultingCompanys!C1347","v":0},{"$f":"IFERROR(REPLACE(Q1347,FIND(\" \",Q1347,LEN(Q1347)),1,\"\"),Q1347)","v":0}]
[{"$nulls":10},{"$f":"tbl_ArchitectureOffices!D1348","v":0},{"$f":"tbl_ArchitectureOffices!C1348","v":0},0,{"$f":"tbl_Companys!D1348","v":0},{"$f":"tbl_Companys!C1348","v":0},0,{"$f":"tbl_ConsultingCompanys!D1348","v":0},{"$f":"tbl_ConsultingCompanys!C1348","v":0},0]
[{"$nulls":10},{"$f":"tbl_ArchitectureOffices!D1349","v":0},{"$f":"tbl_ArchitectureOffices!C1349","v":0},0,{"$f":"tbl_Companys!D1349","v":0},{"$f":"tbl_Companys!C1349","v":0},0,{"$f":"tbl_ConsultingCompanys!D1349","v":0},{"$f":"tbl_ConsultingCompanys!C1349","v":0},0]
[{"$nulls":10},{"$f":"tbl_ArchitectureOffices!D1350","v":0},{"$f":"tbl_ArchitectureOffices!C1350","v":0},0,{"$f":"tbl_Companys!D1350","v":0},{"$f":"tbl_Companys!C1350","v":0},0,{"$f":"tbl_ConsultingCompanys!D1350","v":0},{"$f":"tbl_ConsultingCompanys!C1350","v":0},0]
[{"$nulls":10},{"$f":"tbl_ArchitectureOffices!D1351","v":0},{"$f":"tbl_ArchitectureOffices!C1351","v":0},0,{"$f":"tbl_Companys!D1351","v":0},{"$f":"tbl_Companys!C1351","v":0},0,{"$f":"tbl_ConsultingCompanys!D1351","v":0},{"$f":"tbl_ConsultingCompanys!C1351","v":0},0]
[{"$nulls":10},{"$f":"tbl_ArchitectureOffices!D1352","v":0},{"$f":"tbl_ArchitectureOffices!C1352","v":0},0,{"$f":"tbl_Companys!D1352","v":0},{"$f":"tbl_Companys!C1352","v":0},0,{"$f":"tbl_ConsultingCompanys!D1352","v":0},{"$f":"tbl_ConsultingCompanys!C1352","v":0},0]
[{"$nulls":10},{"$f":"tbl_ArchitectureOffices!D1353","v":0},{"$f":"tbl_ArchitectureOffices!C1353","v":0},0,{"$f":"tbl_Companys!D1353","v":0},{"$f":"tbl_Companys!C1353","v":0},0,{"$f":"tbl_ConsultingCompanys!D1353","v":0},{"$f":"tbl_ConsultingCompanys!C1353","v":0},0]
[{"$nulls":10},{"$f":"tbl_ArchitectureOffices!D1354","v":0},{"$f":"tbl_ArchitectureOffices!C1354","v":0},0,{"$f":"tbl_Companys!D1354","v":0},{"$f":"tbl_Companys!C1354","v":0},0,{"$f":"tbl_ConsultingCompanys!D1354","v":0},{"$f":"tbl_ConsultingCompanys!C1354","v":0},0]
[{"$nulls":10},{"$f":"tbl_ArchitectureOffices!D1355","v":0},{"$f":"tbl_ArchitectureOffices!C1355","v":0},0,{"$f":"tbl_Companys!D1355","v":0},{"$f":"tbl_Companys!C1355","v":0},0,{"$f":"tbl_ConsultingCompanys!D1355","v":0},{"$f":"tbl_ConsultingCompanys!C1355","v":0},0]
[{"$nulls":10},{"$f":"tbl_ArchitectureOffices!D1356","v":0},{"$f":"tbl_ArchitectureOffices!C1356","v":0},0,{"$f":"tbl_Companys!D1356","v":0},{"$f":"tbl_Companys!C1356","v":0},0,{"$f":"tbl_ConsultingCompanys!D1356","v":0},{"$f":"tbl_ConsultingCompanys!C1356","v":0},0]
[{"$nulls":10},{"$f":"tbl_ArchitectureOffices!D1357","v":0},{"$f":"tbl_ArchitectureOffices!C1357","v":0},0,{"$f":"tbl_Companys!D1357","v":0},{"$f":"tbl_Companys!C1357","v":0},0,{"$f":"tbl_ConsultingCompanys!D1357","v":0},{"$f":"tbl_ConsultingCompanys!C1357","v":0},0]
[{"$nulls":10},{"$f":"tbl_ArchitectureOffices!D1358","v":0},{"$f":"tbl_ArchitectureOffices!C1358","v":0},0,{"$f":"tbl_Companys!D1358","v":0},{"$f":"tbl_Companys!C1358","v":0},0,{"$f":"tbl_ConsultingCompanys!D1358","v":0},{"$f":"tbl_ConsultingCompanys!C1358","v":0},0]
[{"$nulls":10},{"$f":"tbl_ArchitectureOffices!D1359","v":0},{"$f":"tbl_ArchitectureOffices!C1359","v":0},0,{"$f":"tbl_Companys!D1359","v":0},{"$f":"tbl_Companys!C1359","v":0},0,{"$f":"tbl_ConsultingCompanys!D1359","v":0},{"$f":"tbl_ConsultingCompanys!C1359","v":0},0]
[{"$nulls":10},{"$f":"tbl_ArchitectureOffices!D1360","v":0},{"$f":"tbl_ArchitectureOffices!C1360","v":0},0,{"$f":"tbl_Companys!D1360","v":0},{"$f":"tbl_Companys!C1360","v":0},0,{"$f":"tbl_ConsultingCompanys!D1360","v":0},{"$f":"tbl_ConsultingCompanys!C1360","v":0},0]
[{"$nulls":10},{"$f":"tbl_ArchitectureOffices!D1361","v":0},{"$f":"tbl_ArchitectureOffices!C1361","v":0},0,{"$f":"tbl_Companys!D1361","v":0},{"$f":"tbl_Companys!C1361","v":0},0,{"$f":"tbl_ConsultingCompanys!D1361","v":0},{"$f":"tbl_ConsultingCompanys!C1361","v":0},0]
[{"$nulls":10},{"$f":"tbl_ArchitectureOffices!D1362","v":0},{"$f":"tbl_ArchitectureOffices!C1362","v":0},0,{"$f":"tbl_Companys!D1362","v":0},{"$f":"tbl_Companys!C1362","v":0},0,{"$f":"tbl_ConsultingCompanys!D1362","v":0},{"$f":"tbl_ConsultingCompanys!C1362","v":0},0]
[{"$nulls":10},{"$f":"tbl_ArchitectureOffices!D1363","v":0},{"$f":"tbl_ArchitectureOffices!C1363","v":0},0,{"$f":"tbl_Companys!D1363","v":0},{"$f":"tbl_Companys!C1363","v":0},0,{"$f":"tbl_ConsultingCompanys!D1363","v":0},{"$f":"tbl_ConsultingCompanys!C1363","v":0},0]
[{"$nulls":10},{"$f":"tbl_ArchitectureOffices!D1364","v":0},{"$f":"tbl_ArchitectureOffices!C1364","v":0},0,{"$f":"tbl_Companys!D1364","v":0},{"$f":"tbl_Companys!C1364","v":0},0,{"$f":"tbl_ConsultingCompanys!D1364","v":0},{"$f":"tbl_ConsultingCompanys!C1364","v":0},0]
[{"$nulls":10},{"$f":"tbl_ArchitectureOffices!D1365","v":0},{"$f":"tbl_ArchitectureOffices!C1365","v":0},0,{"$f":"tbl_Companys!D1365","v":0},{"$f":"tbl_Companys!C1365","v":0},0,{"$f":"tbl_ConsultingCompanys!D1365","v":0},{"$f":"tbl_ConsultingCompanys!C1365","v":0},0]
[{"$nulls":10},{"$f":"tbl_ArchitectureOffices!D1366","v":0},{"$f":"tbl_ArchitectureOffices!C1366","v":0},0,{"$f":"tbl_Companys!D1366","v":0},{"$f":"tbl_Companys!C1366","v":0},0,{"$f":"tbl_ConsultingCompanys!D1366","v":0},{"$f":"tbl_ConsultingCompanys!C1366","v":0},0]
[{"$nulls":10},{"$f":"tbl_ArchitectureOffices!D1367","v":0},{"$f":"tbl_ArchitectureOffices!C1367","v":0},0,{"$f":"tbl_Companys!D1367","v":0},{"$f":"tbl_Companys!C1367","v":0},0,{"$f":"tbl_ConsultingCompanys!D1367","v":0},{"$f":"tbl_ConsultingCompanys!C1367","v":0},0]
[{"$nulls":10},{"$f":"tbl_ArchitectureOffices!D1368","v":0},{"$f":"tbl_ArchitectureOffices!C1368","v":0},0,{"$f":"tbl_Companys!D1368","v":0},{"$f":"tbl_Companys!C1368","v":0},0,{"$f":"tbl_ConsultingCompanys!D1368","v":0},{"$f":"tbl_ConsultingCompanys!C1368","v":0},0]
[{"$nulls":10},{"$f":"tbl_ArchitectureOffices!D1369","v":0},{"$f":"tbl_ArchitectureOffices!C1369","v":0},0,{"$f":"tbl_Companys!D1369","v":0},{"$f":"tbl_Companys!C1369","v":0},0,{"$f":"tbl_ConsultingCompanys!D1369","v":0},{"$f":"tbl_ConsultingCompanys!C1369","v":0},0]
[{"$nulls":10},{"$f":"tbl_ArchitectureOffices!D1370","v":0},{"$f":"tbl_ArchitectureOffices!C1370","v":0},0,{"$f":"tbl_Companys!D1370","v":0},{"$f":"tbl_Companys!C1370","v":0},0,{"$f":"tbl_ConsultingCompanys!D1370","v":0},{"$f":"tbl_ConsultingCompanys!C1370","v":0},0]
[{"$nulls":10},{"$f":"tbl_ArchitectureOffices!D1371","v":0},{"$f":"tbl_ArchitectureOffices!C1371","v":0},0,{"$f":"tbl_Companys!D1371","v":0},{"$f":"tbl_Companys!C1371","v":0},0,{"$f":"tbl_ConsultingCompanys!D1371","v":0},{"$f":"tbl_ConsultingCompanys!C1371","v":0},0]
[{"$nulls":10},{"$f":"tbl_ArchitectureOffices!D1372","v":0},{"$f":"tbl_ArchitectureOffices!C1372","v":0},0,{"$f":"tbl_Companys!D1372","v":0},{"$f":"tbl_Companys!C1372","v":0},0,{"$f":"tbl_ConsultingCompanys!D1372","v":0},{"$f":"tbl_ConsultingCompanys!C1372","v":0},0]
[{"$nulls":10},{"$f":"tbl_ArchitectureOffices!D1373","v":0},{"$f":"tbl_ArchitectureOffices!C1373","v":0},0,{"$f":"tbl_Companys!D1373","v":0},{"$f":"tbl_Companys!C1373","v":0},0,{"$f":"tbl_ConsultingCompanys!D1373","v":0},{"$f":"tbl_ConsultingCompanys!C1373","v":0},0]
[{"$nulls":10},{"$f":"tbl_ArchitectureOffices!D1374","v":0},{"$f":"tbl_ArchitectureOffices!C1374","v":0},0,{"$f":"tbl_Companys!D1374","v":0},{"$f":"tbl_Companys!C1374","v":0},0,{"$f":"tbl_ConsultingCompanys!D1374","v":0},{"$f":"tbl_ConsultingCompanys!C1374","v":0},0]
[{"$nulls":10},{"$f":"tbl_ArchitectureOffices!D1375","v":0},{"$f":"tbl_ArchitectureOffices!C1375","v":0},0,{"$f":"tbl_Companys!D1375","v":0},{"$f":"tbl_Companys!C1375","v":0},0,{"$f":"tbl_ConsultingCompanys!D1375","v":0},{"$f":"tbl_ConsultingCompanys!C1375","v":0},0]
[{"$nulls":10},{"$f":"tbl_ArchitectureOffices!D1376","v":0},{"$f":"tbl_ArchitectureOffices!C1376","v":0},0,{"$f":"tbl_Companys!D1376","v":0},{"$f":"tbl_Companys!C1376","v":0},0,{"$f":"tbl_ConsultingCompanys!D1376","v":0},{"$f":"tbl_ConsultingCompanys!C1376","v":0},0]
[{"$nulls":10},{"$f":"tbl_ArchitectureOffices!D1377","v":0},{"$f":"tbl_ArchitectureOffices!C1377","v":0},0,{"$f":"tbl_Companys!D1377","v":0},{"$f":"tbl_Companys!C1377","v":0},0,{"$f":"tbl_ConsultingCompanys!D1377","v":0},{"$f":"tbl_ConsultingCompanys!C1377","v":0},0]
[{"$nulls":10},{"$f":"tbl_ArchitectureOffices!D1378","v":0},{"$f":"tbl_ArchitectureOffices!C1378","v":0},0,{"$f":"tbl_Companys!D1378","v":0},{"$f":"tbl_Companys!C1378","v":0},0,{"$f":"tbl_ConsultingCompanys!D1378","v":0},{"$f":"tbl_ConsultingCompanys!C1378","v":0},0]
[{"$nulls":10},{"$f":"tbl_ArchitectureOffices!D1379","v":0},{"$f":"tbl_ArchitectureOffices!C1379","v":0},0,{"$f":"tbl_Companys!D1379","v":0},{"$f":"tbl_Companys!C1379","v":0},0,{"$f":"tbl_ConsultingCompanys!D1379","v":0},{"$f":"tbl_ConsultingCompanys!C1379","v":0},0]
[{"$nulls":10},{"$f":"tbl_ArchitectureOffices!D1380","v":0},{"$f":"tbl_ArchitectureOffices!C1380","v":0},0,{"$f":"tbl_Companys!D1380","v":0},{"$f":"tbl_Companys!C1380","v":0},0,{"$f":"tbl_ConsultingCompanys!D1380","v":0},{"$f":"tbl_ConsultingCompanys!C1380","v":0},0]
[{"$nulls":10},{"$f":"tbl_ArchitectureOffices!D1381","v":0},{"$f":"tbl_ArchitectureOffices!C1381","v":0},0,{"$f":"tbl_Companys!D1381","v":0},{"$f":"tbl_Companys!C1381","v":0},0,{"$f":"tbl_ConsultingCompanys!D1381","v":0},{"$f":"tbl_ConsultingCompanys!C1381","v":0},0]
[{"$nulls":10},{"$f":"tbl_ArchitectureOffices!D1382","v":0},{"$f":"tbl_ArchitectureOffices!C1382","v":0},0,{"$f":"tbl_Companys!D1382","v":0},{"$f":"tbl_Companys!C1382","v":0},0,{"$f":"tbl_ConsultingCompanys!D1382","v":0},{"$f":"tbl_ConsultingCompanys!C1382","v":0},0]
[{"$nulls":10},{"$f":"tbl_ArchitectureOffices!D1383","v":0},{"$f":"tbl_ArchitectureOffices!C1383","v":0},0,{"$f":"tbl_Companys!D1383","v":0},{"$f":"tbl_Companys!C1383","v":0},0,{"$f":"tbl_ConsultingCompanys!D1383","v":0},{"$f":"tbl_ConsultingCompanys!C1383","v":0},0]
[{"$nulls":10},{"$f":"tbl_ArchitectureOffices!D1384","v":0},{"$f":"tbl_ArchitectureOffices!C1384","v":0},0,{"$f":"tbl_Companys!D1384","v":0},{"$f":"tbl_Companys!C1384","v":0},0,{"$f":"tbl_ConsultingCompanys!D1384","v":0},{"$f":"tbl_ConsultingCompanys!C1384","v":0},0]
[{"$nulls":10},{"$f":"tbl_ArchitectureOffices!D1385","v":0},{"$f":"tbl_ArchitectureOffices!C1385","v":0},0,{"$f":"tbl_Companys!D1385","v":0},{"$f":"tbl_Companys!C1385","v":0},0,{"$f":"tbl_ConsultingCompanys!D1385","v":0},{"$f":"tbl_ConsultingCompanys!C1385","v":0},0]
[{"$nulls":10},{"$f":"tbl_ArchitectureOffices!D1386","v":0},{"$f":"tbl_ArchitectureOffices!C1386","v":0},0,{"$f":"tbl_Companys!D1386","v":0},{"$f":"tbl_Companys!C1386","v":0},0,{"$f":"tbl_ConsultingCompanys!D1386","v":0},{"$f":"tbl_ConsultingCompanys!C1386","v":0},0]
[{"$nulls":10},{"$f":"tbl_ArchitectureOffices!D1387","v":0},{"$f":"tbl_ArchitectureOffices!C1387","v":0},0,{"$f":"tbl_Companys!D1387","v":0},{"$f":"tbl_Companys!C1387","v":0},0,{"$f":"tbl_ConsultingCompanys!D1387","v":0},{"$f":"tbl_ConsultingCompanys!C1387","v":0},0]
[{"$nulls":10},{"$f":"tbl_ArchitectureOffices!D1388","v":0},{"$f":"tbl_ArchitectureOffices!C1388","v":0},0,{"$f":"tbl_Companys!D1388","v":0},{"$f":"tbl_Companys!C1388","v":0},0,{"$f":"tbl_ConsultingCompanys!D1388","v":0},{"$f":"tbl_ConsultingCompanys!C1388","v":0},0]
[{"$nulls":10},{"$f":"tbl_ArchitectureOffices!D1389","v":0},{"$f":"tbl_ArchitectureOffices!C1389","v":0},0,{"$f":"tbl_Companys!D1389","v":0},{"$f":"tbl_Companys!C1389","v":0},0,{"$f":"tbl_ConsultingCompanys!D1389","v":0},{"$f":"tbl_ConsultingCompanys!C1389","v":0},0]
[{"$nulls":10},{"$f":"tbl_ArchitectureOffices!D1390","v":0},{"$f":"tbl_ArchitectureOffices!C1390","v":0},0,{"$f":"tbl_Companys!D1390","v":0},{"$f":"tbl_Companys!C1390","v":0},0,{"$f":"tbl_ConsultingCompanys!D1390","v":0},{"$f":"tbl_ConsultingCompanys!C1390","v":0},0]
[{"$nulls":10},{"$f":"tbl_ArchitectureOffices!D1391","v":0},{"$f":"tbl_ArchitectureOffices!C1391","v":0},0,{"$f":"tbl_Companys!D1391","v":0},{"$f":"tbl_Companys!C1391","v":0},0,{"$f":"tbl_ConsultingCompanys!D1391","v":0},{"$f":"tbl_ConsultingCompanys!C1391","v":0},0]
[{"$nulls":10},{"$f":"tbl_ArchitectureOffices!D1392","v":0},{"$f":"tbl_ArchitectureOffices!C1392","v":0},0,{"$f":"tbl_Companys!D1392","v":0},{"$f":"tbl_Companys!C1392","v":0},0,{"$f":"tbl_ConsultingCompanys!D1392","v":0},{"$f":"tbl_ConsultingCompanys!C1392","v":0},0]
[{"$nulls":10},{"$f":"tbl_ArchitectureOffices!D1393","v":0},{"$f":"tbl_ArchitectureOffices!C1393","v":0},0,{"$f":"tbl_Companys!D1393","v":0},{"$f":"tbl_Companys!C1393","v":0},0,{"$f":"tbl_ConsultingCompanys!D1393","v":0},{"$f":"tbl_ConsultingCompanys!C1393","v":0},0]
[{"$nulls":10},{"$f":"tbl_ArchitectureOffices!D1394","v":0},{"$f":"tbl_ArchitectureOffices!C1394","v":0},0,{"$f":"tbl_Companys!D1394","v":0},{"$f":"tbl_Companys!C1394","v":0},0,{"$f":"tbl_ConsultingCompanys!D1394","v":0},{"$f":"tbl_ConsultingCompanys!C1394","v":0},0]
[{"$nulls":10},{"$f":"tbl_ArchitectureOffices!D1395","v":0},{"$f":"tbl_ArchitectureOffices!C1395","v":0},0,{"$f":"tbl_Companys!D1395","v":0},{"$f":"tbl_Companys!C1395","v":0},0,{"$f":"tbl_ConsultingCompanys!D1395","v":0},{"$f":"tbl_ConsultingCompanys!C1395","v":0},0]
[{"$nulls":10},{"$f":"tbl_ArchitectureOffices!D1396","v":0},{"$f":"tbl_ArchitectureOffices!C1396","v":0},0,{"$f":"tbl_Companys!D1396","v":0},{"$f":"tbl_Companys!C1396","v":0},0,{"$f":"tbl_ConsultingCompanys!D1396","v":0},{"$f":"tbl_ConsultingCompanys!C1396","v":0},0]
[{"$nulls":10},{"$f":"tbl_ArchitectureOffices!D1397","v":0},{"$f":"tbl_ArchitectureOffices!C1397","v":0},0,{"$f":"tbl_Companys!D1397","v":0},{"$f":"tbl_Companys!C1397","v":0},0,{"$f":"tbl_ConsultingCompanys!D1397","v":0},{"$f":"tbl_ConsultingCompanys!C1397","v":0},0]
[{"$nulls":10},{"$f":"tbl_ArchitectureOffices!D1398","v":0},{"$f":"tbl_ArchitectureOffices!C1398","v":0},{"$f":"IFERROR(REPLACE(K1398,FIND(\" \",K1398,LEN(K1398)),1,\"\"),K1398)","v":0},{"$f":"tbl_Companys!D1398","v":0},{"$f":"tbl_Companys!C1398","v":0},0,{"$f":"tbl_ConsultingCompanys!D1398","v":0},{"$f":"tbl_ConsultingCompanys!C1398","v":0},0]
[{"$nulls":10},{"$f":"tbl_ArchitectureOffices!D1399","v":0},{"$f":"tbl_ArchitectureOffices!C1399","v":0},0,{"$f":"tbl_Companys!D1399","v":0},{"$f":"tbl_Companys!C1399","v":0},0,{"$f":"tbl_ConsultingCompanys!D1399","v":0},{"$f":"tbl_ConsultingCompanys!C1399","v":0},0]
[{"$nulls":10},{"$f":"tbl_ArchitectureOffices!D1400","v":0},{"$f":"tbl_ArchitectureOffices!C1400","v":0},0,{"$f":"tbl_Companys!D1400","v":0},{"$f":"tbl_Companys!C1400","v":0},0,{"$f":"tbl_ConsultingCompanys!D1400","v":0},{"$f":"tbl_ConsultingCompanys!C1400","v":0},0]
[{"$nulls":10},{"$f":"tbl_ArchitectureOffices!D1401","v":0},{"$f":"tbl_ArchitectureOffices!C1401","v":0},0,{"$f":"tbl_Companys!D1401","v":0},{"$f":"tbl_Companys!C1401","v":0},0,{"$f":"tbl_ConsultingCompanys!D1401","v":0},{"$f":"tbl_ConsultingCompanys!C1401","v":0},0]
[{"$nulls":10},{"$f":"tbl_ArchitectureOffices!D1402","v":0},{"$f":"tbl_ArchitectureOffices!C1402","v":0},0,{"$f":"tbl_Companys!D1402","v":0},{"$f":"tbl_Companys!C1402","v":0},0,{"$f":"tbl_ConsultingCompanys!D1402","v":0},{"$f":"tbl_ConsultingCompanys!C1402","v":0},0]
[{"$nulls":10},{"$f":"tbl_ArchitectureOffices!D1403","v":0},{"$f":"tbl_ArchitectureOffices!C1403","v":0},0,{"$f":"tbl_Companys!D1403","v":0},{"$f":"tbl_Companys!C1403","v":0},0,{"$f":"tbl_ConsultingCompanys!D1403","v":0},{"$f":"tbl_ConsultingCompanys!C1403","v":0},0]
[{"$nulls":10},{"$f":"tbl_ArchitectureOffices!D1404","v":0},{"$f":"tbl_ArchitectureOffices!C1404","v":0},0,{"$f":"tbl_Companys!D1404","v":0},{"$f":"tbl_Companys!C1404","v":0},0,{"$f":"tbl_ConsultingCompanys!D1404","v":0},{"$f":"tbl_ConsultingCompanys!C1404","v":0},0]
[{"$nulls":10},{"$f":"tbl_ArchitectureOffices!D1405","v":0},{"$f":"tbl_ArchitectureOffices!C1405","v":0},0,{"$f":"tbl_Companys!D1405","v":0},{"$f":"tbl_Companys!C1405","v":0},0,{"$f":"tbl_ConsultingCompanys!D1405","v":0},{"$f":"tbl_ConsultingCompanys!C1405","v":0},0]
[{"$nulls":10},{"$f":"tbl_ArchitectureOffices!D1406","v":0},{"$f":"tbl_ArchitectureOffices!C1406","v":0},0,{"$f":"tbl_Companys!D1406","v":0},{"$f":"tbl_Companys!C1406","v":0},0,{"$f":"tbl_ConsultingCompanys!D1406","v":0},{"$f":"tbl_ConsultingCompanys!C1406","v":0},0]
[{"$nulls":10},{"$f":"tbl_ArchitectureOffices!D1407","v":0},{"$f":"tbl_ArchitectureOffices!C1407","v":0},0,{"$f":"tbl_Companys!D1407","v":0},{"$f":"tbl_Companys!C1407","v":0},0,{"$f":"tbl_ConsultingCompanys!D1407","v":0},{"$f":"tbl_ConsultingCompanys!C1407","v":0},0]
[{"$nulls":10},{"$f":"tbl_ArchitectureOffices!D1408","v":0},{"$f":"tbl_ArchitectureOffices!C1408","v":0},0,{"$f":"tbl_Companys!D1408","v":0},{"$f":"tbl_Companys!C1408","v":0},0,{"$f":"tbl_ConsultingCompanys!D1408","v":0},{"$f":"tbl_ConsultingCompanys!C1408","v":0},0]
[{"$nulls":10},{"$f":"tbl_ArchitectureOffices!D1409","v":0},{"$f":"tbl_ArchitectureOffices!C1409","v":0},0,{"$f":"tbl_Companys!D1409","v":0},{"$f":"tbl_Companys!C1409","v":0},0,{"$f":"tbl_ConsultingCompanys!D1409","v":0},{"$f":"tbl_ConsultingCompanys!C1409","v":0},0]
[{"$nulls":10},{"$f":"tbl_ArchitectureOffices!D1410","v":0},{"$f":"tbl_ArchitectureOffices!C1410","v":0},0,{"$f":"tbl_Companys!D1410","v":0},{"$f":"tbl_Companys!C1410","v":0},0,{"$f":"tbl_ConsultingCompanys!D1410","v":0},{"$f":"tbl_ConsultingCompanys!C1410","v":0},0]
[{"$nulls":10},{"$f":"tbl_ArchitectureOffices!D1411","v":0},{"$f":"tbl_ArchitectureOffices!C1411","v":0},0,{"$f":"tbl_Companys!D1411","v":0},{"$f":"tbl_Companys!C1411","v":0},{"$f":"IFERROR(REPLACE(N1411,FIND(\" \",N1411,LEN(N1411)),1,\"\"),N1411)","v":0},{"$f":"tbl_ConsultingCompanys!D1411","v":0},{"$f":"tbl_ConsultingCompanys!C1411","v":0},{"$f":"IFERROR(REPLACE(Q1411,FIND(\" \",Q1411,LEN(Q1411)),1,\"\"),Q1411)","v":0}]
[{"$nulls":10},{"$f":"tbl_ArchitectureOffices!D1412","v":0},{"$f":"tbl_ArchitectureOffices!C1412","v":0},0,{"$f":"tbl_Companys!D1412","v":0},{"$f":"tbl_Companys!C1412","v":0},0,{"$f":"tbl_ConsultingCompanys!D1412","v":0},{"$f":"tbl_ConsultingCompanys!C1412","v":0},0]
[{"$nulls":10},{"$f":"tbl_ArchitectureOffices!D1413","v":0},{"$f":"tbl_ArchitectureOffices!C1413","v":0},0,{"$f":"tbl_Companys!D1413","v":0},{"$f":"tbl_Companys!C1413","v":0},0,{"$f":"tbl_ConsultingCompanys!D1413","v":0},{"$f":"tbl_ConsultingCompanys!C1413","v":0},0]
[{"$nulls":10},{"$f":"tbl_ArchitectureOffices!D1414","v":0},{"$f":"tbl_ArchitectureOffices!C1414","v":0},0,{"$f":"tbl_Companys!D1414","v":0},{"$f":"tbl_Companys!C1414","v":0},0,{"$f":"tbl_ConsultingCompanys!D1414","v":0},{"$f":"tbl_ConsultingCompanys!C1414","v":0},0]
[{"$nulls":10},{"$f":"tbl_ArchitectureOffices!D1415","v":0},{"$f":"tbl_ArchitectureOffices!C1415","v":0},0,{"$f":"tbl_Companys!D1415","v":0},{"$f":"tbl_Companys!C1415","v":0},0,{"$f":"tbl_ConsultingCompanys!D1415","v":0},{"$f":"tbl_ConsultingCompanys!C1415","v":0},0]
[{"$nulls":10},{"$f":"tbl_ArchitectureOffices!D1416","v":0},{"$f":"tbl_ArchitectureOffices!C1416","v":0},0,{"$f":"tbl_Companys!D1416","v":0},{"$f":"tbl_Companys!C1416","v":0},0,{"$f":"tbl_ConsultingCompanys!D1416","v":0},{"$f":"tbl_ConsultingCompanys!C1416","v":0},0]
[{"$nulls":10},{"$f":"tbl_ArchitectureOffices!D1417","v":0},{"$f":"tbl_ArchitectureOffices!C1417","v":0},0,{"$f":"tbl_Companys!D1417","v":0},{"$f":"tbl_Companys!C1417","v":0},0,{"$f":"tbl_ConsultingCompanys!D1417","v":0},{"$f":"tbl_ConsultingCompanys!C1417","v":0},0]
[{"$nulls":10},{"$f":"tbl_ArchitectureOffices!D1418","v":0},{"$f":"tbl_ArchitectureOffices!C1418","v":0},0,{"$f":"tbl_Companys!D1418","v":0},{"$f":"tbl_Companys!C1418","v":0},0,{"$f":"tbl_ConsultingCompanys!D1418","v":0},{"$f":"tbl_ConsultingCompanys!C1418","v":0},0]
[{"$nulls":10},{"$f":"tbl_ArchitectureOffices!D1419","v":0},{"$f":"tbl_ArchitectureOffices!C1419","v":0},0,{"$f":"tbl_Companys!D1419","v":0},{"$f":"tbl_Companys!C1419","v":0},0,{"$f":"tbl_ConsultingCompanys!D1419","v":0},{"$f":"tbl_ConsultingCompanys!C1419","v":0},0]
[{"$nulls":10},{"$f":"tbl_ArchitectureOffices!D1420","v":0},{"$f":"tbl_ArchitectureOffices!C1420","v":0},0,{"$f":"tbl_Companys!D1420","v":0},{"$f":"tbl_Companys!C1420","v":0},0,{"$f":"tbl_ConsultingCompanys!D1420","v":0},{"$f":"tbl_ConsultingCompanys!C1420","v":0},0]
[{"$nulls":10},{"$f":"tbl_ArchitectureOffices!D1421","v":0},{"$f":"tbl_ArchitectureOffices!C1421","v":0},0,{"$f":"tbl_Companys!D1421","v":0},{"$f":"tbl_Companys!C1421","v":0},0,{"$f":"tbl_ConsultingCompanys!D1421","v":0},{"$f":"tbl_ConsultingCompanys!C1421","v":0},0]
[{"$nulls":10},{"$f":"tbl_ArchitectureOffices!D1422","v":0},{"$f":"tbl_ArchitectureOffices!C1422","v":0},0,{"$f":"tbl_Companys!D1422","v":0},{"$f":"tbl_Companys!C1422","v":0},0,{"$f":"tbl_ConsultingCompanys!D1422","v":0},{"$f":"tbl_ConsultingCompanys!C1422","v":0},0]
[{"$nulls":10},{"$f":"tbl_ArchitectureOffices!D1423","v":0},{"$f":"tbl_ArchitectureOffices!C1423","v":0},0,{"$f":"tbl_Companys!D1423","v":0},{"$f":"tbl_Companys!C1423","v":0},0,{"$f":"tbl_ConsultingCompanys!D1423","v":0},{"$f":"tbl_ConsultingCompanys!C1423","v":0},0]
[{"$nulls":10},{"$f":"tbl_ArchitectureOffices!D1424","v":0},{"$f":"tbl_ArchitectureOffices!C1424","v":0},0,{"$f":"tbl_Companys!D1424","v":0},{"$f":"tbl_Companys!C1424","v":0},0,{"$f":"tbl_ConsultingCompanys!D1424","v":0},{"$f":"tbl_ConsultingCompanys!C1424","v":0},0]
[{"$nulls":10},{"$f":"tbl_ArchitectureOffices!D1425","v":0},{"$f":"tbl_ArchitectureOffices!C1425","v":0},0,{"$f":"tbl_Companys!D1425","v":0},{"$f":"tbl_Companys!C1425","v":0},0,{"$f":"tbl_ConsultingCompanys!D1425","v":0},{"$f":"tbl_ConsultingCompanys!C1425","v":0},0]
[{"$nulls":10},{"$f":"tbl_ArchitectureOffices!D1426","v":0},{"$f":"tbl_ArchitectureOffices!C1426","v":0},0,{"$f":"tbl_Companys!D1426","v":0},{"$f":"tbl_Companys!C1426","v":0},0,{"$f":"tbl_ConsultingCompanys!D1426","v":0},{"$f":"tbl_ConsultingCompanys!C1426","v":0},0]
[{"$nulls":10},{"$f":"tbl_ArchitectureOffices!D1427","v":0},{"$f":"tbl_ArchitectureOffices!C1427","v":0},0,{"$f":"tbl_Companys!D1427","v":0},{"$f":"tbl_Companys!C1427","v":0},0,{"$f":"tbl_ConsultingCompanys!D1427","v":0},{"$f":"tbl_ConsultingCompanys!C1427","v":0},0]
[{"$nulls":10},{"$f":"tbl_ArchitectureOffices!D1428","v":0},{"$f":"tbl_ArchitectureOffices!C1428","v":0},0,{"$f":"tbl_Companys!D1428","v":0},{"$f":"tbl_Companys!C1428","v":0},0,{"$f":"tbl_ConsultingCompanys!D1428","v":0},{"$f":"tbl_ConsultingCompanys!C1428","v":0},0]
[{"$nulls":10},{"$f":"tbl_ArchitectureOffices!D1429","v":0},{"$f":"tbl_ArchitectureOffices!C1429","v":0},0,{"$f":"tbl_Companys!D1429","v":0},{"$f":"tbl_Companys!C1429","v":0},0,{"$f":"tbl_ConsultingCompanys!D1429","v":0},{"$f":"tbl_ConsultingCompanys!C1429","v":0},0]
[{"$nulls":10},{"$f":"tbl_ArchitectureOffices!D1430","v":0},{"$f":"tbl_ArchitectureOffices!C1430","v":0},0,{"$f":"tbl_Companys!D1430","v":0},{"$f":"tbl_Companys!C1430","v":0},0,{"$f":"tbl_ConsultingCompanys!D1430","v":0},{"$f":"tbl_ConsultingCompanys!C1430","v":0},0]
[{"$nulls":10},{"$f":"tbl_ArchitectureOffices!D1431","v":0},{"$f":"tbl_ArchitectureOffices!C1431","v":0},0,{"$f":"tbl_Companys!D1431","v":0},{"$f":"tbl_Companys!C1431","v":0},0,{"$f":"tbl_ConsultingCompanys!D1431","v":0},{"$f":"tbl_ConsultingCompanys!C1431","v":0},0]
[{"$nulls":10},{"$f":"tbl_ArchitectureOffices!D1432","v":0},{"$f":"tbl_ArchitectureOffices!C1432","v":0},0,{"$f":"tbl_Companys!D1432","v":0},{"$f":"tbl_Companys!C1432","v":0},0,{"$f":"tbl_ConsultingCompanys!D1432","v":0},{"$f":"tbl_ConsultingCompanys!C1432","v":0},0]
[{"$nulls":10},{"$f":"tbl_ArchitectureOffices!D1433","v":0},{"$f":"tbl_ArchitectureOffices!C1433","v":0},0,{"$f":"tbl_Companys!D1433","v":0},{"$f":"tbl_Companys!C1433","v":0},0,{"$f":"tbl_ConsultingCompanys!D1433","v":0},{"$f":"tbl_ConsultingCompanys!C1433","v":0},0]
[{"$nulls":10},{"$f":"tbl_ArchitectureOffices!D1434","v":0},{"$f":"tbl_ArchitectureOffices!C1434","v":0},0,{"$f":"tbl_Companys!D1434","v":0},{"$f":"tbl_Companys!C1434","v":0},0,{"$f":"tbl_ConsultingCompanys!D1434","v":0},{"$f":"tbl_ConsultingCompanys!C1434","v":0},0]
[{"$nulls":10},{"$f":"tbl_ArchitectureOffices!D1435","v":0},{"$f":"tbl_ArchitectureOffices!C1435","v":0},0,{"$f":"tbl_Companys!D1435","v":0},{"$f":"tbl_Companys!C1435","v":0},0,{"$f":"tbl_ConsultingCompanys!D1435","v":0},{"$f":"tbl_ConsultingCompanys!C1435","v":0},0]
[{"$nulls":10},{"$f":"tbl_ArchitectureOffices!D1436","v":0},{"$f":"tbl_ArchitectureOffices!C1436","v":0},0,{"$f":"tbl_Companys!D1436","v":0},{"$f":"tbl_Companys!C1436","v":0},0,{"$f":"tbl_ConsultingCompanys!D1436","v":0},{"$f":"tbl_ConsultingCompanys!C1436","v":0},0]
[{"$nulls":10},{"$f":"tbl_ArchitectureOffices!D1437","v":0},{"$f":"tbl_ArchitectureOffices!C1437","v":0},0,{"$f":"tbl_Companys!D1437","v":0},{"$f":"tbl_Companys!C1437","v":0},0,{"$f":"tbl_ConsultingCompanys!D1437","v":0},{"$f":"tbl_ConsultingCompanys!C1437","v":0},0]
[{"$nulls":10},{"$f":"tbl_ArchitectureOffices!D1438","v":0},{"$f":"tbl_ArchitectureOffices!C1438","v":0},0,{"$f":"tbl_Companys!D1438","v":0},{"$f":"tbl_Companys!C1438","v":0},0,{"$f":"tbl_ConsultingCompanys!D1438","v":0},{"$f":"tbl_ConsultingCompanys!C1438","v":0},0]
[{"$nulls":10},{"$f":"tbl_ArchitectureOffices!D1439","v":0},{"$f":"tbl_ArchitectureOffices!C1439","v":0},0,{"$f":"tbl_Companys!D1439","v":0},{"$f":"tbl_Companys!C1439","v":0},0,{"$f":"tbl_ConsultingCompanys!D1439","v":0},{"$f":"tbl_ConsultingCompanys!C1439","v":0},0]
[{"$nulls":10},{"$f":"tbl_ArchitectureOffices!D1440","v":0},{"$f":"tbl_ArchitectureOffices!C1440","v":0},0,{"$f":"tbl_Companys!D1440","v":0},{"$f":"tbl_Companys!C1440","v":0},0,{"$f":"tbl_ConsultingCompanys!D1440","v":0},{"$f":"tbl_ConsultingCompanys!C1440","v":0},0]
[{"$nulls":10},{"$f":"tbl_ArchitectureOffices!D1441","v":0},{"$f":"tbl_ArchitectureOffices!C1441","v":0},0,{"$f":"tbl_Companys!D1441","v":0},{"$f":"tbl_Companys!C1441","v":0},0,{"$f":"tbl_ConsultingCompanys!D1441","v":0},{"$f":"tbl_ConsultingCompanys!C1441","v":0},0]
[{"$nulls":10},{"$f":"tbl_ArchitectureOffices!D1442","v":0},{"$f":"tbl_ArchitectureOffices!C1442","v":0},0,{"$f":"tbl_Companys!D1442","v":0},{"$f":"tbl_Companys!C1442","v":0},0,{"$f":"tbl_ConsultingCompanys!D1442","v":0},{"$f":"tbl_ConsultingCompanys!C1442","v":0},0]
[{"$nulls":10},{"$f":"tbl_ArchitectureOffices!D1443","v":0},{"$f":"tbl_ArchitectureOffices!C1443","v":0},0,{"$f":"tbl_Companys!D1443","v":0},{"$f":"tbl_Companys!C1443","v":0},0,{"$f":"tbl_ConsultingCompanys!D1443","v":0},{"$f":"tbl_ConsultingCompanys!C1443","v":0},0]
[{"$nulls":10},{"$f":"tbl_ArchitectureOffices!D1444","v":0},{"$f":"tbl_ArchitectureOffices!C1444","v":0},0,{"$f":"tbl_Companys!D1444","v":0},{"$f":"tbl_Companys!C1444","v":0},0,{"$f":"tbl_ConsultingCompanys!D1444","v":0},{"$f":"tbl_ConsultingCompanys!C1444","v":0},0]
[{"$nulls":10},{"$f":"tbl_ArchitectureOffices!D1445","v":0},{"$f":"tbl_ArchitectureOffices!C1445","v":0},0,{"$f":"tbl_Companys!D1445","v":0},{"$f":"tbl_Companys!C1445","v":0},0,{"$f":"tbl_ConsultingCompanys!D1445","v":0},{"$f":"tbl_ConsultingCompanys!C1445","v":0},0]
[{"$nulls":10},{"$f":"tbl_ArchitectureOffices!D1446","v":0},{"$f":"tbl_ArchitectureOffices!C1446","v":0},0,{"$f":"tbl_Companys!D1446","v":0},{"$f":"tbl_Companys!C1446","v":0},0,{"$f":"tbl_ConsultingCompanys!D1446","v":0},{"$f":"tbl_ConsultingCompanys!C1446","v":0},0]
[{"$nulls":10},{"$f":"tbl_ArchitectureOffices!D1447","v":0},{"$f":"tbl_ArchitectureOffices!C1447","v":0},0,{"$f":"tbl_Companys!D1447","v":0},{"$f":"tbl_Companys!C1447","v":0},0,{"$f":"tbl_ConsultingCompanys!D1447","v":0},{"$f":"tbl_ConsultingCompanys!C1447","v":0},0]
[{"$nulls":10},{"$f":"tbl_ArchitectureOffices!D1448","v":0},{"$f":"tbl_ArchitectureOffices!C1448","v":0},0,{"$f":"tbl_Companys!D1448","v":0},{"$f":"tbl_Companys!C1448","v":0},0,{"$f":"tbl_ConsultingCompanys!D1448","v":0},{"$f":"tbl_ConsultingCompanys!C1448","v":0},0]
[{"$nulls":10},{"$f":"tbl_ArchitectureOffices!D1449","v":0},{"$f":"tbl_ArchitectureOffices!C1449","v":0},0,{"$f":"tbl_Companys!D1449","v":0},{"$f":"tbl_Companys!C1449","v":0},0,{"$f":"tbl_ConsultingCompanys!D1449","v":0},{"$f":"tbl_ConsultingCompanys!C1449","v":0},0]
[{"$nulls":10},{"$f":"tbl_ArchitectureOffices!D1450","v":0},{"$f":"tbl_ArchitectureOffices!C1450","v":0},0,{"$f":"tbl_Companys!D1450","v":0},{"$f":"tbl_Companys!C1450","v":0},0,{"$f":"tbl_ConsultingCompanys!D1450","v":0},{"$f":"tbl_ConsultingCompanys!C1450","v":0},0]
[{"$nulls":10},{"$f":"tbl_ArchitectureOffices!D1451","v":0},{"$f":"tbl_ArchitectureOffices!C1451","v":0},0,{"$f":"tbl_Companys!D1451","v":0},{"$f":"tbl_Companys!C1451","v":0},0,{"$f":"tbl_ConsultingCompanys!D1451","v":0},{"$f":"tbl_ConsultingCompanys!C1451","v":0},0]
[{"$nulls":10},{"$f":"tbl_ArchitectureOffices!D1452","v":0},{"$f":"tbl_ArchitectureOffices!C1452","v":0},0,{"$f":"tbl_Companys!D1452","v":0},{"$f":"tbl_Companys!C1452","v":0},0,{"$f":"tbl_ConsultingCompanys!D1452","v":0},{"$f":"tbl_ConsultingCompanys!C1452","v":0},0]
[{"$nulls":10},{"$f":"tbl_ArchitectureOffices!D1453","v":0},{"$f":"tbl_ArchitectureOffices!C1453","v":0},0,{"$f":"tbl_Companys!D1453","v":0},{"$f":"tbl_Companys!C1453","v":0},0,{"$f":"tbl_ConsultingCompanys!D1453","v":0},{"$f":"tbl_ConsultingCompanys!C1453","v":0},0]
[{"$nulls":10},{"$f":"tbl_ArchitectureOffices!D1454","v":0},{"$f":"tbl_ArchitectureOffices!C1454","v":0},0,{"$f":"tbl_Companys!D1454","v":0},{"$f":"tbl_Companys!C1454","v":0},0,{"$f":"tbl_ConsultingCompanys!D1454","v":0},{"$f":"tbl_ConsultingCompanys!C1454","v":0},0]
[{"$nulls":10},{"$f":"tbl_ArchitectureOffices!D1455","v":0},{"$f":"tbl_ArchitectureOffices!C1455","v":0},0,{"$f":"tbl_Companys!D1455","v":0},{"$f":"tbl_Companys!C1455","v":0},0,{"$f":"tbl_ConsultingCompanys!D1455","v":0},{"$f":"tbl_ConsultingCompanys!C1455","v":0},0]
[{"$nulls":10},{"$f":"tbl_ArchitectureOffices!D1456","v":0},{"$f":"tbl_ArchitectureOffices!C1456","v":0},0,{"$f":"tbl_Companys!D1456","v":0},{"$f":"tbl_Companys!C1456","v":0},0,{"$f":"tbl_ConsultingCompanys!D1456","v":0},{"$f":"tbl_ConsultingCompanys!C1456","v":0},0]
[{"$nulls":10},{"$f":"tbl_ArchitectureOffices!D1457","v":0},{"$f":"tbl_ArchitectureOffices!C1457","v":0},0,{"$f":"tbl_Companys!D1457","v":0},{"$f":"tbl_Companys!C1457","v":0},0,{"$f":"tbl_ConsultingCompanys!D1457","v":0},{"$f":"tbl_ConsultingCompanys!C1457","v":0},0]
[{"$nulls":10},{"$f":"tbl_ArchitectureOffices!D1458","v":0},{"$f":"tbl_ArchitectureOffices!C1458","v":0},0,{"$f":"tbl_Companys!D1458","v":0},{"$f":"tbl_Companys!C1458","v":0},0,{"$f":"tbl_ConsultingCompanys!D1458","v":0},{"$f":"tbl_ConsultingCompanys!C1458","v":0},0]
[{"$nulls":10},{"$f":"tbl_ArchitectureOffices!D1459","v":0},{"$f":"tbl_ArchitectureOffices!C1459","v":0},0,{"$f":"tbl_Companys!D1459","v":0},{"$f":"tbl_Companys!C1459","v":0},0,{"$f":"tbl_ConsultingCompanys!D1459","v":0},{"$f":"tbl_ConsultingCompanys!C1459","v":0},0]
[{"$nulls":10},{"$f":"tbl_ArchitectureOffices!D1460","v":0},{"$f":"tbl_ArchitectureOffices!C1460","v":0},0,{"$f":"tbl_Companys!D1460","v":0},{"$f":"tbl_Companys!C1460","v":0},0,{"$f":"tbl_ConsultingCompanys!D1460","v":0},{"$f":"tbl_ConsultingCompanys!C1460","v":0},0]
[{"$nulls":10},{"$f":"tbl_ArchitectureOffices!D1461","v":0},{"$f":"tbl_ArchitectureOffices!C1461","v":0},0,{"$f":"tbl_Companys!D1461","v":0},{"$f":"tbl_Companys!C1461","v":0},0,{"$f":"tbl_ConsultingCompanys!D1461","v":0},{"$f":"tbl_ConsultingCompanys!C1461","v":0},0]
[{"$nulls":10},{"$f":"tbl_ArchitectureOffices!D1462","v":0},{"$f":"tbl_ArchitectureOffices!C1462","v":0},{"$f":"IFERROR(REPLACE(K1462,FIND(\" \",K1462,LEN(K1462)),1,\"\"),K1462)","v":0},{"$f":"tbl_Companys!D1462","v":0},{"$f":"tbl_Companys!C1462","v":0},0,{"$f":"tbl_ConsultingCompanys!D1462","v":0},{"$f":"tbl_ConsultingCompanys!C1462","v":0},0]
[{"$nulls":10},{"$f":"tbl_ArchitectureOffices!D1463","v":0},{"$f":"tbl_ArchitectureOffices!C1463","v":0},0,{"$f":"tbl_Companys!D1463","v":0},{"$f":"tbl_Companys!C1463","v":0},0,{"$f":"tbl_ConsultingCompanys!D1463","v":0},{"$f":"tbl_ConsultingCompanys!C1463","v":0},0]
[{"$nulls":10},{"$f":"tbl_ArchitectureOffices!D1464","v":0},{"$f":"tbl_ArchitectureOffices!C1464","v":0},0,{"$f":"tbl_Companys!D1464","v":0},{"$f":"tbl_Companys!C1464","v":0},0,{"$f":"tbl_ConsultingCompanys!D1464","v":0},{"$f":"tbl_ConsultingCompanys!C1464","v":0},0]
[{"$nulls":10},{"$f":"tbl_ArchitectureOffices!D1465","v":0},{"$f":"tbl_ArchitectureOffices!C1465","v":0},0,{"$f":"tbl_Companys!D1465","v":0},{"$f":"tbl_Companys!C1465","v":0},0,{"$f":"tbl_ConsultingCompanys!D1465","v":0},{"$f":"tbl_ConsultingCompanys!C1465","v":0},0]
[{"$nulls":10},{"$f":"tbl_ArchitectureOffices!D1466","v":0},{"$f":"tbl_ArchitectureOffices!C1466","v":0},0,{"$f":"tbl_Companys!D1466","v":0},{"$f":"tbl_Companys!C1466","v":0},0,{"$f":"tbl_ConsultingCompanys!D1466","v":0},{"$f":"tbl_ConsultingCompanys!C1466","v":0},0]
[{"$nulls":10},{"$f":"tbl_ArchitectureOffices!D1467","v":0},{"$f":"tbl_ArchitectureOffices!C1467","v":0},0,{"$f":"tbl_Companys!D1467","v":0},{"$f":"tbl_Companys!C1467","v":0},0,{"$f":"tbl_ConsultingCompanys!D1467","v":0},{"$f":"tbl_ConsultingCompanys!C1467","v":0},0]
[{"$nulls":10},{"$f":"tbl_ArchitectureOffices!D1468","v":0},{"$f":"tbl_ArchitectureOffices!C1468","v":0},0,{"$f":"tbl_Companys!D1468","v":0},{"$f":"tbl_Companys!C1468","v":0},0,{"$f":"tbl_ConsultingCompanys!D1468","v":0},{"$f":"tbl_ConsultingCompanys!C1468","v":0},0]
[{"$nulls":10},{"$f":"tbl_ArchitectureOffices!D1469","v":0},{"$f":"tbl_ArchitectureOffices!C1469","v":0},0,{"$f":"tbl_Companys!D1469","v":0},{"$f":"tbl_Companys!C1469","v":0},0,{"$f":"tbl_ConsultingCompanys!D1469","v":0},{"$f":"tbl_ConsultingCompanys!C1469","v":0},0]
[{"$nulls":10},{"$f":"tbl_ArchitectureOffices!D1470","v":0},{"$f":"tbl_ArchitectureOffices!C1470","v":0},0,{"$f":"tbl_Companys!D1470","v":0},{"$f":"tbl_Companys!C1470","v":0},0,{"$f":"tbl_ConsultingCompanys!D1470","v":0},{"$f":"tbl_ConsultingCompanys!C1470","v":0},0]
[{"$nulls":10},{"$f":"tbl_ArchitectureOffices!D1471","v":0},{"$f":"tbl_ArchitectureOffices!C1471","v":0},0,{"$f":"tbl_Companys!D1471","v":0},{"$f":"tbl_Companys!C1471","v":0},0,{"$f":"tbl_ConsultingCompanys!D1471","v":0},{"$f":"tbl_ConsultingCompanys!C1471","v":0},0]
[{"$nulls":10},{"$f":"tbl_ArchitectureOffices!D1472","v":0},{"$f":"tbl_ArchitectureOffices!C1472","v":0},0,{"$f":"tbl_Companys!D1472","v":0},{"$f":"tbl_Companys!C1472","v":0},0,{"$f":"tbl_ConsultingCompanys!D1472","v":0},{"$f":"tbl_ConsultingCompanys!C1472","v":0},0]
[{"$nulls":10},{"$f":"tbl_ArchitectureOffices!D1473","v":0},{"$f":"tbl_ArchitectureOffices!C1473","v":0},0,{"$f":"tbl_Companys!D1473","v":0},{"$f":"tbl_Companys!C1473","v":0},0,{"$f":"tbl_ConsultingCompanys!D1473","v":0},{"$f":"tbl_ConsultingCompanys!C1473","v":0},0]
[{"$nulls":10},{"$f":"tbl_ArchitectureOffices!D1474","v":0},{"$f":"tbl_ArchitectureOffices!C1474","v":0},0,{"$f":"tbl_Companys!D1474","v":0},{"$f":"tbl_Companys!C1474","v":0},0,{"$f":"tbl_ConsultingCompanys!D1474","v":0},{"$f":"tbl_ConsultingCompanys!C1474","v":0},0]
[{"$nulls":10},{"$f":"tbl_ArchitectureOffices!D1475","v":0},{"$f":"tbl_ArchitectureOffices!C1475","v":0},0,{"$f":"tbl_Companys!D1475","v":0},{"$f":"tbl_Companys!C1475","v":0},{"$f":"IFERROR(REPLACE(N1475,FIND(\" \",N1475,LEN(N1475)),1,\"\"),N1475)","v":0},{"$f":"tbl_ConsultingCompanys!D1475","v":0},{"$f":"tbl_ConsultingCompanys!C1475","v":0},{"$f":"IFERROR(REPLACE(Q1475,FIND(\" \",Q1475,LEN(Q1475)),1,\"\"),Q1475)","v":0}]
[{"$nulls":10},{"$f":"tbl_ArchitectureOffices!D1476","v":0},{"$f":"tbl_ArchitectureOffices!C1476","v":0},0,{"$f":"tbl_Companys!D1476","v":0},{"$f":"tbl_Companys!C1476","v":0},0,{"$f":"tbl_ConsultingCompanys!D1476","v":0},{"$f":"tbl_ConsultingCompanys!C1476","v":0},0]
[{"$nulls":10},{"$f":"tbl_ArchitectureOffices!D1477","v":0},{"$f":"tbl_ArchitectureOffices!C1477","v":0},0,{"$f":"tbl_Companys!D1477","v":0},{"$f":"tbl_Companys!C1477","v":0},0,{"$f":"tbl_ConsultingCompanys!D1477","v":0},{"$f":"tbl_ConsultingCompanys!C1477","v":0},0]
[{"$nulls":10},{"$f":"tbl_ArchitectureOffices!D1478","v":0},{"$f":"tbl_ArchitectureOffices!C1478","v":0},0,{"$f":"tbl_Companys!D1478","v":0},{"$f":"tbl_Companys!C1478","v":0},0,{"$f":"tbl_ConsultingCompanys!D1478","v":0},{"$f":"tbl_ConsultingCompanys!C1478","v":0},0]
[{"$nulls":10},{"$f":"tbl_ArchitectureOffices!D1479","v":0},{"$f":"tbl_ArchitectureOffices!C1479","v":0},0,{"$f":"tbl_Companys!D1479","v":0},{"$f":"tbl_Companys!C1479","v":0},0,{"$f":"tbl_ConsultingCompanys!D1479","v":0},{"$f":"tbl_ConsultingCompanys!C1479","v":0},0]
[{"$nulls":10},{"$f":"tbl_ArchitectureOffices!D1480","v":0},{"$f":"tbl_ArchitectureOffices!C1480","v":0},0,{"$f":"tbl_Companys!D1480","v":0},{"$f":"tbl_Companys!C1480","v":0},0,{"$f":"tbl_ConsultingCompanys!D1480","v":0},{"$f":"tbl_ConsultingCompanys!C1480","v":0},0]
[{"$nulls":10},{"$f":"tbl_ArchitectureOffices!D1481","v":0},{"$f":"tbl_ArchitectureOffices!C1481","v":0},0,{"$f":"tbl_Companys!D1481","v":0},{"$f":"tbl_Companys!C1481","v":0},0,{"$f":"tbl_ConsultingCompanys!D1481","v":0},{"$f":"tbl_ConsultingCompanys!C1481","v":0},0]
[{"$nulls":10},{"$f":"tbl_ArchitectureOffices!D1482","v":0},{"$f":"tbl_ArchitectureOffices!C1482","v":0},0,{"$f":"tbl_Companys!D1482","v":0},{"$f":"tbl_Companys!C1482","v":0},0,{"$f":"tbl_ConsultingCompanys!D1482","v":0},{"$f":"tbl_ConsultingCompanys!C1482","v":0},0]
[{"$nulls":10},{"$f":"tbl_ArchitectureOffices!D1483","v":0},{"$f":"tbl_ArchitectureOffices!C1483","v":0},0,{"$f":"tbl_Companys!D1483","v":0},{"$f":"tbl_Companys!C1483","v":0},0,{"$f":"tbl_ConsultingCompanys!D1483","v":0},{"$f":"tbl_ConsultingCompanys!C1483","v":0},0]
[{"$nulls":10},{"$f":"tbl_ArchitectureOffices!D1484","v":0},{"$f":"tbl_ArchitectureOffices!C1484","v":0},0,{"$f":"tbl_Companys!D1484","v":0},{"$f":"tbl_Companys!C1484","v":0},0,{"$f":"tbl_ConsultingCompanys!D1484","v":0},{"$f":"tbl_ConsultingCompanys!C1484","v":0},0]
[{"$nulls":10},{"$f":"tbl_ArchitectureOffices!D1485","v":0},{"$f":"tbl_ArchitectureOffices!C1485","v":0},0,{"$f":"tbl_Companys!D1485","v":0},{"$f":"tbl_Companys!C1485","v":0},0,{"$f":"tbl_ConsultingCompanys!D1485","v":0},{"$f":"tbl_ConsultingCompanys!C1485","v":0},0]
[{"$nulls":10},{"$f":"tbl_ArchitectureOffices!D1486","v":0},{"$f":"tbl_ArchitectureOffices!C1486","v":0},0,{"$f":"tbl_Companys!D1486","v":0},{"$f":"tbl_Companys!C1486","v":0},0,{"$f":"tbl_ConsultingCompanys!D1486","v":0},{"$f":"tbl_ConsultingCompanys!C1486","v":0},0]
[{"$nulls":10},{"$f":"tbl_ArchitectureOffices!D1487","v":0},{"$f":"tbl_ArchitectureOffices!C1487","v":0},0,{"$f":"tbl_Companys!D1487","v":0},{"$f":"tbl_Companys!C1487","v":0},0,{"$f":"tbl_ConsultingCompanys!D1487","v":0},{"$f":"tbl_ConsultingCompanys!C1487","v":0},0]
[{"$nulls":10},{"$f":"tbl_ArchitectureOffices!D1488","v":0},{"$f":"tbl_ArchitectureOffices!C1488","v":0},0,{"$f":"tbl_Companys!D1488","v":0},{"$f":"tbl_Companys!C1488","v":0},0,{"$f":"tbl_ConsultingCompanys!D1488","v":0},{"$f":"tbl_ConsultingCompanys!C1488","v":0},0]
[{"$nulls":10},{"$f":"tbl_ArchitectureOffices!D1489","v":0},{"$f":"tbl_ArchitectureOffices!C1489","v":0},0,{"$f":"tbl_Companys!D1489","v":0},{"$f":"tbl_Companys!C1489","v":0},0,{"$f":"tbl_ConsultingCompanys!D1489","v":0},{"$f":"tbl_ConsultingCompanys!C1489","v":0},0]
[{"$nulls":10},{"$f":"tbl_ArchitectureOffices!D1490","v":0},{"$f":"tbl_ArchitectureOffices!C1490","v":0},0,{"$f":"tbl_Companys!D1490","v":0},{"$f":"tbl_Companys!C1490","v":0},0,{"$f":"tbl_ConsultingCompanys!D1490","v":0},{"$f":"tbl_ConsultingCompanys!C1490","v":0},0]
[{"$nulls":10},{"$f":"tbl_ArchitectureOffices!D1491","v":0},{"$f":"tbl_ArchitectureOffices!C1491","v":0},0,{"$f":"tbl_Companys!D1491","v":0},{"$f":"tbl_Companys!C1491","v":0},0,{"$f":"tbl_ConsultingCompanys!D1491","v":0},{"$f":"tbl_ConsultingCompanys!C1491","v":0},0]
[{"$nulls":10},{"$f":"tbl_ArchitectureOffices!D1492","v":0},{"$f":"tbl_ArchitectureOffices!C1492","v":0},0,{"$f":"tbl_Companys!D1492","v":0},{"$f":"tbl_Companys!C1492","v":0},0,{"$f":"tbl_ConsultingCompanys!D1492","v":0},{"$f":"tbl_ConsultingCompanys!C1492","v":0},0]
[{"$nulls":10},{"$f":"tbl_ArchitectureOffices!D1493","v":0},{"$f":"tbl_ArchitectureOffices!C1493","v":0},0,{"$f":"tbl_Companys!D1493","v":0},{"$f":"tbl_Companys!C1493","v":0},0,{"$f":"tbl_ConsultingCompanys!D1493","v":0},{"$f":"tbl_ConsultingCompanys!C1493","v":0},0]
[{"$nulls":10},{"$f":"tbl_ArchitectureOffices!D1494","v":0},{"$f":"tbl_ArchitectureOffices!C1494","v":0},0,{"$f":"tbl_Companys!D1494","v":0},{"$f":"tbl_Companys!C1494","v":0},0,{"$f":"tbl_ConsultingCompanys!D1494","v":0},{"$f":"tbl_ConsultingCompanys!C1494","v":0},0]
[{"$nulls":10},{"$f":"tbl_ArchitectureOffices!D1495","v":0},{"$f":"tbl_ArchitectureOffices!C1495","v":0},0,{"$f":"tbl_Companys!D1495","v":0},{"$f":"tbl_Companys!C1495","v":0},0,{"$f":"tbl_ConsultingCompanys!D1495","v":0},{"$f":"tbl_ConsultingCompanys!C1495","v":0},0]
[{"$nulls":10},{"$f":"tbl_ArchitectureOffices!D1496","v":0},{"$f":"tbl_ArchitectureOffices!C1496","v":0},0,{"$f":"tbl_Companys!D1496","v":0},{"$f":"tbl_Companys!C1496","v":0},0,{"$f":"tbl_ConsultingCompanys!D1496","v":0},{"$f":"tbl_ConsultingCompanys!C1496","v":0},0]
[{"$nulls":10},{"$f":"tbl_ArchitectureOffices!D1497","v":0},{"$f":"tbl_ArchitectureOffices!C1497","v":0},0,{"$f":"tbl_Companys!D1497","v":0},{"$f":"tbl_Companys!C1497","v":0},0,{"$f":"tbl_ConsultingCompanys!D1497","v":0},{"$f":"tbl_ConsultingCompanys!C1497","v":0},0]
[{"$nulls":10},{"$f":"tbl_ArchitectureOffices!D1498","v":0},{"$f":"tbl_ArchitectureOffices!C1498","v":0},0,{"$f":"tbl_Companys!D1498","v":0},{"$f":"tbl_Companys!C1498","v":0},0,{"$f":"tbl_ConsultingCompanys!D1498","v":0},{"$f":"tbl_ConsultingCompanys!C1498","v":0},0]
[{"$nulls":10},{"$f":"tbl_ArchitectureOffices!D1499","v":0},{"$f":"tbl_ArchitectureOffices!C1499","v":0},0,{"$f":"tbl_Companys!D1499","v":0},{"$f":"tbl_Companys!C1499","v":0},0,{"$f":"tbl_ConsultingCompanys!D1499","v":0},{"$f":"tbl_ConsultingCompanys!C1499","v":0},0]
[{"$nulls":10},{"$f":"tbl_ArchitectureOffices!D1500","v":0},{"$f":"tbl_ArchitectureOffices!C1500","v":0},0,{"$f":"tbl_Companys!D1500","v":0},{"$f":"tbl_Companys!C1500","v":0},0,{"$f":"tbl_ConsultingCompanys!D1500","v":0},{"$f":"tbl_ConsultingCompanys!C1500","v":0},0]
[{"$nulls":10},{"$f":"tbl_ArchitectureOffices!D1501","v":0},{"$f":"tbl_ArchitectureOffices!C1501","v":0},0,{"$f":"tbl_Companys!D1501","v":0},{"$f":"tbl_Companys!C1501","v":0},0,{"$f":"tbl_ConsultingCompanys!D1501","v":0},{"$f":"tbl_ConsultingCompanys!C1501","v":0},0]
[{"$nulls":10},{"$f":"tbl_ArchitectureOffices!D1502","v":0},{"$f":"tbl_ArchitectureOffices!C1502","v":0},0,{"$f":"tbl_Companys!D1502","v":0},{"$f":"tbl_Companys!C1502","v":0},0,{"$f":"tbl_ConsultingCompanys!D1502","v":0},{"$f":"tbl_ConsultingCompanys!C1502","v":0},0]
[{"$nulls":10},{"$f":"tbl_ArchitectureOffices!D1503","v":0},{"$f":"tbl_ArchitectureOffices!C1503","v":0},0,{"$f":"tbl_Companys!D1503","v":0},{"$f":"tbl_Companys!C1503","v":0},0,{"$f":"tbl_ConsultingCompanys!D1503","v":0},{"$f":"tbl_ConsultingCompanys!C1503","v":0},0]
[{"$nulls":10},{"$f":"tbl_ArchitectureOffices!D1504","v":0},{"$f":"tbl_ArchitectureOffices!C1504","v":0},0,{"$f":"tbl_Companys!D1504","v":0},{"$f":"tbl_Companys!C1504","v":0},0,{"$f":"tbl_ConsultingCompanys!D1504","v":0},{"$f":"tbl_ConsultingCompanys!C1504","v":0},0]
[{"$nulls":10},{"$f":"tbl_ArchitectureOffices!D1505","v":0},{"$f":"tbl_ArchitectureOffices!C1505","v":0},0,{"$f":"tbl_Companys!D1505","v":0},{"$f":"tbl_Companys!C1505","v":0},0,{"$f":"tbl_ConsultingCompanys!D1505","v":0},{"$f":"tbl_ConsultingCompanys!C1505","v":0},0]
[{"$nulls":10},{"$f":"tbl_ArchitectureOffices!D1506","v":0},{"$f":"tbl_ArchitectureOffices!C1506","v":0},0,{"$f":"tbl_Companys!D1506","v":0},{"$f":"tbl_Companys!C1506","v":0},0,{"$f":"tbl_ConsultingCompanys!D1506","v":0},{"$f":"tbl_ConsultingCompanys!C1506","v":0},0]
[{"$nulls":10},{"$f":"tbl_ArchitectureOffices!D1507","v":0},{"$f":"tbl_ArchitectureOffices!C1507","v":0},0,{"$f":"tbl_Companys!D1507","v":0},{"$f":"tbl_Companys!C1507","v":0},0,{"$f":"tbl_ConsultingCompanys!D1507","v":0},{"$f":"tbl_ConsultingCompanys!C1507","v":0},0]
[{"$nulls":10},{"$f":"tbl_ArchitectureOffices!D1508","v":0},{"$f":"tbl_ArchitectureOffices!C1508","v":0},0,{"$f":"tbl_Companys!D1508","v":0},{"$f":"tbl_Companys!C1508","v":0},0,{"$f":"tbl_ConsultingCompanys!D1508","v":0},{"$f":"tbl_ConsultingCompanys!C1508","v":0},0]
[{"$nulls":10},{"$f":"tbl_ArchitectureOffices!D1509","v":0},{"$f":"tbl_ArchitectureOffices!C1509","v":0},0,{"$f":"tbl_Companys!D1509","v":0},{"$f":"tbl_Companys!C1509","v":0},0,{"$f":"tbl_ConsultingCompanys!D1509","v":0},{"$f":"tbl_ConsultingCompanys!C1509","v":0},0]
[{"$nulls":10},{"$f":"tbl_ArchitectureOffices!D1510","v":0},{"$f":"tbl_ArchitectureOffices!C1510","v":0},0,{"$f":"tbl_Companys!D1510","v":0},{"$f":"tbl_Companys!C1510","v":0},0,{"$f":"tbl_ConsultingCompanys!D1510","v":0},{"$f":"tbl_ConsultingCompanys!C1510","v":0},0]
[{"$nulls":10},{"$f":"tbl_ArchitectureOffices!D1511","v":0},{"$f":"tbl_ArchitectureOffices!C1511","v":0},0,{"$f":"tbl_Companys!D1511","v":0},{"$f":"tbl_Companys!C1511","v":0},0,{"$f":"tbl_ConsultingCompanys!D1511","v":0},{"$f":"tbl_ConsultingCompanys!C1511","v":0},0]
[{"$nulls":10},{"$f":"tbl_ArchitectureOffices!D1512","v":0},{"$f":"tbl_ArchitectureOffices!C1512","v":0},0,{"$f":"tbl_Companys!D1512","v":0},{"$f":"tbl_Companys!C1512","v":0},0,{"$f":"tbl_ConsultingCompanys!D1512","v":0},{"$f":"tbl_ConsultingCompanys!C1512","v":0},0]
[{"$nulls":10},{"$f":"tbl_ArchitectureOffices!D1513","v":0},{"$f":"tbl_ArchitectureOffices!C1513","v":0},0,{"$f":"tbl_Companys!D1513","v":0},{"$f":"tbl_Companys!C1513","v":0},0,{"$f":"tbl_ConsultingCompanys!D1513","v":0},{"$f":"tbl_ConsultingCompanys!C1513","v":0},0]
[{"$nulls":10},{"$f":"tbl_ArchitectureOffices!D1514","v":0},{"$f":"tbl_ArchitectureOffices!C1514","v":0},0,{"$f":"tbl_Companys!D1514","v":0},{"$f":"tbl_Companys!C1514","v":0},0,{"$f":"tbl_ConsultingCompanys!D1514","v":0},{"$f":"tbl_ConsultingCompanys!C1514","v":0},0]
[{"$nulls":10},{"$f":"tbl_ArchitectureOffices!D1515","v":0},{"$f":"tbl_ArchitectureOffices!C1515","v":0},0,{"$f":"tbl_Companys!D1515","v":0},{"$f":"tbl_Companys!C1515","v":0},0,{"$f":"tbl_ConsultingCompanys!D1515","v":0},{"$f":"tbl_ConsultingCompanys!C1515","v":0},0]
[{"$nulls":10},{"$f":"tbl_ArchitectureOffices!D1516","v":0},{"$f":"tbl_ArchitectureOffices!C1516","v":0},0,{"$f":"tbl_Companys!D1516","v":0},{"$f":"tbl_Companys!C1516","v":0},0,{"$f":"tbl_ConsultingCompanys!D1516","v":0},{"$f":"tbl_ConsultingCompanys!C1516","v":0},0]
[{"$nulls":10},{"$f":"tbl_ArchitectureOffices!D1517","v":0},{"$f":"tbl_ArchitectureOffices!C1517","v":0},0,{"$f":"tbl_Companys!D1517","v":0},{"$f":"tbl_Companys!C1517","v":0},0,{"$f":"tbl_ConsultingCompanys!D1517","v":0},{"$f":"tbl_ConsultingCompanys!C1517","v":0},0]
[{"$nulls":10},{"$f":"tbl_ArchitectureOffices!D1518","v":0},{"$f":"tbl_ArchitectureOffices!C1518","v":0},0,{"$f":"tbl_Companys!D1518","v":0},{"$f":"tbl_Companys!C1518","v":0},0,{"$f":"tbl_ConsultingCompanys!D1518","v":0},{"$f":"tbl_ConsultingCompanys!C1518","v":0},0]
[{"$nulls":10},{"$f":"tbl_ArchitectureOffices!D1519","v":0},{"$f":"tbl_ArchitectureOffices!C1519","v":0},0,{"$f":"tbl_Companys!D1519","v":0},{"$f":"tbl_Companys!C1519","v":0},0,{"$f":"tbl_ConsultingCompanys!D1519","v":0},{"$f":"tbl_ConsultingCompanys!C1519","v":0},0]
[{"$nulls":10},{"$f":"tbl_ArchitectureOffices!D1520","v":0},{"$f":"tbl_ArchitectureOffices!C1520","v":0},0,{"$f":"tbl_Companys!D1520","v":0},{"$f":"tbl_Companys!C1520","v":0},0,{"$f":"tbl_ConsultingCompanys!D1520","v":0},{"$f":"tbl_ConsultingCompanys!C1520","v":0},0]
[{"$nulls":10},{"$f":"tbl_ArchitectureOffices!D1521","v":0},{"$f":"tbl_ArchitectureOffices!C1521","v":0},0,{"$f":"tbl_Companys!D1521","v":0},{"$f":"tbl_Companys!C1521","v":0},0,{"$f":"tbl_ConsultingCompanys!D1521","v":0},{"$f":"tbl_ConsultingCompanys!C1521","v":0},0]
[{"$nulls":10},{"$f":"tbl_ArchitectureOffices!D1522","v":0},{"$f":"tbl_ArchitectureOffices!C1522","v":0},0,{"$f":"tbl_Companys!D1522","v":0},{"$f":"tbl_Companys!C1522","v":0},0,{"$f":"tbl_ConsultingCompanys!D1522","v":0},{"$f":"tbl_ConsultingCompanys!C1522","v":0},0]
[{"$nulls":10},{"$f":"tbl_ArchitectureOffices!D1523","v":0},{"$f":"tbl_ArchitectureOffices!C1523","v":0},0,{"$f":"tbl_Companys!D1523","v":0},{"$f":"tbl_Companys!C1523","v":0},0,{"$f":"tbl_ConsultingCompanys!D1523","v":0},{"$f":"tbl_ConsultingCompanys!C1523","v":0},0]
[{"$nulls":10},{"$f":"tbl_ArchitectureOffices!D1524","v":0},{"$f":"tbl_ArchitectureOffices!C1524","v":0},0,{"$f":"tbl_Companys!D1524","v":0},{"$f":"tbl_Companys!C1524","v":0},0,{"$f":"tbl_ConsultingCompanys!D1524","v":0},{"$f":"tbl_ConsultingCompanys!C1524","v":0},0]
[{"$nulls":10},{"$f":"tbl_ArchitectureOffices!D1525","v":0},{"$f":"tbl_ArchitectureOffices!C1525","v":0},0,{"$f":"tbl_Companys!D1525","v":0},{"$f":"tbl_Companys!C1525","v":0},0,{"$f":"tbl_ConsultingCompanys!D1525","v":0},{"$f":"tbl_ConsultingCompanys!C1525","v":0},0]
[{"$nulls":10},{"$f":"tbl_ArchitectureOffices!D1526","v":0},{"$f":"tbl_ArchitectureOffices!C1526","v":0},{"$f":"IFERROR(REPLACE(K1526,FIND(\" \",K1526,LEN(K1526)),1,\"\"),K1526)","v":0},{"$f":"tbl_Companys!D1526","v":0},{"$f":"tbl_Companys!C1526","v":0},0,{"$f":"tbl_ConsultingCompanys!D1526","v":0},{"$f":"tbl_ConsultingCompanys!C1526","v":0},0]
[{"$nulls":10},{"$f":"tbl_ArchitectureOffices!D1527","v":0},{"$f":"tbl_ArchitectureOffices!C1527","v":0},0,{"$f":"tbl_Companys!D1527","v":0},{"$f":"tbl_Companys!C1527","v":0},0,{"$f":"tbl_ConsultingCompanys!D1527","v":0},{"$f":"tbl_ConsultingCompanys!C1527","v":0},0]
[{"$nulls":10},{"$f":"tbl_ArchitectureOffices!D1528","v":0},{"$f":"tbl_ArchitectureOffices!C1528","v":0},0,{"$f":"tbl_Companys!D1528","v":0},{"$f":"tbl_Companys!C1528","v":0},0,{"$f":"tbl_ConsultingCompanys!D1528","v":0},{"$f":"tbl_ConsultingCompanys!C1528","v":0},0]
[{"$nulls":10},{"$f":"tbl_ArchitectureOffices!D1529","v":0},{"$f":"tbl_ArchitectureOffices!C1529","v":0},0,{"$f":"tbl_Companys!D1529","v":0},{"$f":"tbl_Companys!C1529","v":0},0,{"$f":"tbl_ConsultingCompanys!D1529","v":0},{"$f":"tbl_ConsultingCompanys!C1529","v":0},0]
[{"$nulls":10},{"$f":"tbl_ArchitectureOffices!D1530","v":0},{"$f":"tbl_ArchitectureOffices!C1530","v":0},0,{"$f":"tbl_Companys!D1530","v":0},{"$f":"tbl_Companys!C1530","v":0},0,{"$f":"tbl_ConsultingCompanys!D1530","v":0},{"$f":"tbl_ConsultingCompanys!C1530","v":0},0]
[{"$nulls":10},{"$f":"tbl_ArchitectureOffices!D1531","v":0},{"$f":"tbl_ArchitectureOffices!C1531","v":0},0,{"$f":"tbl_Companys!D1531","v":0},{"$f":"tbl_Companys!C1531","v":0},0,{"$f":"tbl_ConsultingCompanys!D1531","v":0},{"$f":"tbl_ConsultingCompanys!C1531","v":0},0]
[{"$nulls":10},{"$f":"tbl_ArchitectureOffices!D1532","v":0},{"$f":"tbl_ArchitectureOffices!C1532","v":0},0,{"$f":"tbl_Companys!D1532","v":0},{"$f":"tbl_Companys!C1532","v":0},0,{"$f":"tbl_ConsultingCompanys!D1532","v":0},{"$f":"tbl_ConsultingCompanys!C1532","v":0},0]
[{"$nulls":10},{"$f":"tbl_ArchitectureOffices!D1533","v":0},{"$f":"tbl_ArchitectureOffices!C1533","v":0},0,{"$f":"tbl_Companys!D1533","v":0},{"$f":"tbl_Companys!C1533","v":0},0,{"$f":"tbl_ConsultingCompanys!D1533","v":0},{"$f":"tbl_ConsultingCompanys!C1533","v":0},0]
[{"$nulls":10},{"$f":"tbl_ArchitectureOffices!D1534","v":0},{"$f":"tbl_ArchitectureOffices!C1534","v":0},0,{"$f":"tbl_Companys!D1534","v":0},{"$f":"tbl_Companys!C1534","v":0},0,{"$f":"tbl_ConsultingCompanys!D1534","v":0},{"$f":"tbl_ConsultingCompanys!C1534","v":0},0]
[{"$nulls":10},{"$f":"tbl_ArchitectureOffices!D1535","v":0},{"$f":"tbl_ArchitectureOffices!C1535","v":0},0,{"$f":"tbl_Companys!D1535","v":0},{"$f":"tbl_Companys!C1535","v":0},0,{"$f":"tbl_ConsultingCompanys!D1535","v":0},{"$f":"tbl_ConsultingCompanys!C1535","v":0},0]
[{"$nulls":10},{"$f":"tbl_ArchitectureOffices!D1536","v":0},{"$f":"tbl_ArchitectureOffices!C1536","v":0},0,{"$f":"tbl_Companys!D1536","v":0},{"$f":"tbl_Companys!C1536","v":0},0,{"$f":"tbl_ConsultingCompanys!D1536","v":0},{"$f":"tbl_ConsultingCompanys!C1536","v":0},0]
[{"$nulls":10},{"$f":"tbl_ArchitectureOffices!D1537","v":0},{"$f":"tbl_ArchitectureOffices!C1537","v":0},0,{"$f":"tbl_Companys!D1537","v":0},{"$f":"tbl_Companys!C1537","v":0},0,{"$f":"tbl_ConsultingCompanys!D1537","v":0},{"$f":"tbl_ConsultingCompanys!C1537","v":0},0]
[{"$nulls":10},{"$f":"tbl_ArchitectureOffices!D1538","v":0},{"$f":"tbl_ArchitectureOffices!C1538","v":0},0,{"$f":"tbl_Companys!D1538","v":0},{"$f":"tbl_Companys!C1538","v":0},0,{"$f":"tbl_ConsultingCompanys!D1538","v":0},{"$f":"tbl_ConsultingCompanys!C1538","v":0},0]
[{"$nulls":10},{"$f":"tbl_ArchitectureOffices!D1539","v":0},{"$f":"tbl_ArchitectureOffices!C1539","v":0},0,{"$f":"tbl_Companys!D1539","v":0},{"$f":"tbl_Companys!C1539","v":0},{"$f":"IFERROR(REPLACE(N1539,FIND(\" \",N1539,LEN(N1539)),1,\"\"),N1539)","v":0},{"$f":"tbl_ConsultingCompanys!D1539","v":0},{"$f":"tbl_ConsultingCompanys!C1539","v":0},{"$f":"IFERROR(REPLACE(Q1539,FIND(\" \",Q1539,LEN(Q1539)),1,\"\"),Q1539)","v":0}]
[{"$nulls":10},{"$f":"tbl_ArchitectureOffices!D1540","v":0},{"$f":"tbl_ArchitectureOffices!C1540","v":0},0,{"$f":"tbl_Companys!D1540","v":0},{"$f":"tbl_Companys!C1540","v":0},0,{"$f":"tbl_ConsultingCompanys!D1540","v":0},{"$f":"tbl_ConsultingCompanys!C1540","v":0},0]
[{"$nulls":10},{"$f":"tbl_ArchitectureOffices!D1541","v":0},{"$f":"tbl_ArchitectureOffices!C1541","v":0},0,{"$f":"tbl_Companys!D1541","v":0},{"$f":"tbl_Companys!C1541","v":0},0,{"$f":"tbl_ConsultingCompanys!D1541","v":0},{"$f":"tbl_ConsultingCompanys!C1541","v":0},0]
[{"$nulls":10},{"$f":"tbl_ArchitectureOffices!D1542","v":0},{"$f":"tbl_ArchitectureOffices!C1542","v":0},0,{"$f":"tbl_Companys!D1542","v":0},{"$f":"tbl_Companys!C1542","v":0},0,{"$f":"tbl_ConsultingCompanys!D1542","v":0},{"$f":"tbl_ConsultingCompanys!C1542","v":0},0]
[{"$nulls":10},{"$f":"tbl_ArchitectureOffices!D1543","v":0},{"$f":"tbl_ArchitectureOffices!C1543","v":0},0,{"$f":"tbl_Companys!D1543","v":0},{"$f":"tbl_Companys!C1543","v":0},0,{"$f":"tbl_ConsultingCompanys!D1543","v":0},{"$f":"tbl_ConsultingCompanys!C1543","v":0},0]
[{"$nulls":10},{"$f":"tbl_ArchitectureOffices!D1544","v":0},{"$f":"tbl_ArchitectureOffices!C1544","v":0},0,{"$f":"tbl_Companys!D1544","v":0},{"$f":"tbl_Companys!C1544","v":0},0,{"$f":"tbl_ConsultingCompanys!D1544","v":0},{"$f":"tbl_ConsultingCompanys!C1544","v":0},0]
[{"$nulls":10},{"$f":"tbl_ArchitectureOffices!D1545","v":0},{"$f":"tbl_ArchitectureOffices!C1545","v":0},0,{"$f":"tbl_Companys!D1545","v":0},{"$f":"tbl_Companys!C1545","v":0},0,{"$f":"tbl_ConsultingCompanys!D1545","v":0},{"$f":"tbl_ConsultingCompanys!C1545","v":0},0]
[{"$nulls":10},{"$f":"tbl_ArchitectureOffices!D1546","v":0},{"$f":"tbl_ArchitectureOffices!C1546","v":0},0,{"$f":"tbl_Companys!D1546","v":0},{"$f":"tbl_Companys!C1546","v":0},0,{"$f":"tbl_ConsultingCompanys!D1546","v":0},{"$f":"tbl_ConsultingCompanys!C1546","v":0},0]
[{"$nulls":10},{"$f":"tbl_ArchitectureOffices!D1547","v":0},{"$f":"tbl_ArchitectureOffices!C1547","v":0},0,{"$f":"tbl_Companys!D1547","v":0},{"$f":"tbl_Companys!C1547","v":0},0,{"$f":"tbl_ConsultingCompanys!D1547","v":0},{"$f":"tbl_ConsultingCompanys!C1547","v":0},0]
[{"$nulls":10},{"$f":"tbl_ArchitectureOffices!D1548","v":0},{"$f":"tbl_ArchitectureOffices!C1548","v":0},0,{"$f":"tbl_Companys!D1548","v":0},{"$f":"tbl_Companys!C1548","v":0},0,{"$f":"tbl_ConsultingCompanys!D1548","v":0},{"$f":"tbl_ConsultingCompanys!C1548","v":0},0]
[{"$nulls":10},{"$f":"tbl_ArchitectureOffices!D1549","v":0},{"$f":"tbl_ArchitectureOffices!C1549","v":0},0,{"$f":"tbl_Companys!D1549","v":0},{"$f":"tbl_Companys!C1549","v":0},0,{"$f":"tbl_ConsultingCompanys!D1549","v":0},{"$f":"tbl_ConsultingCompanys!C1549","v":0},0]
[{"$nulls":10},{"$f":"tbl_ArchitectureOffices!D1550","v":0},{"$f":"tbl_ArchitectureOffices!C1550","v":0},0,{"$f":"tbl_Companys!D1550","v":0},{"$f":"tbl_Companys!C1550","v":0},0,{"$f":"tbl_ConsultingCompanys!D1550","v":0},{"$f":"tbl_ConsultingCompanys!C1550","v":0},0]
[{"$nulls":10},{"$f":"tbl_ArchitectureOffices!D1551","v":0},{"$f":"tbl_ArchitectureOffices!C1551","v":0},0,{"$f":"tbl_Companys!D1551","v":0},{"$f":"tbl_Companys!C1551","v":0},0,{"$f":"tbl_ConsultingCompanys!D1551","v":0},{"$f":"tbl_ConsultingCompanys!C1551","v":0},0]
[{"$nulls":10},{"$f":"tbl_ArchitectureOffices!D1552","v":0},{"$f":"tbl_ArchitectureOffices!C1552","v":0},0,{"$f":"tbl_Companys!D1552","v":0},{"$f":"tbl_Companys!C1552","v":0},0,{"$f":"tbl_ConsultingCompanys!D1552","v":0},{"$f":"tbl_ConsultingCompanys!C1552","v":0},0]
[{"$nulls":10},{"$f":"tbl_ArchitectureOffices!D1553","v":0},{"$f":"tbl_ArchitectureOffices!C1553","v":0},0,{"$f":"tbl_Companys!D1553","v":0},{"$f":"tbl_Companys!C1553","v":0},0,{"$f":"tbl_ConsultingCompanys!D1553","v":0},{"$f":"tbl_ConsultingCompanys!C1553","v":0},0]
[{"$nulls":10},{"$f":"tbl_ArchitectureOffices!D1554","v":0},{"$f":"tbl_ArchitectureOffices!C1554","v":0},0,{"$f":"tbl_Companys!D1554","v":0},{"$f":"tbl_Companys!C1554","v":0},0,{"$f":"tbl_ConsultingCompanys!D1554","v":0},{"$f":"tbl_ConsultingCompanys!C1554","v":0},0]
[{"$nulls":10},{"$f":"tbl_ArchitectureOffices!D1555","v":0},{"$f":"tbl_ArchitectureOffices!C1555","v":0},0,{"$f":"tbl_Companys!D1555","v":0},{"$f":"tbl_Companys!C1555","v":0},0,{"$f":"tbl_ConsultingCompanys!D1555","v":0},{"$f":"tbl_ConsultingCompanys!C1555","v":0},0]
[{"$nulls":10},{"$f":"tbl_ArchitectureOffices!D1556","v":0},{"$f":"tbl_ArchitectureOffices!C1556","v":0},0,{"$f":"tbl_Companys!D1556","v":0},{"$f":"tbl_Companys!C1556","v":0},0,{"$f":"tbl_ConsultingCompanys!D1556","v":0},{"$f":"tbl_ConsultingCompanys!C1556","v":0},0]
[{"$nulls":10},{"$f":"tbl_ArchitectureOffices!D1557","v":0},{"$f":"tbl_ArchitectureOffices!C1557","v":0},0,{"$f":"tbl_Companys!D1557","v":0},{"$f":"tbl_Companys!C1557","v":0},0,{"$f":"tbl_ConsultingCompanys!D1557","v":0},{"$f":"tbl_ConsultingCompanys!C1557","v":0},0]
[{"$nulls":10},{"$f":"tbl_ArchitectureOffices!D1558","v":0},{"$f":"tbl_ArchitectureOffices!C1558","v":0},0,{"$f":"tbl_Companys!D1558","v":0},{"$f":"tbl_Companys!C1558","v":0},0,{"$f":"tbl_ConsultingCompanys!D1558","v":0},{"$f":"tbl_ConsultingCompanys!C1558","v":0},0]
[{"$nulls":10},{"$f":"tbl_ArchitectureOffices!D1559","v":0},{"$f":"tbl_ArchitectureOffices!C1559","v":0},0,{"$f":"tbl_Companys!D1559","v":0},{"$f":"tbl_Companys!C1559","v":0},0,{"$f":"tbl_ConsultingCompanys!D1559","v":0},{"$f":"tbl_ConsultingCompanys!C1559","v":0},0]
[{"$nulls":10},{"$f":"tbl_ArchitectureOffices!D1560","v":0},{"$f":"tbl_ArchitectureOffices!C1560","v":0},0,{"$f":"tbl_Companys!D1560","v":0},{"$f":"tbl_Companys!C1560","v":0},0,{"$f":"tbl_ConsultingCompanys!D1560","v":0},{"$f":"tbl_ConsultingCompanys!C1560","v":0},0]
[{"$nulls":10},{"$f":"tbl_ArchitectureOffices!D1561","v":0},{"$f":"tbl_ArchitectureOffices!C1561","v":0},0,{"$f":"tbl_Companys!D1561","v":0},{"$f":"tbl_Companys!C1561","v":0},0,{"$f":"tbl_ConsultingCompanys!D1561","v":0},{"$f":"tbl_ConsultingCompanys!C1561","v":0},0]
[{"$nulls":10},{"$f":"tbl_ArchitectureOffices!D1562","v":0},{"$f":"tbl_ArchitectureOffices!C1562","v":0},0,{"$f":"tbl_Companys!D1562","v":0},{"$f":"tbl_Companys!C1562","v":0},0,{"$f":"tbl_ConsultingCompanys!D1562","v":0},{"$f":"tbl_ConsultingCompanys!C1562","v":0},0]
[{"$nulls":10},{"$f":"tbl_ArchitectureOffices!D1563","v":0},{"$f":"tbl_ArchitectureOffices!C1563","v":0},0,{"$f":"tbl_Companys!D1563","v":0},{"$f":"tbl_Companys!C1563","v":0},0,{"$f":"tbl_ConsultingCompanys!D1563","v":0},{"$f":"tbl_ConsultingCompanys!C1563","v":0},0]
[{"$nulls":10},{"$f":"tbl_ArchitectureOffices!D1564","v":0},{"$f":"tbl_ArchitectureOffices!C1564","v":0},0,{"$f":"tbl_Companys!D1564","v":0},{"$f":"tbl_Companys!C1564","v":0},0,{"$f":"tbl_ConsultingCompanys!D1564","v":0},{"$f":"tbl_ConsultingCompanys!C1564","v":0},0]
[{"$nulls":10},{"$f":"tbl_ArchitectureOffices!D1565","v":0},{"$f":"tbl_ArchitectureOffices!C1565","v":0},0,{"$f":"tbl_Companys!D1565","v":0},{"$f":"tbl_Companys!C1565","v":0},0,{"$f":"tbl_ConsultingCompanys!D1565","v":0},{"$f":"tbl_ConsultingCompanys!C1565","v":0},0]
[{"$nulls":10},{"$f":"tbl_ArchitectureOffices!D1566","v":0},{"$f":"tbl_ArchitectureOffices!C1566","v":0},0,{"$f":"tbl_Companys!D1566","v":0},{"$f":"tbl_Companys!C1566","v":0},0,{"$f":"tbl_ConsultingCompanys!D1566","v":0},{"$f":"tbl_ConsultingCompanys!C1566","v":0},0]
[{"$nulls":10},{"$f":"tbl_ArchitectureOffices!D1567","v":0},{"$f":"tbl_ArchitectureOffices!C1567","v":0},0,{"$f":"tbl_Companys!D1567","v":0},{"$f":"tbl_Companys!C1567","v":0},0,{"$f":"tbl_ConsultingCompanys!D1567","v":0},{"$f":"tbl_ConsultingCompanys!C1567","v":0},0]
[{"$nulls":10},{"$f":"tbl_ArchitectureOffices!D1568","v":0},{"$f":"tbl_ArchitectureOffices!C1568","v":0},0,{"$f":"tbl_Companys!D1568","v":0},{"$f":"tbl_Companys!C1568","v":0},0,{"$f":"tbl_ConsultingCompanys!D1568","v":0},{"$f":"tbl_ConsultingCompanys!C1568","v":0},0]
[{"$nulls":10},{"$f":"tbl_ArchitectureOffices!D1569","v":0},{"$f":"tbl_ArchitectureOffices!C1569","v":0},0,{"$f":"tbl_Companys!D1569","v":0},{"$f":"tbl_Companys!C1569","v":0},0,{"$f":"tbl_ConsultingCompanys!D1569","v":0},{"$f":"tbl_ConsultingCompanys!C1569","v":0},0]
[{"$nulls":10},{"$f":"tbl_ArchitectureOffices!D1570","v":0},{"$f":"tbl_ArchitectureOffices!C1570","v":0},0,{"$f":"tbl_Companys!D1570","v":0},{"$f":"tbl_Companys!C1570","v":0},0,{"$f":"tbl_ConsultingCompanys!D1570","v":0},{"$f":"tbl_ConsultingCompanys!C1570","v":0},0]
[{"$nulls":10},{"$f":"tbl_ArchitectureOffices!D1571","v":0},{"$f":"tbl_ArchitectureOffices!C1571","v":0},0,{"$f":"tbl_Companys!D1571","v":0},{"$f":"tbl_Companys!C1571","v":0},0,{"$f":"tbl_ConsultingCompanys!D1571","v":0},{"$f":"tbl_ConsultingCompanys!C1571","v":0},0]
[{"$nulls":10},{"$f":"tbl_ArchitectureOffices!D1572","v":0},{"$f":"tbl_ArchitectureOffices!C1572","v":0},0,{"$f":"tbl_Companys!D1572","v":0},{"$f":"tbl_Companys!C1572","v":0},0,{"$f":"tbl_ConsultingCompanys!D1572","v":0},{"$f":"tbl_ConsultingCompanys!C1572","v":0},0]
[{"$nulls":10},{"$f":"tbl_ArchitectureOffices!D1573","v":0},{"$f":"tbl_ArchitectureOffices!C1573","v":0},0,{"$f":"tbl_Companys!D1573","v":0},{"$f":"tbl_Companys!C1573","v":0},0,{"$f":"tbl_ConsultingCompanys!D1573","v":0},{"$f":"tbl_ConsultingCompanys!C1573","v":0},0]
[{"$nulls":10},{"$f":"tbl_ArchitectureOffices!D1574","v":0},{"$f":"tbl_ArchitectureOffices!C1574","v":0},0,{"$f":"tbl_Companys!D1574","v":0},{"$f":"tbl_Companys!C1574","v":0},0,{"$f":"tbl_ConsultingCompanys!D1574","v":0},{"$f":"tbl_ConsultingCompanys!C1574","v":0},0]
[{"$nulls":10},{"$f":"tbl_ArchitectureOffices!D1575","v":0},{"$f":"tbl_ArchitectureOffices!C1575","v":0},0,{"$f":"tbl_Companys!D1575","v":0},{"$f":"tbl_Companys!C1575","v":0},0,{"$f":"tbl_ConsultingCompanys!D1575","v":0},{"$f":"tbl_ConsultingCompanys!C1575","v":0},0]
[{"$nulls":10},{"$f":"tbl_ArchitectureOffices!D1576","v":0},{"$f":"tbl_ArchitectureOffices!C1576","v":0},0,{"$f":"tbl_Companys!D1576","v":0},{"$f":"tbl_Companys!C1576","v":0},0,{"$f":"tbl_ConsultingCompanys!D1576","v":0},{"$f":"tbl_ConsultingCompanys!C1576","v":0},0]
[{"$nulls":10},{"$f":"tbl_ArchitectureOffices!D1577","v":0},{"$f":"tbl_ArchitectureOffices!C1577","v":0},0,{"$f":"tbl_Companys!D1577","v":0},{"$f":"tbl_Companys!C1577","v":0},0,{"$f":"tbl_ConsultingCompanys!D1577","v":0},{"$f":"tbl_ConsultingCompanys!C1577","v":0},0]
[{"$nulls":10},{"$f":"tbl_ArchitectureOffices!D1578","v":0},{"$f":"tbl_ArchitectureOffices!C1578","v":0},0,{"$f":"tbl_Companys!D1578","v":0},{"$f":"tbl_Companys!C1578","v":0},0,{"$f":"tbl_ConsultingCompanys!D1578","v":0},{"$f":"tbl_ConsultingCompanys!C1578","v":0},0]
[{"$nulls":10},{"$f":"tbl_ArchitectureOffices!D1579","v":0},{"$f":"tbl_ArchitectureOffices!C1579","v":0},0,{"$f":"tbl_Companys!D1579","v":0},{"$f":"tbl_Companys!C1579","v":0},0,{"$f":"tbl_ConsultingCompanys!D1579","v":0},{"$f":"tbl_ConsultingCompanys!C1579","v":0},0]
[{"$nulls":10},{"$f":"tbl_ArchitectureOffices!D1580","v":0},{"$f":"tbl_ArchitectureOffices!C1580","v":0},0,{"$f":"tbl_Companys!D1580","v":0},{"$f":"tbl_Companys!C1580","v":0},0,{"$f":"tbl_ConsultingCompanys!D1580","v":0},{"$f":"tbl_ConsultingCompanys!C1580","v":0},0]
[{"$nulls":10},{"$f":"tbl_ArchitectureOffices!D1581","v":0},{"$f":"tbl_ArchitectureOffices!C1581","v":0},0,{"$f":"tbl_Companys!D1581","v":0},{"$f":"tbl_Companys!C1581","v":0},0,{"$f":"tbl_ConsultingCompanys!D1581","v":0},{"$f":"tbl_ConsultingCompanys!C1581","v":0},0]
[{"$nulls":10},{"$f":"tbl_ArchitectureOffices!D1582","v":0},{"$f":"tbl_ArchitectureOffices!C1582","v":0},0,{"$f":"tbl_Companys!D1582","v":0},{"$f":"tbl_Companys!C1582","v":0},0,{"$f":"tbl_ConsultingCompanys!D1582","v":0},{"$f":"tbl_ConsultingCompanys!C1582","v":0},0]
[{"$nulls":10},{"$f":"tbl_ArchitectureOffices!D1583","v":0},{"$f":"tbl_ArchitectureOffices!C1583","v":0},0,{"$f":"tbl_Companys!D1583","v":0},{"$f":"tbl_Companys!C1583","v":0},0,{"$f":"tbl_ConsultingCompanys!D1583","v":0},{"$f":"tbl_ConsultingCompanys!C1583","v":0},0]
[{"$nulls":10},{"$f":"tbl_ArchitectureOffices!D1584","v":0},{"$f":"tbl_ArchitectureOffices!C1584","v":0},0,{"$f":"tbl_Companys!D1584","v":0},{"$f":"tbl_Companys!C1584","v":0},0,{"$f":"tbl_ConsultingCompanys!D1584","v":0},{"$f":"tbl_ConsultingCompanys!C1584","v":0},0]
[{"$nulls":10},{"$f":"tbl_ArchitectureOffices!D1585","v":0},{"$f":"tbl_ArchitectureOffices!C1585","v":0},0,{"$f":"tbl_Companys!D1585","v":0},{"$f":"tbl_Companys!C1585","v":0},0,{"$f":"tbl_ConsultingCompanys!D1585","v":0},{"$f":"tbl_ConsultingCompanys!C1585","v":0},0]
[{"$nulls":10},{"$f":"tbl_ArchitectureOffices!D1586","v":0},{"$f":"tbl_ArchitectureOffices!C1586","v":0},0,{"$f":"tbl_Companys!D1586","v":0},{"$f":"tbl_Companys!C1586","v":0},0,{"$f":"tbl_ConsultingCompanys!D1586","v":0},{"$f":"tbl_ConsultingCompanys!C1586","v":0},0]
[{"$nulls":10},{"$f":"tbl_ArchitectureOffices!D1587","v":0},{"$f":"tbl_ArchitectureOffices!C1587","v":0},0,{"$f":"tbl_Companys!D1587","v":0},{"$f":"tbl_Companys!C1587","v":0},0,{"$f":"tbl_ConsultingCompanys!D1587","v":0},{"$f":"tbl_ConsultingCompanys!C1587","v":0},0]
[{"$nulls":10},{"$f":"tbl_ArchitectureOffices!D1588","v":0},{"$f":"tbl_ArchitectureOffices!C1588","v":0},0,{"$f":"tbl_Companys!D1588","v":0},{"$f":"tbl_Companys!C1588","v":0},0,{"$f":"tbl_ConsultingCompanys!D1588","v":0},{"$f":"tbl_ConsultingCompanys!C1588","v":0},0]
[{"$nulls":10},{"$f":"tbl_ArchitectureOffices!D1589","v":0},{"$f":"tbl_ArchitectureOffices!C1589","v":0},0,{"$f":"tbl_Companys!D1589","v":0},{"$f":"tbl_Companys!C1589","v":0},0,{"$f":"tbl_ConsultingCompanys!D1589","v":0},{"$f":"tbl_ConsultingCompanys!C1589","v":0},0]
[{"$nulls":10},{"$f":"tbl_ArchitectureOffices!D1590","v":0},{"$f":"tbl_ArchitectureOffices!C1590","v":0},{"$f":"IFERROR(REPLACE(K1590,FIND(\" \",K1590,LEN(K1590)),1,\"\"),K1590)","v":0},{"$f":"tbl_Companys!D1590","v":0},{"$f":"tbl_Companys!C1590","v":0},0,{"$f":"tbl_ConsultingCompanys!D1590","v":0},{"$f":"tbl_ConsultingCompanys!C1590","v":0},0]
[{"$nulls":10},{"$f":"tbl_ArchitectureOffices!D1591","v":0},{"$f":"tbl_ArchitectureOffices!C1591","v":0},0,{"$f":"tbl_Companys!D1591","v":0},{"$f":"tbl_Companys!C1591","v":0},0,{"$f":"tbl_ConsultingCompanys!D1591","v":0},{"$f":"tbl_ConsultingCompanys!C1591","v":0},0]
[{"$nulls":10},{"$f":"tbl_ArchitectureOffices!D1592","v":0},{"$f":"tbl_ArchitectureOffices!C1592","v":0},0,{"$f":"tbl_Companys!D1592","v":0},{"$f":"tbl_Companys!C1592","v":0},0,{"$f":"tbl_ConsultingCompanys!D1592","v":0},{"$f":"tbl_ConsultingCompanys!C1592","v":0},0]
[{"$nulls":10},{"$f":"tbl_ArchitectureOffices!D1593","v":0},{"$f":"tbl_ArchitectureOffices!C1593","v":0},0,{"$f":"tbl_Companys!D1593","v":0},{"$f":"tbl_Companys!C1593","v":0},0,{"$f":"tbl_ConsultingCompanys!D1593","v":0},{"$f":"tbl_ConsultingCompanys!C1593","v":0},0]
[{"$nulls":10},{"$f":"tbl_ArchitectureOffices!D1594","v":0},{"$f":"tbl_ArchitectureOffices!C1594","v":0},0,{"$f":"tbl_Companys!D1594","v":0},{"$f":"tbl_Companys!C1594","v":0},0,{"$f":"tbl_ConsultingCompanys!D1594","v":0},{"$f":"tbl_ConsultingCompanys!C1594","v":0},0]
[{"$nulls":10},{"$f":"tbl_ArchitectureOffices!D1595","v":0},{"$f":"tbl_ArchitectureOffices!C1595","v":0},0,{"$f":"tbl_Companys!D1595","v":0},{"$f":"tbl_Companys!C1595","v":0},0,{"$f":"tbl_ConsultingCompanys!D1595","v":0},{"$f":"tbl_ConsultingCompanys!C1595","v":0},0]
[{"$nulls":10},{"$f":"tbl_ArchitectureOffices!D1596","v":0},{"$f":"tbl_ArchitectureOffices!C1596","v":0},0,{"$f":"tbl_Companys!D1596","v":0},{"$f":"tbl_Companys!C1596","v":0},0,{"$f":"tbl_ConsultingCompanys!D1596","v":0},{"$f":"tbl_ConsultingCompanys!C1596","v":0},0]
[{"$nulls":10},{"$f":"tbl_ArchitectureOffices!D1597","v":0},{"$f":"tbl_ArchitectureOffices!C1597","v":0},0,{"$f":"tbl_Companys!D1597","v":0},{"$f":"tbl_Companys!C1597","v":0},0,{"$f":"tbl_ConsultingCompanys!D1597","v":0},{"$f":"tbl_ConsultingCompanys!C1597","v":0},0]
[{"$nulls":10},{"$f":"tbl_ArchitectureOffices!D1598","v":0},{"$f":"tbl_ArchitectureOffices!C1598","v":0},0,{"$f":"tbl_Companys!D1598","v":0},{"$f":"tbl_Companys!C1598","v":0},0,{"$f":"tbl_ConsultingCompanys!D1598","v":0},{"$f":"tbl_ConsultingCompanys!C1598","v":0},0]
[{"$nulls":10},{"$f":"tbl_ArchitectureOffices!D1599","v":0},{"$f":"tbl_ArchitectureOffices!C1599","v":0},0,{"$f":"tbl_Companys!D1599","v":0},{"$f":"tbl_Companys!C1599","v":0},0,{"$f":"tbl_ConsultingCompanys!D1599","v":0},{"$f":"tbl_ConsultingCompanys!C1599","v":0},0]
[{"$nulls":10},{"$f":"tbl_ArchitectureOffices!D1600","v":0},{"$f":"tbl_ArchitectureOffices!C1600","v":0},0,{"$f":"tbl_Companys!D1600","v":0},{"$f":"tbl_Companys!C1600","v":0},0,{"$f":"tbl_ConsultingCompanys!D1600","v":0},{"$f":"tbl_ConsultingCompanys!C1600","v":0},0]
[{"$nulls":10},{"$f":"tbl_ArchitectureOffices!D1601","v":0},{"$f":"tbl_ArchitectureOffices!C1601","v":0},0,{"$f":"tbl_Companys!D1601","v":0},{"$f":"tbl_Companys!C1601","v":0},0,{"$f":"tbl_ConsultingCompanys!D1601","v":0},{"$f":"tbl_ConsultingCompanys!C1601","v":0},0]
[{"$nulls":10},{"$f":"tbl_ArchitectureOffices!D1602","v":0},{"$f":"tbl_ArchitectureOffices!C1602","v":0},0,{"$f":"tbl_Companys!D1602","v":0},{"$f":"tbl_Companys!C1602","v":0},0,{"$f":"tbl_ConsultingCompanys!D1602","v":0},{"$f":"tbl_ConsultingCompanys!C1602","v":0},0]
[{"$nulls":10},{"$f":"tbl_ArchitectureOffices!D1603","v":0},{"$f":"tbl_ArchitectureOffices!C1603","v":0},0,{"$f":"tbl_Companys!D1603","v":0},{"$f":"tbl_Companys!C1603","v":0},{"$f":"IFERROR(REPLACE(N1603,FIND(\" \",N1603,LEN(N1603)),1,\"\"),N1603)","v":0},{"$f":"tbl_ConsultingCompanys!D1603","v":0},{"$f":"tbl_ConsultingCompanys!C1603","v":0},{"$f":"IFERROR(REPLACE(Q1603,FIND(\" \",Q1603,LEN(Q1603)),1,\"\"),Q1603)","v":0}]
[{"$nulls":10},{"$f":"tbl_ArchitectureOffices!D1604","v":0},{"$f":"tbl_ArchitectureOffices!C1604","v":0},0,{"$f":"tbl_Companys!D1604","v":0},{"$f":"tbl_Companys!C1604","v":0},0,{"$f":"tbl_ConsultingCompanys!D1604","v":0},{"$f":"tbl_ConsultingCompanys!C1604","v":0},0]
[{"$nulls":10},{"$f":"tbl_ArchitectureOffices!D1605","v":0},{"$f":"tbl_ArchitectureOffices!C1605","v":0},0,{"$f":"tbl_Companys!D1605","v":0},{"$f":"tbl_Companys!C1605","v":0},0,{"$f":"tbl_ConsultingCompanys!D1605","v":0},{"$f":"tbl_ConsultingCompanys!C1605","v":0},0]
[{"$nulls":10},{"$f":"tbl_ArchitectureOffices!D1606","v":0},{"$f":"tbl_ArchitectureOffices!C1606","v":0},0,{"$f":"tbl_Companys!D1606","v":0},{"$f":"tbl_Companys!C1606","v":0},0,{"$f":"tbl_ConsultingCompanys!D1606","v":0},{"$f":"tbl_ConsultingCompanys!C1606","v":0},0]
[{"$nulls":10},{"$f":"tbl_ArchitectureOffices!D1607","v":0},{"$f":"tbl_ArchitectureOffices!C1607","v":0},0,{"$f":"tbl_Companys!D1607","v":0},{"$f":"tbl_Companys!C1607","v":0},0,{"$f":"tbl_ConsultingCompanys!D1607","v":0},{"$f":"tbl_ConsultingCompanys!C1607","v":0},0]
[{"$nulls":10},{"$f":"tbl_ArchitectureOffices!D1608","v":0},{"$f":"tbl_ArchitectureOffices!C1608","v":0},0,{"$f":"tbl_Companys!D1608","v":0},{"$f":"tbl_Companys!C1608","v":0},0,{"$f":"tbl_ConsultingCompanys!D1608","v":0},{"$f":"tbl_ConsultingCompanys!C1608","v":0},0]
[{"$nulls":10},{"$f":"tbl_ArchitectureOffices!D1609","v":0},{"$f":"tbl_ArchitectureOffices!C1609","v":0},0,{"$f":"tbl_Companys!D1609","v":0},{"$f":"tbl_Companys!C1609","v":0},0,{"$f":"tbl_ConsultingCompanys!D1609","v":0},{"$f":"tbl_ConsultingCompanys!C1609","v":0},0]
[{"$nulls":10},{"$f":"tbl_ArchitectureOffices!D1610","v":0},{"$f":"tbl_ArchitectureOffices!C1610","v":0},0,{"$f":"tbl_Companys!D1610","v":0},{"$f":"tbl_Companys!C1610","v":0},0,{"$f":"tbl_ConsultingCompanys!D1610","v":0},{"$f":"tbl_ConsultingCompanys!C1610","v":0},0]
[{"$nulls":10},{"$f":"tbl_ArchitectureOffices!D1611","v":0},{"$f":"tbl_ArchitectureOffices!C1611","v":0},0,{"$f":"tbl_Companys!D1611","v":0},{"$f":"tbl_Companys!C1611","v":0},0,{"$f":"tbl_ConsultingCompanys!D1611","v":0},{"$f":"tbl_ConsultingCompanys!C1611","v":0},0]
[{"$nulls":10},{"$f":"tbl_ArchitectureOffices!D1612","v":0},{"$f":"tbl_ArchitectureOffices!C1612","v":0},0,{"$f":"tbl_Companys!D1612","v":0},{"$f":"tbl_Companys!C1612","v":0},0,{"$f":"tbl_ConsultingCompanys!D1612","v":0},{"$f":"tbl_ConsultingCompanys!C1612","v":0},0]
[{"$nulls":10},{"$f":"tbl_ArchitectureOffices!D1613","v":0},{"$f":"tbl_ArchitectureOffices!C1613","v":0},0,{"$f":"tbl_Companys!D1613","v":0},{"$f":"tbl_Companys!C1613","v":0},0,{"$f":"tbl_ConsultingCompanys!D1613","v":0},{"$f":"tbl_ConsultingCompanys!C1613","v":0},0]
[{"$nulls":10},{"$f":"tbl_ArchitectureOffices!D1614","v":0},{"$f":"tbl_ArchitectureOffices!C1614","v":0},0,{"$f":"tbl_Companys!D1614","v":0},{"$f":"tbl_Companys!C1614","v":0},0,{"$f":"tbl_ConsultingCompanys!D1614","v":0},{"$f":"tbl_ConsultingCompanys!C1614","v":0},0]
[{"$nulls":10},{"$f":"tbl_ArchitectureOffices!D1615","v":0},{"$f":"tbl_ArchitectureOffices!C1615","v":0},0,{"$f":"tbl_Companys!D1615","v":0},{"$f":"tbl_Companys!C1615","v":0},0,{"$f":"tbl_ConsultingCompanys!D1615","v":0},{"$f":"tbl_ConsultingCompanys!C1615","v":0},0]
[{"$nulls":10},{"$f":"tbl_ArchitectureOffices!D1616","v":0},{"$f":"tbl_ArchitectureOffices!C1616","v":0},0,{"$f":"tbl_Companys!D1616","v":0},{"$f":"tbl_Companys!C1616","v":0},0,{"$f":"tbl_ConsultingCompanys!D1616","v":0},{"$f":"tbl_ConsultingCompanys!C1616","v":0},0]
[{"$nulls":10},{"$f":"tbl_ArchitectureOffices!D1617","v":0},{"$f":"tbl_ArchitectureOffices!C1617","v":0},0,{"$f":"tbl_Companys!D1617","v":0},{"$f":"tbl_Companys!C1617","v":0},0,{"$f":"tbl_ConsultingCompanys!D1617","v":0},{"$f":"tbl_ConsultingCompanys!C1617","v":0},0]
[{"$nulls":10},{"$f":"tbl_ArchitectureOffices!D1618","v":0},{"$f":"tbl_ArchitectureOffices!C1618","v":0},0,{"$f":"tbl_Companys!D1618","v":0},{"$f":"tbl_Companys!C1618","v":0},0,{"$f":"tbl_ConsultingCompanys!D1618","v":0},{"$f":"tbl_ConsultingCompanys!C1618","v":0},0]
[{"$nulls":10},{"$f":"tbl_ArchitectureOffices!D1619","v":0},{"$f":"tbl_ArchitectureOffices!C1619","v":0},0,{"$f":"tbl_Companys!D1619","v":0},{"$f":"tbl_Companys!C1619","v":0},0,{"$f":"tbl_ConsultingCompanys!D1619","v":0},{"$f":"tbl_ConsultingCompanys!C1619","v":0},0]
[{"$nulls":10},{"$f":"tbl_ArchitectureOffices!D1620","v":0},{"$f":"tbl_ArchitectureOffices!C1620","v":0},0,{"$f":"tbl_Companys!D1620","v":0},{"$f":"tbl_Companys!C1620","v":0},0,{"$f":"tbl_ConsultingCompanys!D1620","v":0},{"$f":"tbl_ConsultingCompanys!C1620","v":0},0]
[{"$nulls":10},{"$f":"tbl_ArchitectureOffices!D1621","v":0},{"$f":"tbl_ArchitectureOffices!C1621","v":0},0,{"$f":"tbl_Companys!D1621","v":0},{"$f":"tbl_Companys!C1621","v":0},0,{"$f":"tbl_ConsultingCompanys!D1621","v":0},{"$f":"tbl_ConsultingCompanys!C1621","v":0},0]
[{"$nulls":10},{"$f":"tbl_ArchitectureOffices!D1622","v":0},{"$f":"tbl_ArchitectureOffices!C1622","v":0},0,{"$f":"tbl_Companys!D1622","v":0},{"$f":"tbl_Companys!C1622","v":0},0,{"$f":"tbl_ConsultingCompanys!D1622","v":0},{"$f":"tbl_ConsultingCompanys!C1622","v":0},0]
[{"$nulls":10},{"$f":"tbl_ArchitectureOffices!D1623","v":0},{"$f":"tbl_ArchitectureOffices!C1623","v":0},0,{"$f":"tbl_Companys!D1623","v":0},{"$f":"tbl_Companys!C1623","v":0},0,{"$f":"tbl_ConsultingCompanys!D1623","v":0},{"$f":"tbl_ConsultingCompanys!C1623","v":0},0]
[{"$nulls":10},{"$f":"tbl_ArchitectureOffices!D1624","v":0},{"$f":"tbl_ArchitectureOffices!C1624","v":0},0,{"$f":"tbl_Companys!D1624","v":0},{"$f":"tbl_Companys!C1624","v":0},0,{"$f":"tbl_ConsultingCompanys!D1624","v":0},{"$f":"tbl_ConsultingCompanys!C1624","v":0},0]
[{"$nulls":10},{"$f":"tbl_ArchitectureOffices!D1625","v":0},{"$f":"tbl_ArchitectureOffices!C1625","v":0},0,{"$f":"tbl_Companys!D1625","v":0},{"$f":"tbl_Companys!C1625","v":0},0,{"$f":"tbl_ConsultingCompanys!D1625","v":0},{"$f":"tbl_ConsultingCompanys!C1625","v":0},0]
[{"$nulls":10},{"$f":"tbl_ArchitectureOffices!D1626","v":0},{"$f":"tbl_ArchitectureOffices!C1626","v":0},0,{"$f":"tbl_Companys!D1626","v":0},{"$f":"tbl_Companys!C1626","v":0},0,{"$f":"tbl_ConsultingCompanys!D1626","v":0},{"$f":"tbl_ConsultingCompanys!C1626","v":0},0]
[{"$nulls":10},{"$f":"tbl_ArchitectureOffices!D1627","v":0},{"$f":"tbl_ArchitectureOffices!C1627","v":0},0,{"$f":"tbl_Companys!D1627","v":0},{"$f":"tbl_Companys!C1627","v":0},0,{"$f":"tbl_ConsultingCompanys!D1627","v":0},{"$f":"tbl_ConsultingCompanys!C1627","v":0},0]
[{"$nulls":10},{"$f":"tbl_ArchitectureOffices!D1628","v":0},{"$f":"tbl_ArchitectureOffices!C1628","v":0},0,{"$f":"tbl_Companys!D1628","v":0},{"$f":"tbl_Companys!C1628","v":0},0,{"$f":"tbl_ConsultingCompanys!D1628","v":0},{"$f":"tbl_ConsultingCompanys!C1628","v":0},0]
[{"$nulls":10},{"$f":"tbl_ArchitectureOffices!D1629","v":0},{"$f":"tbl_ArchitectureOffices!C1629","v":0},0,{"$f":"tbl_Companys!D1629","v":0},{"$f":"tbl_Companys!C1629","v":0},0,{"$f":"tbl_ConsultingCompanys!D1629","v":0},{"$f":"tbl_ConsultingCompanys!C1629","v":0},0]
[{"$nulls":10},{"$f":"tbl_ArchitectureOffices!D1630","v":0},{"$f":"tbl_ArchitectureOffices!C1630","v":0},0,{"$f":"tbl_Companys!D1630","v":0},{"$f":"tbl_Companys!C1630","v":0},0,{"$f":"tbl_ConsultingCompanys!D1630","v":0},{"$f":"tbl_ConsultingCompanys!C1630","v":0},0]
[{"$nulls":10},{"$f":"tbl_ArchitectureOffices!D1631","v":0},{"$f":"tbl_ArchitectureOffices!C1631","v":0},0,{"$f":"tbl_Companys!D1631","v":0},{"$f":"tbl_Companys!C1631","v":0},0,{"$f":"tbl_ConsultingCompanys!D1631","v":0},{"$f":"tbl_ConsultingCompanys!C1631","v":0},0]
[{"$nulls":10},{"$f":"tbl_ArchitectureOffices!D1632","v":0},{"$f":"tbl_ArchitectureOffices!C1632","v":0},0,{"$f":"tbl_Companys!D1632","v":0},{"$f":"tbl_Companys!C1632","v":0},0,{"$f":"tbl_ConsultingCompanys!D1632","v":0},{"$f":"tbl_ConsultingCompanys!C1632","v":0},0]
[{"$nulls":10},{"$f":"tbl_ArchitectureOffices!D1633","v":0},{"$f":"tbl_ArchitectureOffices!C1633","v":0},0,{"$f":"tbl_Companys!D1633","v":0},{"$f":"tbl_Companys!C1633","v":0},0,{"$f":"tbl_ConsultingCompanys!D1633","v":0},{"$f":"tbl_ConsultingCompanys!C1633","v":0},0]
[{"$nulls":10},{"$f":"tbl_ArchitectureOffices!D1634","v":0},{"$f":"tbl_ArchitectureOffices!C1634","v":0},0,{"$f":"tbl_Companys!D1634","v":0},{"$f":"tbl_Companys!C1634","v":0},0,{"$f":"tbl_ConsultingCompanys!D1634","v":0},{"$f":"tbl_ConsultingCompanys!C1634","v":0},0]
[{"$nulls":10},{"$f":"tbl_ArchitectureOffices!D1635","v":0},{"$f":"tbl_ArchitectureOffices!C1635","v":0},0,{"$f":"tbl_Companys!D1635","v":0},{"$f":"tbl_Companys!C1635","v":0},0,{"$f":"tbl_ConsultingCompanys!D1635","v":0},{"$f":"tbl_ConsultingCompanys!C1635","v":0},0]
[{"$nulls":10},{"$f":"tbl_ArchitectureOffices!D1636","v":0},{"$f":"tbl_ArchitectureOffices!C1636","v":0},0,{"$f":"tbl_Companys!D1636","v":0},{"$f":"tbl_Companys!C1636","v":0},0,{"$f":"tbl_ConsultingCompanys!D1636","v":0},{"$f":"tbl_ConsultingCompanys!C1636","v":0},0]
[{"$nulls":10},{"$f":"tbl_ArchitectureOffices!D1637","v":0},{"$f":"tbl_ArchitectureOffices!C1637","v":0},0,{"$f":"tbl_Companys!D1637","v":0},{"$f":"tbl_Companys!C1637","v":0},0,{"$f":"tbl_ConsultingCompanys!D1637","v":0},{"$f":"tbl_ConsultingCompanys!C1637","v":0},0]
[{"$nulls":10},{"$f":"tbl_ArchitectureOffices!D1638","v":0},{"$f":"tbl_ArchitectureOffices!C1638","v":0},0,{"$f":"tbl_Companys!D1638","v":0},{"$f":"tbl_Companys!C1638","v":0},0,{"$f":"tbl_ConsultingCompanys!D1638","v":0},{"$f":"tbl_ConsultingCompanys!C1638","v":0},0]
[{"$nulls":10},{"$f":"tbl_ArchitectureOffices!D1639","v":0},{"$f":"tbl_ArchitectureOffices!C1639","v":0},0,{"$f":"tbl_Companys!D1639","v":0},{"$f":"tbl_Companys!C1639","v":0},0,{"$f":"tbl_ConsultingCompanys!D1639","v":0},{"$f":"tbl_ConsultingCompanys!C1639","v":0},0]
[{"$nulls":10},{"$f":"tbl_ArchitectureOffices!D1640","v":0},{"$f":"tbl_ArchitectureOffices!C1640","v":0},0,{"$f":"tbl_Companys!D1640","v":0},{"$f":"tbl_Companys!C1640","v":0},0,{"$f":"tbl_ConsultingCompanys!D1640","v":0},{"$f":"tbl_ConsultingCompanys!C1640","v":0},0]
[{"$nulls":10},{"$f":"tbl_ArchitectureOffices!D1641","v":0},{"$f":"tbl_ArchitectureOffices!C1641","v":0},0,{"$f":"tbl_Companys!D1641","v":0},{"$f":"tbl_Companys!C1641","v":0},0,{"$f":"tbl_ConsultingCompanys!D1641","v":0},{"$f":"tbl_ConsultingCompanys!C1641","v":0},0]
[{"$nulls":10},{"$f":"tbl_ArchitectureOffices!D1642","v":0},{"$f":"tbl_ArchitectureOffices!C1642","v":0},0,{"$f":"tbl_Companys!D1642","v":0},{"$f":"tbl_Companys!C1642","v":0},0,{"$f":"tbl_ConsultingCompanys!D1642","v":0},{"$f":"tbl_ConsultingCompanys!C1642","v":0},0]
[{"$nulls":10},{"$f":"tbl_ArchitectureOffices!D1643","v":0},{"$f":"tbl_ArchitectureOffices!C1643","v":0},0,{"$f":"tbl_Companys!D1643","v":0},{"$f":"tbl_Companys!C1643","v":0},0,{"$f":"tbl_ConsultingCompanys!D1643","v":0},{"$f":"tbl_ConsultingCompanys!C1643","v":0},0]
[{"$nulls":10},{"$f":"tbl_ArchitectureOffices!D1644","v":0},{"$f":"tbl_ArchitectureOffices!C1644","v":0},0,{"$f":"tbl_Companys!D1644","v":0},{"$f":"tbl_Companys!C1644","v":0},0,{"$f":"tbl_ConsultingCompanys!D1644","v":0},{"$f":"tbl_ConsultingCompanys!C1644","v":0},0]
[{"$nulls":10},{"$f":"tbl_ArchitectureOffices!D1645","v":0},{"$f":"tbl_ArchitectureOffices!C1645","v":0},0,{"$f":"tbl_Companys!D1645","v":0},{"$f":"tbl_Companys!C1645","v":0},0,{"$f":"tbl_ConsultingCompanys!D1645","v":0},{"$f":"tbl_ConsultingCompanys!C1645","v":0},0]
[{"$nulls":10},{"$f":"tbl_ArchitectureOffices!D1646","v":0},{"$f":"tbl_ArchitectureOffices!C1646","v":0},0,{"$f":"tbl_Companys!D1646","v":0},{"$f":"tbl_Companys!C1646","v":0},0,{"$f":"tbl_ConsultingCompanys!D1646","v":0},{"$f":"tbl_ConsultingCompanys!C1646","v":0},0]
[{"$nulls":10},{"$f":"tbl_ArchitectureOffices!D1647","v":0},{"$f":"tbl_ArchitectureOffices!C1647","v":0},0,{"$f":"tbl_Companys!D1647","v":0},{"$f":"tbl_Companys!C1647","v":0},0,{"$f":"tbl_ConsultingCompanys!D1647","v":0},{"$f":"tbl_ConsultingCompanys!C1647","v":0},0]
[{"$nulls":10},{"$f":"tbl_ArchitectureOffices!D1648","v":0},{"$f":"tbl_ArchitectureOffices!C1648","v":0},0,{"$f":"tbl_Companys!D1648","v":0},{"$f":"tbl_Companys!C1648","v":0},0,{"$f":"tbl_ConsultingCompanys!D1648","v":0},{"$f":"tbl_ConsultingCompanys!C1648","v":0},0]
[{"$nulls":10},{"$f":"tbl_ArchitectureOffices!D1649","v":0},{"$f":"tbl_ArchitectureOffices!C1649","v":0},0,{"$f":"tbl_Companys!D1649","v":0},{"$f":"tbl_Companys!C1649","v":0},0,{"$f":"tbl_ConsultingCompanys!D1649","v":0},{"$f":"tbl_ConsultingCompanys!C1649","v":0},0]
[{"$nulls":10},{"$f":"tbl_ArchitectureOffices!D1650","v":0},{"$f":"tbl_ArchitectureOffices!C1650","v":0},0,{"$f":"tbl_Companys!D1650","v":0},{"$f":"tbl_Companys!C1650","v":0},0,{"$f":"tbl_ConsultingCompanys!D1650","v":0},{"$f":"tbl_ConsultingCompanys!C1650","v":0},0]
[{"$nulls":10},{"$f":"tbl_ArchitectureOffices!D1651","v":0},{"$f":"tbl_ArchitectureOffices!C1651","v":0},0,{"$f":"tbl_Companys!D1651","v":0},{"$f":"tbl_Companys!C1651","v":0},0,{"$f":"tbl_ConsultingCompanys!D1651","v":0},{"$f":"tbl_ConsultingCompanys!C1651","v":0},0]
[{"$nulls":10},{"$f":"tbl_ArchitectureOffices!D1652","v":0},{"$f":"tbl_ArchitectureOffices!C1652","v":0},0,{"$f":"tbl_Companys!D1652","v":0},{"$f":"tbl_Companys!C1652","v":0},0,{"$f":"tbl_ConsultingCompanys!D1652","v":0},{"$f":"tbl_ConsultingCompanys!C1652","v":0},0]
[{"$nulls":10},{"$f":"tbl_ArchitectureOffices!D1653","v":0},{"$f":"tbl_ArchitectureOffices!C1653","v":0},0,{"$f":"tbl_Companys!D1653","v":0},{"$f":"tbl_Companys!C1653","v":0},0,{"$f":"tbl_ConsultingCompanys!D1653","v":0},{"$f":"tbl_ConsultingCompanys!C1653","v":0},0]
[{"$nulls":10},{"$f":"tbl_ArchitectureOffices!D1654","v":0},{"$f":"tbl_ArchitectureOffices!C1654","v":0},{"$f":"IFERROR(REPLACE(K1654,FIND(\" \",K1654,LEN(K1654)),1,\"\"),K1654)","v":0},{"$f":"tbl_Companys!D1654","v":0},{"$f":"tbl_Companys!C1654","v":0},0,{"$f":"tbl_ConsultingCompanys!D1654","v":0},{"$f":"tbl_ConsultingCompanys!C1654","v":0},0]
[{"$nulls":10},{"$f":"tbl_ArchitectureOffices!D1655","v":0},{"$f":"tbl_ArchitectureOffices!C1655","v":0},0,{"$f":"tbl_Companys!D1655","v":0},{"$f":"tbl_Companys!C1655","v":0},0,{"$f":"tbl_ConsultingCompanys!D1655","v":0},{"$f":"tbl_ConsultingCompanys!C1655","v":0},0]
[{"$nulls":10},{"$f":"tbl_ArchitectureOffices!D1656","v":0},{"$f":"tbl_ArchitectureOffices!C1656","v":0},0,{"$f":"tbl_Companys!D1656","v":0},{"$f":"tbl_Companys!C1656","v":0},0,{"$f":"tbl_ConsultingCompanys!D1656","v":0},{"$f":"tbl_ConsultingCompanys!C1656","v":0},0]
[{"$nulls":10},{"$f":"tbl_ArchitectureOffices!D1657","v":0},{"$f":"tbl_ArchitectureOffices!C1657","v":0},0,{"$f":"tbl_Companys!D1657","v":0},{"$f":"tbl_Companys!C1657","v":0},0,{"$f":"tbl_ConsultingCompanys!D1657","v":0},{"$f":"tbl_ConsultingCompanys!C1657","v":0},0]
[{"$nulls":10},{"$f":"tbl_ArchitectureOffices!D1658","v":0},{"$f":"tbl_ArchitectureOffices!C1658","v":0},0,{"$f":"tbl_Companys!D1658","v":0},{"$f":"tbl_Companys!C1658","v":0},0,{"$f":"tbl_ConsultingCompanys!D1658","v":0},{"$f":"tbl_ConsultingCompanys!C1658","v":0},0]
[{"$nulls":10},{"$f":"tbl_ArchitectureOffices!D1659","v":0},{"$f":"tbl_ArchitectureOffices!C1659","v":0},0,{"$f":"tbl_Companys!D1659","v":0},{"$f":"tbl_Companys!C1659","v":0},0,{"$f":"tbl_ConsultingCompanys!D1659","v":0},{"$f":"tbl_ConsultingCompanys!C1659","v":0},0]
[{"$nulls":10},{"$f":"tbl_ArchitectureOffices!D1660","v":0},{"$f":"tbl_ArchitectureOffices!C1660","v":0},0,{"$f":"tbl_Companys!D1660","v":0},{"$f":"tbl_Companys!C1660","v":0},0,{"$f":"tbl_ConsultingCompanys!D1660","v":0},{"$f":"tbl_ConsultingCompanys!C1660","v":0},0]
[{"$nulls":10},{"$f":"tbl_ArchitectureOffices!D1661","v":0},{"$f":"tbl_ArchitectureOffices!C1661","v":0},0,{"$f":"tbl_Companys!D1661","v":0},{"$f":"tbl_Companys!C1661","v":0},0,{"$f":"tbl_ConsultingCompanys!D1661","v":0},{"$f":"tbl_ConsultingCompanys!C1661","v":0},0]
[{"$nulls":10},{"$f":"tbl_ArchitectureOffices!D1662","v":0},{"$f":"tbl_ArchitectureOffices!C1662","v":0},0,{"$f":"tbl_Companys!D1662","v":0},{"$f":"tbl_Companys!C1662","v":0},0,{"$f":"tbl_ConsultingCompanys!D1662","v":0},{"$f":"tbl_ConsultingCompanys!C1662","v":0},0]
[{"$nulls":10},{"$f":"tbl_ArchitectureOffices!D1663","v":0},{"$f":"tbl_ArchitectureOffices!C1663","v":0},0,{"$f":"tbl_Companys!D1663","v":0},{"$f":"tbl_Companys!C1663","v":0},0,{"$f":"tbl_ConsultingCompanys!D1663","v":0},{"$f":"tbl_ConsultingCompanys!C1663","v":0},0]
[{"$nulls":10},{"$f":"tbl_ArchitectureOffices!D1664","v":0},{"$f":"tbl_ArchitectureOffices!C1664","v":0},0,{"$f":"tbl_Companys!D1664","v":0},{"$f":"tbl_Companys!C1664","v":0},0,{"$f":"tbl_ConsultingCompanys!D1664","v":0},{"$f":"tbl_ConsultingCompanys!C1664","v":0},0]
[{"$nulls":10},{"$f":"tbl_ArchitectureOffices!D1665","v":0},{"$f":"tbl_ArchitectureOffices!C1665","v":0},0,{"$f":"tbl_Companys!D1665","v":0},{"$f":"tbl_Companys!C1665","v":0},0,{"$f":"tbl_ConsultingCompanys!D1665","v":0},{"$f":"tbl_ConsultingCompanys!C1665","v":0},0]
[{"$nulls":10},{"$f":"tbl_ArchitectureOffices!D1666","v":0},{"$f":"tbl_ArchitectureOffices!C1666","v":0},0,{"$f":"tbl_Companys!D1666","v":0},{"$f":"tbl_Companys!C1666","v":0},0,{"$f":"tbl_ConsultingCompanys!D1666","v":0},{"$f":"tbl_ConsultingCompanys!C1666","v":0},0]
[{"$nulls":10},{"$f":"tbl_ArchitectureOffices!D1667","v":0},{"$f":"tbl_ArchitectureOffices!C1667","v":0},0,{"$f":"tbl_Companys!D1667","v":0},{"$f":"tbl_Companys!C1667","v":0},{"$f":"IFERROR(REPLACE(N1667,FIND(\" \",N1667,LEN(N1667)),1,\"\"),N1667)","v":0},{"$f":"tbl_ConsultingCompanys!D1667","v":0},{"$f":"tbl_ConsultingCompanys!C1667","v":0},{"$f":"IFERROR(REPLACE(Q1667,FIND(\" \",Q1667,LEN(Q1667)),1,\"\"),Q1667)","v":0}]
[{"$nulls":10},{"$f":"tbl_ArchitectureOffices!D1668","v":0},{"$f":"tbl_ArchitectureOffices!C1668","v":0},0,{"$f":"tbl_Companys!D1668","v":0},{"$f":"tbl_Companys!C1668","v":0},0,{"$f":"tbl_ConsultingCompanys!D1668","v":0},{"$f":"tbl_ConsultingCompanys!C1668","v":0},0]
[{"$nulls":10},{"$f":"tbl_ArchitectureOffices!D1669","v":0},{"$f":"tbl_ArchitectureOffices!C1669","v":0},0,{"$f":"tbl_Companys!D1669","v":0},{"$f":"tbl_Companys!C1669","v":0},0,{"$f":"tbl_ConsultingCompanys!D1669","v":0},{"$f":"tbl_ConsultingCompanys!C1669","v":0},0]
[{"$nulls":10},{"$f":"tbl_ArchitectureOffices!D1670","v":0},{"$f":"tbl_ArchitectureOffices!C1670","v":0},0,{"$f":"tbl_Companys!D1670","v":0},{"$f":"tbl_Companys!C1670","v":0},0,{"$f":"tbl_ConsultingCompanys!D1670","v":0},{"$f":"tbl_ConsultingCompanys!C1670","v":0},0]
[{"$nulls":10},{"$f":"tbl_ArchitectureOffices!D1671","v":0},{"$f":"tbl_ArchitectureOffices!C1671","v":0},0,{"$f":"tbl_Companys!D1671","v":0},{"$f":"tbl_Companys!C1671","v":0},0,{"$f":"tbl_ConsultingCompanys!D1671","v":0},{"$f":"tbl_ConsultingCompanys!C1671","v":0},0]
[{"$nulls":10},{"$f":"tbl_ArchitectureOffices!D1672","v":0},{"$f":"tbl_ArchitectureOffices!C1672","v":0},0,{"$f":"tbl_Companys!D1672","v":0},{"$f":"tbl_Companys!C1672","v":0},0,{"$f":"tbl_ConsultingCompanys!D1672","v":0},{"$f":"tbl_ConsultingCompanys!C1672","v":0},0]
[{"$nulls":10},{"$f":"tbl_ArchitectureOffices!D1673","v":0},{"$f":"tbl_ArchitectureOffices!C1673","v":0},0,{"$f":"tbl_Companys!D1673","v":0},{"$f":"tbl_Companys!C1673","v":0},0,{"$f":"tbl_ConsultingCompanys!D1673","v":0},{"$f":"tbl_ConsultingCompanys!C1673","v":0},0]
[{"$nulls":10},{"$f":"tbl_ArchitectureOffices!D1674","v":0},{"$f":"tbl_ArchitectureOffices!C1674","v":0},0,{"$f":"tbl_Companys!D1674","v":0},{"$f":"tbl_Companys!C1674","v":0},0,{"$f":"tbl_ConsultingCompanys!D1674","v":0},{"$f":"tbl_ConsultingCompanys!C1674","v":0},0]
[{"$nulls":10},{"$f":"tbl_ArchitectureOffices!D1675","v":0},{"$f":"tbl_ArchitectureOffices!C1675","v":0},0,{"$f":"tbl_Companys!D1675","v":0},{"$f":"tbl_Companys!C1675","v":0},0,{"$f":"tbl_ConsultingCompanys!D1675","v":0},{"$f":"tbl_ConsultingCompanys!C1675","v":0},0]
[{"$nulls":10},{"$f":"tbl_ArchitectureOffices!D1676","v":0},{"$f":"tbl_ArchitectureOffices!C1676","v":0},0,{"$f":"tbl_Companys!D1676","v":0},{"$f":"tbl_Companys!C1676","v":0},0,{"$f":"tbl_ConsultingCompanys!D1676","v":0},{"$f":"tbl_ConsultingCompanys!C1676","v":0},0]
[{"$nulls":10},{"$f":"tbl_ArchitectureOffices!D1677","v":0},{"$f":"tbl_ArchitectureOffices!C1677","v":0},0,{"$f":"tbl_Companys!D1677","v":0},{"$f":"tbl_Companys!C1677","v":0},0,{"$f":"tbl_ConsultingCompanys!D1677","v":0},{"$f":"tbl_ConsultingCompanys!C1677","v":0},0]
[{"$nulls":10},{"$f":"tbl_ArchitectureOffices!D1678","v":0},{"$f":"tbl_ArchitectureOffices!C1678","v":0},0,{"$f":"tbl_Companys!D1678","v":0},{"$f":"tbl_Companys!C1678","v":0},0,{"$f":"tbl_ConsultingCompanys!D1678","v":0},{"$f":"tbl_ConsultingCompanys!C1678","v":0},0]
[{"$nulls":10},{"$f":"tbl_ArchitectureOffices!D1679","v":0},{"$f":"tbl_ArchitectureOffices!C1679","v":0},0,{"$f":"tbl_Companys!D1679","v":0},{"$f":"tbl_Companys!C1679","v":0},0,{"$f":"tbl_ConsultingCompanys!D1679","v":0},{"$f":"tbl_ConsultingCompanys!C1679","v":0},0]
[{"$nulls":10},{"$f":"tbl_ArchitectureOffices!D1680","v":0},{"$f":"tbl_ArchitectureOffices!C1680","v":0},0,{"$f":"tbl_Companys!D1680","v":0},{"$f":"tbl_Companys!C1680","v":0},0,{"$f":"tbl_ConsultingCompanys!D1680","v":0},{"$f":"tbl_ConsultingCompanys!C1680","v":0},0]
[{"$nulls":10},{"$f":"tbl_ArchitectureOffices!D1681","v":0},{"$f":"tbl_ArchitectureOffices!C1681","v":0},0,{"$f":"tbl_Companys!D1681","v":0},{"$f":"tbl_Companys!C1681","v":0},0,{"$f":"tbl_ConsultingCompanys!D1681","v":0},{"$f":"tbl_ConsultingCompanys!C1681","v":0},0]
[{"$nulls":10},{"$f":"tbl_ArchitectureOffices!D1682","v":0},{"$f":"tbl_ArchitectureOffices!C1682","v":0},0,{"$f":"tbl_Companys!D1682","v":0},{"$f":"tbl_Companys!C1682","v":0},0,{"$f":"tbl_ConsultingCompanys!D1682","v":0},{"$f":"tbl_ConsultingCompanys!C1682","v":0},0]
[{"$nulls":10},{"$f":"tbl_ArchitectureOffices!D1683","v":0},{"$f":"tbl_ArchitectureOffices!C1683","v":0},0,{"$f":"tbl_Companys!D1683","v":0},{"$f":"tbl_Companys!C1683","v":0},0,{"$f":"tbl_ConsultingCompanys!D1683","v":0},{"$f":"tbl_ConsultingCompanys!C1683","v":0},0]
[{"$nulls":10},{"$f":"tbl_ArchitectureOffices!D1684","v":0},{"$f":"tbl_ArchitectureOffices!C1684","v":0},0,{"$f":"tbl_Companys!D1684","v":0},{"$f":"tbl_Companys!C1684","v":0},0,{"$f":"tbl_ConsultingCompanys!D1684","v":0},{"$f":"tbl_ConsultingCompanys!C1684","v":0},0]
[{"$nulls":10},{"$f":"tbl_ArchitectureOffices!D1685","v":0},{"$f":"tbl_ArchitectureOffices!C1685","v":0},0,{"$f":"tbl_Companys!D1685","v":0},{"$f":"tbl_Companys!C1685","v":0},0,{"$f":"tbl_ConsultingCompanys!D1685","v":0},{"$f":"tbl_ConsultingCompanys!C1685","v":0},0]
[{"$nulls":10},{"$f":"tbl_ArchitectureOffices!D1686","v":0},{"$f":"tbl_ArchitectureOffices!C1686","v":0},0,{"$f":"tbl_Companys!D1686","v":0},{"$f":"tbl_Companys!C1686","v":0},0,{"$f":"tbl_ConsultingCompanys!D1686","v":0},{"$f":"tbl_ConsultingCompanys!C1686","v":0},0]
[{"$nulls":10},{"$f":"tbl_ArchitectureOffices!D1687","v":0},{"$f":"tbl_ArchitectureOffices!C1687","v":0},0,{"$f":"tbl_Companys!D1687","v":0},{"$f":"tbl_Companys!C1687","v":0},0,{"$f":"tbl_ConsultingCompanys!D1687","v":0},{"$f":"tbl_ConsultingCompanys!C1687","v":0},0]
[{"$nulls":10},{"$f":"tbl_ArchitectureOffices!D1688","v":0},{"$f":"tbl_ArchitectureOffices!C1688","v":0},0,{"$f":"tbl_Companys!D1688","v":0},{"$f":"tbl_Companys!C1688","v":0},0,{"$f":"tbl_ConsultingCompanys!D1688","v":0},{"$f":"tbl_ConsultingCompanys!C1688","v":0},0]
[{"$nulls":10},{"$f":"tbl_ArchitectureOffices!D1689","v":0},{"$f":"tbl_ArchitectureOffices!C1689","v":0},0,{"$f":"tbl_Companys!D1689","v":0},{"$f":"tbl_Companys!C1689","v":0},0,{"$f":"tbl_ConsultingCompanys!D1689","v":0},{"$f":"tbl_ConsultingCompanys!C1689","v":0},0]
[{"$nulls":10},{"$f":"tbl_ArchitectureOffices!D1690","v":0},{"$f":"tbl_ArchitectureOffices!C1690","v":0},0,{"$f":"tbl_Companys!D1690","v":0},{"$f":"tbl_Companys!C1690","v":0},0,{"$f":"tbl_ConsultingCompanys!D1690","v":0},{"$f":"tbl_ConsultingCompanys!C1690","v":0},0]
[{"$nulls":10},{"$f":"tbl_ArchitectureOffices!D1691","v":0},{"$f":"tbl_ArchitectureOffices!C1691","v":0},0,{"$f":"tbl_Companys!D1691","v":0},{"$f":"tbl_Companys!C1691","v":0},0,{"$f":"tbl_ConsultingCompanys!D1691","v":0},{"$f":"tbl_ConsultingCompanys!C1691","v":0},0]
[{"$nulls":10},{"$f":"tbl_ArchitectureOffices!D1692","v":0},{"$f":"tbl_ArchitectureOffices!C1692","v":0},0,{"$f":"tbl_Companys!D1692","v":0},{"$f":"tbl_Companys!C1692","v":0},0,{"$f":"tbl_ConsultingCompanys!D1692","v":0},{"$f":"tbl_ConsultingCompanys!C1692","v":0},0]
[{"$nulls":10},{"$f":"tbl_ArchitectureOffices!D1693","v":0},{"$f":"tbl_ArchitectureOffices!C1693","v":0},0,{"$f":"tbl_Companys!D1693","v":0},{"$f":"tbl_Companys!C1693","v":0},0,{"$f":"tbl_ConsultingCompanys!D1693","v":0},{"$f":"tbl_ConsultingCompanys!C1693","v":0},0]
[{"$nulls":10},{"$f":"tbl_ArchitectureOffices!D1694","v":0},{"$f":"tbl_ArchitectureOffices!C1694","v":0},0,{"$f":"tbl_Companys!D1694","v":0},{"$f":"tbl_Companys!C1694","v":0},0,{"$f":"tbl_ConsultingCompanys!D1694","v":0},{"$f":"tbl_ConsultingCompanys!C1694","v":0},0]
[{"$nulls":10},{"$f":"tbl_ArchitectureOffices!D1695","v":0},{"$f":"tbl_ArchitectureOffices!C1695","v":0},0,{"$f":"tbl_Companys!D1695","v":0},{"$f":"tbl_Companys!C1695","v":0},0,{"$f":"tbl_ConsultingCompanys!D1695","v":0},{"$f":"tbl_ConsultingCompanys!C1695","v":0},0]
[{"$nulls":10},{"$f":"tbl_ArchitectureOffices!D1696","v":0},{"$f":"tbl_ArchitectureOffices!C1696","v":0},0,{"$f":"tbl_Companys!D1696","v":0},{"$f":"tbl_Companys!C1696","v":0},0,{"$f":"tbl_ConsultingCompanys!D1696","v":0},{"$f":"tbl_ConsultingCompanys!C1696","v":0},0]
[{"$nulls":10},{"$f":"tbl_ArchitectureOffices!D1697","v":0},{"$f":"tbl_ArchitectureOffices!C1697","v":0},0,{"$f":"tbl_Companys!D1697","v":0},{"$f":"tbl_Companys!C1697","v":0},0,{"$f":"tbl_ConsultingCompanys!D1697","v":0},{"$f":"tbl_ConsultingCompanys!C1697","v":0},0]
[{"$nulls":10},{"$f":"tbl_ArchitectureOffices!D1698","v":0},{"$f":"tbl_ArchitectureOffices!C1698","v":0},0,{"$f":"tbl_Companys!D1698","v":0},{"$f":"tbl_Companys!C1698","v":0},0,{"$f":"tbl_ConsultingCompanys!D1698","v":0},{"$f":"tbl_ConsultingCompanys!C1698","v":0},0]
[{"$nulls":10},{"$f":"tbl_ArchitectureOffices!D1699","v":0},{"$f":"tbl_ArchitectureOffices!C1699","v":0},0,{"$f":"tbl_Companys!D1699","v":0},{"$f":"tbl_Companys!C1699","v":0},0,{"$f":"tbl_ConsultingCompanys!D1699","v":0},{"$f":"tbl_ConsultingCompanys!C1699","v":0},0]
[{"$nulls":10},{"$f":"tbl_ArchitectureOffices!D1700","v":0},{"$f":"tbl_ArchitectureOffices!C1700","v":0},0,{"$f":"tbl_Companys!D1700","v":0},{"$f":"tbl_Companys!C1700","v":0},0,{"$f":"tbl_ConsultingCompanys!D1700","v":0},{"$f":"tbl_ConsultingCompanys!C1700","v":0},0]
[{"$nulls":10},{"$f":"tbl_ArchitectureOffices!D1701","v":0},{"$f":"tbl_ArchitectureOffices!C1701","v":0},0,{"$f":"tbl_Companys!D1701","v":0},{"$f":"tbl_Companys!C1701","v":0},0,{"$f":"tbl_ConsultingCompanys!D1701","v":0},{"$f":"tbl_ConsultingCompanys!C1701","v":0},0]
[{"$nulls":10},{"$f":"tbl_ArchitectureOffices!D1702","v":0},{"$f":"tbl_ArchitectureOffices!C1702","v":0},0,{"$f":"tbl_Companys!D1702","v":0},{"$f":"tbl_Companys!C1702","v":0},0,{"$f":"tbl_ConsultingCompanys!D1702","v":0},{"$f":"tbl_ConsultingCompanys!C1702","v":0},0]
[{"$nulls":10},{"$f":"tbl_ArchitectureOffices!D1703","v":0},{"$f":"tbl_ArchitectureOffices!C1703","v":0},0,{"$f":"tbl_Companys!D1703","v":0},{"$f":"tbl_Companys!C1703","v":0},0,{"$f":"tbl_ConsultingCompanys!D1703","v":0},{"$f":"tbl_ConsultingCompanys!C1703","v":0},0]
[{"$nulls":10},{"$f":"tbl_ArchitectureOffices!D1704","v":0},{"$f":"tbl_ArchitectureOffices!C1704","v":0},0,{"$f":"tbl_Companys!D1704","v":0},{"$f":"tbl_Companys!C1704","v":0},0,{"$f":"tbl_ConsultingCompanys!D1704","v":0},{"$f":"tbl_ConsultingCompanys!C1704","v":0},0]
[{"$nulls":10},{"$f":"tbl_ArchitectureOffices!D1705","v":0},{"$f":"tbl_ArchitectureOffices!C1705","v":0},0,{"$f":"tbl_Companys!D1705","v":0},{"$f":"tbl_Companys!C1705","v":0},0,{"$f":"tbl_ConsultingCompanys!D1705","v":0},{"$f":"tbl_ConsultingCompanys!C1705","v":0},0]
[{"$nulls":10},{"$f":"tbl_ArchitectureOffices!D1706","v":0},{"$f":"tbl_ArchitectureOffices!C1706","v":0},0,{"$f":"tbl_Companys!D1706","v":0},{"$f":"tbl_Companys!C1706","v":0},0,{"$f":"tbl_ConsultingCompanys!D1706","v":0},{"$f":"tbl_ConsultingCompanys!C1706","v":0},0]
[{"$nulls":10},{"$f":"tbl_ArchitectureOffices!D1707","v":0},{"$f":"tbl_ArchitectureOffices!C1707","v":0},0,{"$f":"tbl_Companys!D1707","v":0},{"$f":"tbl_Companys!C1707","v":0},0,{"$f":"tbl_ConsultingCompanys!D1707","v":0},{"$f":"tbl_ConsultingCompanys!C1707","v":0},0]
[{"$nulls":10},{"$f":"tbl_ArchitectureOffices!D1708","v":0},{"$f":"tbl_ArchitectureOffices!C1708","v":0},0,{"$f":"tbl_Companys!D1708","v":0},{"$f":"tbl_Companys!C1708","v":0},0,{"$f":"tbl_ConsultingCompanys!D1708","v":0},{"$f":"tbl_ConsultingCompanys!C1708","v":0},0]
[{"$nulls":10},{"$f":"tbl_ArchitectureOffices!D1709","v":0},{"$f":"tbl_ArchitectureOffices!C1709","v":0},0,{"$f":"tbl_Companys!D1709","v":0},{"$f":"tbl_Companys!C1709","v":0},0,{"$f":"tbl_ConsultingCompanys!D1709","v":0},{"$f":"tbl_ConsultingCompanys!C1709","v":0},0]
[{"$nulls":10},{"$f":"tbl_ArchitectureOffices!D1710","v":0},{"$f":"tbl_ArchitectureOffices!C1710","v":0},0,{"$f":"tbl_Companys!D1710","v":0},{"$f":"tbl_Companys!C1710","v":0},0,{"$f":"tbl_ConsultingCompanys!D1710","v":0},{"$f":"tbl_ConsultingCompanys!C1710","v":0},0]
[{"$nulls":10},{"$f":"tbl_ArchitectureOffices!D1711","v":0},{"$f":"tbl_ArchitectureOffices!C1711","v":0},0,{"$f":"tbl_Companys!D1711","v":0},{"$f":"tbl_Companys!C1711","v":0},0,{"$f":"tbl_ConsultingCompanys!D1711","v":0},{"$f":"tbl_ConsultingCompanys!C1711","v":0},0]
[{"$nulls":10},{"$f":"tbl_ArchitectureOffices!D1712","v":0},{"$f":"tbl_ArchitectureOffices!C1712","v":0},0,{"$f":"tbl_Companys!D1712","v":0},{"$f":"tbl_Companys!C1712","v":0},0,{"$f":"tbl_ConsultingCompanys!D1712","v":0},{"$f":"tbl_ConsultingCompanys!C1712","v":0},0]
[{"$nulls":10},{"$f":"tbl_ArchitectureOffices!D1713","v":0},{"$f":"tbl_ArchitectureOffices!C1713","v":0},0,{"$f":"tbl_Companys!D1713","v":0},{"$f":"tbl_Companys!C1713","v":0},0,{"$f":"tbl_ConsultingCompanys!D1713","v":0},{"$f":"tbl_ConsultingCompanys!C1713","v":0},0]
[{"$nulls":10},{"$f":"tbl_ArchitectureOffices!D1714","v":0},{"$f":"tbl_ArchitectureOffices!C1714","v":0},0,{"$f":"tbl_Companys!D1714","v":0},{"$f":"tbl_Companys!C1714","v":0},0,{"$f":"tbl_ConsultingCompanys!D1714","v":0},{"$f":"tbl_ConsultingCompanys!C1714","v":0},0]
[{"$nulls":10},{"$f":"tbl_ArchitectureOffices!D1715","v":0},{"$f":"tbl_ArchitectureOffices!C1715","v":0},0,{"$f":"tbl_Companys!D1715","v":0},{"$f":"tbl_Companys!C1715","v":0},0,{"$f":"tbl_ConsultingCompanys!D1715","v":0},{"$f":"tbl_ConsultingCompanys!C1715","v":0},0]
[{"$nulls":10},{"$f":"tbl_ArchitectureOffices!D1716","v":0},{"$f":"tbl_ArchitectureOffices!C1716","v":0},0,{"$f":"tbl_Companys!D1716","v":0},{"$f":"tbl_Companys!C1716","v":0},0,{"$f":"tbl_ConsultingCompanys!D1716","v":0},{"$f":"tbl_ConsultingCompanys!C1716","v":0},0]
[{"$nulls":10},{"$f":"tbl_ArchitectureOffices!D1717","v":0},{"$f":"tbl_ArchitectureOffices!C1717","v":0},0,{"$f":"tbl_Companys!D1717","v":0},{"$f":"tbl_Companys!C1717","v":0},0,{"$f":"tbl_ConsultingCompanys!D1717","v":0},{"$f":"tbl_ConsultingCompanys!C1717","v":0},0]
[{"$nulls":10},{"$f":"tbl_ArchitectureOffices!D1718","v":0},{"$f":"tbl_ArchitectureOffices!C1718","v":0},{"$f":"IFERROR(REPLACE(K1718,FIND(\" \",K1718,LEN(K1718)),1,\"\"),K1718)","v":0},{"$f":"tbl_Companys!D1718","v":0},{"$f":"tbl_Companys!C1718","v":0},0,{"$f":"tbl_ConsultingCompanys!D1718","v":0},{"$f":"tbl_ConsultingCompanys!C1718","v":0},0]
[{"$nulls":10},{"$f":"tbl_ArchitectureOffices!D1719","v":0},{"$f":"tbl_ArchitectureOffices!C1719","v":0},0,{"$f":"tbl_Companys!D1719","v":0},{"$f":"tbl_Companys!C1719","v":0},0,{"$f":"tbl_ConsultingCompanys!D1719","v":0},{"$f":"tbl_ConsultingCompanys!C1719","v":0},0]
[{"$nulls":10},{"$f":"tbl_ArchitectureOffices!D1720","v":0},{"$f":"tbl_ArchitectureOffices!C1720","v":0},0,{"$f":"tbl_Companys!D1720","v":0},{"$f":"tbl_Companys!C1720","v":0},0,{"$f":"tbl_ConsultingCompanys!D1720","v":0},{"$f":"tbl_ConsultingCompanys!C1720","v":0},0]
[{"$nulls":10},{"$f":"tbl_ArchitectureOffices!D1721","v":0},{"$f":"tbl_ArchitectureOffices!C1721","v":0},0,{"$f":"tbl_Companys!D1721","v":0},{"$f":"tbl_Companys!C1721","v":0},0,{"$f":"tbl_ConsultingCompanys!D1721","v":0},{"$f":"tbl_ConsultingCompanys!C1721","v":0},0]
[{"$nulls":10},{"$f":"tbl_ArchitectureOffices!D1722","v":0},{"$f":"tbl_ArchitectureOffices!C1722","v":0},0,{"$f":"tbl_Companys!D1722","v":0},{"$f":"tbl_Companys!C1722","v":0},0,{"$f":"tbl_ConsultingCompanys!D1722","v":0},{"$f":"tbl_ConsultingCompanys!C1722","v":0},0]
[{"$nulls":10},{"$f":"tbl_ArchitectureOffices!D1723","v":0},{"$f":"tbl_ArchitectureOffices!C1723","v":0},0,{"$f":"tbl_Companys!D1723","v":0},{"$f":"tbl_Companys!C1723","v":0},0,{"$f":"tbl_ConsultingCompanys!D1723","v":0},{"$f":"tbl_ConsultingCompanys!C1723","v":0},0]
[{"$nulls":10},{"$f":"tbl_ArchitectureOffices!D1724","v":0},{"$f":"tbl_ArchitectureOffices!C1724","v":0},0,{"$f":"tbl_Companys!D1724","v":0},{"$f":"tbl_Companys!C1724","v":0},0,{"$f":"tbl_ConsultingCompanys!D1724","v":0},{"$f":"tbl_ConsultingCompanys!C1724","v":0},0]
[{"$nulls":10},{"$f":"tbl_ArchitectureOffices!D1725","v":0},{"$f":"tbl_ArchitectureOffices!C1725","v":0},0,{"$f":"tbl_Companys!D1725","v":0},{"$f":"tbl_Companys!C1725","v":0},0,{"$f":"tbl_ConsultingCompanys!D1725","v":0},{"$f":"tbl_ConsultingCompanys!C1725","v":0},0]
[{"$nulls":10},{"$f":"tbl_ArchitectureOffices!D1726","v":0},{"$f":"tbl_ArchitectureOffices!C1726","v":0},0,{"$f":"tbl_Companys!D1726","v":0},{"$f":"tbl_Companys!C1726","v":0},0,{"$f":"tbl_ConsultingCompanys!D1726","v":0},{"$f":"tbl_ConsultingCompanys!C1726","v":0},0]
[{"$nulls":10},{"$f":"tbl_ArchitectureOffices!D1727","v":0},{"$f":"tbl_ArchitectureOffices!C1727","v":0},0,{"$f":"tbl_Companys!D1727","v":0},{"$f":"tbl_Companys!C1727","v":0},0,{"$f":"tbl_ConsultingCompanys!D1727","v":0},{"$f":"tbl_ConsultingCompanys!C1727","v":0},0]
[{"$nulls":10},{"$f":"tbl_ArchitectureOffices!D1728","v":0},{"$f":"tbl_ArchitectureOffices!C1728","v":0},0,{"$f":"tbl_Companys!D1728","v":0},{"$f":"tbl_Companys!C1728","v":0},0,{"$f":"tbl_ConsultingCompanys!D1728","v":0},{"$f":"tbl_ConsultingCompanys!C1728","v":0},0]
[{"$nulls":10},{"$f":"tbl_ArchitectureOffices!D1729","v":0},{"$f":"tbl_ArchitectureOffices!C1729","v":0},0,{"$f":"tbl_Companys!D1729","v":0},{"$f":"tbl_Companys!C1729","v":0},0,{"$f":"tbl_ConsultingCompanys!D1729","v":0},{"$f":"tbl_ConsultingCompanys!C1729","v":0},0]
[{"$nulls":10},{"$f":"tbl_ArchitectureOffices!D1730","v":0},{"$f":"tbl_ArchitectureOffices!C1730","v":0},0,{"$f":"tbl_Companys!D1730","v":0},{"$f":"tbl_Companys!C1730","v":0},0,{"$f":"tbl_ConsultingCompanys!D1730","v":0},{"$f":"tbl_ConsultingCompanys!C1730","v":0},0]
[{"$nulls":10},{"$f":"tbl_ArchitectureOffices!D1731","v":0},{"$f":"tbl_ArchitectureOffices!C1731","v":0},0,{"$f":"tbl_Companys!D1731","v":0},{"$f":"tbl_Companys!C1731","v":0},{"$f":"IFERROR(REPLACE(N1731,FIND(\" \",N1731,LEN(N1731)),1,\"\"),N1731)","v":0},{"$f":"tbl_ConsultingCompanys!D1731","v":0},{"$f":"tbl_ConsultingCompanys!C1731","v":0},{"$f":"IFERROR(REPLACE(Q1731,FIND(\" \",Q1731,LEN(Q1731)),1,\"\"),Q1731)","v":0}]
[{"$nulls":10},{"$f":"tbl_ArchitectureOffices!D1732","v":0},{"$f":"tbl_ArchitectureOffices!C1732","v":0},0,{"$f":"tbl_Companys!D1732","v":0},{"$f":"tbl_Companys!C1732","v":0},0,{"$f":"tbl_ConsultingCompanys!D1732","v":0},{"$f":"tbl_ConsultingCompanys!C1732","v":0},0]
[{"$nulls":10},{"$f":"tbl_ArchitectureOffices!D1733","v":0},{"$f":"tbl_ArchitectureOffices!C1733","v":0},0,{"$f":"tbl_Companys!D1733","v":0},{"$f":"tbl_Companys!C1733","v":0},0,{"$f":"tbl_ConsultingCompanys!D1733","v":0},{"$f":"tbl_ConsultingCompanys!C1733","v":0},0]
[{"$nulls":10},{"$f":"tbl_ArchitectureOffices!D1734","v":0},{"$f":"tbl_ArchitectureOffices!C1734","v":0},0,{"$f":"tbl_Companys!D1734","v":0},{"$f":"tbl_Companys!C1734","v":0},0,{"$f":"tbl_ConsultingCompanys!D1734","v":0},{"$f":"tbl_ConsultingCompanys!C1734","v":0},0]
[{"$nulls":10},{"$f":"tbl_ArchitectureOffices!D1735","v":0},{"$f":"tbl_ArchitectureOffices!C1735","v":0},0,{"$f":"tbl_Companys!D1735","v":0},{"$f":"tbl_Companys!C1735","v":0},0,{"$f":"tbl_ConsultingCompanys!D1735","v":0},{"$f":"tbl_ConsultingCompanys!C1735","v":0},0]
[{"$nulls":10},{"$f":"tbl_ArchitectureOffices!D1736","v":0},{"$f":"tbl_ArchitectureOffices!C1736","v":0},0,{"$f":"tbl_Companys!D1736","v":0},{"$f":"tbl_Companys!C1736","v":0},0,{"$f":"tbl_ConsultingCompanys!D1736","v":0},{"$f":"tbl_ConsultingCompanys!C1736","v":0},0]
[{"$nulls":10},{"$f":"tbl_ArchitectureOffices!D1737","v":0},{"$f":"tbl_ArchitectureOffices!C1737","v":0},0,{"$f":"tbl_Companys!D1737","v":0},{"$f":"tbl_Companys!C1737","v":0},0,{"$f":"tbl_ConsultingCompanys!D1737","v":0},{"$f":"tbl_ConsultingCompanys!C1737","v":0},0]
[{"$nulls":10},{"$f":"tbl_ArchitectureOffices!D1738","v":0},{"$f":"tbl_ArchitectureOffices!C1738","v":0},0,{"$f":"tbl_Companys!D1738","v":0},{"$f":"tbl_Companys!C1738","v":0},0,{"$f":"tbl_ConsultingCompanys!D1738","v":0},{"$f":"tbl_ConsultingCompanys!C1738","v":0},0]
[{"$nulls":10},{"$f":"tbl_ArchitectureOffices!D1739","v":0},{"$f":"tbl_ArchitectureOffices!C1739","v":0},0,{"$f":"tbl_Companys!D1739","v":0},{"$f":"tbl_Companys!C1739","v":0},0,{"$f":"tbl_ConsultingCompanys!D1739","v":0},{"$f":"tbl_ConsultingCompanys!C1739","v":0},0]
[{"$nulls":10},{"$f":"tbl_ArchitectureOffices!D1740","v":0},{"$f":"tbl_ArchitectureOffices!C1740","v":0},0,{"$f":"tbl_Companys!D1740","v":0},{"$f":"tbl_Companys!C1740","v":0},0,{"$f":"tbl_ConsultingCompanys!D1740","v":0},{"$f":"tbl_ConsultingCompanys!C1740","v":0},0]
[{"$nulls":10},{"$f":"tbl_ArchitectureOffices!D1741","v":0},{"$f":"tbl_ArchitectureOffices!C1741","v":0},0,{"$f":"tbl_Companys!D1741","v":0},{"$f":"tbl_Companys!C1741","v":0},0,{"$f":"tbl_ConsultingCompanys!D1741","v":0},{"$f":"tbl_ConsultingCompanys!C1741","v":0},0]
[{"$nulls":10},{"$f":"tbl_ArchitectureOffices!D1742","v":0},{"$f":"tbl_ArchitectureOffices!C1742","v":0},0,{"$f":"tbl_Companys!D1742","v":0},{"$f":"tbl_Companys!C1742","v":0},0,{"$f":"tbl_ConsultingCompanys!D1742","v":0},{"$f":"tbl_ConsultingCompanys!C1742","v":0},0]
[{"$nulls":10},{"$f":"tbl_ArchitectureOffices!D1743","v":0},{"$f":"tbl_ArchitectureOffices!C1743","v":0},0,{"$f":"tbl_Companys!D1743","v":0},{"$f":"tbl_Companys!C1743","v":0},0,{"$f":"tbl_ConsultingCompanys!D1743","v":0},{"$f":"tbl_ConsultingCompanys!C1743","v":0},0]
[{"$nulls":10},{"$f":"tbl_ArchitectureOffices!D1744","v":0},{"$f":"tbl_ArchitectureOffices!C1744","v":0},0,{"$f":"tbl_Companys!D1744","v":0},{"$f":"tbl_Companys!C1744","v":0},0,{"$f":"tbl_ConsultingCompanys!D1744","v":0},{"$f":"tbl_ConsultingCompanys!C1744","v":0},0]
[{"$nulls":10},{"$f":"tbl_ArchitectureOffices!D1745","v":0},{"$f":"tbl_ArchitectureOffices!C1745","v":0},0,{"$f":"tbl_Companys!D1745","v":0},{"$f":"tbl_Companys!C1745","v":0},0,{"$f":"tbl_ConsultingCompanys!D1745","v":0},{"$f":"tbl_ConsultingCompanys!C1745","v":0},0]
[{"$nulls":10},{"$f":"tbl_ArchitectureOffices!D1746","v":0},{"$f":"tbl_ArchitectureOffices!C1746","v":0},0,{"$f":"tbl_Companys!D1746","v":0},{"$f":"tbl_Companys!C1746","v":0},0,{"$f":"tbl_ConsultingCompanys!D1746","v":0},{"$f":"tbl_ConsultingCompanys!C1746","v":0},0]
[{"$nulls":10},{"$f":"tbl_ArchitectureOffices!D1747","v":0},{"$f":"tbl_ArchitectureOffices!C1747","v":0},0,{"$f":"tbl_Companys!D1747","v":0},{"$f":"tbl_Companys!C1747","v":0},0,{"$f":"tbl_ConsultingCompanys!D1747","v":0},{"$f":"tbl_ConsultingCompanys!C1747","v":0},0]
[{"$nulls":10},{"$f":"tbl_ArchitectureOffices!D1748","v":0},{"$f":"tbl_ArchitectureOffices!C1748","v":0},0,{"$f":"tbl_Companys!D1748","v":0},{"$f":"tbl_Companys!C1748","v":0},0,{"$f":"tbl_ConsultingCompanys!D1748","v":0},{"$f":"tbl_ConsultingCompanys!C1748","v":0},0]
[{"$nulls":10},{"$f":"tbl_ArchitectureOffices!D1749","v":0},{"$f":"tbl_ArchitectureOffices!C1749","v":0},0,{"$f":"tbl_Companys!D1749","v":0},{"$f":"tbl_Companys!C1749","v":0},0,{"$f":"tbl_ConsultingCompanys!D1749","v":0},{"$f":"tbl_ConsultingCompanys!C1749","v":0},0]
[{"$nulls":10},{"$f":"tbl_ArchitectureOffices!D1750","v":0},{"$f":"tbl_ArchitectureOffices!C1750","v":0},0,{"$f":"tbl_Companys!D1750","v":0},{"$f":"tbl_Companys!C1750","v":0},0,{"$f":"tbl_ConsultingCompanys!D1750","v":0},{"$f":"tbl_ConsultingCompanys!C1750","v":0},0]
[{"$nulls":10},{"$f":"tbl_ArchitectureOffices!D1751","v":0},{"$f":"tbl_ArchitectureOffices!C1751","v":0},0,{"$f":"tbl_Companys!D1751","v":0},{"$f":"tbl_Companys!C1751","v":0},0,{"$f":"tbl_ConsultingCompanys!D1751","v":0},{"$f":"tbl_ConsultingCompanys!C1751","v":0},0]
[{"$nulls":10},{"$f":"tbl_ArchitectureOffices!D1752","v":0},{"$f":"tbl_ArchitectureOffices!C1752","v":0},0,{"$f":"tbl_Companys!D1752","v":0},{"$f":"tbl_Companys!C1752","v":0},0,{"$f":"tbl_ConsultingCompanys!D1752","v":0},{"$f":"tbl_ConsultingCompanys!C1752","v":0},0]
[{"$nulls":10},{"$f":"tbl_ArchitectureOffices!D1753","v":0},{"$f":"tbl_ArchitectureOffices!C1753","v":0},0,{"$f":"tbl_Companys!D1753","v":0},{"$f":"tbl_Companys!C1753","v":0},0,{"$f":"tbl_ConsultingCompanys!D1753","v":0},{"$f":"tbl_ConsultingCompanys!C1753","v":0},0]
[{"$nulls":10},{"$f":"tbl_ArchitectureOffices!D1754","v":0},{"$f":"tbl_ArchitectureOffices!C1754","v":0},0,{"$f":"tbl_Companys!D1754","v":0},{"$f":"tbl_Companys!C1754","v":0},0,{"$f":"tbl_ConsultingCompanys!D1754","v":0},{"$f":"tbl_ConsultingCompanys!C1754","v":0},0]
[{"$nulls":10},{"$f":"tbl_ArchitectureOffices!D1755","v":0},{"$f":"tbl_ArchitectureOffices!C1755","v":0},0,{"$f":"tbl_Companys!D1755","v":0},{"$f":"tbl_Companys!C1755","v":0},0,{"$f":"tbl_ConsultingCompanys!D1755","v":0},{"$f":"tbl_ConsultingCompanys!C1755","v":0},0]
[{"$nulls":10},{"$f":"tbl_ArchitectureOffices!D1756","v":0},{"$f":"tbl_ArchitectureOffices!C1756","v":0},0,{"$f":"tbl_Companys!D1756","v":0},{"$f":"tbl_Companys!C1756","v":0},0,{"$f":"tbl_ConsultingCompanys!D1756","v":0},{"$f":"tbl_ConsultingCompanys!C1756","v":0},0]
[{"$nulls":10},{"$f":"tbl_ArchitectureOffices!D1757","v":0},{"$f":"tbl_ArchitectureOffices!C1757","v":0},0,{"$f":"tbl_Companys!D1757","v":0},{"$f":"tbl_Companys!C1757","v":0},0,{"$f":"tbl_ConsultingCompanys!D1757","v":0},{"$f":"tbl_ConsultingCompanys!C1757","v":0},0]
[{"$nulls":10},{"$f":"tbl_ArchitectureOffices!D1758","v":0},{"$f":"tbl_ArchitectureOffices!C1758","v":0},0,{"$f":"tbl_Companys!D1758","v":0},{"$f":"tbl_Companys!C1758","v":0},0,{"$f":"tbl_ConsultingCompanys!D1758","v":0},{"$f":"tbl_ConsultingCompanys!C1758","v":0},0]
[{"$nulls":10},{"$f":"tbl_ArchitectureOffices!D1759","v":0},{"$f":"tbl_ArchitectureOffices!C1759","v":0},0,{"$f":"tbl_Companys!D1759","v":0},{"$f":"tbl_Companys!C1759","v":0},0,{"$f":"tbl_ConsultingCompanys!D1759","v":0},{"$f":"tbl_ConsultingCompanys!C1759","v":0},0]
[{"$nulls":10},{"$f":"tbl_ArchitectureOffices!D1760","v":0},{"$f":"tbl_ArchitectureOffices!C1760","v":0},0,{"$f":"tbl_Companys!D1760","v":0},{"$f":"tbl_Companys!C1760","v":0},0,{"$f":"tbl_ConsultingCompanys!D1760","v":0},{"$f":"tbl_ConsultingCompanys!C1760","v":0},0]
[{"$nulls":10},{"$f":"tbl_ArchitectureOffices!D1761","v":0},{"$f":"tbl_ArchitectureOffices!C1761","v":0},0,{"$f":"tbl_Companys!D1761","v":0},{"$f":"tbl_Companys!C1761","v":0},0,{"$f":"tbl_ConsultingCompanys!D1761","v":0},{"$f":"tbl_ConsultingCompanys!C1761","v":0},0]
[{"$nulls":10},{"$f":"tbl_ArchitectureOffices!D1762","v":0},{"$f":"tbl_ArchitectureOffices!C1762","v":0},0,{"$f":"tbl_Companys!D1762","v":0},{"$f":"tbl_Companys!C1762","v":0},0,{"$f":"tbl_ConsultingCompanys!D1762","v":0},{"$f":"tbl_ConsultingCompanys!C1762","v":0},0]
[{"$nulls":10},{"$f":"tbl_ArchitectureOffices!D1763","v":0},{"$f":"tbl_ArchitectureOffices!C1763","v":0},0,{"$f":"tbl_Companys!D1763","v":0},{"$f":"tbl_Companys!C1763","v":0},0,{"$f":"tbl_ConsultingCompanys!D1763","v":0},{"$f":"tbl_ConsultingCompanys!C1763","v":0},0]
[{"$nulls":10},{"$f":"tbl_ArchitectureOffices!D1764","v":0},{"$f":"tbl_ArchitectureOffices!C1764","v":0},0,{"$f":"tbl_Companys!D1764","v":0},{"$f":"tbl_Companys!C1764","v":0},0,{"$f":"tbl_ConsultingCompanys!D1764","v":0},{"$f":"tbl_ConsultingCompanys!C1764","v":0},0]
[{"$nulls":10},{"$f":"tbl_ArchitectureOffices!D1765","v":0},{"$f":"tbl_ArchitectureOffices!C1765","v":0},0,{"$f":"tbl_Companys!D1765","v":0},{"$f":"tbl_Companys!C1765","v":0},0,{"$f":"tbl_ConsultingCompanys!D1765","v":0},{"$f":"tbl_ConsultingCompanys!C1765","v":0},0]
[{"$nulls":10},{"$f":"tbl_ArchitectureOffices!D1766","v":0},{"$f":"tbl_ArchitectureOffices!C1766","v":0},0,{"$f":"tbl_Companys!D1766","v":0},{"$f":"tbl_Companys!C1766","v":0},0,{"$f":"tbl_ConsultingCompanys!D1766","v":0},{"$f":"tbl_ConsultingCompanys!C1766","v":0},0]
[{"$nulls":10},{"$f":"tbl_ArchitectureOffices!D1767","v":0},{"$f":"tbl_ArchitectureOffices!C1767","v":0},0,{"$f":"tbl_Companys!D1767","v":0},{"$f":"tbl_Companys!C1767","v":0},0,{"$f":"tbl_ConsultingCompanys!D1767","v":0},{"$f":"tbl_ConsultingCompanys!C1767","v":0},0]
[{"$nulls":10},{"$f":"tbl_ArchitectureOffices!D1768","v":0},{"$f":"tbl_ArchitectureOffices!C1768","v":0},0,{"$f":"tbl_Companys!D1768","v":0},{"$f":"tbl_Companys!C1768","v":0},0,{"$f":"tbl_ConsultingCompanys!D1768","v":0},{"$f":"tbl_ConsultingCompanys!C1768","v":0},0]
[{"$nulls":10},{"$f":"tbl_ArchitectureOffices!D1769","v":0},{"$f":"tbl_ArchitectureOffices!C1769","v":0},0,{"$f":"tbl_Companys!D1769","v":0},{"$f":"tbl_Companys!C1769","v":0},0,{"$f":"tbl_ConsultingCompanys!D1769","v":0},{"$f":"tbl_ConsultingCompanys!C1769","v":0},0]
[{"$nulls":10},{"$f":"tbl_ArchitectureOffices!D1770","v":0},{"$f":"tbl_ArchitectureOffices!C1770","v":0},0,{"$f":"tbl_Companys!D1770","v":0},{"$f":"tbl_Companys!C1770","v":0},0,{"$f":"tbl_ConsultingCompanys!D1770","v":0},{"$f":"tbl_ConsultingCompanys!C1770","v":0},0]
[{"$nulls":10},{"$f":"tbl_ArchitectureOffices!D1771","v":0},{"$f":"tbl_ArchitectureOffices!C1771","v":0},0,{"$f":"tbl_Companys!D1771","v":0},{"$f":"tbl_Companys!C1771","v":0},0,{"$f":"tbl_ConsultingCompanys!D1771","v":0},{"$f":"tbl_ConsultingCompanys!C1771","v":0},0]
[{"$nulls":10},{"$f":"tbl_ArchitectureOffices!D1772","v":0},{"$f":"tbl_ArchitectureOffices!C1772","v":0},0,{"$f":"tbl_Companys!D1772","v":0},{"$f":"tbl_Companys!C1772","v":0},0,{"$f":"tbl_ConsultingCompanys!D1772","v":0},{"$f":"tbl_ConsultingCompanys!C1772","v":0},0]
[{"$nulls":10},{"$f":"tbl_ArchitectureOffices!D1773","v":0},{"$f":"tbl_ArchitectureOffices!C1773","v":0},0,{"$f":"tbl_Companys!D1773","v":0},{"$f":"tbl_Companys!C1773","v":0},0,{"$f":"tbl_ConsultingCompanys!D1773","v":0},{"$f":"tbl_ConsultingCompanys!C1773","v":0},0]
[{"$nulls":10},{"$f":"tbl_ArchitectureOffices!D1774","v":0},{"$f":"tbl_ArchitectureOffices!C1774","v":0},0,{"$f":"tbl_Companys!D1774","v":0},{"$f":"tbl_Companys!C1774","v":0},0,{"$f":"tbl_ConsultingCompanys!D1774","v":0},{"$f":"tbl_ConsultingCompanys!C1774","v":0},0]
[{"$nulls":10},{"$f":"tbl_ArchitectureOffices!D1775","v":0},{"$f":"tbl_ArchitectureOffices!C1775","v":0},0,{"$f":"tbl_Companys!D1775","v":0},{"$f":"tbl_Companys!C1775","v":0},0,{"$f":"tbl_ConsultingCompanys!D1775","v":0},{"$f":"tbl_ConsultingCompanys!C1775","v":0},0]
[{"$nulls":10},{"$f":"tbl_ArchitectureOffices!D1776","v":0},{"$f":"tbl_ArchitectureOffices!C1776","v":0},0,{"$f":"tbl_Companys!D1776","v":0},{"$f":"tbl_Companys!C1776","v":0},0,{"$f":"tbl_ConsultingCompanys!D1776","v":0},{"$f":"tbl_ConsultingCompanys!C1776","v":0},0]
[{"$nulls":10},{"$f":"tbl_ArchitectureOffices!D1777","v":0},{"$f":"tbl_ArchitectureOffices!C1777","v":0},0,{"$f":"tbl_Companys!D1777","v":0},{"$f":"tbl_Companys!C1777","v":0},0,{"$f":"tbl_ConsultingCompanys!D1777","v":0},{"$f":"tbl_ConsultingCompanys!C1777","v":0},0]
[{"$nulls":10},{"$f":"tbl_ArchitectureOffices!D1778","v":0},{"$f":"tbl_ArchitectureOffices!C1778","v":0},0,{"$f":"tbl_Companys!D1778","v":0},{"$f":"tbl_Companys!C1778","v":0},0,{"$f":"tbl_ConsultingCompanys!D1778","v":0},{"$f":"tbl_ConsultingCompanys!C1778","v":0},0]
[{"$nulls":10},{"$f":"tbl_ArchitectureOffices!D1779","v":0},{"$f":"tbl_ArchitectureOffices!C1779","v":0},0,{"$f":"tbl_Companys!D1779","v":0},{"$f":"tbl_Companys!C1779","v":0},0,{"$f":"tbl_ConsultingCompanys!D1779","v":0},{"$f":"tbl_ConsultingCompanys!C1779","v":0},0]
[{"$nulls":10},{"$f":"tbl_ArchitectureOffices!D1780","v":0},{"$f":"tbl_ArchitectureOffices!C1780","v":0},0,{"$f":"tbl_Companys!D1780","v":0},{"$f":"tbl_Companys!C1780","v":0},0,{"$f":"tbl_ConsultingCompanys!D1780","v":0},{"$f":"tbl_ConsultingCompanys!C1780","v":0},0]
[{"$nulls":10},{"$f":"tbl_ArchitectureOffices!D1781","v":0},{"$f":"tbl_ArchitectureOffices!C1781","v":0},0,{"$f":"tbl_Companys!D1781","v":0},{"$f":"tbl_Companys!C1781","v":0},0,{"$f":"tbl_ConsultingCompanys!D1781","v":0},{"$f":"tbl_ConsultingCompanys!C1781","v":0},0]
[{"$nulls":10},{"$f":"tbl_ArchitectureOffices!D1782","v":0},{"$f":"tbl_ArchitectureOffices!C1782","v":0},{"$f":"IFERROR(REPLACE(K1782,FIND(\" \",K1782,LEN(K1782)),1,\"\"),K1782)","v":0},{"$f":"tbl_Companys!D1782","v":0},{"$f":"tbl_Companys!C1782","v":0},0,{"$f":"tbl_ConsultingCompanys!D1782","v":0},{"$f":"tbl_ConsultingCompanys!C1782","v":0},0]
[{"$nulls":10},{"$f":"tbl_ArchitectureOffices!D1783","v":0},{"$f":"tbl_ArchitectureOffices!C1783","v":0},0,{"$f":"tbl_Companys!D1783","v":0},{"$f":"tbl_Companys!C1783","v":0},0,{"$f":"tbl_ConsultingCompanys!D1783","v":0},{"$f":"tbl_ConsultingCompanys!C1783","v":0},0]
[{"$nulls":10},{"$f":"tbl_ArchitectureOffices!D1784","v":0},{"$f":"tbl_ArchitectureOffices!C1784","v":0},0,{"$f":"tbl_Companys!D1784","v":0},{"$f":"tbl_Companys!C1784","v":0},0,{"$f":"tbl_ConsultingCompanys!D1784","v":0},{"$f":"tbl_ConsultingCompanys!C1784","v":0},0]
[{"$nulls":10},{"$f":"tbl_ArchitectureOffices!D1785","v":0},{"$f":"tbl_ArchitectureOffices!C1785","v":0},0,{"$f":"tbl_Companys!D1785","v":0},{"$f":"tbl_Companys!C1785","v":0},0,{"$f":"tbl_ConsultingCompanys!D1785","v":0},{"$f":"tbl_ConsultingCompanys!C1785","v":0},0]
[{"$nulls":10},{"$f":"tbl_ArchitectureOffices!D1786","v":0},{"$f":"tbl_ArchitectureOffices!C1786","v":0},0,{"$f":"tbl_Companys!D1786","v":0},{"$f":"tbl_Companys!C1786","v":0},0,{"$f":"tbl_ConsultingCompanys!D1786","v":0},{"$f":"tbl_ConsultingCompanys!C1786","v":0},0]
[{"$nulls":10},{"$f":"tbl_ArchitectureOffices!D1787","v":0},{"$f":"tbl_ArchitectureOffices!C1787","v":0},0,{"$f":"tbl_Companys!D1787","v":0},{"$f":"tbl_Companys!C1787","v":0},0,{"$f":"tbl_ConsultingCompanys!D1787","v":0},{"$f":"tbl_ConsultingCompanys!C1787","v":0},0]
[{"$nulls":10},{"$f":"tbl_ArchitectureOffices!D1788","v":0},{"$f":"tbl_ArchitectureOffices!C1788","v":0},0,{"$f":"tbl_Companys!D1788","v":0},{"$f":"tbl_Companys!C1788","v":0},0,{"$f":"tbl_ConsultingCompanys!D1788","v":0},{"$f":"tbl_ConsultingCompanys!C1788","v":0},0]
[{"$nulls":10},{"$f":"tbl_ArchitectureOffices!D1789","v":0},{"$f":"tbl_ArchitectureOffices!C1789","v":0},0,{"$f":"tbl_Companys!D1789","v":0},{"$f":"tbl_Companys!C1789","v":0},0,{"$f":"tbl_ConsultingCompanys!D1789","v":0},{"$f":"tbl_ConsultingCompanys!C1789","v":0},0]
[{"$nulls":10},{"$f":"tbl_ArchitectureOffices!D1790","v":0},{"$f":"tbl_ArchitectureOffices!C1790","v":0},0,{"$f":"tbl_Companys!D1790","v":0},{"$f":"tbl_Companys!C1790","v":0},0,{"$f":"tbl_ConsultingCompanys!D1790","v":0},{"$f":"tbl_ConsultingCompanys!C1790","v":0},0]
[{"$nulls":10},{"$f":"tbl_ArchitectureOffices!D1791","v":0},{"$f":"tbl_ArchitectureOffices!C1791","v":0},0,{"$f":"tbl_Companys!D1791","v":0},{"$f":"tbl_Companys!C1791","v":0},0,{"$f":"tbl_ConsultingCompanys!D1791","v":0},{"$f":"tbl_ConsultingCompanys!C1791","v":0},0]
[{"$nulls":10},{"$f":"tbl_ArchitectureOffices!D1792","v":0},{"$f":"tbl_ArchitectureOffices!C1792","v":0},0,{"$f":"tbl_Companys!D1792","v":0},{"$f":"tbl_Companys!C1792","v":0},0,{"$f":"tbl_ConsultingCompanys!D1792","v":0},{"$f":"tbl_ConsultingCompanys!C1792","v":0},0]
[{"$nulls":10},{"$f":"tbl_ArchitectureOffices!D1793","v":0},{"$f":"tbl_ArchitectureOffices!C1793","v":0},0,{"$f":"tbl_Companys!D1793","v":0},{"$f":"tbl_Companys!C1793","v":0},0,{"$f":"tbl_ConsultingCompanys!D1793","v":0},{"$f":"tbl_ConsultingCompanys!C1793","v":0},0]
[{"$nulls":10},{"$f":"tbl_ArchitectureOffices!D1794","v":0},{"$f":"tbl_ArchitectureOffices!C1794","v":0},0,{"$f":"tbl_Companys!D1794","v":0},{"$f":"tbl_Companys!C1794","v":0},0,{"$f":"tbl_ConsultingCompanys!D1794","v":0},{"$f":"tbl_ConsultingCompanys!C1794","v":0},0]
[{"$nulls":10},{"$f":"tbl_ArchitectureOffices!D1795","v":0},{"$f":"tbl_ArchitectureOffices!C1795","v":0},0,{"$f":"tbl_Companys!D1795","v":0},{"$f":"tbl_Companys!C1795","v":0},{"$f":"IFERROR(REPLACE(N1795,FIND(\" \",N1795,LEN(N1795)),1,\"\"),N1795)","v":0},{"$f":"tbl_ConsultingCompanys!D1795","v":0},{"$f":"tbl_ConsultingCompanys!C1795","v":0},{"$f":"IFERROR(REPLACE(Q1795,FIND(\" \",Q1795,LEN(Q1795)),1,\"\"),Q1795)","v":0}]
[{"$nulls":10},{"$f":"tbl_ArchitectureOffices!D1796","v":0},{"$f":"tbl_ArchitectureOffices!C1796","v":0},0,{"$f":"tbl_Companys!D1796","v":0},{"$f":"tbl_Companys!C1796","v":0},0,{"$f":"tbl_ConsultingCompanys!D1796","v":0},{"$f":"tbl_ConsultingCompanys!C1796","v":0},0]
[{"$nulls":10},{"$f":"tbl_ArchitectureOffices!D1797","v":0},{"$f":"tbl_ArchitectureOffices!C1797","v":0},0,{"$f":"tbl_Companys!D1797","v":0},{"$f":"tbl_Companys!C1797","v":0},0,{"$f":"tbl_ConsultingCompanys!D1797","v":0},{"$f":"tbl_ConsultingCompanys!C1797","v":0},0]
[{"$nulls":10},{"$f":"tbl_ArchitectureOffices!D1798","v":0},{"$f":"tbl_ArchitectureOffices!C1798","v":0},0,{"$f":"tbl_Companys!D1798","v":0},{"$f":"tbl_Companys!C1798","v":0},0,{"$f":"tbl_ConsultingCompanys!D1798","v":0},{"$f":"tbl_ConsultingCompanys!C1798","v":0},0]
[{"$nulls":10},{"$f":"tbl_ArchitectureOffices!D1799","v":0},{"$f":"tbl_ArchitectureOffices!C1799","v":0},0,{"$f":"tbl_Companys!D1799","v":0},{"$f":"tbl_Companys!C1799","v":0},0,{"$f":"tbl_ConsultingCompanys!D1799","v":0},{"$f":"tbl_ConsultingCompanys!C1799","v":0},0]
[{"$nulls":10},{"$f":"tbl_ArchitectureOffices!D1800","v":0},{"$f":"tbl_ArchitectureOffices!C1800","v":0},0,{"$f":"tbl_Companys!D1800","v":0},{"$f":"tbl_Companys!C1800","v":0},0,{"$f":"tbl_ConsultingCompanys!D1800","v":0},{"$f":"tbl_ConsultingCompanys!C1800","v":0},0]
[{"$nulls":10},{"$f":"tbl_ArchitectureOffices!D1801","v":0},{"$f":"tbl_ArchitectureOffices!C1801","v":0},0,{"$f":"tbl_Companys!D1801","v":0},{"$f":"tbl_Companys!C1801","v":0},0,{"$f":"tbl_ConsultingCompanys!D1801","v":0},{"$f":"tbl_ConsultingCompanys!C1801","v":0},0]
[{"$nulls":10},{"$f":"tbl_ArchitectureOffices!D1802","v":0},{"$f":"tbl_ArchitectureOffices!C1802","v":0},0,{"$f":"tbl_Companys!D1802","v":0},{"$f":"tbl_Companys!C1802","v":0},0,{"$f":"tbl_ConsultingCompanys!D1802","v":0},{"$f":"tbl_ConsultingCompanys!C1802","v":0},0]
[{"$nulls":10},{"$f":"tbl_ArchitectureOffices!D1803","v":0},{"$f":"tbl_ArchitectureOffices!C1803","v":0},0,{"$f":"tbl_Companys!D1803","v":0},{"$f":"tbl_Companys!C1803","v":0},0,{"$f":"tbl_ConsultingCompanys!D1803","v":0},{"$f":"tbl_ConsultingCompanys!C1803","v":0},0]
[{"$nulls":10},{"$f":"tbl_ArchitectureOffices!D1804","v":0},{"$f":"tbl_ArchitectureOffices!C1804","v":0},0,{"$f":"tbl_Companys!D1804","v":0},{"$f":"tbl_Companys!C1804","v":0},0,{"$f":"tbl_ConsultingCompanys!D1804","v":0},{"$f":"tbl_ConsultingCompanys!C1804","v":0},0]
[{"$nulls":10},{"$f":"tbl_ArchitectureOffices!D1805","v":0},{"$f":"tbl_ArchitectureOffices!C1805","v":0},0,{"$f":"tbl_Companys!D1805","v":0},{"$f":"tbl_Companys!C1805","v":0},0,{"$f":"tbl_ConsultingCompanys!D1805","v":0},{"$f":"tbl_ConsultingCompanys!C1805","v":0},0]
[{"$nulls":10},{"$f":"tbl_ArchitectureOffices!D1806","v":0},{"$f":"tbl_ArchitectureOffices!C1806","v":0},0,{"$f":"tbl_Companys!D1806","v":0},{"$f":"tbl_Companys!C1806","v":0},0,{"$f":"tbl_ConsultingCompanys!D1806","v":0},{"$f":"tbl_ConsultingCompanys!C1806","v":0},0]
[{"$nulls":10},{"$f":"tbl_ArchitectureOffices!D1807","v":0},{"$f":"tbl_ArchitectureOffices!C1807","v":0},0,{"$f":"tbl_Companys!D1807","v":0},{"$f":"tbl_Companys!C1807","v":0},0,{"$f":"tbl_ConsultingCompanys!D1807","v":0},{"$f":"tbl_ConsultingCompanys!C1807","v":0},0]
[{"$nulls":10},{"$f":"tbl_ArchitectureOffices!D1808","v":0},{"$f":"tbl_ArchitectureOffices!C1808","v":0},0,{"$f":"tbl_Companys!D1808","v":0},{"$f":"tbl_Companys!C1808","v":0},0,{"$f":"tbl_ConsultingCompanys!D1808","v":0},{"$f":"tbl_ConsultingCompanys!C1808","v":0},0]
[{"$nulls":10},{"$f":"tbl_ArchitectureOffices!D1809","v":0},{"$f":"tbl_ArchitectureOffices!C1809","v":0},0,{"$f":"tbl_Companys!D1809","v":0},{"$f":"tbl_Companys!C1809","v":0},0,{"$f":"tbl_ConsultingCompanys!D1809","v":0},{"$f":"tbl_ConsultingCompanys!C1809","v":0},0]
[{"$nulls":10},{"$f":"tbl_ArchitectureOffices!D1810","v":0},{"$f":"tbl_ArchitectureOffices!C1810","v":0},0,{"$f":"tbl_Companys!D1810","v":0},{"$f":"tbl_Companys!C1810","v":0},0,{"$f":"tbl_ConsultingCompanys!D1810","v":0},{"$f":"tbl_ConsultingCompanys!C1810","v":0},0]
[{"$nulls":10},{"$f":"tbl_ArchitectureOffices!D1811","v":0},{"$f":"tbl_ArchitectureOffices!C1811","v":0},0,{"$f":"tbl_Companys!D1811","v":0},{"$f":"tbl_Companys!C1811","v":0},0,{"$f":"tbl_ConsultingCompanys!D1811","v":0},{"$f":"tbl_ConsultingCompanys!C1811","v":0},0]
[{"$nulls":10},{"$f":"tbl_ArchitectureOffices!D1812","v":0},{"$f":"tbl_ArchitectureOffices!C1812","v":0},0,{"$f":"tbl_Companys!D1812","v":0},{"$f":"tbl_Companys!C1812","v":0},0,{"$f":"tbl_ConsultingCompanys!D1812","v":0},{"$f":"tbl_ConsultingCompanys!C1812","v":0},0]
[{"$nulls":10},{"$f":"tbl_ArchitectureOffices!D1813","v":0},{"$f":"tbl_ArchitectureOffices!C1813","v":0},0,{"$f":"tbl_Companys!D1813","v":0},{"$f":"tbl_Companys!C1813","v":0},0,{"$f":"tbl_ConsultingCompanys!D1813","v":0},{"$f":"tbl_ConsultingCompanys!C1813","v":0},0]
[{"$nulls":10},{"$f":"tbl_ArchitectureOffices!D1814","v":0},{"$f":"tbl_ArchitectureOffices!C1814","v":0},0,{"$f":"tbl_Companys!D1814","v":0},{"$f":"tbl_Companys!C1814","v":0},0,{"$f":"tbl_ConsultingCompanys!D1814","v":0},{"$f":"tbl_ConsultingCompanys!C1814","v":0},0]
[{"$nulls":10},{"$f":"tbl_ArchitectureOffices!D1815","v":0},{"$f":"tbl_ArchitectureOffices!C1815","v":0},0,{"$f":"tbl_Companys!D1815","v":0},{"$f":"tbl_Companys!C1815","v":0},0,{"$f":"tbl_ConsultingCompanys!D1815","v":0},{"$f":"tbl_ConsultingCompanys!C1815","v":0},0]
[{"$nulls":10},{"$f":"tbl_ArchitectureOffices!D1816","v":0},{"$f":"tbl_ArchitectureOffices!C1816","v":0},0,{"$f":"tbl_Companys!D1816","v":0},{"$f":"tbl_Companys!C1816","v":0},0,{"$f":"tbl_ConsultingCompanys!D1816","v":0},{"$f":"tbl_ConsultingCompanys!C1816","v":0},0]
[{"$nulls":10},{"$f":"tbl_ArchitectureOffices!D1817","v":0},{"$f":"tbl_ArchitectureOffices!C1817","v":0},0,{"$f":"tbl_Companys!D1817","v":0},{"$f":"tbl_Companys!C1817","v":0},0,{"$f":"tbl_ConsultingCompanys!D1817","v":0},{"$f":"tbl_ConsultingCompanys!C1817","v":0},0]
[{"$nulls":10},{"$f":"tbl_ArchitectureOffices!D1818","v":0},{"$f":"tbl_ArchitectureOffices!C1818","v":0},0,{"$f":"tbl_Companys!D1818","v":0},{"$f":"tbl_Companys!C1818","v":0},0,{"$f":"tbl_ConsultingCompanys!D1818","v":0},{"$f":"tbl_ConsultingCompanys!C1818","v":0},0]
[{"$nulls":10},{"$f":"tbl_ArchitectureOffices!D1819","v":0},{"$f":"tbl_ArchitectureOffices!C1819","v":0},0,{"$f":"tbl_Companys!D1819","v":0},{"$f":"tbl_Companys!C1819","v":0},0,{"$f":"tbl_ConsultingCompanys!D1819","v":0},{"$f":"tbl_ConsultingCompanys!C1819","v":0},0]
[{"$nulls":10},{"$f":"tbl_ArchitectureOffices!D1820","v":0},{"$f":"tbl_ArchitectureOffices!C1820","v":0},0,{"$f":"tbl_Companys!D1820","v":0},{"$f":"tbl_Companys!C1820","v":0},0,{"$f":"tbl_ConsultingCompanys!D1820","v":0},{"$f":"tbl_ConsultingCompanys!C1820","v":0},0]
[{"$nulls":10},{"$f":"tbl_ArchitectureOffices!D1821","v":0},{"$f":"tbl_ArchitectureOffices!C1821","v":0},0,{"$f":"tbl_Companys!D1821","v":0},{"$f":"tbl_Companys!C1821","v":0},0,{"$f":"tbl_ConsultingCompanys!D1821","v":0},{"$f":"tbl_ConsultingCompanys!C1821","v":0},0]
[{"$nulls":10},{"$f":"tbl_ArchitectureOffices!D1822","v":0},{"$f":"tbl_ArchitectureOffices!C1822","v":0},0,{"$f":"tbl_Companys!D1822","v":0},{"$f":"tbl_Companys!C1822","v":0},0,{"$f":"tbl_ConsultingCompanys!D1822","v":0},{"$f":"tbl_ConsultingCompanys!C1822","v":0},0]
[{"$nulls":10},{"$f":"tbl_ArchitectureOffices!D1823","v":0},{"$f":"tbl_ArchitectureOffices!C1823","v":0},0,{"$f":"tbl_Companys!D1823","v":0},{"$f":"tbl_Companys!C1823","v":0},0,{"$f":"tbl_ConsultingCompanys!D1823","v":0},{"$f":"tbl_ConsultingCompanys!C1823","v":0},0]
[{"$nulls":10},{"$f":"tbl_ArchitectureOffices!D1824","v":0},{"$f":"tbl_ArchitectureOffices!C1824","v":0},0,{"$f":"tbl_Companys!D1824","v":0},{"$f":"tbl_Companys!C1824","v":0},0,{"$f":"tbl_ConsultingCompanys!D1824","v":0},{"$f":"tbl_ConsultingCompanys!C1824","v":0},0]
[{"$nulls":10},{"$f":"tbl_ArchitectureOffices!D1825","v":0},{"$f":"tbl_ArchitectureOffices!C1825","v":0},0,{"$f":"tbl_Companys!D1825","v":0},{"$f":"tbl_Companys!C1825","v":0},0,{"$f":"tbl_ConsultingCompanys!D1825","v":0},{"$f":"tbl_ConsultingCompanys!C1825","v":0},0]
[{"$nulls":10},{"$f":"tbl_ArchitectureOffices!D1826","v":0},{"$f":"tbl_ArchitectureOffices!C1826","v":0},0,{"$f":"tbl_Companys!D1826","v":0},{"$f":"tbl_Companys!C1826","v":0},0,{"$f":"tbl_ConsultingCompanys!D1826","v":0},{"$f":"tbl_ConsultingCompanys!C1826","v":0},0]
[{"$nulls":10},{"$f":"tbl_ArchitectureOffices!D1827","v":0},{"$f":"tbl_ArchitectureOffices!C1827","v":0},0,{"$f":"tbl_Companys!D1827","v":0},{"$f":"tbl_Companys!C1827","v":0},0,{"$f":"tbl_ConsultingCompanys!D1827","v":0},{"$f":"tbl_ConsultingCompanys!C1827","v":0},0]
[{"$nulls":10},{"$f":"tbl_ArchitectureOffices!D1828","v":0},{"$f":"tbl_ArchitectureOffices!C1828","v":0},0,{"$f":"tbl_Companys!D1828","v":0},{"$f":"tbl_Companys!C1828","v":0},0,{"$f":"tbl_ConsultingCompanys!D1828","v":0},{"$f":"tbl_ConsultingCompanys!C1828","v":0},0]
[{"$nulls":10},{"$f":"tbl_ArchitectureOffices!D1829","v":0},{"$f":"tbl_ArchitectureOffices!C1829","v":0},0,{"$f":"tbl_Companys!D1829","v":0},{"$f":"tbl_Companys!C1829","v":0},0,{"$f":"tbl_ConsultingCompanys!D1829","v":0},{"$f":"tbl_ConsultingCompanys!C1829","v":0},0]
[{"$nulls":10},{"$f":"tbl_ArchitectureOffices!D1830","v":0},{"$f":"tbl_ArchitectureOffices!C1830","v":0},0,{"$f":"tbl_Companys!D1830","v":0},{"$f":"tbl_Companys!C1830","v":0},0,{"$f":"tbl_ConsultingCompanys!D1830","v":0},{"$f":"tbl_ConsultingCompanys!C1830","v":0},0]
[{"$nulls":10},{"$f":"tbl_ArchitectureOffices!D1831","v":0},{"$f":"tbl_ArchitectureOffices!C1831","v":0},0,{"$f":"tbl_Companys!D1831","v":0},{"$f":"tbl_Companys!C1831","v":0},0,{"$f":"tbl_ConsultingCompanys!D1831","v":0},{"$f":"tbl_ConsultingCompanys!C1831","v":0},0]
[{"$nulls":10},{"$f":"tbl_ArchitectureOffices!D1832","v":0},{"$f":"tbl_ArchitectureOffices!C1832","v":0},0,{"$f":"tbl_Companys!D1832","v":0},{"$f":"tbl_Companys!C1832","v":0},0,{"$f":"tbl_ConsultingCompanys!D1832","v":0},{"$f":"tbl_ConsultingCompanys!C1832","v":0},0]
[{"$nulls":10},{"$f":"tbl_ArchitectureOffices!D1833","v":0},{"$f":"tbl_ArchitectureOffices!C1833","v":0},0,{"$f":"tbl_Companys!D1833","v":0},{"$f":"tbl_Companys!C1833","v":0},0,{"$f":"tbl_ConsultingCompanys!D1833","v":0},{"$f":"tbl_ConsultingCompanys!C1833","v":0},0]
[{"$nulls":10},{"$f":"tbl_ArchitectureOffices!D1834","v":0},{"$f":"tbl_ArchitectureOffices!C1834","v":0},0,{"$f":"tbl_Companys!D1834","v":0},{"$f":"tbl_Companys!C1834","v":0},0,{"$f":"tbl_ConsultingCompanys!D1834","v":0},{"$f":"tbl_ConsultingCompanys!C1834","v":0},0]
[{"$nulls":10},{"$f":"tbl_ArchitectureOffices!D1835","v":0},{"$f":"tbl_ArchitectureOffices!C1835","v":0},0,{"$f":"tbl_Companys!D1835","v":0},{"$f":"tbl_Companys!C1835","v":0},0,{"$f":"tbl_ConsultingCompanys!D1835","v":0},{"$f":"tbl_ConsultingCompanys!C1835","v":0},0]
[{"$nulls":10},{"$f":"tbl_ArchitectureOffices!D1836","v":0},{"$f":"tbl_ArchitectureOffices!C1836","v":0},0,{"$f":"tbl_Companys!D1836","v":0},{"$f":"tbl_Companys!C1836","v":0},0,{"$f":"tbl_ConsultingCompanys!D1836","v":0},{"$f":"tbl_ConsultingCompanys!C1836","v":0},0]
[{"$nulls":10},{"$f":"tbl_ArchitectureOffices!D1837","v":0},{"$f":"tbl_ArchitectureOffices!C1837","v":0},0,{"$f":"tbl_Companys!D1837","v":0},{"$f":"tbl_Companys!C1837","v":0},0,{"$f":"tbl_ConsultingCompanys!D1837","v":0},{"$f":"tbl_ConsultingCompanys!C1837","v":0},0]
[{"$nulls":10},{"$f":"tbl_ArchitectureOffices!D1838","v":0},{"$f":"tbl_ArchitectureOffices!C1838","v":0},0,{"$f":"tbl_Companys!D1838","v":0},{"$f":"tbl_Companys!C1838","v":0},0,{"$f":"tbl_ConsultingCompanys!D1838","v":0},{"$f":"tbl_ConsultingCompanys!C1838","v":0},0]
[{"$nulls":10},{"$f":"tbl_ArchitectureOffices!D1839","v":0},{"$f":"tbl_ArchitectureOffices!C1839","v":0},0,{"$f":"tbl_Companys!D1839","v":0},{"$f":"tbl_Companys!C1839","v":0},0,{"$f":"tbl_ConsultingCompanys!D1839","v":0},{"$f":"tbl_ConsultingCompanys!C1839","v":0},0]
[{"$nulls":10},{"$f":"tbl_ArchitectureOffices!D1840","v":0},{"$f":"tbl_ArchitectureOffices!C1840","v":0},0,{"$f":"tbl_Companys!D1840","v":0},{"$f":"tbl_Companys!C1840","v":0},0,{"$f":"tbl_ConsultingCompanys!D1840","v":0},{"$f":"tbl_ConsultingCompanys!C1840","v":0},0]
[{"$nulls":10},{"$f":"tbl_ArchitectureOffices!D1841","v":0},{"$f":"tbl_ArchitectureOffices!C1841","v":0},0,{"$f":"tbl_Companys!D1841","v":0},{"$f":"tbl_Companys!C1841","v":0},0,{"$f":"tbl_ConsultingCompanys!D1841","v":0},{"$f":"tbl_ConsultingCompanys!C1841","v":0},0]
[{"$nulls":10},{"$f":"tbl_ArchitectureOffices!D1842","v":0},{"$f":"tbl_ArchitectureOffices!C1842","v":0},0,{"$f":"tbl_Companys!D1842","v":0},{"$f":"tbl_Companys!C1842","v":0},0,{"$f":"tbl_ConsultingCompanys!D1842","v":0},{"$f":"tbl_ConsultingCompanys!C1842","v":0},0]
[{"$nulls":10},{"$f":"tbl_ArchitectureOffices!D1843","v":0},{"$f":"tbl_ArchitectureOffices!C1843","v":0},0,{"$f":"tbl_Companys!D1843","v":0},{"$f":"tbl_Companys!C1843","v":0},0,{"$f":"tbl_ConsultingCompanys!D1843","v":0},{"$f":"tbl_ConsultingCompanys!C1843","v":0},0]
[{"$nulls":10},{"$f":"tbl_ArchitectureOffices!D1844","v":0},{"$f":"tbl_ArchitectureOffices!C1844","v":0},0,{"$f":"tbl_Companys!D1844","v":0},{"$f":"tbl_Companys!C1844","v":0},0,{"$f":"tbl_ConsultingCompanys!D1844","v":0},{"$f":"tbl_ConsultingCompanys!C1844","v":0},0]
[{"$nulls":10},{"$f":"tbl_ArchitectureOffices!D1845","v":0},{"$f":"tbl_ArchitectureOffices!C1845","v":0},0,{"$f":"tbl_Companys!D1845","v":0},{"$f":"tbl_Companys!C1845","v":0},0,{"$f":"tbl_ConsultingCompanys!D1845","v":0},{"$f":"tbl_ConsultingCompanys!C1845","v":0},0]
[{"$nulls":10},{"$f":"tbl_ArchitectureOffices!D1846","v":0},{"$f":"tbl_ArchitectureOffices!C1846","v":0},{"$f":"IFERROR(REPLACE(K1846,FIND(\" \",K1846,LEN(K1846)),1,\"\"),K1846)","v":0},{"$f":"tbl_Companys!D1846","v":0},{"$f":"tbl_Companys!C1846","v":0},0,{"$f":"tbl_ConsultingCompanys!D1846","v":0},{"$f":"tbl_ConsultingCompanys!C1846","v":0},0]
[{"$nulls":10},{"$f":"tbl_ArchitectureOffices!D1847","v":0},{"$f":"tbl_ArchitectureOffices!C1847","v":0},0,{"$f":"tbl_Companys!D1847","v":0},{"$f":"tbl_Companys!C1847","v":0},0,{"$f":"tbl_ConsultingCompanys!D1847","v":0},{"$f":"tbl_ConsultingCompanys!C1847","v":0},0]
[{"$nulls":10},{"$f":"tbl_ArchitectureOffices!D1848","v":0},{"$f":"tbl_ArchitectureOffices!C1848","v":0},0,{"$f":"tbl_Companys!D1848","v":0},{"$f":"tbl_Companys!C1848","v":0},0,{"$f":"tbl_ConsultingCompanys!D1848","v":0},{"$f":"tbl_ConsultingCompanys!C1848","v":0},0]
[{"$nulls":10},{"$f":"tbl_ArchitectureOffices!D1849","v":0},{"$f":"tbl_ArchitectureOffices!C1849","v":0},0,{"$f":"tbl_Companys!D1849","v":0},{"$f":"tbl_Companys!C1849","v":0},0,{"$f":"tbl_ConsultingCompanys!D1849","v":0},{"$f":"tbl_ConsultingCompanys!C1849","v":0},0]
[{"$nulls":10},{"$f":"tbl_ArchitectureOffices!D1850","v":0},{"$f":"tbl_ArchitectureOffices!C1850","v":0},0,{"$f":"tbl_Companys!D1850","v":0},{"$f":"tbl_Companys!C1850","v":0},0,{"$f":"tbl_ConsultingCompanys!D1850","v":0},{"$f":"tbl_ConsultingCompanys!C1850","v":0},0]
[{"$nulls":10},{"$f":"tbl_ArchitectureOffices!D1851","v":0},{"$f":"tbl_ArchitectureOffices!C1851","v":0},0,{"$f":"tbl_Companys!D1851","v":0},{"$f":"tbl_Companys!C1851","v":0},0,{"$f":"tbl_ConsultingCompanys!D1851","v":0},{"$f":"tbl_ConsultingCompanys!C1851","v":0},0]
[{"$nulls":10},{"$f":"tbl_ArchitectureOffices!D1852","v":0},{"$f":"tbl_ArchitectureOffices!C1852","v":0},0,{"$f":"tbl_Companys!D1852","v":0},{"$f":"tbl_Companys!C1852","v":0},0,{"$f":"tbl_ConsultingCompanys!D1852","v":0},{"$f":"tbl_ConsultingCompanys!C1852","v":0},0]
[{"$nulls":10},{"$f":"tbl_ArchitectureOffices!D1853","v":0},{"$f":"tbl_ArchitectureOffices!C1853","v":0},0,{"$f":"tbl_Companys!D1853","v":0},{"$f":"tbl_Companys!C1853","v":0},0,{"$f":"tbl_ConsultingCompanys!D1853","v":0},{"$f":"tbl_ConsultingCompanys!C1853","v":0},0]
[{"$nulls":10},{"$f":"tbl_ArchitectureOffices!D1854","v":0},{"$f":"tbl_ArchitectureOffices!C1854","v":0},0,{"$f":"tbl_Companys!D1854","v":0},{"$f":"tbl_Companys!C1854","v":0},0,{"$f":"tbl_ConsultingCompanys!D1854","v":0},{"$f":"tbl_ConsultingCompanys!C1854","v":0},0]
[{"$nulls":10},{"$f":"tbl_ArchitectureOffices!D1855","v":0},{"$f":"tbl_ArchitectureOffices!C1855","v":0},0,{"$f":"tbl_Companys!D1855","v":0},{"$f":"tbl_Companys!C1855","v":0},0,{"$f":"tbl_ConsultingCompanys!D1855","v":0},{"$f":"tbl_ConsultingCompanys!C1855","v":0},0]
[{"$nulls":10},{"$f":"tbl_ArchitectureOffices!D1856","v":0},{"$f":"tbl_ArchitectureOffices!C1856","v":0},0,{"$f":"tbl_Companys!D1856","v":0},{"$f":"tbl_Companys!C1856","v":0},0,{"$f":"tbl_ConsultingCompanys!D1856","v":0},{"$f":"tbl_ConsultingCompanys!C1856","v":0},0]
[{"$nulls":10},{"$f":"tbl_ArchitectureOffices!D1857","v":0},{"$f":"tbl_ArchitectureOffices!C1857","v":0},0,{"$f":"tbl_Companys!D1857","v":0},{"$f":"tbl_Companys!C1857","v":0},0,{"$f":"tbl_ConsultingCompanys!D1857","v":0},{"$f":"tbl_ConsultingCompanys!C1857","v":0},0]
[{"$nulls":10},{"$f":"tbl_ArchitectureOffices!D1858","v":0},{"$f":"tbl_ArchitectureOffices!C1858","v":0},0,{"$f":"tbl_Companys!D1858","v":0},{"$f":"tbl_Companys!C1858","v":0},0,{"$f":"tbl_ConsultingCompanys!D1858","v":0},{"$f":"tbl_ConsultingCompanys!C1858","v":0},0]
[{"$nulls":10},{"$f":"tbl_ArchitectureOffices!D1859","v":0},{"$f":"tbl_ArchitectureOffices!C1859","v":0},0,{"$f":"tbl_Companys!D1859","v":0},{"$f":"tbl_Companys!C1859","v":0},{"$f":"IFERROR(REPLACE(N1859,FIND(\" \",N1859,LEN(N1859)),1,\"\"),N1859)","v":0},{"$f":"tbl_ConsultingCompanys!D1859","v":0},{"$f":"tbl_ConsultingCompanys!C1859","v":0},{"$f":"IFERROR(REPLACE(Q1859,FIND(\" \",Q1859,LEN(Q1859)),1,\"\"),Q1859)","v":0}]
[{"$nulls":10},{"$f":"tbl_ArchitectureOffices!D1860","v":0},{"$f":"tbl_ArchitectureOffices!C1860","v":0},0,{"$f":"tbl_Companys!D1860","v":0},{"$f":"tbl_Companys!C1860","v":0},0,{"$f":"tbl_ConsultingCompanys!D1860","v":0},{"$f":"tbl_ConsultingCompanys!C1860","v":0},0]
[{"$nulls":10},{"$f":"tbl_ArchitectureOffices!D1861","v":0},{"$f":"tbl_ArchitectureOffices!C1861","v":0},0,{"$f":"tbl_Companys!D1861","v":0},{"$f":"tbl_Companys!C1861","v":0},0,{"$f":"tbl_ConsultingCompanys!D1861","v":0},{"$f":"tbl_ConsultingCompanys!C1861","v":0},0]
[{"$nulls":10},{"$f":"tbl_ArchitectureOffices!D1862","v":0},{"$f":"tbl_ArchitectureOffices!C1862","v":0},0,{"$f":"tbl_Companys!D1862","v":0},{"$f":"tbl_Companys!C1862","v":0},0,{"$f":"tbl_ConsultingCompanys!D1862","v":0},{"$f":"tbl_ConsultingCompanys!C1862","v":0},0]
[{"$nulls":10},{"$f":"tbl_ArchitectureOffices!D1863","v":0},{"$f":"tbl_ArchitectureOffices!C1863","v":0},0,{"$f":"tbl_Companys!D1863","v":0},{"$f":"tbl_Companys!C1863","v":0},0,{"$f":"tbl_ConsultingCompanys!D1863","v":0},{"$f":"tbl_ConsultingCompanys!C1863","v":0},0]
[{"$nulls":10},{"$f":"tbl_ArchitectureOffices!D1864","v":0},{"$f":"tbl_ArchitectureOffices!C1864","v":0},0,{"$f":"tbl_Companys!D1864","v":0},{"$f":"tbl_Companys!C1864","v":0},0,{"$f":"tbl_ConsultingCompanys!D1864","v":0},{"$f":"tbl_ConsultingCompanys!C1864","v":0},0]
[{"$nulls":10},{"$f":"tbl_ArchitectureOffices!D1865","v":0},{"$f":"tbl_ArchitectureOffices!C1865","v":0},0,{"$f":"tbl_Companys!D1865","v":0},{"$f":"tbl_Companys!C1865","v":0},0,{"$f":"tbl_ConsultingCompanys!D1865","v":0},{"$f":"tbl_ConsultingCompanys!C1865","v":0},0]
[{"$nulls":10},{"$f":"tbl_ArchitectureOffices!D1866","v":0},{"$f":"tbl_ArchitectureOffices!C1866","v":0},0,{"$f":"tbl_Companys!D1866","v":0},{"$f":"tbl_Companys!C1866","v":0},0,{"$f":"tbl_ConsultingCompanys!D1866","v":0},{"$f":"tbl_ConsultingCompanys!C1866","v":0},0]
[{"$nulls":10},{"$f":"tbl_ArchitectureOffices!D1867","v":0},{"$f":"tbl_ArchitectureOffices!C1867","v":0},0,{"$f":"tbl_Companys!D1867","v":0},{"$f":"tbl_Companys!C1867","v":0},0,{"$f":"tbl_ConsultingCompanys!D1867","v":0},{"$f":"tbl_ConsultingCompanys!C1867","v":0},0]
[{"$nulls":10},{"$f":"tbl_ArchitectureOffices!D1868","v":0},{"$f":"tbl_ArchitectureOffices!C1868","v":0},0,{"$f":"tbl_Companys!D1868","v":0},{"$f":"tbl_Companys!C1868","v":0},0,{"$f":"tbl_ConsultingCompanys!D1868","v":0},{"$f":"tbl_ConsultingCompanys!C1868","v":0},0]
[{"$nulls":10},{"$f":"tbl_ArchitectureOffices!D1869","v":0},{"$f":"tbl_ArchitectureOffices!C1869","v":0},0,{"$f":"tbl_Companys!D1869","v":0},{"$f":"tbl_Companys!C1869","v":0},0,{"$f":"tbl_ConsultingCompanys!D1869","v":0},{"$f":"tbl_ConsultingCompanys!C1869","v":0},0]
[{"$nulls":10},{"$f":"tbl_ArchitectureOffices!D1870","v":0},{"$f":"tbl_ArchitectureOffices!C1870","v":0},0,{"$f":"tbl_Companys!D1870","v":0},{"$f":"tbl_Companys!C1870","v":0},0,{"$f":"tbl_ConsultingCompanys!D1870","v":0},{"$f":"tbl_ConsultingCompanys!C1870","v":0},0]
[{"$nulls":10},{"$f":"tbl_ArchitectureOffices!D1871","v":0},{"$f":"tbl_ArchitectureOffices!C1871","v":0},0,{"$f":"tbl_Companys!D1871","v":0},{"$f":"tbl_Companys!C1871","v":0},0,{"$f":"tbl_ConsultingCompanys!D1871","v":0},{"$f":"tbl_ConsultingCompanys!C1871","v":0},0]
[{"$nulls":10},{"$f":"tbl_ArchitectureOffices!D1872","v":0},{"$f":"tbl_ArchitectureOffices!C1872","v":0},0,{"$f":"tbl_Companys!D1872","v":0},{"$f":"tbl_Companys!C1872","v":0},0,{"$f":"tbl_ConsultingCompanys!D1872","v":0},{"$f":"tbl_ConsultingCompanys!C1872","v":0},0]
[{"$nulls":10},{"$f":"tbl_ArchitectureOffices!D1873","v":0},{"$f":"tbl_ArchitectureOffices!C1873","v":0},0,{"$f":"tbl_Companys!D1873","v":0},{"$f":"tbl_Companys!C1873","v":0},0,{"$f":"tbl_ConsultingCompanys!D1873","v":0},{"$f":"tbl_ConsultingCompanys!C1873","v":0},0]
[{"$nulls":10},{"$f":"tbl_ArchitectureOffices!D1874","v":0},{"$f":"tbl_ArchitectureOffices!C1874","v":0},0,{"$f":"tbl_Companys!D1874","v":0},{"$f":"tbl_Companys!C1874","v":0},0,{"$f":"tbl_ConsultingCompanys!D1874","v":0},{"$f":"tbl_ConsultingCompanys!C1874","v":0},0]
[{"$nulls":10},{"$f":"tbl_ArchitectureOffices!D1875","v":0},{"$f":"tbl_ArchitectureOffices!C1875","v":0},0,{"$f":"tbl_Companys!D1875","v":0},{"$f":"tbl_Companys!C1875","v":0},0,{"$f":"tbl_ConsultingCompanys!D1875","v":0},{"$f":"tbl_ConsultingCompanys!C1875","v":0},0]
[{"$nulls":10},{"$f":"tbl_ArchitectureOffices!D1876","v":0},{"$f":"tbl_ArchitectureOffices!C1876","v":0},0,{"$f":"tbl_Companys!D1876","v":0},{"$f":"tbl_Companys!C1876","v":0},0,{"$f":"tbl_ConsultingCompanys!D1876","v":0},{"$f":"tbl_ConsultingCompanys!C1876","v":0},0]
[{"$nulls":10},{"$f":"tbl_ArchitectureOffices!D1877","v":0},{"$f":"tbl_ArchitectureOffices!C1877","v":0},0,{"$f":"tbl_Companys!D1877","v":0},{"$f":"tbl_Companys!C1877","v":0},0,{"$f":"tbl_ConsultingCompanys!D1877","v":0},{"$f":"tbl_ConsultingCompanys!C1877","v":0},0]
[{"$nulls":10},{"$f":"tbl_ArchitectureOffices!D1878","v":0},{"$f":"tbl_ArchitectureOffices!C1878","v":0},0,{"$f":"tbl_Companys!D1878","v":0},{"$f":"tbl_Companys!C1878","v":0},0,{"$f":"tbl_ConsultingCompanys!D1878","v":0},{"$f":"tbl_ConsultingCompanys!C1878","v":0},0]
[{"$nulls":10},{"$f":"tbl_ArchitectureOffices!D1879","v":0},{"$f":"tbl_ArchitectureOffices!C1879","v":0},0,{"$f":"tbl_Companys!D1879","v":0},{"$f":"tbl_Companys!C1879","v":0},0,{"$f":"tbl_ConsultingCompanys!D1879","v":0},{"$f":"tbl_ConsultingCompanys!C1879","v":0},0]
[{"$nulls":10},{"$f":"tbl_ArchitectureOffices!D1880","v":0},{"$f":"tbl_ArchitectureOffices!C1880","v":0},0,{"$f":"tbl_Companys!D1880","v":0},{"$f":"tbl_Companys!C1880","v":0},0,{"$f":"tbl_ConsultingCompanys!D1880","v":0},{"$f":"tbl_ConsultingCompanys!C1880","v":0},0]
[{"$nulls":10},{"$f":"tbl_ArchitectureOffices!D1881","v":0},{"$f":"tbl_ArchitectureOffices!C1881","v":0},0,{"$f":"tbl_Companys!D1881","v":0},{"$f":"tbl_Companys!C1881","v":0},0,{"$f":"tbl_ConsultingCompanys!D1881","v":0},{"$f":"tbl_ConsultingCompanys!C1881","v":0},0]
[{"$nulls":10},{"$f":"tbl_ArchitectureOffices!D1882","v":0},{"$f":"tbl_ArchitectureOffices!C1882","v":0},0,{"$f":"tbl_Companys!D1882","v":0},{"$f":"tbl_Companys!C1882","v":0},0,{"$f":"tbl_ConsultingCompanys!D1882","v":0},{"$f":"tbl_ConsultingCompanys!C1882","v":0},0]
[{"$nulls":10},{"$f":"tbl_ArchitectureOffices!D1883","v":0},{"$f":"tbl_ArchitectureOffices!C1883","v":0},0,{"$f":"tbl_Companys!D1883","v":0},{"$f":"tbl_Companys!C1883","v":0},0,{"$f":"tbl_ConsultingCompanys!D1883","v":0},{"$f":"tbl_ConsultingCompanys!C1883","v":0},0]
[{"$nulls":10},{"$f":"tbl_ArchitectureOffices!D1884","v":0},{"$f":"tbl_ArchitectureOffices!C1884","v":0},0,{"$f":"tbl_Companys!D1884","v":0},{"$f":"tbl_Companys!C1884","v":0},0,{"$f":"tbl_ConsultingCompanys!D1884","v":0},{"$f":"tbl_ConsultingCompanys!C1884","v":0},0]
[{"$nulls":10},{"$f":"tbl_ArchitectureOffices!D1885","v":0},{"$f":"tbl_ArchitectureOffices!C1885","v":0},0,{"$f":"tbl_Companys!D1885","v":0},{"$f":"tbl_Companys!C1885","v":0},0,{"$f":"tbl_ConsultingCompanys!D1885","v":0},{"$f":"tbl_ConsultingCompanys!C1885","v":0},0]
[{"$nulls":10},{"$f":"tbl_ArchitectureOffices!D1886","v":0},{"$f":"tbl_ArchitectureOffices!C1886","v":0},0,{"$f":"tbl_Companys!D1886","v":0},{"$f":"tbl_Companys!C1886","v":0},0,{"$f":"tbl_ConsultingCompanys!D1886","v":0},{"$f":"tbl_ConsultingCompanys!C1886","v":0},0]
[{"$nulls":10},{"$f":"tbl_ArchitectureOffices!D1887","v":0},{"$f":"tbl_ArchitectureOffices!C1887","v":0},0,{"$f":"tbl_Companys!D1887","v":0},{"$f":"tbl_Companys!C1887","v":0},0,{"$f":"tbl_ConsultingCompanys!D1887","v":0},{"$f":"tbl_ConsultingCompanys!C1887","v":0},0]
[{"$nulls":10},{"$f":"tbl_ArchitectureOffices!D1888","v":0},{"$f":"tbl_ArchitectureOffices!C1888","v":0},0,{"$f":"tbl_Companys!D1888","v":0},{"$f":"tbl_Companys!C1888","v":0},0,{"$f":"tbl_ConsultingCompanys!D1888","v":0},{"$f":"tbl_ConsultingCompanys!C1888","v":0},0]
[{"$nulls":10},{"$f":"tbl_ArchitectureOffices!D1889","v":0},{"$f":"tbl_ArchitectureOffices!C1889","v":0},0,{"$f":"tbl_Companys!D1889","v":0},{"$f":"tbl_Companys!C1889","v":0},0,{"$f":"tbl_ConsultingCompanys!D1889","v":0},{"$f":"tbl_ConsultingCompanys!C1889","v":0},0]
[{"$nulls":10},{"$f":"tbl_ArchitectureOffices!D1890","v":0},{"$f":"tbl_ArchitectureOffices!C1890","v":0},0,{"$f":"tbl_Companys!D1890","v":0},{"$f":"tbl_Companys!C1890","v":0},0,{"$f":"tbl_ConsultingCompanys!D1890","v":0},{"$f":"tbl_ConsultingCompanys!C1890","v":0},0]
[{"$nulls":10},{"$f":"tbl_ArchitectureOffices!D1891","v":0},{"$f":"tbl_ArchitectureOffices!C1891","v":0},0,{"$f":"tbl_Companys!D1891","v":0},{"$f":"tbl_Companys!C1891","v":0},0,{"$f":"tbl_ConsultingCompanys!D1891","v":0},{"$f":"tbl_ConsultingCompanys!C1891","v":0},0]
[{"$nulls":10},{"$f":"tbl_ArchitectureOffices!D1892","v":0},{"$f":"tbl_ArchitectureOffices!C1892","v":0},0,{"$f":"tbl_Companys!D1892","v":0},{"$f":"tbl_Companys!C1892","v":0},0,{"$f":"tbl_ConsultingCompanys!D1892","v":0},{"$f":"tbl_ConsultingCompanys!C1892","v":0},0]
[{"$nulls":10},{"$f":"tbl_ArchitectureOffices!D1893","v":0},{"$f":"tbl_ArchitectureOffices!C1893","v":0},0,{"$f":"tbl_Companys!D1893","v":0},{"$f":"tbl_Companys!C1893","v":0},0,{"$f":"tbl_ConsultingCompanys!D1893","v":0},{"$f":"tbl_ConsultingCompanys!C1893","v":0},0]
[{"$nulls":10},{"$f":"tbl_ArchitectureOffices!D1894","v":0},{"$f":"tbl_ArchitectureOffices!C1894","v":0},0,{"$f":"tbl_Companys!D1894","v":0},{"$f":"tbl_Companys!C1894","v":0},0,{"$f":"tbl_ConsultingCompanys!D1894","v":0},{"$f":"tbl_ConsultingCompanys!C1894","v":0},0]
[{"$nulls":10},{"$f":"tbl_ArchitectureOffices!D1895","v":0},{"$f":"tbl_ArchitectureOffices!C1895","v":0},0,{"$f":"tbl_Companys!D1895","v":0},{"$f":"tbl_Companys!C1895","v":0},0,{"$f":"tbl_ConsultingCompanys!D1895","v":0},{"$f":"tbl_ConsultingCompanys!C1895","v":0},0]
[{"$nulls":10},{"$f":"tbl_ArchitectureOffices!D1896","v":0},{"$f":"tbl_ArchitectureOffices!C1896","v":0},0,{"$f":"tbl_Companys!D1896","v":0},{"$f":"tbl_Companys!C1896","v":0},0,{"$f":"tbl_ConsultingCompanys!D1896","v":0},{"$f":"tbl_ConsultingCompanys!C1896","v":0},0]
[{"$nulls":10},{"$f":"tbl_ArchitectureOffices!D1897","v":0},{"$f":"tbl_ArchitectureOffices!C1897","v":0},0,{"$f":"tbl_Companys!D1897","v":0},{"$f":"tbl_Companys!C1897","v":0},0,{"$f":"tbl_ConsultingCompanys!D1897","v":0},{"$f":"tbl_ConsultingCompanys!C1897","v":0},0]
[{"$nulls":10},{"$f":"tbl_ArchitectureOffices!D1898","v":0},{"$f":"tbl_ArchitectureOffices!C1898","v":0},0,{"$f":"tbl_Companys!D1898","v":0},{"$f":"tbl_Companys!C1898","v":0},0,{"$f":"tbl_ConsultingCompanys!D1898","v":0},{"$f":"tbl_ConsultingCompanys!C1898","v":0},0]
[{"$nulls":10},{"$f":"tbl_ArchitectureOffices!D1899","v":0},{"$f":"tbl_ArchitectureOffices!C1899","v":0},0,{"$f":"tbl_Companys!D1899","v":0},{"$f":"tbl_Companys!C1899","v":0},0,{"$f":"tbl_ConsultingCompanys!D1899","v":0},{"$f":"tbl_ConsultingCompanys!C1899","v":0},0]
[{"$nulls":10},{"$f":"tbl_ArchitectureOffices!D1900","v":0},{"$f":"tbl_ArchitectureOffices!C1900","v":0},0,{"$f":"tbl_Companys!D1900","v":0},{"$f":"tbl_Companys!C1900","v":0},0,{"$f":"tbl_ConsultingCompanys!D1900","v":0},{"$f":"tbl_ConsultingCompanys!C1900","v":0},0]
[{"$nulls":10},{"$f":"tbl_ArchitectureOffices!D1901","v":0},{"$f":"tbl_ArchitectureOffices!C1901","v":0},0,{"$f":"tbl_Companys!D1901","v":0},{"$f":"tbl_Companys!C1901","v":0},0,{"$f":"tbl_ConsultingCompanys!D1901","v":0},{"$f":"tbl_ConsultingCompanys!C1901","v":0},0]
[{"$nulls":10},{"$f":"tbl_ArchitectureOffices!D1902","v":0},{"$f":"tbl_ArchitectureOffices!C1902","v":0},0,{"$f":"tbl_Companys!D1902","v":0},{"$f":"tbl_Companys!C1902","v":0},0,{"$f":"tbl_ConsultingCompanys!D1902","v":0},{"$f":"tbl_ConsultingCompanys!C1902","v":0},0]
[{"$nulls":10},{"$f":"tbl_ArchitectureOffices!D1903","v":0},{"$f":"tbl_ArchitectureOffices!C1903","v":0},0,{"$f":"tbl_Companys!D1903","v":0},{"$f":"tbl_Companys!C1903","v":0},0,{"$f":"tbl_ConsultingCompanys!D1903","v":0},{"$f":"tbl_ConsultingCompanys!C1903","v":0},0]
[{"$nulls":10},{"$f":"tbl_ArchitectureOffices!D1904","v":0},{"$f":"tbl_ArchitectureOffices!C1904","v":0},0,{"$f":"tbl_Companys!D1904","v":0},{"$f":"tbl_Companys!C1904","v":0},0,{"$f":"tbl_ConsultingCompanys!D1904","v":0},{"$f":"tbl_ConsultingCompanys!C1904","v":0},0]
[{"$nulls":10},{"$f":"tbl_ArchitectureOffices!D1905","v":0},{"$f":"tbl_ArchitectureOffices!C1905","v":0},0,{"$f":"tbl_Companys!D1905","v":0},{"$f":"tbl_Companys!C1905","v":0},0,{"$f":"tbl_ConsultingCompanys!D1905","v":0},{"$f":"tbl_ConsultingCompanys!C1905","v":0},0]
[{"$nulls":10},{"$f":"tbl_ArchitectureOffices!D1906","v":0},{"$f":"tbl_ArchitectureOffices!C1906","v":0},0,{"$f":"tbl_Companys!D1906","v":0},{"$f":"tbl_Companys!C1906","v":0},0,{"$f":"tbl_ConsultingCompanys!D1906","v":0},{"$f":"tbl_ConsultingCompanys!C1906","v":0},0]
[{"$nulls":10},{"$f":"tbl_ArchitectureOffices!D1907","v":0},{"$f":"tbl_ArchitectureOffices!C1907","v":0},0,{"$f":"tbl_Companys!D1907","v":0},{"$f":"tbl_Companys!C1907","v":0},0,{"$f":"tbl_ConsultingCompanys!D1907","v":0},{"$f":"tbl_ConsultingCompanys!C1907","v":0},0]
[{"$nulls":10},{"$f":"tbl_ArchitectureOffices!D1908","v":0},{"$f":"tbl_ArchitectureOffices!C1908","v":0},0,{"$f":"tbl_Companys!D1908","v":0},{"$f":"tbl_Companys!C1908","v":0},0,{"$f":"tbl_ConsultingCompanys!D1908","v":0},{"$f":"tbl_ConsultingCompanys!C1908","v":0},0]
[{"$nulls":10},{"$f":"tbl_ArchitectureOffices!D1909","v":0},{"$f":"tbl_ArchitectureOffices!C1909","v":0},0,{"$f":"tbl_Companys!D1909","v":0},{"$f":"tbl_Companys!C1909","v":0},0,{"$f":"tbl_ConsultingCompanys!D1909","v":0},{"$f":"tbl_ConsultingCompanys!C1909","v":0},0]
[{"$nulls":10},{"$f":"tbl_ArchitectureOffices!D1910","v":0},{"$f":"tbl_ArchitectureOffices!C1910","v":0},{"$f":"IFERROR(REPLACE(K1910,FIND(\" \",K1910,LEN(K1910)),1,\"\"),K1910)","v":0},{"$f":"tbl_Companys!D1910","v":0},{"$f":"tbl_Companys!C1910","v":0},0,{"$f":"tbl_ConsultingCompanys!D1910","v":0},{"$f":"tbl_ConsultingCompanys!C1910","v":0},0]
[{"$nulls":10},{"$f":"tbl_ArchitectureOffices!D1911","v":0},{"$f":"tbl_ArchitectureOffices!C1911","v":0},0,{"$f":"tbl_Companys!D1911","v":0},{"$f":"tbl_Companys!C1911","v":0},0,{"$f":"tbl_ConsultingCompanys!D1911","v":0},{"$f":"tbl_ConsultingCompanys!C1911","v":0},0]
[{"$nulls":10},{"$f":"tbl_ArchitectureOffices!D1912","v":0},{"$f":"tbl_ArchitectureOffices!C1912","v":0},0,{"$f":"tbl_Companys!D1912","v":0},{"$f":"tbl_Companys!C1912","v":0},0,{"$f":"tbl_ConsultingCompanys!D1912","v":0},{"$f":"tbl_ConsultingCompanys!C1912","v":0},0]
[{"$nulls":10},{"$f":"tbl_ArchitectureOffices!D1913","v":0},{"$f":"tbl_ArchitectureOffices!C1913","v":0},0,{"$f":"tbl_Companys!D1913","v":0},{"$f":"tbl_Companys!C1913","v":0},0,{"$f":"tbl_ConsultingCompanys!D1913","v":0},{"$f":"tbl_ConsultingCompanys!C1913","v":0},0]
[{"$nulls":10},{"$f":"tbl_ArchitectureOffices!D1914","v":0},{"$f":"tbl_ArchitectureOffices!C1914","v":0},0,{"$f":"tbl_Companys!D1914","v":0},{"$f":"tbl_Companys!C1914","v":0},0,{"$f":"tbl_ConsultingCompanys!D1914","v":0},{"$f":"tbl_ConsultingCompanys!C1914","v":0},0]
[{"$nulls":10},{"$f":"tbl_ArchitectureOffices!D1915","v":0},{"$f":"tbl_ArchitectureOffices!C1915","v":0},0,{"$f":"tbl_Companys!D1915","v":0},{"$f":"tbl_Companys!C1915","v":0},0,{"$f":"tbl_ConsultingCompanys!D1915","v":0},{"$f":"tbl_ConsultingCompanys!C1915","v":0},0]
[{"$nulls":10},{"$f":"tbl_ArchitectureOffices!D1916","v":0},{"$f":"tbl_ArchitectureOffices!C1916","v":0},0,{"$f":"tbl_Companys!D1916","v":0},{"$f":"tbl_Companys!C1916","v":0},0,{"$f":"tbl_ConsultingCompanys!D1916","v":0},{"$f":"tbl_ConsultingCompanys!C1916","v":0},0]
[{"$nulls":10},{"$f":"tbl_ArchitectureOffices!D1917","v":0},{"$f":"tbl_ArchitectureOffices!C1917","v":0},0,{"$f":"tbl_Companys!D1917","v":0},{"$f":"tbl_Companys!C1917","v":0},0,{"$f":"tbl_ConsultingCompanys!D1917","v":0},{"$f":"tbl_ConsultingCompanys!C1917","v":0},0]
[{"$nulls":10},{"$f":"tbl_ArchitectureOffices!D1918","v":0},{"$f":"tbl_ArchitectureOffices!C1918","v":0},0,{"$f":"tbl_Companys!D1918","v":0},{"$f":"tbl_Companys!C1918","v":0},0,{"$f":"tbl_ConsultingCompanys!D1918","v":0},{"$f":"tbl_ConsultingCompanys!C1918","v":0},0]
[{"$nulls":10},{"$f":"tbl_ArchitectureOffices!D1919","v":0},{"$f":"tbl_ArchitectureOffices!C1919","v":0},0,{"$f":"tbl_Companys!D1919","v":0},{"$f":"tbl_Companys!C1919","v":0},0,{"$f":"tbl_ConsultingCompanys!D1919","v":0},{"$f":"tbl_ConsultingCompanys!C1919","v":0},0]
[{"$nulls":10},{"$f":"tbl_ArchitectureOffices!D1920","v":0},{"$f":"tbl_ArchitectureOffices!C1920","v":0},0,{"$f":"tbl_Companys!D1920","v":0},{"$f":"tbl_Companys!C1920","v":0},0,{"$f":"tbl_ConsultingCompanys!D1920","v":0},{"$f":"tbl_ConsultingCompanys!C1920","v":0},0]
[{"$nulls":10},{"$f":"tbl_ArchitectureOffices!D1921","v":0},{"$f":"tbl_ArchitectureOffices!C1921","v":0},0,{"$f":"tbl_Companys!D1921","v":0},{"$f":"tbl_Companys!C1921","v":0},0,{"$f":"tbl_ConsultingCompanys!D1921","v":0},{"$f":"tbl_ConsultingCompanys!C1921","v":0},0]
[{"$nulls":10},{"$f":"tbl_ArchitectureOffices!D1922","v":0},{"$f":"tbl_ArchitectureOffices!C1922","v":0},0,{"$f":"tbl_Companys!D1922","v":0},{"$f":"tbl_Companys!C1922","v":0},0,{"$f":"tbl_ConsultingCompanys!D1922","v":0},{"$f":"tbl_ConsultingCompanys!C1922","v":0},0]
[{"$nulls":10},{"$f":"tbl_ArchitectureOffices!D1923","v":0},{"$f":"tbl_ArchitectureOffices!C1923","v":0},0,{"$f":"tbl_Companys!D1923","v":0},{"$f":"tbl_Companys!C1923","v":0},{"$f":"IFERROR(REPLACE(N1923,FIND(\" \",N1923,LEN(N1923)),1,\"\"),N1923)","v":0},{"$f":"tbl_ConsultingCompanys!D1923","v":0},{"$f":"tbl_ConsultingCompanys!C1923","v":0},{"$f":"IFERROR(REPLACE(Q1923,FIND(\" \",Q1923,LEN(Q1923)),1,\"\"),Q1923)","v":0}]
[{"$nulls":10},{"$f":"tbl_ArchitectureOffices!D1924","v":0},{"$f":"tbl_ArchitectureOffices!C1924","v":0},0,{"$f":"tbl_Companys!D1924","v":0},{"$f":"tbl_Companys!C1924","v":0},0,{"$f":"tbl_ConsultingCompanys!D1924","v":0},{"$f":"tbl_ConsultingCompanys!C1924","v":0},0]
[{"$nulls":10},{"$f":"tbl_ArchitectureOffices!D1925","v":0},{"$f":"tbl_ArchitectureOffices!C1925","v":0},0,{"$f":"tbl_Companys!D1925","v":0},{"$f":"tbl_Companys!C1925","v":0},0,{"$f":"tbl_ConsultingCompanys!D1925","v":0},{"$f":"tbl_ConsultingCompanys!C1925","v":0},0]
[{"$nulls":10},{"$f":"tbl_ArchitectureOffices!D1926","v":0},{"$f":"tbl_ArchitectureOffices!C1926","v":0},0,{"$f":"tbl_Companys!D1926","v":0},{"$f":"tbl_Companys!C1926","v":0},0,{"$f":"tbl_ConsultingCompanys!D1926","v":0},{"$f":"tbl_ConsultingCompanys!C1926","v":0},0]
[{"$nulls":10},{"$f":"tbl_ArchitectureOffices!D1927","v":0},{"$f":"tbl_ArchitectureOffices!C1927","v":0},0,{"$f":"tbl_Companys!D1927","v":0},{"$f":"tbl_Companys!C1927","v":0},0,{"$f":"tbl_ConsultingCompanys!D1927","v":0},{"$f":"tbl_ConsultingCompanys!C1927","v":0},0]
[{"$nulls":10},{"$f":"tbl_ArchitectureOffices!D1928","v":0},{"$f":"tbl_ArchitectureOffices!C1928","v":0},0,{"$f":"tbl_Companys!D1928","v":0},{"$f":"tbl_Companys!C1928","v":0},0,{"$f":"tbl_ConsultingCompanys!D1928","v":0},{"$f":"tbl_ConsultingCompanys!C1928","v":0},0]
[{"$nulls":10},{"$f":"tbl_ArchitectureOffices!D1929","v":0},{"$f":"tbl_ArchitectureOffices!C1929","v":0},0,{"$f":"tbl_Companys!D1929","v":0},{"$f":"tbl_Companys!C1929","v":0},0,{"$f":"tbl_ConsultingCompanys!D1929","v":0},{"$f":"tbl_ConsultingCompanys!C1929","v":0},0]
[{"$nulls":10},{"$f":"tbl_ArchitectureOffices!D1930","v":0},{"$f":"tbl_ArchitectureOffices!C1930","v":0},0,{"$f":"tbl_Companys!D1930","v":0},{"$f":"tbl_Companys!C1930","v":0},0,{"$f":"tbl_ConsultingCompanys!D1930","v":0},{"$f":"tbl_ConsultingCompanys!C1930","v":0},0]
[{"$nulls":10},{"$f":"tbl_ArchitectureOffices!D1931","v":0},{"$f":"tbl_ArchitectureOffices!C1931","v":0},0,{"$f":"tbl_Companys!D1931","v":0},{"$f":"tbl_Companys!C1931","v":0},0,{"$f":"tbl_ConsultingCompanys!D1931","v":0},{"$f":"tbl_ConsultingCompanys!C1931","v":0},0]
[{"$nulls":10},{"$f":"tbl_ArchitectureOffices!D1932","v":0},{"$f":"tbl_ArchitectureOffices!C1932","v":0},0,{"$f":"tbl_Companys!D1932","v":0},{"$f":"tbl_Companys!C1932","v":0},0,{"$f":"tbl_ConsultingCompanys!D1932","v":0},{"$f":"tbl_ConsultingCompanys!C1932","v":0},0]
[{"$nulls":10},{"$f":"tbl_ArchitectureOffices!D1933","v":0},{"$f":"tbl_ArchitectureOffices!C1933","v":0},0,{"$f":"tbl_Companys!D1933","v":0},{"$f":"tbl_Companys!C1933","v":0},0,{"$f":"tbl_ConsultingCompanys!D1933","v":0},{"$f":"tbl_ConsultingCompanys!C1933","v":0},0]
[{"$nulls":10},{"$f":"tbl_ArchitectureOffices!D1934","v":0},{"$f":"tbl_ArchitectureOffices!C1934","v":0},0,{"$f":"tbl_Companys!D1934","v":0},{"$f":"tbl_Companys!C1934","v":0},0,{"$f":"tbl_ConsultingCompanys!D1934","v":0},{"$f":"tbl_ConsultingCompanys!C1934","v":0},0]
[{"$nulls":10},{"$f":"tbl_ArchitectureOffices!D1935","v":0},{"$f":"tbl_ArchitectureOffices!C1935","v":0},0,{"$f":"tbl_Companys!D1935","v":0},{"$f":"tbl_Companys!C1935","v":0},0,{"$f":"tbl_ConsultingCompanys!D1935","v":0},{"$f":"tbl_ConsultingCompanys!C1935","v":0},0]
[{"$nulls":10},{"$f":"tbl_ArchitectureOffices!D1936","v":0},{"$f":"tbl_ArchitectureOffices!C1936","v":0},0,{"$f":"tbl_Companys!D1936","v":0},{"$f":"tbl_Companys!C1936","v":0},0,{"$f":"tbl_ConsultingCompanys!D1936","v":0},{"$f":"tbl_ConsultingCompanys!C1936","v":0},0]
[{"$nulls":10},{"$f":"tbl_ArchitectureOffices!D1937","v":0},{"$f":"tbl_ArchitectureOffices!C1937","v":0},0,{"$f":"tbl_Companys!D1937","v":0},{"$f":"tbl_Companys!C1937","v":0},0,{"$f":"tbl_ConsultingCompanys!D1937","v":0},{"$f":"tbl_ConsultingCompanys!C1937","v":0},0]
[{"$nulls":10},{"$f":"tbl_ArchitectureOffices!D1938","v":0},{"$f":"tbl_ArchitectureOffices!C1938","v":0},0,{"$f":"tbl_Companys!D1938","v":0},{"$f":"tbl_Companys!C1938","v":0},0,{"$f":"tbl_ConsultingCompanys!D1938","v":0},{"$f":"tbl_ConsultingCompanys!C1938","v":0},0]
[{"$nulls":10},{"$f":"tbl_ArchitectureOffices!D1939","v":0},{"$f":"tbl_ArchitectureOffices!C1939","v":0},0,{"$f":"tbl_Companys!D1939","v":0},{"$f":"tbl_Companys!C1939","v":0},0,{"$f":"tbl_ConsultingCompanys!D1939","v":0},{"$f":"tbl_ConsultingCompanys!C1939","v":0},0]
[{"$nulls":10},{"$f":"tbl_ArchitectureOffices!D1940","v":0},{"$f":"tbl_ArchitectureOffices!C1940","v":0},0,{"$f":"tbl_Companys!D1940","v":0},{"$f":"tbl_Companys!C1940","v":0},0,{"$f":"tbl_ConsultingCompanys!D1940","v":0},{"$f":"tbl_ConsultingCompanys!C1940","v":0},0]
[{"$nulls":10},{"$f":"tbl_ArchitectureOffices!D1941","v":0},{"$f":"tbl_ArchitectureOffices!C1941","v":0},0,{"$f":"tbl_Companys!D1941","v":0},{"$f":"tbl_Companys!C1941","v":0},0,{"$f":"tbl_ConsultingCompanys!D1941","v":0},{"$f":"tbl_ConsultingCompanys!C1941","v":0},0]
[{"$nulls":10},{"$f":"tbl_ArchitectureOffices!D1942","v":0},{"$f":"tbl_ArchitectureOffices!C1942","v":0},0,{"$f":"tbl_Companys!D1942","v":0},{"$f":"tbl_Companys!C1942","v":0},0,{"$f":"tbl_ConsultingCompanys!D1942","v":0},{"$f":"tbl_ConsultingCompanys!C1942","v":0},0]
[{"$nulls":10},{"$f":"tbl_ArchitectureOffices!D1943","v":0},{"$f":"tbl_ArchitectureOffices!C1943","v":0},0,{"$f":"tbl_Companys!D1943","v":0},{"$f":"tbl_Companys!C1943","v":0},0,{"$f":"tbl_ConsultingCompanys!D1943","v":0},{"$f":"tbl_ConsultingCompanys!C1943","v":0},0]
[{"$nulls":10},{"$f":"tbl_ArchitectureOffices!D1944","v":0},{"$f":"tbl_ArchitectureOffices!C1944","v":0},0,{"$f":"tbl_Companys!D1944","v":0},{"$f":"tbl_Companys!C1944","v":0},0,{"$f":"tbl_ConsultingCompanys!D1944","v":0},{"$f":"tbl_ConsultingCompanys!C1944","v":0},0]
[{"$nulls":10},{"$f":"tbl_ArchitectureOffices!D1945","v":0},{"$f":"tbl_ArchitectureOffices!C1945","v":0},0,{"$f":"tbl_Companys!D1945","v":0},{"$f":"tbl_Companys!C1945","v":0},0,{"$f":"tbl_ConsultingCompanys!D1945","v":0},{"$f":"tbl_ConsultingCompanys!C1945","v":0},0]
[{"$nulls":10},{"$f":"tbl_ArchitectureOffices!D1946","v":0},{"$f":"tbl_ArchitectureOffices!C1946","v":0},0,{"$f":"tbl_Companys!D1946","v":0},{"$f":"tbl_Companys!C1946","v":0},0,{"$f":"tbl_ConsultingCompanys!D1946","v":0},{"$f":"tbl_ConsultingCompanys!C1946","v":0},0]
[{"$nulls":10},{"$f":"tbl_ArchitectureOffices!D1947","v":0},{"$f":"tbl_ArchitectureOffices!C1947","v":0},0,{"$f":"tbl_Companys!D1947","v":0},{"$f":"tbl_Companys!C1947","v":0},0,{"$f":"tbl_ConsultingCompanys!D1947","v":0},{"$f":"tbl_ConsultingCompanys!C1947","v":0},0]
[{"$nulls":10},{"$f":"tbl_ArchitectureOffices!D1948","v":0},{"$f":"tbl_ArchitectureOffices!C1948","v":0},0,{"$f":"tbl_Companys!D1948","v":0},{"$f":"tbl_Companys!C1948","v":0},0,{"$f":"tbl_ConsultingCompanys!D1948","v":0},{"$f":"tbl_ConsultingCompanys!C1948","v":0},0]
[{"$nulls":10},{"$f":"tbl_ArchitectureOffices!D1949","v":0},{"$f":"tbl_ArchitectureOffices!C1949","v":0},0,{"$f":"tbl_Companys!D1949","v":0},{"$f":"tbl_Companys!C1949","v":0},0,{"$f":"tbl_ConsultingCompanys!D1949","v":0},{"$f":"tbl_ConsultingCompanys!C1949","v":0},0]
[{"$nulls":10},{"$f":"tbl_ArchitectureOffices!D1950","v":0},{"$f":"tbl_ArchitectureOffices!C1950","v":0},0,{"$f":"tbl_Companys!D1950","v":0},{"$f":"tbl_Companys!C1950","v":0},0,{"$f":"tbl_ConsultingCompanys!D1950","v":0},{"$f":"tbl_ConsultingCompanys!C1950","v":0},0]
[{"$nulls":10},{"$f":"tbl_ArchitectureOffices!D1951","v":0},{"$f":"tbl_ArchitectureOffices!C1951","v":0},0,{"$f":"tbl_Companys!D1951","v":0},{"$f":"tbl_Companys!C1951","v":0},0,{"$f":"tbl_ConsultingCompanys!D1951","v":0},{"$f":"tbl_ConsultingCompanys!C1951","v":0},0]
[{"$nulls":10},{"$f":"tbl_ArchitectureOffices!D1952","v":0},{"$f":"tbl_ArchitectureOffices!C1952","v":0},0,{"$f":"tbl_Companys!D1952","v":0},{"$f":"tbl_Companys!C1952","v":0},0,{"$f":"tbl_ConsultingCompanys!D1952","v":0},{"$f":"tbl_ConsultingCompanys!C1952","v":0},0]
[{"$nulls":10},{"$f":"tbl_ArchitectureOffices!D1953","v":0},{"$f":"tbl_ArchitectureOffices!C1953","v":0},0,{"$f":"tbl_Companys!D1953","v":0},{"$f":"tbl_Companys!C1953","v":0},0,{"$f":"tbl_ConsultingCompanys!D1953","v":0},{"$f":"tbl_ConsultingCompanys!C1953","v":0},0]
[{"$nulls":10},{"$f":"tbl_ArchitectureOffices!D1954","v":0},{"$f":"tbl_ArchitectureOffices!C1954","v":0},0,{"$f":"tbl_Companys!D1954","v":0},{"$f":"tbl_Companys!C1954","v":0},0,{"$f":"tbl_ConsultingCompanys!D1954","v":0},{"$f":"tbl_ConsultingCompanys!C1954","v":0},0]
[{"$nulls":10},{"$f":"tbl_ArchitectureOffices!D1955","v":0},{"$f":"tbl_ArchitectureOffices!C1955","v":0},0,{"$f":"tbl_Companys!D1955","v":0},{"$f":"tbl_Companys!C1955","v":0},0,{"$f":"tbl_ConsultingCompanys!D1955","v":0},{"$f":"tbl_ConsultingCompanys!C1955","v":0},0]
[{"$nulls":10},{"$f":"tbl_ArchitectureOffices!D1956","v":0},{"$f":"tbl_ArchitectureOffices!C1956","v":0},0,{"$f":"tbl_Companys!D1956","v":0},{"$f":"tbl_Companys!C1956","v":0},0,{"$f":"tbl_ConsultingCompanys!D1956","v":0},{"$f":"tbl_ConsultingCompanys!C1956","v":0},0]
[{"$nulls":10},{"$f":"tbl_ArchitectureOffices!D1957","v":0},{"$f":"tbl_ArchitectureOffices!C1957","v":0},0,{"$f":"tbl_Companys!D1957","v":0},{"$f":"tbl_Companys!C1957","v":0},0,{"$f":"tbl_ConsultingCompanys!D1957","v":0},{"$f":"tbl_ConsultingCompanys!C1957","v":0},0]
[{"$nulls":10},{"$f":"tbl_ArchitectureOffices!D1958","v":0},{"$f":"tbl_ArchitectureOffices!C1958","v":0},0,{"$f":"tbl_Companys!D1958","v":0},{"$f":"tbl_Companys!C1958","v":0},0,{"$f":"tbl_ConsultingCompanys!D1958","v":0},{"$f":"tbl_ConsultingCompanys!C1958","v":0},0]
[{"$nulls":10},{"$f":"tbl_ArchitectureOffices!D1959","v":0},{"$f":"tbl_ArchitectureOffices!C1959","v":0},0,{"$f":"tbl_Companys!D1959","v":0},{"$f":"tbl_Companys!C1959","v":0},0,{"$f":"tbl_ConsultingCompanys!D1959","v":0},{"$f":"tbl_ConsultingCompanys!C1959","v":0},0]
[{"$nulls":10},{"$f":"tbl_ArchitectureOffices!D1960","v":0},{"$f":"tbl_ArchitectureOffices!C1960","v":0},0,{"$f":"tbl_Companys!D1960","v":0},{"$f":"tbl_Companys!C1960","v":0},0,{"$f":"tbl_ConsultingCompanys!D1960","v":0},{"$f":"tbl_ConsultingCompanys!C1960","v":0},0]
[{"$nulls":10},{"$f":"tbl_ArchitectureOffices!D1961","v":0},{"$f":"tbl_ArchitectureOffices!C1961","v":0},0,{"$f":"tbl_Companys!D1961","v":0},{"$f":"tbl_Companys!C1961","v":0},0,{"$f":"tbl_ConsultingCompanys!D1961","v":0},{"$f":"tbl_ConsultingCompanys!C1961","v":0},0]
[{"$nulls":10},{"$f":"tbl_ArchitectureOffices!D1962","v":0},{"$f":"tbl_ArchitectureOffices!C1962","v":0},0,{"$f":"tbl_Companys!D1962","v":0},{"$f":"tbl_Companys!C1962","v":0},0,{"$f":"tbl_ConsultingCompanys!D1962","v":0},{"$f":"tbl_ConsultingCompanys!C1962","v":0},0]
[{"$nulls":10},{"$f":"tbl_ArchitectureOffices!D1963","v":0},{"$f":"tbl_ArchitectureOffices!C1963","v":0},0,{"$f":"tbl_Companys!D1963","v":0},{"$f":"tbl_Companys!C1963","v":0},0,{"$f":"tbl_ConsultingCompanys!D1963","v":0},{"$f":"tbl_ConsultingCompanys!C1963","v":0},0]
[{"$nulls":10},{"$f":"tbl_ArchitectureOffices!D1964","v":0},{"$f":"tbl_ArchitectureOffices!C1964","v":0},0,{"$f":"tbl_Companys!D1964","v":0},{"$f":"tbl_Companys!C1964","v":0},0,{"$f":"tbl_ConsultingCompanys!D1964","v":0},{"$f":"tbl_ConsultingCompanys!C1964","v":0},0]
[{"$nulls":10},{"$f":"tbl_ArchitectureOffices!D1965","v":0},{"$f":"tbl_ArchitectureOffices!C1965","v":0},0,{"$f":"tbl_Companys!D1965","v":0},{"$f":"tbl_Companys!C1965","v":0},0,{"$f":"tbl_ConsultingCompanys!D1965","v":0},{"$f":"tbl_ConsultingCompanys!C1965","v":0},0]
[{"$nulls":10},{"$f":"tbl_ArchitectureOffices!D1966","v":0},{"$f":"tbl_ArchitectureOffices!C1966","v":0},0,{"$f":"tbl_Companys!D1966","v":0},{"$f":"tbl_Companys!C1966","v":0},0,{"$f":"tbl_ConsultingCompanys!D1966","v":0},{"$f":"tbl_ConsultingCompanys!C1966","v":0},0]
[{"$nulls":10},{"$f":"tbl_ArchitectureOffices!D1967","v":0},{"$f":"tbl_ArchitectureOffices!C1967","v":0},0,{"$f":"tbl_Companys!D1967","v":0},{"$f":"tbl_Companys!C1967","v":0},0,{"$f":"tbl_ConsultingCompanys!D1967","v":0},{"$f":"tbl_ConsultingCompanys!C1967","v":0},0]
[{"$nulls":10},{"$f":"tbl_ArchitectureOffices!D1968","v":0},{"$f":"tbl_ArchitectureOffices!C1968","v":0},0,{"$f":"tbl_Companys!D1968","v":0},{"$f":"tbl_Companys!C1968","v":0},0,{"$f":"tbl_ConsultingCompanys!D1968","v":0},{"$f":"tbl_ConsultingCompanys!C1968","v":0},0]
[{"$nulls":10},{"$f":"tbl_ArchitectureOffices!D1969","v":0},{"$f":"tbl_ArchitectureOffices!C1969","v":0},0,{"$f":"tbl_Companys!D1969","v":0},{"$f":"tbl_Companys!C1969","v":0},0,{"$f":"tbl_ConsultingCompanys!D1969","v":0},{"$f":"tbl_ConsultingCompanys!C1969","v":0},0]
[{"$nulls":10},{"$f":"tbl_ArchitectureOffices!D1970","v":0},{"$f":"tbl_ArchitectureOffices!C1970","v":0},0,{"$f":"tbl_Companys!D1970","v":0},{"$f":"tbl_Companys!C1970","v":0},0,{"$f":"tbl_ConsultingCompanys!D1970","v":0},{"$f":"tbl_ConsultingCompanys!C1970","v":0},0]
[{"$nulls":10},{"$f":"tbl_ArchitectureOffices!D1971","v":0},{"$f":"tbl_ArchitectureOffices!C1971","v":0},0,{"$f":"tbl_Companys!D1971","v":0},{"$f":"tbl_Companys!C1971","v":0},0,{"$f":"tbl_ConsultingCompanys!D1971","v":0},{"$f":"tbl_ConsultingCompanys!C1971","v":0},0]
[{"$nulls":10},{"$f":"tbl_ArchitectureOffices!D1972","v":0},{"$f":"tbl_ArchitectureOffices!C1972","v":0},0,{"$f":"tbl_Companys!D1972","v":0},{"$f":"tbl_Companys!C1972","v":0},0,{"$f":"tbl_ConsultingCompanys!D1972","v":0},{"$f":"tbl_ConsultingCompanys!C1972","v":0},0]
[{"$nulls":10},{"$f":"tbl_ArchitectureOffices!D1973","v":0},{"$f":"tbl_ArchitectureOffices!C1973","v":0},0,{"$f":"tbl_Companys!D1973","v":0},{"$f":"tbl_Companys!C1973","v":0},0,{"$f":"tbl_ConsultingCompanys!D1973","v":0},{"$f":"tbl_ConsultingCompanys!C1973","v":0},0]
[{"$nulls":10},{"$f":"tbl_ArchitectureOffices!D1974","v":0},{"$f":"tbl_ArchitectureOffices!C1974","v":0},{"$f":"IFERROR(REPLACE(K1974,FIND(\" \",K1974,LEN(K1974)),1,\"\"),K1974)","v":0},{"$f":"tbl_Companys!D1974","v":0},{"$f":"tbl_Companys!C1974","v":0},0,{"$f":"tbl_ConsultingCompanys!D1974","v":0},{"$f":"tbl_ConsultingCompanys!C1974","v":0},0]
[{"$nulls":10},{"$f":"tbl_ArchitectureOffices!D1975","v":0},{"$f":"tbl_ArchitectureOffices!C1975","v":0},0,{"$f":"tbl_Companys!D1975","v":0},{"$f":"tbl_Companys!C1975","v":0},0,{"$f":"tbl_ConsultingCompanys!D1975","v":0},{"$f":"tbl_ConsultingCompanys!C1975","v":0},0]
[{"$nulls":10},{"$f":"tbl_ArchitectureOffices!D1976","v":0},{"$f":"tbl_ArchitectureOffices!C1976","v":0},0,{"$f":"tbl_Companys!D1976","v":0},{"$f":"tbl_Companys!C1976","v":0},0,{"$f":"tbl_ConsultingCompanys!D1976","v":0},{"$f":"tbl_ConsultingCompanys!C1976","v":0},0]
[{"$nulls":10},{"$f":"tbl_ArchitectureOffices!D1977","v":0},{"$f":"tbl_ArchitectureOffices!C1977","v":0},0,{"$f":"tbl_Companys!D1977","v":0},{"$f":"tbl_Companys!C1977","v":0},0,{"$f":"tbl_ConsultingCompanys!D1977","v":0},{"$f":"tbl_ConsultingCompanys!C1977","v":0},0]
[{"$nulls":10},{"$f":"tbl_ArchitectureOffices!D1978","v":0},{"$f":"tbl_ArchitectureOffices!C1978","v":0},0,{"$f":"tbl_Companys!D1978","v":0},{"$f":"tbl_Companys!C1978","v":0},0,{"$f":"tbl_ConsultingCompanys!D1978","v":0},{"$f":"tbl_ConsultingCompanys!C1978","v":0},0]
[{"$nulls":10},{"$f":"tbl_ArchitectureOffices!D1979","v":0},{"$f":"tbl_ArchitectureOffices!C1979","v":0},0,{"$f":"tbl_Companys!D1979","v":0},{"$f":"tbl_Companys!C1979","v":0},0,{"$f":"tbl_ConsultingCompanys!D1979","v":0},{"$f":"tbl_ConsultingCompanys!C1979","v":0},0]
[{"$nulls":10},{"$f":"tbl_ArchitectureOffices!D1980","v":0},{"$f":"tbl_ArchitectureOffices!C1980","v":0},0,{"$f":"tbl_Companys!D1980","v":0},{"$f":"tbl_Companys!C1980","v":0},0,{"$f":"tbl_ConsultingCompanys!D1980","v":0},{"$f":"tbl_ConsultingCompanys!C1980","v":0},0]
[{"$nulls":10},{"$f":"tbl_ArchitectureOffices!D1981","v":0},{"$f":"tbl_ArchitectureOffices!C1981","v":0},0,{"$f":"tbl_Companys!D1981","v":0},{"$f":"tbl_Companys!C1981","v":0},0,{"$f":"tbl_ConsultingCompanys!D1981","v":0},{"$f":"tbl_ConsultingCompanys!C1981","v":0},0]
[{"$nulls":10},{"$f":"tbl_ArchitectureOffices!D1982","v":0},{"$f":"tbl_ArchitectureOffices!C1982","v":0},0,{"$f":"tbl_Companys!D1982","v":0},{"$f":"tbl_Companys!C1982","v":0},0,{"$f":"tbl_ConsultingCompanys!D1982","v":0},{"$f":"tbl_ConsultingCompanys!C1982","v":0},0]
[{"$nulls":10},{"$f":"tbl_ArchitectureOffices!D1983","v":0},{"$f":"tbl_ArchitectureOffices!C1983","v":0},0,{"$f":"tbl_Companys!D1983","v":0},{"$f":"tbl_Companys!C1983","v":0},0,{"$f":"tbl_ConsultingCompanys!D1983","v":0},{"$f":"tbl_ConsultingCompanys!C1983","v":0},0]
[{"$nulls":10},{"$f":"tbl_ArchitectureOffices!D1984","v":0},{"$f":"tbl_ArchitectureOffices!C1984","v":0},0,{"$f":"tbl_Companys!D1984","v":0},{"$f":"tbl_Companys!C1984","v":0},0,{"$f":"tbl_ConsultingCompanys!D1984","v":0},{"$f":"tbl_ConsultingCompanys!C1984","v":0},0]
[{"$nulls":10},{"$f":"tbl_ArchitectureOffices!D1985","v":0},{"$f":"tbl_ArchitectureOffices!C1985","v":0},0,{"$f":"tbl_Companys!D1985","v":0},{"$f":"tbl_Companys!C1985","v":0},0,{"$f":"tbl_ConsultingCompanys!D1985","v":0},{"$f":"tbl_ConsultingCompanys!C1985","v":0},0]
[{"$nulls":10},{"$f":"tbl_ArchitectureOffices!D1986","v":0},{"$f":"tbl_ArchitectureOffices!C1986","v":0},0,{"$f":"tbl_Companys!D1986","v":0},{"$f":"tbl_Companys!C1986","v":0},0,{"$f":"tbl_ConsultingCompanys!D1986","v":0},{"$f":"tbl_ConsultingCompanys!C1986","v":0},0]
[{"$nulls":10},{"$f":"tbl_ArchitectureOffices!D1987","v":0},{"$f":"tbl_ArchitectureOffices!C1987","v":0},0,{"$f":"tbl_Companys!D1987","v":0},{"$f":"tbl_Companys!C1987","v":0},{"$f":"IFERROR(REPLACE(N1987,FIND(\" \",N1987,LEN(N1987)),1,\"\"),N1987)","v":0},{"$f":"tbl_ConsultingCompanys!D1987","v":0},{"$f":"tbl_ConsultingCompanys!C1987","v":0},{"$f":"IFERROR(REPLACE(Q1987,FIND(\" \",Q1987,LEN(Q1987)),1,\"\"),Q1987)","v":0}]
[{"$nulls":10},{"$f":"tbl_ArchitectureOffices!D1988","v":0},{"$f":"tbl_ArchitectureOffices!C1988","v":0},0,{"$f":"tbl_Companys!D1988","v":0},{"$f":"tbl_Companys!C1988","v":0},0,{"$f":"tbl_ConsultingCompanys!D1988","v":0},{"$f":"tbl_ConsultingCompanys!C1988","v":0},0]
[{"$nulls":10},{"$f":"tbl_ArchitectureOffices!D1989","v":0},{"$f":"tbl_ArchitectureOffices!C1989","v":0},0,{"$f":"tbl_Companys!D1989","v":0},{"$f":"tbl_Companys!C1989","v":0},0,{"$f":"tbl_ConsultingCompanys!D1989","v":0},{"$f":"tbl_ConsultingCompanys!C1989","v":0},0]
[{"$nulls":10},{"$f":"tbl_ArchitectureOffices!D1990","v":0},{"$f":"tbl_ArchitectureOffices!C1990","v":0},0,{"$f":"tbl_Companys!D1990","v":0},{"$f":"tbl_Companys!C1990","v":0},0,{"$f":"tbl_ConsultingCompanys!D1990","v":0},{"$f":"tbl_ConsultingCompanys!C1990","v":0},0]
[{"$nulls":10},{"$f":"tbl_ArchitectureOffices!D1991","v":0},{"$f":"tbl_ArchitectureOffices!C1991","v":0},0,{"$f":"tbl_Companys!D1991","v":0},{"$f":"tbl_Companys!C1991","v":0},0,{"$f":"tbl_ConsultingCompanys!D1991","v":0},{"$f":"tbl_ConsultingCompanys!C1991","v":0},0]
[{"$nulls":10},{"$f":"tbl_ArchitectureOffices!D1992","v":0},{"$f":"tbl_ArchitectureOffices!C1992","v":0},0,{"$f":"tbl_Companys!D1992","v":0},{"$f":"tbl_Companys!C1992","v":0},0,{"$f":"tbl_ConsultingCompanys!D1992","v":0},{"$f":"tbl_ConsultingCompanys!C1992","v":0},0]
[{"$nulls":10},{"$f":"tbl_ArchitectureOffices!D1993","v":0},{"$f":"tbl_ArchitectureOffices!C1993","v":0},0,{"$f":"tbl_Companys!D1993","v":0},{"$f":"tbl_Companys!C1993","v":0},0,{"$f":"tbl_ConsultingCompanys!D1993","v":0},{"$f":"tbl_ConsultingCompanys!C1993","v":0},0]
[{"$nulls":10},{"$f":"tbl_ArchitectureOffices!D1994","v":0},{"$f":"tbl_ArchitectureOffices!C1994","v":0},0,{"$f":"tbl_Companys!D1994","v":0},{"$f":"tbl_Companys!C1994","v":0},0,{"$f":"tbl_ConsultingCompanys!D1994","v":0},{"$f":"tbl_ConsultingCompanys!C1994","v":0},0]
[{"$nulls":10},{"$f":"tbl_ArchitectureOffices!D1995","v":0},{"$f":"tbl_ArchitectureOffices!C1995","v":0},0,{"$f":"tbl_Companys!D1995","v":0},{"$f":"tbl_Companys!C1995","v":0},0,{"$f":"tbl_ConsultingCompanys!D1995","v":0},{"$f":"tbl_ConsultingCompanys!C1995","v":0},0]
[{"$nulls":10},{"$f":"tbl_ArchitectureOffices!D1996","v":0},{"$f":"tbl_ArchitectureOffices!C1996","v":0},0,{"$f":"tbl_Companys!D1996","v":0},{"$f":"tbl_Companys!C1996","v":0},0,{"$f":"tbl_ConsultingCompanys!D1996","v":0},{"$f":"tbl_ConsultingCompanys!C1996","v":0},0]
[{"$nulls":10},{"$f":"tbl_ArchitectureOffices!D1997","v":0},{"$f":"tbl_ArchitectureOffices!C1997","v":0},0,{"$f":"tbl_Companys!D1997","v":0},{"$f":"tbl_Companys!C1997","v":0},0,{"$f":"tbl_ConsultingCompanys!D1997","v":0},{"$f":"tbl_ConsultingCompanys!C1997","v":0},0]
[{"$nulls":10},{"$f":"tbl_ArchitectureOffices!D1998","v":0},{"$f":"tbl_ArchitectureOffices!C1998","v":0},0,{"$f":"tbl_Companys!D1998","v":0},{"$f":"tbl_Companys!C1998","v":0},0,{"$f":"tbl_ConsultingCompanys!D1998","v":0},{"$f":"tbl_ConsultingCompanys!C1998","v":0},0]
[{"$nulls":10},{"$f":"tbl_ArchitectureOffices!D1999","v":0},{"$f":"tbl_ArchitectureOffices!C1999","v":0},0,{"$f":"tbl_Companys!D1999","v":0},{"$f":"tbl_Companys!C1999","v":0},0,{"$f":"tbl_ConsultingCompanys!D1999","v":0},{"$f":"tbl_ConsultingCompanys!C1999","v":0},0]
[{"$nulls":10},{"$f":"tbl_ArchitectureOffices!D2000","v":0},{"$f":"tbl_ArchitectureOffices!C2000","v":0},0,{"$f":"tbl_Companys!D2000","v":0},{"$f":"tbl_Companys!C2000","v":0},0,{"$f":"tbl_ConsultingCompanys!D2000","v":0},{"$f":"tbl_ConsultingCompanys!C2000","v":0},0]

{"sheet":"Enumerations","index":3,"n_rows":25,"n_cols":27,"rows_kept":25,"hidden":true}
["EnergyLabel","Codename","Value","HeatRating","Codename","Value","FByerImportance","Codename","Value","FByerTimeUsage","Codename","Value","GeneralProjectType","Codename","Value","ProgressStatus","Codename","Value","Checkbox","Codename","MapZoomLevel","Codename","Value","Bygningskategori (TEK)","Energiforsyningssystem","EcoProjectTemplate","Id"]
["Ikke oppgitt","none",1,"Ikke oppgitt","none",1,"Ingen betydning","NoImportance",1,"Høy tidsbruk i forhold til resultat","HighUse",1,"Byggeprosjekt","Construction",5,"Bedre enn forventet","Better",1,"-----",0,1,"ZoomLevel1",1,"-----","-----","Byrapport.no (Framtidens byer)",235520]
["A","labelA",2,"Mørk grønn","green",2,"Noe betydning","SomeImportance",2,"Som forventet tidsbruk i forhold til resultat","Expected",2,"Prosess","Process",1,"Som forventet","Expected",2,"JA","TRUE",2,"ZoomLevel2",2,"Småhus/rekkehus","Solceller - elektrisitet","Ecobox prosjektvisning (gammel mal)",57213]
["B","labelB",3,"Lys grønn","lightgreen",3,"Stor betydning","HighImportance",3,"Lav tidsbruk i forhold til resultat","LowUse",3,"Prosjekt","Project",2,"Dårligere enn forventet","Worse",3,"NEI","FALSE",3,"ZoomLevel3",3,"Boligblokk","Solfanger - termisk","NAL - Utvalgt arkitektur",244777]
["C","labelC",4,"Gul","yellow",4,"Tiltaket ville ikke eksistert uten","Requirement",4,{"$nulls":3},"Engangshendelse","Event",3,{"$nulls":3},0,0,4,"ZoomLevel4",4,"Barnehage","-----"]
["D","labelD",5,"Oransje","orange",5,{"$nulls":6},"Gjentakende Hendelse","RecurringEvent",4,{"$nulls":5},5,"ZoomLevel5",5,"Kontorbygning","Åpent vedfyrt ildsted o.l."]
["E","labelE",6,"Rød","red",6,{"$nulls":14},6,"ZoomLevel6",6,"Skolebygning","Lukket vedovn o.l."]
["F","labelF",7,{"$nulls":17},7,"ZoomLevel7",7,"Universitet/høyskole","Biopelletskamin"]
["G","labelG",8,{"$nulls":17},8,"ZoomLevel8",8,"Sykehus","Bio-kjel"]
[{"$nulls":20},9,"ZoomLevel9",9,"Sykehjem","-----"]
[{"$nulls":20},10,"ZoomLevel10",10,"Hotell","Varmepumpe luft-luft"]
[{"$nulls":20},11,"ZoomLevel11",11,"Idrettsbygning","Varmepumpe luft-vann"]
[{"$nulls":20},12,"ZoomLevel12",12,"Forretningsbygning","Varmepumpe vann-vann"]
[{"$nulls":20},13,"ZoomLevel13",13,"Kulturbygning","-----"]
[{"$nulls":20},14,"ZoomLevel14",14,"Lett industri/verksteder","Fjern-/nærvarmeanlegg"]
[{"$nulls":20},15,"ZoomLevel15",15,null,"-----"]
[{"$nulls":20},16,"ZoomLevel16",16,null,"Elektriske panelovner o.l."]
[{"$nulls":24},"Elektrokjel for vannbåren varme"]
[{"$nulls":24},"-----"]
[{"$nulls":24},"Gasskamin/gasskjel"]
[{"$nulls":24},"-----"]
[{"$nulls":24},"Olje/parafinkamin"]
[{"$nulls":24},"Olje/parafinkjel"]
[{"$nulls":24},"-----"]
[{"$nulls":24},"Andre"]

{"sheet":"FylkeKommune","index":4,"n_rows":45,"n_cols":22,"rows_kept":45,"hidden":true}
[null,"Rogaland","Akershus","Oslo","Buskerud","Telemark","Aust-Agder","Østfold","Vestfold","Vest-Agder","Møre og Romsdal","Sogn og Fjordane","Sør-Trøndelag","Nord-Trøndelag","Nordland","Oppland","Hedmark","Troms","Finnmark","Hordaland","Svalbard mm.","Sverige"]
["Akershus","Bjerkreim","Asker","Oslo","Drammen","Bamble","Arendal","Aremark","Andebu ","Audnedal","Aukra","Askvoll","Agdenes","Flatanger","Alstahaug","Dovre","Alvdal","Balsfjord","Alta","Askøy"]
["Aust-Agder","Bokn","Aurskog-Høland",null,"Flesberg","Drangedal","Birkenes","Askim","Hof","Farsund","Aure","Aurland","Bjugn","Fosnes","Andøy","Etnedal","Eidskog","Bardu","Berlevåg","Austevoll"]
["Buskerud","Eigersund","Bærum",null,"Flå","Fyresdal","Bygland","Eidsberg","Holmestrand","Flekkefjord","Averøy","Balestrand","Frøya","Frosta","Ballangen","Gausdal","Elverum","Berg","Båtsfjord","Austrheim"]
["Finnmark","Finnøy","Eidsvoll",null,"Gol","Hjartdal","Bykle","Fredrikstad","Horten","Hægebostad","Eide","Bremanger","Hemne","Grong ","Beiarn","Gjøvik","Engerdal","Bjarkøy","Gamvik","Bergen"]
["Hedmark","Forsand","Enebakk",null,"Hemsedal","Kragerø","Evje og Hornnes","Fredrikstad","Lardal","Kristiansand","Fræna","Eid","Hitra","Høylandet","Bindal","Gran","Folldal","Dyrøy","Hammerfest","Bømlo"]
["Hordaland","Gjesdal","Fet",null,"Hol","Kviteseid","Froland","Halden ","Larvik","Kvinesdal","Giske","Fjaler","Holtålen","Inderøy","Bodø","Jevnaker","Grue","Gratangen","Hasvik","Eidfjord"]
["Møre og Romsdal","Haugesund","Frogn",null,"Hole","Nissedal","Gjerstad","Hobøl","Nøtterøy","Lindesnes","Gjemnes","Flora","Klæbu","Leka","Brønnøy","Lesja","Hamar","Harstad","Karasjok","Etne"]
["Nordland","Hjelmeland","Gjerdrum",null,"Hurum","Nome","Grimstad","Hvaler","Re","Lyngdal","Halsa","Førde","Malvik","Leksvik","Bø (Nordland)","Lillehammer","Kongsvinger","Ibestad","Kautokeino","Fedje"]
["Nord-Trøndelag","Hå","Hurdal",null,"Kongsberg","Notodden","Iveland","Marker","Sande (Vestfold)","Mandal","Haram","Gaular","Meldal","Levanger","Dønna","Lom","Løten","Karlsøy","Kvalsund","Fitjar"]
["Oppland","Karmøy","Lørenskog",null,"Krødsherad","Porsgrunn","Lillesand","Moss","Stokke","Marnardal","Hareid","Gloppen","Melhus","Lierne","Evenes","Lunner","Nord-Odal","Kvæfjord","Lebesby","Fjell"]
["Oslo","Klepp","Nannestad",null,"Lier","Sauherad","Risør","Rakkestad","Svelvik","Sirdal","Herøy (Møre og Romsdal)","Gulen","Midtre Gauldal","Meråker","Fauske","Nord-Aurdal","Os (Hedmark)","Kvænangen","Loppa","Fusa"]
["Rogaland","Kvitsøy","Nes (Akershus)",null,"Modum","Seljord","Tvedestrand","Rygge","Tjøme","Songdalen","Kristiansund","Hornindal","Oppdal","Namdalseid","Flakstad","Nord-Fron","Rendalen","Kåfjord","Måsøy","Granvin"]
["Sogn og Fjordane","Lund","Nesodden",null,"Nedre Eiker","Siljan","Valle","Rømskog","Tønsberg","Søgne","Midsund","Hyllestad","Orkdal","Namsos","Gildeskål","Nordre Land","Ringsaker","Lavangen","Nesseby","Jondal"]
["Svalbard mm.","Randaberg","Nittedal",null,"Nes (Buskerud)","Skien","Vegårdshei","Råde",null,"Vennesla","Molde","Høyanger","Osen","Namsskogan","Grane","Ringebu","Stange","Lenvik","Nordkapp","Kvam"]
["Sverige","Rennesøy","Oppegård",null,"Nore og Uvdal","Tinn","Åmli","Sarpsborg",null,"Åseral","Nesset","Jølster","Rennebu","Nærøy","Hadsel","Sel","Stor-Elvdal","Lyngen","Porsanger","Kvinnherad"]
["Sør-Trøndelag","Sandnes","Rælingen",null,"Ringerike","Tokke",null,"Skiptvet",null,null,"Norddal","Leikanger","Rissa","Overhalla","Hamarøy","Skjåk","Sør-Odal","Målselv","Sør-Varanger","Lindås"]
["Telemark","Sauda","Skedsmo",null,"Rollag","Vinje",null,"Spydeberg",null,null,"Rauma","Luster","Roan","Røyrvik","Hattfjelldal","Søndre Land","Tolga","Nordreisa","Tana","Masfjorden"]
["Troms","Sokndal","Ski",null,"Røyken",null,null,"Trøgstad",null,null,"Rindal","Lærdal","Røros","Snåsa","Hemnes","Sør-Aurdal","Trysil","Salangen","Vadsø","Meland"]
["Vest-Agder","Sola","Sørum",null,"Sigdal",null,null,"Våler (Østfold)",null,null,"Sande (Møre og Romsdal)","Naustdal","Selbu","Steinkjer","Herøy","Sør-Fron","Tynset","Skjervøy","Vardø","Modalen"]
["Vestfold","Stavanger","Ullensaker",null,"Øvre Eiker",{"$nulls":5},"Sandøy","Selje","Skaun","Stjørdal","Leirfjord","Vang","Våler i Solør (Hedmark)","Skånland",null,"Odda"]
["Østfold","Strand","Vestby",null,"Ål",{"$nulls":5},"Skodje","Sogndal","Snillfjord","Verdal","Lurøy","Vestre Slidre","Åmot","Storfjord",null,"Os (Hordaland)"]
[null,"Suldal","Ås",{"$nulls":7},"Smøla","Solund","Trondheim","Verran","Lødingen","Vestre Toten","Åsnes","Sørreisa",null,"Osterøy"]
[null,"Time",{"$nulls":8},"Stordal","Stryn","Tydal","Vikna","Meløy","Vågå",null,"Torsken",null,"Radøy"]
[null,"Tysvær",{"$nulls":8},"Stranda","Vik","Ørland",null,"Moskenes","Østre Toten",null,"Tranøy",null,"Samnanger"]
[null,"Utsira",{"$nulls":8},"Sula","Vågsøy","Åfjord",null,"Narvik","Øyer",null,"Tromsø",null,"Stord"]
[null,"Vindafjord",{"$nulls":8},"Sunndal","Årdal",null,null,"Nesna","Øystre Slidre",{"$nulls":3},"Sund"]
[{"$nulls":10},"Surnadal",{"$nulls":3},"Rana",{"$nulls":4},"Sveio"]
[{"$nulls":10},"Sykkylven",{"$nulls":3},"Rødøy",{"$nulls":4},"Tysnes"]
[{"$nulls":10},"Ulstein",{"$nulls":3},"Røst",{"$nulls":4},"Ullensvang"]
[{"$nulls":10},"Vanylven",{"$nulls":3},"Vågan",{"$nulls":4},"Voss"]
[{"$nulls":10},"Tingvoll",{"$nulls":3},"Saltdal",{"$nulls":4},"Ulvik"]
[{"$nulls":10},"Vestnes",{"$nulls":3},"Sortland",{"$nulls":4},"Vaksdal"]
[{"$nulls":10},"Volda",{"$nulls":3},"Steigen",{"$nulls":4},"Øygarden"]
[{"$nulls":10},"Ørskog",{"$nulls":3},"Sømna"]
[{"$nulls":10},"Ørsta",{"$nulls":3},"Sørfold"]
[{"$nulls":10},"Ålesund",{"$nulls":3},"Tjeldsund"]
[{"$nulls":14},"Træna"]
[{"$nulls":14},"Tysfjord"]
[{"$nulls":14},"Vefsn"]
[{"$nulls":14},"Vega"]
[{"$nulls":14},"Vestvågøy"]
[{"$nulls":14},"Vevelstad"]
[{"$nulls":14},"Værøy"]
[{"$nulls":14},"Øksnes"]

{"sheet":"MiljoTiltak","index":5,"n_rows":24,"n_cols":15,"rows_kept":24,"hidden":true}
["Miljøtema","Sosiale aspekter","Grønne arealer","Godt innemiljø","Avfall og kildesortering","Areal og transport","Konstruksjoner og materialbruk","Prosess/metode","Energi","Stedstilpasning","Universell utforming","Vann og avløp","Miljøvennlig by- og tettstedsutvikling","Klimatilpasning","Innkjøp og forbruk"]
["Areal og transport","attraktive arenaer og møtesteder ","biologisk mangfold","balansert ventilasjon","farlig avfall","bildeling","lokale materialer","brukermedvirkning","arealeffektivitet","klimatilpasning","fremkommelighet","biologisk avløpssystem","bymiljø","absorbsjon","miljøfyrtårn"]
["Avfall og kildesortering","bokvalitet","grønnstruktur","bygningsintegrert ventilasjon","forurenset grunn","fortetting","miljøvennlig overflatebehandling","bygningsinformasjonsmodell (BIM)","automatisering","landskapstilpasning","luftkvalitet","oppsamling av regnvann","byomforming","flomveier","offentlige innkjøp"]
["Energi","boligsosial planlegging","grønt gårdsrom","dagslys","gjenbruk av materialer","kollektivtrafikk","naturnære materialer","energi-/klimaplan","bioenergi","terrengtilpassing","lydforhold","overvannshåndtering","miljøsoner","fordrøyning","redusere / endre forbruk "]
["Godt innemiljø","boligsosial samarbeid","nyttevekster","diffusjonsåpen konstruksjon","gjenvinning","miljøgate","renholdsvennlige materialer","energiregnskap","biogass","vegetasjonstilpasning","orienterbarhet","rehabilitering av vannmiljø","miljøvennlige arbeidsreiser","grønne tak"]
["Grønne arealer","bomiljø","park- og grøntareal","fuktregulerende materialer","kildesortering","miljøvennlig bystruktur","slitesterke materialer","indirekte utslipp","dagslys",null,"overflater","rensing av gråvann","sentrumsutvikling","havnivåtilpasning"]
["Innkjøp og forbruk","felles løsninger",null,"hybrid ventilasjon","kompostering","reduksjon av parkeringsdekning",null,"integrert energidesign (IED)","ekstra isolering",null,"utstyr og bygningsdeler","vannbesparende utstyr",null,"infiltrasjon"]
["Klimatilpasning",null,null,"lavemitterende materialer","miljøvennlig riving","reduksjon av teknisk infrastruktur",null,"klimafotavtrykk","energibesparende utstyr",null,null,"vannrensing",null,"klimatilpasningsanalyse"]
["Konstruksjoner og materialbruk",null,null,"mekanisk ventilasjon","ombruk av bygningsmasse","samordnet transportplanlegging",null,"klimaregnskap","energieffektivitet",{"$nulls":4},"klimatilpasningstiltak"]
["Miljøvennlig by- og tettstedsutvikling",null,null,"naturlig ventilasjon","prefabrikasjon","styrking av sentrum",null,"kommunal plan","fjernvarme",{"$nulls":4},"overflatedekker"]
["Prosess/metode",null,null,"rent bygg","redesign","støyskjerming",null,"kvalitetsprogram","geoenergi",{"$nulls":4},"overflatevann"]
["Sosiale aspekter",{"$nulls":3},"våtorganisk avfall","tilrettelegging for syklister/fotgjengere",null,"metodeutvikling","jordvarme",{"$nulls":4},"permeable flater"]
["Stedstilpasning",{"$nulls":4},"utvikling av knutepunkter",null,"miljøkampanjer","passiv solvarme",{"$nulls":4},"regnbed"]
["Universell utforming",{"$nulls":6},"miljømarkering","solavskjerming",{"$nulls":4},"risiko- og sårbarhetsanalyser"]
["Vann og avløp",{"$nulls":6},"miljøoppfølgingsprogram","solcelle",{"$nulls":4},"skredforebygging"]
[{"$nulls":7},"miljøsertifiseringsarbeid","solfanger",{"$nulls":4},"vindsikring"]
[{"$nulls":7},"mobilisering","solrom"]
[{"$nulls":7},"Nudge","sonedeling"]
[{"$nulls":7},"regional plan","synlig energistyring"]
[{"$nulls":7},"stedsanalyse","termisk masse"]
[{"$nulls":8},"tett bygningskropp"]
[{"$nulls":8},"vannbåren oppvarming"]
[{"$nulls":8},"varmegjenvinning"]
[{"$nulls":8},"varmepumpe"]

{"sheet":"ProjectExport","index":6,"n_rows":369,"n_cols":7,"rows_kept":369,"hidden":true,"merged":[[2,1,2,4],[3,1,3,4],[4,1,4,4],[6,1,6,4],[7,1,7,4],[57,1,57,4],[60,1,60,4],[63,1,63,4],[78,1,78,4],[144,1,144,4],[148,1,148,4],[158,1,158,4],[163,1,163,4]]}
["Codename","Innhold",{"$nulls":3},"Property.type","Value til Eksport"]
["Id",{"$f":"A_ID_I","v":{"$error":"#REF!"}},{"$nulls":3},"Integer",{"$f":"IF((B2=0),\"\",B2)","v":{"$error":"#REF!"}}]
["Name",{"$f":"O_Name_I","v":{"$error":"#REF!"}},{"$nulls":3},"Short string",{"$f":"IF((B3=0),\"\",B3)","v":{"$error":"#REF!"}}]
["SubTitle",{"$f":"T_SubTitle_I","v":{"$error":"#REF!"}},{"$nulls":3},"Short string",{"$f":"IF((B4=0),\"\",B4)","v":{"$error":"#REF!"}}]
["AuthorSignature",{"$f":"A_AuthorSignature_I","v":{"$error":"#REF!"}},{"$nulls":3},"Short string",{"$f":"IF((B5=0),\"\",B5)","v":{"$error":"#REF!"}}]
["ProjectOwner",{"$f":"A_ProjectOwner_I","v":{"$error":"#REF!"}},{"$f":"LOOKUP(B6,Name_tbl_ExternalProjectDBUsers,Name_tbl_ExternalProjectDBUsers_Id)","v":{"$error":"#REF!"}},{"$f":"IF(ISERROR(C6)=TRUE,\"\",C6)","v":""},null,"Relation (one)",{"$f":"CONCATENATE(D6)","v":""}]
["EditorialResponsibility",{"$f":"A_EditorialResponsibility_I","v":{"$error":"#REF!"}},{"$nulls":3},"Long string",{"$f":"IF((B7=0),\"\",B7)","v":{"$error":"#REF!"}}]
["ShortDescription",{"$f":"T_ShortDescription_I","v":{"$error":"#REF!"}},{"$nulls":3},"Long string",{"$f":"IF((B8=0),\"\",B8)","v":{"$error":"#REF!"}}]
["GeneralProjectType",{"$f":"F_GeneralProjectType_I","v":{"$error":"#REF!"}},{"$f":"VLOOKUP(B9,Enumeration_GeneralProjectType,3,FALSE)","v":{"$error":"#REF!"}},{"$f":"IF(ISERROR(C9)=TRUE,\"\",C9)","v":""},null,"Enumeration",{"$f":"CONCATENATE(D9)","v":""}]
["ProjectStatus",{"$nulls":4},"Enumerations"]
["FinishedProject",{"$f":"F_FinishedProject_I","v":{"$error":"#REF!"}},{"$f":"VLOOKUP(B11,Enumeration_Checkbox,2,FALSE)","v":{"$error":"#REF!"}},{"$f":"IF(C11=0,\"\",C11)","v":{"$error":"#REF!"}},null,"CheckBox",{"$f":"CONCATENATE(D11)","v":{"$error":"#REF!"}}]
["EnglishContent",{"$nulls":4},"CheckBox"]
["PublishToByrapport",{"$f":"F_PublishToByrapport_I","v":{"$error":"#REF!"}},{"$f":"VLOOKUP(B13,Enumeration_Checkbox,2,FALSE)","v":{"$error":"#REF!"}},{"$f":"IF(C13=0,\"\",C13)","v":{"$error":"#REF!"}},null,"CheckBox",{"$f":"CONCATENATE(D13)","v":{"$error":"#REF!"}}]
["FramtidensByerDatabase",{"$f":"IF(FByerExternalTags=\"\",\"NEI\",\"JA\")","v":"NEI"},"FALSE",{"$f":"IF(ISERROR(C14)=TRUE,\"\",C14)","v":"FALSE"},null,"CheckBox",{"$f":"CONCATENATE(D14)","v":"FALSE"}]
["PublishToHusbanken",{"$f":"A_PublishToHusbanken_I","v":{"$error":"#REF!"}},{"$error":"#REF!"},{"$error":"#REF!"},null,"CheckBox",{"$f":"CONCATENATE(D15)","v":{"$error":"#REF!"}}]
["PublishToEnova",{"$f":"A_PublishToEnova_I","v":{"$error":"#REF!"}},{"$error":"#REF!"},{"$error":"#REF!"},null,"CheckBox",{"$error":"#REF!"}]
["PublishToFramtidensByer",{"$f":"A_PublishToFramtidensByer_I","v":{"$error":"#REF!"}},{"$error":"#REF!"},{"$error":"#REF!"},null,"CheckBox",{"$error":"#REF!"}]
["PublishToTretekniskInstitutt",{"$f":"A_PublishToTretekniskInstitutt_I","v":{"$error":"#REF!"}},{"$error":"#REF!"},{"$error":"#REF!"},null,"CheckBox",{"$error":"#REF!"}]
["HideOnEcobox",{"$f":"A_HideOnEcobox_I","v":{"$error":"#REF!"}},{"$error":"#REF!"},{"$error":"#REF!"},null,"CheckBox",{"$error":"#REF!"}]
["HideFromProjectFrontPage",{"$f":"A_HideOnProjectFrontPage_I","v":{"$error":"#REF!"}},{"$error":"#REF!"},{"$error":"#REF!"},null,"CheckBox",{"$error":"#REF!"}]
["EcoProjectTemplate",{"$f":"A_EcoProjectTemplate_I","v":{"$error":"#REF!"}},{"$f":"VLOOKUP(B21,Enumerations!Z2:AA4,2,FALSE)","v":{"$error":"#REF!"}},{"$f":"IF(ISERROR(C21)=TRUE,\"\",C21)","v":""},null,"Relation",""]
["Contact",{"$f":"O_Contact_I","v":{"$error":"#REF!"}},{"$nulls":3},"Short string",{"$f":"IF((B22=0),\"\",B22)","v":{"$error":"#REF!"}}]
["ContactPhone",{"$f":"O_ContactPhone_I","v":{"$error":"#REF!"}},{"$nulls":3},"Short string",{"$f":"IF((B23=0),\"\",B23)","v":{"$error":"#REF!"}}]
["ContactEmail",{"$f":"O_ContactEmail_I","v":{"$error":"#REF!"}},{"$nulls":3},"Short string",{"$f":"IF((B24=0),\"\",B24)","v":{"$error":"#REF!"}}]
["FByerExternalTags",{"$f":"F_FByerExternalTags_I1","v":{"$error":"#REF!"}},{"$f":"VLOOKUP(B25,tbl_FByerExternalTags!A$1:T$10000,3,FALSE)","v":{"$error":"#REF!"}},{"$f":"IF(ISERROR(C25)=TRUE,\"\",C25)","v":""}]
[null,{"$f":"F_FByerExternalTags_I2","v":{"$error":"#REF!"}},{"$f":"VLOOKUP(B26,tbl_FByerExternalTags!A$1:T$10000,3,FALSE)","v":{"$error":"#REF!"}},{"$f":"IF(ISERROR(C26)=TRUE,\"\",CONCATENATE(Deletegn,C26))","v":""}]
[null,{"$f":"F_FByerExternalTags_I3","v":{"$error":"#REF!"}},{"$f":"VLOOKUP(B27,tbl_FByerExternalTags!A$1:T$10000,3,FALSE)","v":{"$error":"#REF!"}},{"$f":"IF(ISERROR(C27)=TRUE,\"\",CONCATENATE(Deletegn,C27))","v":""}]
[null,{"$f":"F_FByerExternalTags_I4","v":{"$error":"#REF!"}},{"$f":"VLOOKUP(B28,tbl_FByerExternalTags!A$1:T$10000,3,FALSE)","v":{"$error":"#REF!"}},{"$f":"IF(ISERROR(C28)=TRUE,\"\",CONCATENATE(Deletegn,C28))","v":""}]
[null,{"$f":"F_FByerExternalTags_I5","v":{"$error":"#REF!"}},{"$f":"VLOOKUP(B29,tbl_FByerExternalTags!A$1:T$10000,3,FALSE)","v":{"$error":"#REF!"}},{"$f":"IF(ISERROR(C29)=TRUE,\"\",CONCATENATE(Deletegn,C29))","v":""},null,"Relation (many)",{"$f":"CONCATENATE(D25,D26,D27,D28,D29)","v":""}]
["ExternalTags",{"$f":"O_ExternalTags_I1","v":{"$error":"#NAME?"}},{"$f":"LOOKUP(B30,Name_tbl_ExternalTags,Name_tbl_ExternalTags_Id)","v":{"$error":"#NAME?"}},{"$f":"IF(ISERROR(C30)=TRUE,\"\",C30)","v":""}]
[null,{"$f":"O_ExternalTags_I2","v":{"$error":"#NAME?"}},{"$f":"LOOKUP(B31,Name_tbl_ExternalTags,Name_tbl_ExternalTags_Id)","v":{"$error":"#NAME?"}},{"$f":"IF(ISERROR(C31)=TRUE,\"\",CONCATENATE(Deletegn,C31))","v":""}]
[null,{"$f":"O_ExternalTags_I3","v":{"$error":"#NAME?"}},{"$f":"LOOKUP(B32,Name_tbl_ExternalTags,Name_tbl_ExternalTags_Id)","v":{"$error":"#NAME?"}},{"$f":"IF(ISERROR(C32)=TRUE,\"\",CONCATENATE(Deletegn,C32))","v":""}]
[null,{"$f":"O_ExternalTags_I4","v":{"$error":"#NAME?"}},{"$f":"LOOKUP(B33,Name_tbl_ExternalTags,Name_tbl_ExternalTags_Id)","v":{"$error":"#NAME?"}},{"$f":"IF(ISERROR(C33)=TRUE,\"\",CONCATENATE(Deletegn,C33))","v":""}]
[" ",{"$f":"O_ExternalTags_I5","v":{"$error":"#NAME?"}},{"$f":"LOOKUP(B34,Name_tbl_ExternalTags,Name_tbl_ExternalTags_Id)","v":{"$error":"#NAME?"}},{"$f":"IF(ISERROR(C34)=TRUE,\"\",CONCATENATE(Deletegn,C34))","v":""},null,"Relation (many)",{"$f":"CONCATENATE(D30,D31,D32,D33,D34)","v":""}]
["ExternalProjectDBUsers",{"$f":"A_ExternalProjectDBUsers_I1","v":{"$error":"#REF!"}},{"$f":"LOOKUP(B35,Name_tbl_ExternalProjectDBUsers,Name_tbl_ExternalProjectDBUsers_Id)","v":{"$error":"#REF!"}},{"$f":"IF(ISERROR(C35)=TRUE,\"\",C35)","v":""}]
[null,{"$f":"A_ExternalProjectDBUsers_I2","v":{"$error":"#REF!"}},{"$f":"LOOKUP(B36,Name_tbl_ExternalProjectDBUsers,Name_tbl_ExternalProjectDBUsers_Id)","v":{"$error":"#REF!"}},{"$f":"IF(ISERROR(C36)=TRUE,\"\",CONCATENATE(Deletegn,C36))","v":""}]
[null,{"$f":"A_ExternalProjectDBUsers_I3","v":{"$error":"#REF!"}},{"$f":"LOOKUP(B37,Name_tbl_ExternalProjectDBUsers,Name_tbl_ExternalProjectDBUsers_Id)","v":{"$error":"#REF!"}},{"$f":"IF(ISERROR(C37)=TRUE,\"\",CONCATENATE(Deletegn,C37))","v":""}]
[null,{"$f":"A_ExternalProjectDBUsers_I4","v":{"$error":"#REF!"}},{"$f":"LOOKUP(B38,Name_tbl_ExternalProjectDBUsers,Name_tbl_ExternalProjectDBUsers_Id)","v":{"$error":"#REF!"}},{"$f":"IF(ISERROR(C38)=TRUE,\"\",CONCATENATE(Deletegn,C38))","v":""}]
[null,{"$f":"A_ExternalProjectDBUsers_I5","v":{"$error":"#REF!"}},{"$f":"LOOKUP(B39,Name_tbl_ExternalProjectDBUsers,Name_tbl_ExternalProjectDBUsers_Id)","v":{"$error":"#REF!"}},{"$f":"IF(ISERROR(C39)=TRUE,\"\",CONCATENATE(Deletegn,C39))","v":""},null,"Relation (many)",{"$f":"CONCATENATE(D35,D36,D37,D38,D39)","v":""}]
["Paragraphs",{"$f":"IF(T_Avsnitt_Title_I1=0,\"\",T_Avsnitt_Title_I1)","v":{"$error":"#REF!"}},{"$f":"IF(B41=\"\",\"\",CONCATENATE(Dele_ParagraphTitle,B40))","v":{"$error":"#REF!"}},{"$f":"SUBSTITUTE(SUBSTITUTE(SUBSTITUTE(SUBSTITUTE(SUBSTITUTE(SUBSTITUTE(SUBSTITUTE(SUBSTITUTE(SUBSTITUTE(SUBSTITUTE(SUBSTITUTE(SUBSTITUTE(SUBSTITUTE(SUBSTITUTE(SUBSTITUTE(SUBSTITUTE(SUBSTITUTE(SUBSTITUTE(SUBSTITUTE(SUBSTITUTE(SUBSTITUTE(SUBSTITUTE(SUBSTITUTE(SUBSTITUTE(SUBSTITUTE(SUBSTITUTE(SUBSTITUTE(SUBSTITUTE(SUBSTITUTE(SUBSTITUTE(SUBSTITUTE(SUBSTITUTE(SUBSTITUTE(SUBSTITUTE(SUBSTITUTE(SUBSTITUTE(SUBSTITUTE(SUBSTITUTE(SUBSTITUTE(SUBSTITUTE(SUBSTITUTE(SUBSTITUTE(SUBSTITUTE(SUBSTITUTE(SUBSTITUTE(SUBSTITUTE(SUBSTITUTE(SUBSTITUTE(SUBSTITUTE(C25,\"♦\",\"&diams;\"),\"♦\",\"&diams;\"),\"♦\",\"&diams;\"),\"♦\",\"&diams;\"),\"♦\",\"&diams;\"),\"♦\",\"&diams;\"),\"♦\",\"&diams;\"),\"♦\",\"&diams;\"),\"♦\",\"&diams;\"),\"♦\",\"&diams;\"),\"♦\",\"&diams;\"),\"♦\",\"&diams;\"),\"♦\",\"&diams;\"),\"♦\",\"&diams;\"),\"♦\",\"&diams;\"),\"♦\",\"&diams;\"),\"♦\",\"&diams;\"),\"♦\",\"&diams;\"),\"♦\",\"&diams;\"),\"♦\",\"&diams;\"),\"♦\",\"&diams;\"),\"♦\",\"&diams;\"),\"♦\",\"&diams;\"),\"♦\",\"&diams;\"),\"♦\",\"&diams;\"),\"♦\",\"&diams;\"),\"♦\",\"&diams;\"),\"♦\",\"&diams;\"),\"♦\",\"&diams;\"),\"♦\",\"&diams;\"),\"♦\",\"&diams;\"),\"♦\",\"&diams;\"),\"♦\",\"&diams;\"),\"♦\",\"&diams;\"),\"♦\",\"&diams;\"),\"♦\",\"&diams;\"),\"♦\",\"&diams;\"),\"♦\",\"&diams;\"),\"♦\",\"&diams;\"),\"♦\",\"&diams;\"),\"♦\",\"&diams;\"),\"♦\",\"&diams;\"),\"♦\",\"&diams;\"),\"♦\",\"&diams;\"),\"♦\",\"&diams;\"),\"♦\",\"&diams;\"),\"♦\",\"&diams;\"),\"♦\",\"&diams;\"),\"♦\",\"&diams;\")","v":{"$error":"#REF!"}},null,"Short string"]
[null,{"$f":"IF(T_Avsnitt_Text_I1=\"\",\"\",SUBSTITUTE(SUBSTITUTE(SUBSTITUTE(SUBSTITUTE(SUBSTITUTE(SUBSTITUTE(SUBSTITUTE(SUBSTITUTE(SUBSTITUTE(SUBSTITUTE(SUBSTITUTE(SUBSTITUTE(SUBSTITUTE(SUBSTITUTE(SUBSTITUTE(SUBSTITUTE(SUBSTITUTE(SUBSTITUTE(SUBSTITUTE(SUBSTITUTE(SUBSTITUTE(SUBSTITUTE(SUBSTITUTE(SUBSTITUTE(SUBSTITUTE(SUBSTITUTE(SUBSTITUTE(SUBSTITUTE(SUBSTITUTE(T_Avsnitt_Text_I1,\"<\",\"&lt;\"),\">\",\"&gt;\"),\"′\",\"&prime;\"),\"″\",\"&Prime;\"),\"≤\",\"&le;\"),\"≥\",\"&ge;\"),\"‾\",\"&oline;\"),\"−\",\"&minus;\"),\"⁄\",\"&frasl;\"),\"∫\",\"&int;\"),\"∑\",\"&sum;\"),\"∞\",\"&infin;\"),\"√\",\"&radic;\"),\"≈\",\"&asymp;\"),\"≠\",\"&ne;\"),\"≡\",\"&equiv;\"),\"∏\",\"&prod;\"),\"∩\",\"&cap;\"),\"∂\",\"&part;\"),\"←\",\"&larr;\"),\"↑\",\"&uarr;\"),\"→\",\"&rarr;\"),\"↓\",\"&darr;\"),\"↔\",\"&harr;\"),\"◊\",\"&loz;\"),\"♠\",\"&spades;\"),\"♣\",\"&clubs;\"),\"♥\",\"&hearts;\"),\"♦\",\"&diams;\"))","v":{"$error":"#REF!"}},{"$f":"IF(B41=\"\",\"\",SUBSTITUTE(SUBSTITUTE(SUBSTITUTE(SUBSTITUTE(SUBSTITUTE(SUBSTITUTE(SUBSTITUTE(SUBSTITUTE(SUBSTITUTE(SUBSTITUTE(SUBSTITUTE(SUBSTITUTE(SUBSTITUTE(SUBSTITUTE(SUBSTITUTE(SUBSTITUTE(SUBSTITUTE(SUBSTITUTE(SUBSTITUTE(SUBSTITUTE(SUBSTITUTE(SUBSTITUTE(SUBSTITUTE(SUBSTITUTE(B41,\"Α\",\"&Alpha;\"),\"Β\",\"&Beta;\"),\"Γ\",\"&Gamma;\"),\"Δ\",\"&Delta;\"),\"Ε\",\"&Epsilon;\"),\"Ζ\",\"&Zeta;\"),\"Η\",\"&Eta;\"),\"Θ\",\"&Theta;\"),\"Ι\",\"&Iota;\"),\"Κ\",\"&Kappa;\"),\"Λ\",\"&Lambda;\"),\"Μ\",\"&Mu;\"),\"Ν\",\"&Nu;\"),\"Ξ\",\"&Xi;\"),\"Ο\",\"&Omicron;\"),\"Π\",\"&Pi;\"),\"Ρ\",\"&Rho;\"),\"Σ\",\"&Sigma;\"),\"Τ\",\"&Tau;\"),\"Υ\",\"&Upsilon;\"),\"Φ\",\"&Phi;\"),\"Χ\",\"&Chi;\"),\"Ψ\",\"&Psi;\"),\"Ω\",\"&Omega;\"))","v":{"$error":"#REF!"}},{"$f":"IF(C41=\"\",\"\",SUBSTITUTE(SUBSTITUTE(SUBSTITUTE(SUBSTITUTE(SUBSTITUTE(SUBSTITUTE(SUBSTITUTE(SUBSTITUTE(SUBSTITUTE(SUBSTITUTE(SUBSTITUTE(SUBSTITUTE(SUBSTITUTE(SUBSTITUTE(SUBSTITUTE(SUBSTITUTE(SUBSTITUTE(SUBSTITUTE(SUBSTITUTE(SUBSTITUTE(SUBSTITUTE(SUBSTITUTE(SUBSTITUTE(SUBSTITUTE(SUBSTITUTE(C41,\"α\",\"&alpha;\"),\"β\",\"&beta;\"),\"γ\",\"&gamma;\"),\"δ\",\"&delta;\"),\"ε\",\"&epsilon;\"),\"ζ\",\"&zeta;\"),\"η\",\"&eta;\"),\"θ\",\"&theta;\"),\"ι\",\"&iota;\"),\"κ\",\"&kappa;\"),\"λ\",\"&lambda;\"),\"μ\",\"&mu;\"),\"ν\",\"&nu;\"),\"ξ\",\"&xi;\"),\"ο\",\"&omicron;\"),\"π\",\"&pi;\"),\"ρ\",\"&rho;\"),\"ς\",\"&sigmaf;\"),\"σ\",\"&sigma;\"),\"τ\",\"&tau;\"),\"υ\",\"&upsilon;\"),\"φ\",\"&phi;\"),\"χ\",\"&chi;\"),\"ψ\",\"&psi;\"),\"ω\",\"&omega;\"))","v":{"$error":"#REF!"}},{"$f":"IF((D41=\"\"),\"\",CONCATENATE(Dele_ParagraphText,html.pstart,SUBSTITUTE(SUBSTITUTE(D41,\"\n\n\",\"</p><p>\"),\"\n\",\"<br>\"),html.pend))","v":{"$error":"#REF!"}},"HTML"]
[null,{"$f":"IF(T_Avsnitt_Title_I2=0,\"\",T_Avsnitt_Title_I2)","v":{"$error":"#REF!"}},{"$f":"IF(B43=\"\",\"\",CONCATENATE(Dele_ParagraphTitle,B42))","v":{"$error":"#REF!"}},null,null,"Short string"]
[null,{"$f":"IF(T_Avsnitt_Text_I2=\"\",\"\",SUBSTITUTE(SUBSTITUTE(SUBSTITUTE(SUBSTITUTE(SUBSTITUTE(SUBSTITUTE(SUBSTITUTE(SUBSTITUTE(SUBSTITUTE(SUBSTITUTE(SUBSTITUTE(SUBSTITUTE(SUBSTITUTE(SUBSTITUTE(SUBSTITUTE(SUBSTITUTE(SUBSTITUTE(SUBSTITUTE(SUBSTITUTE(SUBSTITUTE(SUBSTITUTE(SUBSTITUTE(SUBSTITUTE(SUBSTITUTE(SUBSTITUTE(SUBSTITUTE(SUBSTITUTE(SUBSTITUTE(SUBSTITUTE(T_Avsnitt_Text_I2,\"<\",\"&lt;\"),\">\",\"&gt;\"),\"′\",\"&prime;\"),\"″\",\"&Prime;\"),\"≤\",\"&le;\"),\"≥\",\"&ge;\"),\"‾\",\"&oline;\"),\"−\",\"&minus;\"),\"⁄\",\"&frasl;\"),\"∫\",\"&int;\"),\"∑\",\"&sum;\"),\"∞\",\"&infin;\"),\"√\",\"&radic;\"),\"≈\",\"&asymp;\"),\"≠\",\"&ne;\"),\"≡\",\"&equiv;\"),\"∏\",\"&prod;\"),\"∩\",\"&cap;\"),\"∂\",\"&part;\"),\"←\",\"&larr;\"),\"↑\",\"&uarr;\"),\"→\",\"&rarr;\"),\"↓\",\"&darr;\"),\"↔\",\"&harr;\"),\"◊\",\"&loz;\"),\"♠\",\"&spades;\"),\"♣\",\"&clubs;\"),\"♥\",\"&hearts;\"),\"♦\",\"&diams;\"))","v":{"$error":"#REF!"}},{"$f":"IF(B43=\"\",\"\",SUBSTITUTE(SUBSTITUTE(SUBSTITUTE(SUBSTITUTE(SUBSTITUTE(SUBSTITUTE(SUBSTITUTE(SUBSTITUTE(SUBSTITUTE(SUBSTITUTE(SUBSTITUTE(SUBSTITUTE(SUBSTITUTE(SUBSTITUTE(SUBSTITUTE(SUBSTITUTE(SUBSTITUTE(SUBSTITUTE(SUBSTITUTE(SUBSTITUTE(SUBSTITUTE(SUBSTITUTE(SUBSTITUTE(SUBSTITUTE(B43,\"Α\",\"&Alpha;\"),\"Β\",\"&Beta;\"),\"Γ\",\"&Gamma;\"),\"Δ\",\"&Delta;\"),\"Ε\",\"&Epsilon;\"),\"Ζ\",\"&Zeta;\"),\"Η\",\"&Eta;\"),\"Θ\",\"&Theta;\"),\"Ι\",\"&Iota;\"),\"Κ\",\"&Kappa;\"),\"Λ\",\"&Lambda;\"),\"Μ\",\"&Mu;\"),\"Ν\",\"&Nu;\"),\"Ξ\",\"&Xi;\"),\"Ο\",\"&Omicron;\"),\"Π\",\"&Pi;\"),\"Ρ\",\"&Rho;\"),\"Σ\",\"&Sigma;\"),\"Τ\",\"&Tau;\"),\"Υ\",\"&Upsilon;\"),\"Φ\",\"&Phi;\"),\"Χ\",\"&Chi;\"),\"Ψ\",\"&Psi;\"),\"Ω\",\"&Omega;\"))","v":{"$error":"#REF!"}},{"$f":"IF(C43=\"\",\"\",SUBSTITUTE(SUBSTITUTE(SUBSTITUTE(SUBSTITUTE(SUBSTITUTE(SUBSTITUTE(SUBSTITUTE(SUBSTITUTE(SUBSTITUTE(SUBSTITUTE(SUBSTITUTE(SUBSTITUTE(SUBSTITUTE(SUBSTITUTE(SUBSTITUTE(SUBSTITUTE(SUBSTITUTE(SUBSTITUTE(SUBSTITUTE(SUBSTITUTE(SUBSTITUTE(SUBSTITUTE(SUBSTITUTE(SUBSTITUTE(SUBSTITUTE(C43,\"α\",\"&alpha;\"),\"β\",\"&beta;\"),\"γ\",\"&gamma;\"),\"δ\",\"&delta;\"),\"ε\",\"&epsilon;\"),\"ζ\",\"&zeta;\"),\"η\",\"&eta;\"),\"θ\",\"&theta;\"),\"ι\",\"&iota;\"),\"κ\",\"&kappa;\"),\"λ\",\"&lambda;\"),\"μ\",\"&mu;\"),\"ν\",\"&nu;\"),\"ξ\",\"&xi;\"),\"ο\",\"&omicron;\"),\"π\",\"&pi;\"),\"ρ\",\"&rho;\"),\"ς\",\"&sigmaf;\"),\"σ\",\"&sigma;\"),\"τ\",\"&tau;\"),\"υ\",\"&upsilon;\"),\"φ\",\"&phi;\"),\"χ\",\"&chi;\"),\"ψ\",\"&psi;\"),\"ω\",\"&omega;\"))","v":{"$error":"#REF!"}},{"$f":"IF((D43=\"\"),\"\",CONCATENATE(Dele_ParagraphText,html.pstart,SUBSTITUTE(SUBSTITUTE(D43,\"\n\n\",\"</p><p>\"),\"\n\",\"<br>\"),html.pend))","v":{"$error":"#REF!"}},"HTML"]
[null,{"$f":"IF(T_Avsnitt_Title_I3=0,\"\",T_Avsnitt_Title_I3)","v":{"$error":"#REF!"}},{"$f":"IF(B45=\"\",\"\",CONCATENATE(Dele_ParagraphTitle,B44))","v":{"$error":"#REF!"}},null,null,"Short string"]
[null,{"$f":"IF(T_Avsnitt_Text_I3=\"\",\"\",SUBSTITUTE(SUBSTITUTE(SUBSTITUTE(SUBSTITUTE(SUBSTITUTE(SUBSTITUTE(SUBSTITUTE(SUBSTITUTE(SUBSTITUTE(SUBSTITUTE(SUBSTITUTE(SUBSTITUTE(SUBSTITUTE(SUBSTITUTE(SUBSTITUTE(SUBSTITUTE(SUBSTITUTE(SUBSTITUTE(SUBSTITUTE(SUBSTITUTE(SUBSTITUTE(SUBSTITUTE(SUBSTITUTE(SUBSTITUTE(SUBSTITUTE(SUBSTITUTE(SUBSTITUTE(SUBSTITUTE(SUBSTITUTE(T_Avsnitt_Text_I3,\"<\",\"&lt;\"),\">\",\"&gt;\"),\"′\",\"&prime;\"),\"″\",\"&Prime;\"),\"≤\",\"&le;\"),\"≥\",\"&ge;\"),\"‾\",\"&oline;\"),\"−\",\"&minus;\"),\"⁄\",\"&frasl;\"),\"∫\",\"&int;\"),\"∑\",\"&sum;\"),\"∞\",\"&infin;\"),\"√\",\"&radic;\"),\"≈\",\"&asymp;\"),\"≠\",\"&ne;\"),\"≡\",\"&equiv;\"),\"∏\",\"&prod;\"),\"∩\",\"&cap;\"),\"∂\",\"&part;\"),\"←\",\"&larr;\"),\"↑\",\"&uarr;\"),\"→\",\"&rarr;\"),\"↓\",\"&darr;\"),\"↔\",\"&harr;\"),\"◊\",\"&loz;\"),\"♠\",\"&spades;\"),\"♣\",\"&clubs;\"),\"♥\",\"&hearts;\"),\"♦\",\"&diams;\"))","v":{"$error":"#REF!"}},{"$f":"IF(B45=\"\",\"\",SUBSTITUTE(SUBSTITUTE(SUBSTITUTE(SUBSTITUTE(SUBSTITUTE(SUBSTITUTE(SUBSTITUTE(SUBSTITUTE(SUBSTITUTE(SUBSTITUTE(SUBSTITUTE(SUBSTITUTE(SUBSTITUTE(SUBSTITUTE(SUBSTITUTE(SUBSTITUTE(SUBSTITUTE(SUBSTITUTE(SUBSTITUTE(SUBSTITUTE(SUBSTITUTE(SUBSTITUTE(SUBSTITUTE(SUBSTITUTE(B45,\"Α\",\"&Alpha;\"),\"Β\",\"&Beta;\"),\"Γ\",\"&Gamma;\"),\"Δ\",\"&Delta;\"),\"Ε\",\"&Epsilon;\"),\"Ζ\",\"&Zeta;\"),\"Η\",\"&Eta;\"),\"Θ\",\"&Theta;\"),\"Ι\",\"&Iota;\"),\"Κ\",\"&Kappa;\"),\"Λ\",\"&Lambda;\"),\"Μ\",\"&Mu;\"),\"Ν\",\"&Nu;\"),\"Ξ\",\"&Xi;\"),\"Ο\",\"&Omicron;\"),\"Π\",\"&Pi;\"),\"Ρ\",\"&Rho;\"),\"Σ\",\"&Sigma;\"),\"Τ\",\"&Tau;\"),\"Υ\",\"&Upsilon;\"),\"Φ\",\"&Phi;\"),\"Χ\",\"&Chi;\"),\"Ψ\",\"&Psi;\"),\"Ω\",\"&Omega;\"))","v":{"$error":"#REF!"}},{"$f":"IF(C45=\"\",\"\",SUBSTITUTE(SUBSTITUTE(SUBSTITUTE(SUBSTITUTE(SUBSTITUTE(SUBSTITUTE(SUBSTITUTE(SUBSTITUTE(SUBSTITUTE(SUBSTITUTE(SUBSTITUTE(SUBSTITUTE(SUBSTITUTE(SUBSTITUTE(SUBSTITUTE(SUBSTITUTE(SUBSTITUTE(SUBSTITUTE(SUBSTITUTE(SUBSTITUTE(SUBSTITUTE(SUBSTITUTE(SUBSTITUTE(SUBSTITUTE(SUBSTITUTE(C45,\"α\",\"&alpha;\"),\"β\",\"&beta;\"),\"γ\",\"&gamma;\"),\"δ\",\"&delta;\"),\"ε\",\"&epsilon;\"),\"ζ\",\"&zeta;\"),\"η\",\"&eta;\"),\"θ\",\"&theta;\"),\"ι\",\"&iota;\"),\"κ\",\"&kappa;\"),\"λ\",\"&lambda;\"),\"μ\",\"&mu;\"),\"ν\",\"&nu;\"),\"ξ\",\"&xi;\"),\"ο\",\"&omicron;\"),\"π\",\"&pi;\"),\"ρ\",\"&rho;\"),\"ς\",\"&sigmaf;\"),\"σ\",\"&sigma;\"),\"τ\",\"&tau;\"),\"υ\",\"&upsilon;\"),\"φ\",\"&phi;\"),\"χ\",\"&chi;\"),\"ψ\",\"&psi;\"),\"ω\",\"&omega;\"))","v":{"$error":"#REF!"}},{"$f":"IF((D45=\"\"),\"\",CONCATENATE(Dele_ParagraphText,html.pstart,SUBSTITUTE(SUBSTITUTE(D45,\"\n\n\",\"</p><p>\"),\"\n\",\"<br>\"),html.pend))","v":{"$error":"#REF!"}},"HTML"]
[null,{"$f":"IF(T_Avsnitt_Title_I4=0,\"\",T_Avsnitt_Title_I4)","v":{"$error":"#REF!"}},{"$f":"IF(B47=\"\",\"\",CONCATENATE(Dele_ParagraphTitle,B46))","v":{"$error":"#REF!"}},null,null,"Short string"]
[null,{"$f":"IF(T_Avsnitt_Text_I4=\"\",\"\",SUBSTITUTE(SUBSTITUTE(SUBSTITUTE(SUBSTITUTE(SUBSTITUTE(SUBSTITUTE(SUBSTITUTE(SUBSTITUTE(SUBSTITUTE(SUBSTITUTE(SUBSTITUTE(SUBSTITUTE(SUBSTITUTE(SUBSTITUTE(SUBSTITUTE(SUBSTITUTE(SUBSTITUTE(SUBSTITUTE(SUBSTITUTE(SUBSTITUTE(SUBSTITUTE(SUBSTITUTE(SUBSTITUTE(SUBSTITUTE(SUBSTITUTE(SUBSTITUTE(SUBSTITUTE(SUBSTITUTE(SUBSTITUTE(T_Avsnitt_Text_I4,\"<\",\"&lt;\"),\">\",\"&gt;\"),\"′\",\"&prime;\"),\"″\",\"&Prime;\"),\"≤\",\"&le;\"),\"≥\",\"&ge;\"),\"‾\",\"&oline;\"),\"−\",\"&minus;\"),\"⁄\",\"&frasl;\"),\"∫\",\"&int;\"),\"∑\",\"&sum;\"),\"∞\",\"&infin;\"),\"√\",\"&radic;\"),\"≈\",\"&asymp;\"),\"≠\",\"&ne;\"),\"≡\",\"&equiv;\"),\"∏\",\"&prod;\"),\"∩\",\"&cap;\"),\"∂\",\"&part;\"),\"←\",\"&larr;\"),\"↑\",\"&uarr;\"),\"→\",\"&rarr;\"),\"↓\",\"&darr;\"),\"↔\",\"&harr;\"),\"◊\",\"&loz;\"),\"♠\",\"&spades;\"),\"♣\",\"&clubs;\"),\"♥\",\"&hearts;\"),\"♦\",\"&diams;\"))","v":{"$error":"#REF!"}},{"$f":"IF(B47=\"\",\"\",SUBSTITUTE(SUBSTITUTE(SUBSTITUTE(SUBSTITUTE(SUBSTITUTE(SUBSTITUTE(SUBSTITUTE(SUBSTITUTE(SUBSTITUTE(SUBSTITUTE(SUBSTITUTE(SUBSTITUTE(SUBSTITUTE(SUBSTITUTE(SUBSTITUTE(SUBSTITUTE(SUBSTITUTE(SUBSTITUTE(SUBSTITUTE(SUBSTITUTE(SUBSTITUTE(SUBSTITUTE(SUBSTITUTE(SUBSTITUTE(B47,\"Α\",\"&Alpha;\"),\"Β\",\"&Beta;\"),\"Γ\",\"&Gamma;\"),\"Δ\",\"&Delta;\"),\"Ε\",\"&Epsilon;\"),\"Ζ\",\"&Zeta;\"),\"Η\",\"&Eta;\"),\"Θ\",\"&Theta;\"),\"Ι\",\"&Iota;\"),\"Κ\",\"&Kappa;\"),\"Λ\",\"&Lambda;\"),\"Μ\",\"&Mu;\"),\"Ν\",\"&Nu;\"),\"Ξ\",\"&Xi;\"),\"Ο\",\"&Omicron;\"),\"Π\",\"&Pi;\"),\"Ρ\",\"&Rho;\"),\"Σ\",\"&Sigma;\"),\"Τ\",\"&Tau;\"),\"Υ\",\"&Upsilon;\"),\"Φ\",\"&Phi;\"),\"Χ\",\"&Chi;\"),\"Ψ\",\"&Psi;\"),\"Ω\",\"&Omega;\"))","v":{"$error":"#REF!"}},{"$f":"IF(C47=\"\",\"\",SUBSTITUTE(SUBSTITUTE(SUBSTITUTE(SUBSTITUTE(SUBSTITUTE(SUBSTITUTE(SUBSTITUTE(SUBSTITUTE(SUBSTITUTE(SUBSTITUTE(SUBSTITUTE(SUBSTITUTE(SUBSTITUTE(SUBSTITUTE(SUBSTITUTE(SUBSTITUTE(SUBSTITUTE(SUBSTITUTE(SUBSTITUTE(SUBSTITUTE(SUBSTITUTE(SUBSTITUTE(SUBSTITUTE(SUBSTITUTE(SUBSTITUTE(C47,\"α\",\"&alpha;\"),\"β\",\"&beta;\"),\"γ\",\"&gamma;\"),\"δ\",\"&delta;\"),\"ε\",\"&epsilon;\"),\"ζ\",\"&zeta;\"),\"η\",\"&eta;\"),\"θ\",\"&theta;\"),\"ι\",\"&iota;\"),\"κ\",\"&kappa;\"),\"λ\",\"&lambda;\"),\"μ\",\"&mu;\"),\"ν\",\"&nu;\"),\"ξ\",\"&xi;\"),\"ο\",\"&omicron;\"),\"π\",\"&pi;\"),\"ρ\",\"&rho;\"),\"ς\",\"&sigmaf;\"),\"σ\",\"&sigma;\"),\"τ\",\"&tau;\"),\"υ\",\"&upsilon;\"),\"φ\",\"&phi;\"),\"χ\",\"&chi;\"),\"ψ\",\"&psi;\"),\"ω\",\"&omega;\"))","v":{"$error":"#REF!"}},{"$f":"IF((D47=\"\"),\"\",CONCATENATE(Dele_ParagraphText,html.pstart,SUBSTITUTE(SUBSTITUTE(D47,\"\n\n\",\"</p><p>\"),\"\n\",\"<br>\"),html.pend))","v":{"$error":"#REF!"}},"HTML"]
[null,{"$f":"IF(T_Avsnitt_Title_I5=0,\"\",T_Avsnitt_Title_I5)","v":{"$error":"#REF!"}},{"$f":"IF(C49=\"\",\"\",CONCATENATE(Dele_ParagraphTitle,B48))","v":{"$error":"#REF!"}},null,null,"Short string"]
[null,{"$f":"IF(T_Avsnitt_Text_I5=\"\",\"\",SUBSTITUTE(SUBSTITUTE(SUBSTITUTE(SUBSTITUTE(SUBSTITUTE(SUBSTITUTE(SUBSTITUTE(SUBSTITUTE(SUBSTITUTE(SUBSTITUTE(SUBSTITUTE(SUBSTITUTE(SUBSTITUTE(SUBSTITUTE(SUBSTITUTE(SUBSTITUTE(SUBSTITUTE(SUBSTITUTE(SUBSTITUTE(SUBSTITUTE(SUBSTITUTE(SUBSTITUTE(SUBSTITUTE(SUBSTITUTE(SUBSTITUTE(SUBSTITUTE(SUBSTITUTE(SUBSTITUTE(SUBSTITUTE(T_Avsnitt_Text_I5,\"<\",\"&lt;\"),\">\",\"&gt;\"),\"′\",\"&prime;\"),\"″\",\"&Prime;\"),\"≤\",\"&le;\"),\"≥\",\"&ge;\"),\"‾\",\"&oline;\"),\"−\",\"&minus;\"),\"⁄\",\"&frasl;\"),\"∫\",\"&int;\"),\"∑\",\"&sum;\"),\"∞\",\"&infin;\"),\"√\",\"&radic;\"),\"≈\",\"&asymp;\"),\"≠\",\"&ne;\"),\"≡\",\"&equiv;\"),\"∏\",\"&prod;\"),\"∩\",\"&cap;\"),\"∂\",\"&part;\"),\"←\",\"&larr;\"),\"↑\",\"&uarr;\"),\"→\",\"&rarr;\"),\"↓\",\"&darr;\"),\"↔\",\"&harr;\"),\"◊\",\"&loz;\"),\"♠\",\"&spades;\"),\"♣\",\"&clubs;\"),\"♥\",\"&hearts;\"),\"♦\",\"&diams;\"))","v":{"$error":"#REF!"}},{"$f":"IF(B49=\"\",\"\",SUBSTITUTE(SUBSTITUTE(SUBSTITUTE(SUBSTITUTE(SUBSTITUTE(SUBSTITUTE(SUBSTITUTE(SUBSTITUTE(SUBSTITUTE(SUBSTITUTE(SUBSTITUTE(SUBSTITUTE(SUBSTITUTE(SUBSTITUTE(SUBSTITUTE(SUBSTITUTE(SUBSTITUTE(SUBSTITUTE(SUBSTITUTE(SUBSTITUTE(SUBSTITUTE(SUBSTITUTE(SUBSTITUTE(SUBSTITUTE(B49,\"Α\",\"&Alpha;\"),\"Β\",\"&Beta;\"),\"Γ\",\"&Gamma;\"),\"Δ\",\"&Delta;\"),\"Ε\",\"&Epsilon;\"),\"Ζ\",\"&Zeta;\"),\"Η\",\"&Eta;\"),\"Θ\",\"&Theta;\"),\"Ι\",\"&Iota;\"),\"Κ\",\"&Kappa;\"),\"Λ\",\"&Lambda;\"),\"Μ\",\"&Mu;\"),\"Ν\",\"&Nu;\"),\"Ξ\",\"&Xi;\"),\"Ο\",\"&Omicron;\"),\"Π\",\"&Pi;\"),\"Ρ\",\"&Rho;\"),\"Σ\",\"&Sigma;\"),\"Τ\",\"&Tau;\"),\"Υ\",\"&Upsilon;\"),\"Φ\",\"&Phi;\"),\"Χ\",\"&Chi;\"),\"Ψ\",\"&Psi;\"),\"Ω\",\"&Omega;\"))","v":{"$error":"#REF!"}},{"$f":"IF(C49=\"\",\"\",SUBSTITUTE(SUBSTITUTE(SUBSTITUTE(SUBSTITUTE(SUBSTITUTE(SUBSTITUTE(SUBSTITUTE(SUBSTITUTE(SUBSTITUTE(SUBSTITUTE(SUBSTITUTE(SUBSTITUTE(SUBSTITUTE(SUBSTITUTE(SUBSTITUTE(SUBSTITUTE(SUBSTITUTE(SUBSTITUTE(SUBSTITUTE(SUBSTITUTE(SUBSTITUTE(SUBSTITUTE(SUBSTITUTE(SUBSTITUTE(SUBSTITUTE(C49,\"α\",\"&alpha;\"),\"β\",\"&beta;\"),\"γ\",\"&gamma;\"),\"δ\",\"&delta;\"),\"ε\",\"&epsilon;\"),\"ζ\",\"&zeta;\"),\"η\",\"&eta;\"),\"θ\",\"&theta;\"),\"ι\",\"&iota;\"),\"κ\",\"&kappa;\"),\"λ\",\"&lambda;\"),\"μ\",\"&mu;\"),\"ν\",\"&nu;\"),\"ξ\",\"&xi;\"),\"ο\",\"&omicron;\"),\"π\",\"&pi;\"),\"ρ\",\"&rho;\"),\"ς\",\"&sigmaf;\"),\"σ\",\"&sigma;\"),\"τ\",\"&tau;\"),\"υ\",\"&upsilon;\"),\"φ\",\"&phi;\"),\"χ\",\"&chi;\"),\"ψ\",\"&psi;\"),\"ω\",\"&omega;\"))","v":{"$error":"#REF!"}},{"$f":"IF((D49=\"\"),\"\",CONCATENATE(Dele_ParagraphText,html.pstart,SUBSTITUTE(SUBSTITUTE(D49,\"\n\n\",\"</p><p>\"),\"\n\",\"<br>\"),html.pend))","v":{"$error":"#REF!"}},"HTML",{"$f":"CONCATENATE(C40,E41,C42,E43,C44,E45,C46,E47,C48,E49)","v":{"$error":"#REF!"}}]
["EcoMeasures",{"$f":"T_EcoMeasure_Id_I1","v":{"$error":"#REF!"}},{"$f":"IF(B50=0,\"\",B50)","v":{"$error":"#REF!"}},null,null,"Relation (many)"]
[null,{"$f":"T_EcoMeasure_Id_I2","v":{"$error":"#REF!"}},{"$f":"IF(B51=0,\"\",CONCATENATE(Deletegn,B51))","v":{"$error":"#REF!"}}]
[null,{"$f":"T_EcoMeasure_Id_I3","v":{"$error":"#REF!"}},{"$error":"#REF!"}]
[null,{"$f":"T_EcoMeasure_Id_I4","v":{"$error":"#REF!"}},{"$error":"#REF!"}]
[null,{"$f":"T_EcoMeasure_Id_I5","v":{"$error":"#REF!"}},{"$error":"#REF!"}]
[null,{"$f":"T_EcoMeasure_Id_I6","v":{"$error":"#REF!"}},{"$error":"#REF!"}]
[null,{"$f":"T_EcoMeasure_Id_I7","v":{"$error":"#REF!"}},{"$error":"#REF!"}]
[null,{"$f":"T_EcoMeasure_Id_I8","v":{"$error":"#REF!"}},{"$error":"#REF!"},{"$nulls":3},{"$f":"CONCATENATE(C50,C51,C52,C53,C54,C55,C56,C57)","v":{"$error":"#REF!"}}]
["EconomyHeader",{"$f":"T_EconomyHeader_I","v":{"$error":"#REF!"}},{"$nulls":3},"Short string",{"$f":"IF(B58=0,\"\",B58)","v":{"$error":"#REF!"}}]
["Economy",{"$f":"IF(T_Economy_I=\"\",\"\",SUBSTITUTE(SUBSTITUTE(SUBSTITUTE(SUBSTITUTE(SUBSTITUTE(SUBSTITUTE(SUBSTITUTE(SUBSTITUTE(SUBSTITUTE(SUBSTITUTE(SUBSTITUTE(SUBSTITUTE(SUBSTITUTE(SUBSTITUTE(SUBSTITUTE(SUBSTITUTE(SUBSTITUTE(SUBSTITUTE(SUBSTITUTE(SUBSTITUTE(SUBSTITUTE(SUBSTITUTE(SUBSTITUTE(SUBSTITUTE(SUBSTITUTE(SUBSTITUTE(SUBSTITUTE(SUBSTITUTE(SUBSTITUTE(T_Economy_I,\"<\",\"&lt;\"),\">\",\"&gt;\"),\"′\",\"&prime;\"),\"″\",\"&Prime;\"),\"≤\",\"&le;\"),\"≥\",\"&ge;\"),\"‾\",\"&oline;\"),\"−\",\"&minus;\"),\"⁄\",\"&frasl;\"),\"∫\",\"&int;\"),\"∑\",\"&sum;\"),\"∞\",\"&infin;\"),\"√\",\"&radic;\"),\"≈\",\"&asymp;\"),\"≠\",\"&ne;\"),\"≡\",\"&equiv;\"),\"∏\",\"&prod;\"),\"∩\",\"&cap;\"),\"∂\",\"&part;\"),\"←\",\"&larr;\"),\"↑\",\"&uarr;\"),\"→\",\"&rarr;\"),\"↓\",\"&darr;\"),\"↔\",\"&harr;\"),\"◊\",\"&loz;\"),\"♠\",\"&spades;\"),\"♣\",\"&clubs;\"),\"♥\",\"&hearts;\"),\"♦\",\"&diams;\"))","v":{"$error":"#REF!"}},{"$f":"IF(B59=\"\",\"\",SUBSTITUTE(SUBSTITUTE(SUBSTITUTE(SUBSTITUTE(SUBSTITUTE(SUBSTITUTE(SUBSTITUTE(SUBSTITUTE(SUBSTITUTE(SUBSTITUTE(SUBSTITUTE(SUBSTITUTE(SUBSTITUTE(SUBSTITUTE(SUBSTITUTE(SUBSTITUTE(SUBSTITUTE(SUBSTITUTE(SUBSTITUTE(SUBSTITUTE(SUBSTITUTE(SUBSTITUTE(SUBSTITUTE(SUBSTITUTE(B59,\"Α\",\"&Alpha;\"),\"Β\",\"&Beta;\"),\"Γ\",\"&Gamma;\"),\"Δ\",\"&Delta;\"),\"Ε\",\"&Epsilon;\"),\"Ζ\",\"&Zeta;\"),\"Η\",\"&Eta;\"),\"Θ\",\"&Theta;\"),\"Ι\",\"&Iota;\"),\"Κ\",\"&Kappa;\"),\"Λ\",\"&Lambda;\"),\"Μ\",\"&Mu;\"),\"Ν\",\"&Nu;\"),\"Ξ\",\"&Xi;\"),\"Ο\",\"&Omicron;\"),\"Π\",\"&Pi;\"),\"Ρ\",\"&Rho;\"),\"Σ\",\"&Sigma;\"),\"Τ\",\"&Tau;\"),\"Υ\",\"&Upsilon;\"),\"Φ\",\"&Phi;\"),\"Χ\",\"&Chi;\"),\"Ψ\",\"&Psi;\"),\"Ω\",\"&Omega;\"))","v":{"$error":"#REF!"}},{"$f":"IF(C59=\"\",\"\",SUBSTITUTE(SUBSTITUTE(SUBSTITUTE(SUBSTITUTE(SUBSTITUTE(SUBSTITUTE(SUBSTITUTE(SUBSTITUTE(SUBSTITUTE(SUBSTITUTE(SUBSTITUTE(SUBSTITUTE(SUBSTITUTE(SUBSTITUTE(SUBSTITUTE(SUBSTITUTE(SUBSTITUTE(SUBSTITUTE(SUBSTITUTE(SUBSTITUTE(SUBSTITUTE(SUBSTITUTE(SUBSTITUTE(SUBSTITUTE(SUBSTITUTE(C59,\"α\",\"&alpha;\"),\"β\",\"&beta;\"),\"γ\",\"&gamma;\"),\"δ\",\"&delta;\"),\"ε\",\"&epsilon;\"),\"ζ\",\"&zeta;\"),\"η\",\"&eta;\"),\"θ\",\"&theta;\"),\"ι\",\"&iota;\"),\"κ\",\"&kappa;\"),\"λ\",\"&lambda;\"),\"μ\",\"&mu;\"),\"ν\",\"&nu;\"),\"ξ\",\"&xi;\"),\"ο\",\"&omicron;\"),\"π\",\"&pi;\"),\"ρ\",\"&rho;\"),\"ς\",\"&sigmaf;\"),\"σ\",\"&sigma;\"),\"τ\",\"&tau;\"),\"υ\",\"&upsilon;\"),\"φ\",\"&phi;\"),\"χ\",\"&chi;\"),\"ψ\",\"&psi;\"),\"ω\",\"&omega;\"))","v":{"$error":"#REF!"}},{"$f":"IF((D59=\"\"),\"\",SUBSTITUTE(SUBSTITUTE(D59,\"\n\n\",\"</p><p>\"),\"\n\",\"<br>\"))","v":{"$error":"#REF!"}},"HTML",{"$f":"IF(E59=\"\",\"\",E59)","v":{"$error":"#REF!"}}]
["CostBenefitEvaluations",{"$nulls":4},"Relation (many)",{"$f":"IF((B60=0),\"\",B60)","v":""}]
["ClosingParagraphHeader",{"$f":"T_ClosingParagraphHeader_I","v":{"$error":"#REF!"}},{"$nulls":3},"Short string",{"$f":"IF((B61=0),\"\",B61)","v":{"$error":"#REF!"}}]
["ClosingParagraph",{"$f":"IF(T_ClosingParagraph_I=\"\",\"\",SUBSTITUTE(SUBSTITUTE(SUBSTITUTE(SUBSTITUTE(SUBSTITUTE(SUBSTITUTE(SUBSTITUTE(SUBSTITUTE(SUBSTITUTE(SUBSTITUTE(SUBSTITUTE(SUBSTITUTE(SUBSTITUTE(SUBSTITUTE(SUBSTITUTE(SUBSTITUTE(SUBSTITUTE(SUBSTITUTE(SUBSTITUTE(SUBSTITUTE(SUBSTITUTE(SUBSTITUTE(SUBSTITUTE(SUBSTITUTE(SUBSTITUTE(SUBSTITUTE(SUBSTITUTE(SUBSTITUTE(SUBSTITUTE(T_ClosingParagraph_I,\"<\",\"&lt;\"),\">\",\"&gt;\"),\"′\",\"&prime;\"),\"″\",\"&Prime;\"),\"≤\",\"&le;\"),\"≥\",\"&ge;\"),\"‾\",\"&oline;\"),\"−\",\"&minus;\"),\"⁄\",\"&frasl;\"),\"∫\",\"&int;\"),\"∑\",\"&sum;\"),\"∞\",\"&infin;\"),\"√\",\"&radic;\"),\"≈\",\"&asymp;\"),\"≠\",\"&ne;\"),\"≡\",\"&equiv;\"),\"∏\",\"&prod;\"),\"∩\",\"&cap;\"),\"∂\",\"&part;\"),\"←\",\"&larr;\"),\"↑\",\"&uarr;\"),\"→\",\"&rarr;\"),\"↓\",\"&darr;\"),\"↔\",\"&harr;\"),\"◊\",\"&loz;\"),\"♠\",\"&spades;\"),\"♣\",\"&clubs;\"),\"♥\",\"&hearts;\"),\"♦\",\"&diams;\"))","v":{"$error":"#REF!"}},{"$f":"IF(B62=\"\",\"\",SUBSTITUTE(SUBSTITUTE(SUBSTITUTE(SUBSTITUTE(SUBSTITUTE(SUBSTITUTE(SUBSTITUTE(SUBSTITUTE(SUBSTITUTE(SUBSTITUTE(SUBSTITUTE(SUBSTITUTE(SUBSTITUTE(SUBSTITUTE(SUBSTITUTE(SUBSTITUTE(SUBSTITUTE(SUBSTITUTE(SUBSTITUTE(SUBSTITUTE(SUBSTITUTE(SUBSTITUTE(SUBSTITUTE(SUBSTITUTE(B62,\"Α\",\"&Alpha;\"),\"Β\",\"&Beta;\"),\"Γ\",\"&Gamma;\"),\"Δ\",\"&Delta;\"),\"Ε\",\"&Epsilon;\"),\"Ζ\",\"&Zeta;\"),\"Η\",\"&Eta;\"),\"Θ\",\"&Theta;\"),\"Ι\",\"&Iota;\"),\"Κ\",\"&Kappa;\"),\"Λ\",\"&Lambda;\"),\"Μ\",\"&Mu;\"),\"Ν\",\"&Nu;\"),\"Ξ\",\"&Xi;\"),\"Ο\",\"&Omicron;\"),\"Π\",\"&Pi;\"),\"Ρ\",\"&Rho;\"),\"Σ\",\"&Sigma;\"),\"Τ\",\"&Tau;\"),\"Υ\",\"&Upsilon;\"),\"Φ\",\"&Phi;\"),\"Χ\",\"&Chi;\"),\"Ψ\",\"&Psi;\"),\"Ω\",\"&Omega;\"))","v":{"$error":"#REF!"}},{"$f":"IF(C62=\"\",\"\",SUBSTITUTE(SUBSTITUTE(SUBSTITUTE(SUBSTITUTE(SUBSTITUTE(SUBSTITUTE(SUBSTITUTE(SUBSTITUTE(SUBSTITUTE(SUBSTITUTE(SUBSTITUTE(SUBSTITUTE(SUBSTITUTE(SUBSTITUTE(SUBSTITUTE(SUBSTITUTE(SUBSTITUTE(SUBSTITUTE(SUBSTITUTE(SUBSTITUTE(SUBSTITUTE(SUBSTITUTE(SUBSTITUTE(SUBSTITUTE(SUBSTITUTE(C62,\"α\",\"&alpha;\"),\"β\",\"&beta;\"),\"γ\",\"&gamma;\"),\"δ\",\"&delta;\"),\"ε\",\"&epsilon;\"),\"ζ\",\"&zeta;\"),\"η\",\"&eta;\"),\"θ\",\"&theta;\"),\"ι\",\"&iota;\"),\"κ\",\"&kappa;\"),\"λ\",\"&lambda;\"),\"μ\",\"&mu;\"),\"ν\",\"&nu;\"),\"ξ\",\"&xi;\"),\"ο\",\"&omicron;\"),\"π\",\"&pi;\"),\"ρ\",\"&rho;\"),\"ς\",\"&sigmaf;\"),\"σ\",\"&sigma;\"),\"τ\",\"&tau;\"),\"υ\",\"&upsilon;\"),\"φ\",\"&phi;\"),\"χ\",\"&chi;\"),\"ψ\",\"&psi;\"),\"ω\",\"&omega;\"))","v":{"$error":"#REF!"}},{"$f":"IF((D62=\"\"),\"\",SUBSTITUTE(SUBSTITUTE(D62,\"\n\n\",\"</p><p>\"),\"\n\",\"<br>\"))","v":{"$error":"#REF!"}},"HTML",{"$f":"IF(E62=\"\",\"\",E62)","v":{"$error":"#REF!"}}]
["ProjectresponsibleFB",{"$f":"F_ProjectresponsibleFB_I","v":{"$error":"#REF!"}},{"$f":"VLOOKUP(B63,tbl_ExternalProjectDBUsers!A$1:T$10000,3,FALSE)","v":{"$error":"#REF!"}},{"$f":"IF(ISERROR(C63)=TRUE,\"\",C63)","v":""},null,"Relation (one)",{"$f":"CONCATENATE(D63)","v":""}]
["ResponsibleDepartment",{"$f":"F_ResponsibleDepartment_I","v":{"$error":"#REF!"}},{"$nulls":3},"Short string",{"$f":"IF((B64=0),\"\",B64)","v":{"$error":"#REF!"}}]
["ProjectAddress",{"$f":"O_ProjectAddress_I","v":{"$error":"#REF!"}},{"$nulls":3},"Short string",{"$f":"IF((B65=0),\"\",B65)","v":{"$error":"#REF!"}}]
["Location",{"$f":"O_Location_I","v":{"$error":"#REF!"}},{"$nulls":3},"Short string",{"$f":"IF((B66=0),\"\",B66)","v":{"$error":"#REF!"}}]
["Municipalities",{"$f":"O_Municipalities_I1","v":{"$error":"#REF!"}},{"$f":"VLOOKUP(B67,tbl_Municipalitys!A$1:T$10000,3,FALSE)","v":{"$error":"#REF!"}},{"$f":"IF(ISERROR(C67)=TRUE,\"\",C67)","v":""},null,"Relation (many)",{"$f":"IF((D67=0),\"\",D67)","v":""}]
["MapLatitude",{"$f":"O_MapLatitude_I","v":{"$error":"#REF!"}},{"$f":"IF(B68=0,\"\",IF(ISNUMBER(B68)=TRUE,REPLACE(B68,(FIND(\",\",B68)),1,\".\"),B68))","v":{"$error":"#REF!"}},null,null,"Short string",{"$f":"C68","v":{"$error":"#REF!"}}]
["MapLongitude",{"$f":"O_MapLongitude_I","v":{"$error":"#REF!"}},{"$f":"IF(B69=0,\"\",IF(ISNUMBER(B69)=TRUE,REPLACE(B69,(FIND(\",\",B69)),1,\".\"),B69))","v":{"$error":"#REF!"}},null,null,"Short string",{"$f":"C69","v":{"$error":"#REF!"}}]
["MapZoomLevel",{"$f":"A_MapZoomLevel_I","v":{"$error":"#REF!"}},{"$f":"VLOOKUP(B70,Enumeration_MapZoomLevel,3,FALSE)","v":{"$error":"#REF!"}},null,null,"Enumeration",{"$f":"IF((C70=0),\"\",C70)","v":{"$error":"#REF!"}}]
["ProjectPeriod",{"$f":"CONCATENATE(B72,\"-\",B73)","v":{"$error":"#REF!"}},{"$f":"IF(B72=0,\"\",IF(B73=0,\"\",B71))","v":{"$error":"#REF!"}},null,null,"Short string",{"$f":"IF((C71=0),\"\",C71)","v":{"$error":"#REF!"}}]
["ConstructionStartedYear",{"$f":"O_ConstructionStartedYear_I","v":{"$error":"#REF!"}},{"$nulls":3},"Integer",{"$f":"IF((B72=0),\"\",B72)","v":{"$error":"#REF!"}}]
["ConstructionCompletedYear",{"$f":"O_ConstructionCompletedYear_I","v":{"$error":"#REF!"}},{"$nulls":3},"Integer",{"$f":"IF((B73=0),\"\",B73)","v":{"$error":"#REF!"}}]
["Partners",{"$f":"F_Partners_I1","v":{"$error":"#REF!"}},{"$f":"VLOOKUP(B74,tbl_ExternalProjectDBUsers!A$1:T$10000,3,FALSE)","v":{"$error":"#REF!"}},{"$f":"IF(ISERROR(C74)=TRUE,\"\",C74)","v":""}]
[null,{"$f":"F_Partners_I2","v":{"$error":"#REF!"}},{"$f":"VLOOKUP(B75,tbl_ExternalProjectDBUsers!A$1:T$10000,3,FALSE)","v":{"$error":"#REF!"}},{"$f":"IF(ISERROR(C75)=TRUE,\"\",CONCATENATE(Deletegn,C75))","v":""}]
[null,{"$f":"F_Partners_I3","v":{"$error":"#REF!"}},{"$f":"VLOOKUP(B76,tbl_ExternalProjectDBUsers!A$1:T$10000,3,FALSE)","v":{"$error":"#REF!"}},{"$f":"IF(ISERROR(C76)=TRUE,\"\",CONCATENATE(Deletegn,C76))","v":""}]
[null,{"$f":"F_Partners_I4","v":{"$error":"#REF!"}},{"$f":"VLOOKUP(B77,tbl_ExternalProjectDBUsers!A$1:T$10000,3,FALSE)","v":{"$error":"#REF!"}},{"$f":"IF(ISERROR(C77)=TRUE,\"\",CONCATENATE(Deletegn,C77))","v":""}]
[null,{"$f":"F_Partners_I5","v":{"$error":"#REF!"}},{"$f":"VLOOKUP(B78,tbl_ExternalProjectDBUsers!A$1:T$10000,3,FALSE)","v":{"$error":"#REF!"}},{"$f":"IF(ISERROR(C78)=TRUE,\"\",CONCATENATE(Deletegn,C78))","v":""},null,"Relation (many)",{"$f":"CONCATENATE(D74,D75,D76,D77,D78)","v":""}]
["OthersInvolved",{"$f":"F_OthersInvolved_I","v":{"$error":"#REF!"}},{"$nulls":3},"Short string",{"$f":"IF((B79=0),\"\",B79)","v":{"$error":"#REF!"}}]
["KeywordMeasures",{"$f":"IFERROR(MeasureExport!C7,\"\")","v":""},{"$f":"IF(B80=\"\",\"\",B80)","v":""},{"$f":"MeasureExport!B7","v":{"$error":"#REF!"}},{"$f":"IF(D80=\"-----\",\"\",D80)","v":{"$error":"#REF!"}}]
[null,{"$f":"IFERROR(MeasureExport!C8,\"\")","v":""},{"$f":"IF(B81=\"\",\"\",CONCATENATE(\";\",B81))","v":""},{"$f":"MeasureExport!B8","v":{"$error":"#REF!"}},{"$f":"IF(D81=\"-----\",\"\",CONCATENATE(\", \",D81))","v":{"$error":"#REF!"}}]
[null,{"$f":"IFERROR(MeasureExport!C9,\"\")","v":""},{"$f":"IF(B82=\"\",\"\",CONCATENATE(\";\",B82))","v":""},{"$f":"MeasureExport!B9","v":{"$error":"#REF!"}},{"$f":"IF(D82=\"-----\",\"\",CONCATENATE(\", \",D82))","v":{"$error":"#REF!"}}]
[null,{"$f":"IFERROR(MeasureExport!C10,\"\")","v":""},"",{"$f":"MeasureExport!B10","v":{"$error":"#REF!"}},{"$error":"#REF!"}]
[null,{"$f":"IFERROR(MeasureExport!C11,\"\")","v":""},"",{"$f":"MeasureExport!B11","v":{"$error":"#REF!"}},{"$error":"#REF!"}]
[null,{"$f":"IFERROR(MeasureExport!C12,\"\")","v":""},"",{"$f":"MeasureExport!B12","v":{"$error":"#REF!"}},{"$error":"#REF!"}]
[null,{"$f":"IFERROR(MeasureExport!C13,\"\")","v":""},"",{"$f":"MeasureExport!B13","v":{"$error":"#REF!"}},{"$error":"#REF!"}]
[null,{"$f":"IFERROR(MeasureExport!C14,\"\")","v":""},"",{"$f":"MeasureExport!B14","v":{"$error":"#REF!"}},{"$error":"#REF!"}]
[null,{"$f":"IFERROR(MeasureExport!C22,\"\")","v":""},"",{"$f":"MeasureExport!B22","v":{"$error":"#REF!"}},{"$error":"#REF!"}]
[null,{"$f":"IFERROR(MeasureExport!C23,\"\")","v":""},"",{"$f":"MeasureExport!B23","v":{"$error":"#REF!"}},{"$error":"#REF!"}]
[null,{"$f":"IFERROR(MeasureExport!C24,\"\")","v":""},"",{"$f":"MeasureExport!B24","v":{"$error":"#REF!"}},{"$error":"#REF!"}]
[null,{"$f":"IFERROR(MeasureExport!C25,\"\")","v":""},"",{"$f":"MeasureExport!B25","v":{"$error":"#REF!"}},{"$error":"#REF!"}]
[null,{"$f":"IFERROR(MeasureExport!C26,\"\")","v":""},"",{"$f":"MeasureExport!B26","v":{"$error":"#REF!"}},{"$error":"#REF!"}]
[null,{"$f":"IFERROR(MeasureExport!C27,\"\")","v":""},"",{"$f":"MeasureExport!B27","v":{"$error":"#REF!"}},{"$error":"#REF!"}]
[null,{"$f":"IFERROR(MeasureExport!C28,\"\")","v":""},"",{"$f":"MeasureExport!B28","v":{"$error":"#REF!"}},{"$error":"#REF!"}]
[null,{"$f":"IFERROR(MeasureExport!C29,\"\")","v":""},"",{"$f":"MeasureExport!B29","v":{"$error":"#REF!"}},{"$error":"#REF!"}]
[null,{"$f":"IFERROR(MeasureExport!C37,\"\")","v":""},"",{"$f":"MeasureExport!B37","v":{"$error":"#REF!"}},{"$error":"#REF!"}]
[null,{"$f":"IFERROR(MeasureExport!C38,\"\")","v":""},"",{"$f":"MeasureExport!B38","v":{"$error":"#REF!"}},{"$error":"#REF!"}]
[null,{"$f":"IFERROR(MeasureExport!C39,\"\")","v":""},"",{"$f":"MeasureExport!B39","v":{"$error":"#REF!"}},{"$error":"#REF!"}]
[null,{"$f":"IFERROR(MeasureExport!C40,\"\")","v":""},"",{"$f":"MeasureExport!B40","v":{"$error":"#REF!"}},{"$error":"#REF!"}]
[null,{"$f":"IFERROR(MeasureExport!C41,\"\")","v":""},"",{"$f":"MeasureExport!B41","v":{"$error":"#REF!"}},{"$error":"#REF!"}]
[null,{"$f":"IFERROR(MeasureExport!C42,\"\")","v":""},"",{"$f":"MeasureExport!B42","v":{"$error":"#REF!"}},{"$error":"#REF!"}]
[null,{"$f":"IFERROR(MeasureExport!C43,\"\")","v":""},"",{"$f":"MeasureExport!B43","v":{"$error":"#REF!"}},{"$error":"#REF!"}]
[null,{"$f":"IFERROR(MeasureExport!C44,\"\")","v":""},"",{"$f":"MeasureExport!B44","v":{"$error":"#REF!"}},{"$error":"#REF!"}]
[null,{"$f":"IFERROR(MeasureExport!C52,\"\")","v":""},"",{"$f":"MeasureExport!B52","v":{"$error":"#REF!"}},{"$error":"#REF!"}]
[null,{"$f":"IFERROR(MeasureExport!C53,\"\")","v":""},"",{"$f":"MeasureExport!B53","v":{"$error":"#REF!"}},{"$error":"#REF!"}]
[null,{"$f":"IFERROR(MeasureExport!C54,\"\")","v":""},"",{"$f":"MeasureExport!B54","v":{"$error":"#REF!"}},{"$error":"#REF!"}]
[null,{"$f":"IFERROR(MeasureExport!C55,\"\")","v":""},"",{"$f":"MeasureExport!B55","v":{"$error":"#REF!"}},{"$error":"#REF!"}]
[null,{"$f":"IFERROR(MeasureExport!C56,\"\")","v":""},"",{"$f":"MeasureExport!B56","v":{"$error":"#REF!"}},{"$error":"#REF!"}]
[null,{"$f":"IFERROR(MeasureExport!C57,\"\")","v":""},"",{"$f":"MeasureExport!B57","v":{"$error":"#REF!"}},{"$error":"#REF!"}]
[null,{"$f":"IFERROR(MeasureExport!C58,\"\")","v":""},"",{"$f":"MeasureExport!B58","v":{"$error":"#REF!"}},{"$error":"#REF!"}]
[null,{"$f":"IFERROR(MeasureExport!C59,\"\")","v":""},"",{"$f":"MeasureExport!B59","v":{"$error":"#REF!"}},{"$error":"#REF!"}]
[null,{"$f":"IFERROR(MeasureExport!C67,\"\")","v":""},"",{"$f":"MeasureExport!B67","v":{"$error":"#REF!"}},{"$error":"#REF!"}]
[null,{"$f":"IFERROR(MeasureExport!C68,\"\")","v":""},"",{"$f":"MeasureExport!B68","v":{"$error":"#REF!"}},{"$error":"#REF!"}]
[null,{"$f":"IFERROR(MeasureExport!C69,\"\")","v":""},"",{"$f":"MeasureExport!B69","v":{"$error":"#REF!"}},{"$error":"#REF!"}]
[null,{"$f":"IFERROR(MeasureExport!C70,\"\")","v":""},"",{"$f":"MeasureExport!B70","v":{"$error":"#REF!"}},{"$error":"#REF!"}]
[null,{"$f":"IFERROR(MeasureExport!C71,\"\")","v":""},"",{"$f":"MeasureExport!B71","v":{"$error":"#REF!"}},{"$error":"#REF!"}]
[null,{"$f":"IFERROR(MeasureExport!C72,\"\")","v":""},"",{"$f":"MeasureExport!B72","v":{"$error":"#REF!"}},{"$error":"#REF!"}]
[null,{"$f":"IFERROR(MeasureExport!C73,\"\")","v":""},"",{"$f":"MeasureExport!B73","v":{"$error":"#REF!"}},{"$error":"#REF!"}]
[null,{"$f":"IFERROR(MeasureExport!C74,\"\")","v":""},"",{"$f":"MeasureExport!B74","v":{"$error":"#REF!"}},{"$error":"#REF!"}]
[null,{"$f":"IFERROR(MeasureExport!C82,\"\")","v":""},{"$f":"IF(B120=\"\",\"\",CONCATENATE(\";\",B120))","v":""},{"$f":"MeasureExport!B82","v":{"$error":"#REF!"}},{"$error":"#REF!"}]
[null,{"$f":"IFERROR(MeasureExport!C83,\"\")","v":""},"",{"$f":"MeasureExport!B83","v":{"$error":"#REF!"}},{"$error":"#REF!"}]
[null,{"$f":"IFERROR(MeasureExport!C84,\"\")","v":""},"",{"$f":"MeasureExport!B84","v":{"$error":"#REF!"}},{"$error":"#REF!"}]
[null,{"$f":"IFERROR(MeasureExport!C85,\"\")","v":""},"",{"$f":"MeasureExport!B85","v":{"$error":"#REF!"}},{"$error":"#REF!"}]
[null,{"$f":"IFERROR(MeasureExport!C86,\"\")","v":""},"",{"$f":"MeasureExport!B86","v":{"$error":"#REF!"}},{"$error":"#REF!"}]
[null,{"$f":"IFERROR(MeasureExport!C87,\"\")","v":""},"",{"$f":"MeasureExport!B87","v":{"$error":"#REF!"}},{"$error":"#REF!"}]
[null,{"$f":"IFERROR(MeasureExport!C88,\"\")","v":""},"",{"$f":"MeasureExport!B88","v":{"$error":"#REF!"}},{"$error":"#REF!"}]
[null,{"$f":"IFERROR(MeasureExport!C89,\"\")","v":""},"",{"$f":"MeasureExport!B89","v":{"$error":"#REF!"}},{"$error":"#REF!"}]
[null,{"$f":"IFERROR(MeasureExport!C97,\"\")","v":""},"",{"$f":"MeasureExport!B97","v":{"$error":"#REF!"}},{"$error":"#REF!"}]
[null,{"$f":"IFERROR(MeasureExport!C98,\"\")","v":""},"",{"$f":"MeasureExport!B98","v":{"$error":"#REF!"}},{"$error":"#REF!"}]
[null,{"$f":"IFERROR(MeasureExport!C99,\"\")","v":""},"",{"$f":"MeasureExport!B99","v":{"$error":"#REF!"}},{"$error":"#REF!"}]
[null,{"$f":"IFERROR(MeasureExport!C100,\"\")","v":""},"",{"$f":"MeasureExport!B100","v":{"$error":"#REF!"}},{"$error":"#REF!"}]
[null,{"$f":"IFERROR(MeasureExport!C101,\"\")","v":""},"",{"$f":"MeasureExport!B101","v":{"$error":"#REF!"}},{"$error":"#REF!"}]
[null,{"$f":"IFERROR(MeasureExport!C102,\"\")","v":""},"",{"$f":"MeasureExport!B102","v":{"$error":"#REF!"}},{"$error":"#REF!"}]
[null,{"$f":"IFERROR(MeasureExport!C103,\"\")","v":""},"",{"$f":"MeasureExport!B103","v":{"$error":"#REF!"}},{"$error":"#REF!"}]
[null,{"$f":"IFERROR(MeasureExport!C104,\"\")","v":""},"",{"$f":"MeasureExport!B104","v":{"$error":"#REF!"}},{"$error":"#REF!"}]
[null,{"$f":"IFERROR(MeasureExport!C112,\"\")","v":""},"",{"$f":"MeasureExport!B112","v":{"$error":"#REF!"}},{"$error":"#REF!"}]
[null,{"$f":"IFERROR(MeasureExport!C113,\"\")","v":""},"",{"$f":"MeasureExport!B113","v":{"$error":"#REF!"}},{"$error":"#REF!"}]
[null,{"$f":"IFERROR(MeasureExport!C114,\"\")","v":""},"",{"$f":"MeasureExport!B114","v":{"$error":"#REF!"}},{"$error":"#REF!"}]
[null,{"$f":"IFERROR(MeasureExport!C115,\"\")","v":""},"",{"$f":"MeasureExport!B115","v":{"$error":"#REF!"}},{"$error":"#REF!"}]
[null,{"$f":"IFERROR(MeasureExport!C116,\"\")","v":""},"",{"$f":"MeasureExport!B116","v":{"$error":"#REF!"}},{"$error":"#REF!"}]
[null,{"$f":"IFERROR(MeasureExport!C117,\"\")","v":""},"",{"$f":"MeasureExport!B117","v":{"$error":"#REF!"}},{"$error":"#REF!"}]
[null,{"$f":"IFERROR(MeasureExport!C118,\"\")","v":""},"",{"$f":"MeasureExport!B118","v":{"$error":"#REF!"}},{"$error":"#REF!"}]
[null,{"$f":"IFERROR(MeasureExport!C119,\"\")","v":""},"",{"$f":"MeasureExport!B119","v":{"$error":"#REF!"}},{"$error":"#REF!"}]
[null,null,{"$f":"CONCATENATE(C80,C81,C82,C83,C84,C85,C86,C87,C88,C89,C90,C91,C92,C93,C94,C95,C96,C97,C98,C99,C100,C101,C102,C103,C104,C105,C106,C107,C108,C109,C110,C111,C112,C113,C114,C115,C116,C117,C118,C119,C120,C121,C122,C123,C124,C125,C126,C127,C128,C129,C130,C131,C132,C133,C134,C135,C136,C137,C138,C139,C140,C141,C142,C143)","v":""},null,{"$f":"CONCATENATE(E80,E81,E82,E83,E84,E85,E86,E87,E88,E89,E90,E91,E92,E93,E94,E95,E96,E97,E98,E99,E100,E101,E102,E103,E104,E105,E106,E107,E108,E109,E110,E111,E112,E113,E114,E115,E116,E117,E118,E119,E120,E121,E122,E123,E124,E125,E126,E127,E128,E129,E130,E131,E132,E133,E134,E135,E136,E137,E138,E139,E140,E141,E142,E143)","v":{"$error":"#REF!"}},"Relation (many)",{"$f":"IF(C144=0,\"\",C144)","v":""}]
["Collaboration",{"$f":"F_Collaboration_I","v":{"$error":"#REF!"}},{"$nulls":3},"Long string",{"$f":"IF((B145=0),\"\",B145)","v":{"$error":"#REF!"}}]
["MunicipalitiesCollaboration",{"$f":"F_MunicipalitiesCollaboration_I","v":{"$error":"#REF!"}},{"$f":"VLOOKUP(B146,Enumeration_Checkbox,2,FALSE)","v":{"$error":"#REF!"}},{"$f":"IF(C146=0,\"\",C146)","v":{"$error":"#REF!"}},null,"CheckBox",{"$f":"CONCATENATE(D146)","v":{"$error":"#REF!"}}]
["PrivateCollaboration",{"$f":"F_PrivateCollaboration_I","v":{"$error":"#REF!"}},{"$f":"VLOOKUP(B147,Enumeration_Checkbox,2,FALSE)","v":{"$error":"#REF!"}},{"$f":"IF(C147=0,\"\",C147)","v":{"$error":"#REF!"}},null,"CheckBox",{"$f":"CONCATENATE(D147)","v":{"$error":"#REF!"}}]
["OtherCollaboration",{"$f":"F_OtherCollaboration_I","v":{"$error":"#REF!"}},{"$f":"VLOOKUP(B148,Enumeration_Checkbox,2,FALSE)","v":{"$error":"#REF!"}},{"$f":"IF(C148=0,\"\",C148)","v":{"$error":"#REF!"}},null,"CheckBox",{"$f":"CONCATENATE(D148)","v":{"$error":"#REF!"}}]
["ProgressDescription",{"$f":"F_ProgressDescription_I","v":{"$error":"#REF!"}},{"$nulls":3},"Long string",{"$f":"IF((B149=0),\"\",B149)","v":{"$error":"#REF!"}}]
["ProgressStatus",{"$f":"F_ProgressStatus_I","v":{"$error":"#REF!"}},{"$f":"VLOOKUP(B150,Enumeration_ProgressStatus,3,FALSE)","v":{"$error":"#REF!"}},{"$f":"IF(ISERROR(C150)=TRUE,\"\",C150)","v":""},null,"Enumeration",{"$f":"CONCATENATE(D150)","v":""}]
["ChangeLog.Date",{"$f":"IF(F_ChangeLog_Date_I1=0,\"\",CONCATENATE(TEXT(DAY(F_ChangeLog_Date_I1),\"00\"),\".\",TEXT(MONTH(F_ChangeLog_Date_I1),\"00\"),\".\",TEXT(YEAR(F_ChangeLog_Date_I1),\"00\")))","v":{"$error":"#REF!"}},{"$f":"IF(B151=\"\",\"\",CONCATENATE(Dele_ChangeLogDate,TEXT(DAY(B151),\"00\"),\".\",TEXT(MONTH(B151),\"00\"),\".\",TEXT(YEAR(B151),\"00\")))","v":{"$error":"#REF!"}},null,null,"DateTime"]
["ChangeLog.Text",{"$f":"F_ChangeLog_Text_I1","v":{"$error":"#REF!"}},{"$f":"IF(B152=\"\",\"\",CONCATENATE(Dele_ChangeLogText,B152))","v":{"$error":"#REF!"}},null,null,"Long string"]
["ChangeLog.Date",{"$f":"IF(F_ChangeLog_Date_I2=0,\"\",CONCATENATE(TEXT(DAY(F_ChangeLog_Date_I2),\"00\"),\".\",TEXT(MONTH(F_ChangeLog_Date_I2),\"00\"),\".\",TEXT(YEAR(F_ChangeLog_Date_I2),\"00\")))","v":{"$error":"#REF!"}},{"$f":"IF(B153=\"\",\"\",CONCATENATE(Dele_ChangeLogDate,TEXT(DAY(B153),\"00\"),\".\",TEXT(MONTH(B153),\"00\"),\".\",TEXT(YEAR(B153),\"00\")))","v":{"$error":"#REF!"}},null,null,"DateTime"]
["ChangeLog.Text",{"$f":"F_ChangeLog_Text_I2","v":{"$error":"#REF!"}},{"$f":"IF(B154=\"\",\"\",CONCATENATE(Dele_ChangeLogText,B154))","v":{"$error":"#REF!"}},null,null,"Long string"]
["ChangeLog.Date",{"$f":"IF(F_ChangeLog_Date_I3=0,\"\",CONCATENATE(TEXT(DAY(F_ChangeLog_Date_I3),\"00\"),\".\",TEXT(MONTH(F_ChangeLog_Date_I3),\"00\"),\".\",TEXT(YEAR(F_ChangeLog_Date_I3),\"00\")))","v":{"$error":"#REF!"}},{"$f":"IF(B155=\"\",\"\",CONCATENATE(Dele_ChangeLogDate,TEXT(DAY(B155),\"00\"),\".\",TEXT(MONTH(B155),\"00\"),\".\",TEXT(YEAR(B155),\"00\")))","v":{"$error":"#REF!"}},null,null,"DateTime"]
["ChangeLog.Text",{"$f":"F_ChangeLog_Text_I3","v":{"$error":"#REF!"}},{"$f":"IF(B156=\"\",\"\",CONCATENATE(Dele_ChangeLogText,B156))","v":{"$error":"#REF!"}},null,null,"Long string"]
["ChangeLog.Date",{"$f":"IF(F_ChangeLog_Date_I4=0,\"\",CONCATENATE(TEXT(DAY(F_ChangeLog_Date_I4),\"00\"),\".\",TEXT(MONTH(F_ChangeLog_Date_I4),\"00\"),\".\",TEXT(YEAR(F_ChangeLog_Date_I4),\"00\")))","v":{"$error":"#REF!"}},{"$f":"IF(B157=\"\",\"\",CONCATENATE(Dele_ChangeLogDate,TEXT(DAY(B157),\"00\"),\".\",TEXT(MONTH(B157),\"00\"),\".\",TEXT(YEAR(B157),\"00\")))","v":{"$error":"#REF!"}},null,null,"DateTime"]
["ChangeLog.Text",{"$f":"F_ChangeLog_Text_I4","v":{"$error":"#REF!"}},{"$f":"IF(B158=\"\",\"\",CONCATENATE(Dele_ChangeLogText,B158))","v":{"$error":"#REF!"}},null,null,"Long string",{"$f":"CONCATENATE(C151,C152,C153,C154,C155,C156,C157,C158)","v":{"$error":"#REF!"}}]
["FByerOtherResults",{"$f":"F_FByerOtherResults_I","v":{"$error":"#REF!"}},{"$nulls":3},"Long string",{"$f":"IF((B159=0),\"\",B159)","v":{"$error":"#REF!"}}]
["FByerCosts",{"$f":"F_FByerCosts_I","v":{"$error":"#REF!"}},{"$nulls":3},"Integer",{"$f":"IF((B160=0),\"\",B160)","v":{"$error":"#REF!"}}]
["FByerImportance",{"$f":"F_FByerImportance_I","v":{"$error":"#REF!"}},{"$f":"VLOOKUP(B161,Enumeration_FByerImportance,3,FALSE)","v":{"$error":"#REF!"}},{"$f":"IF(ISERROR(C161)=TRUE,\"\",C161)","v":""},null,"Enumeration",{"$f":"CONCATENATE(D161)","v":""}]
["FByerTimeUsage",{"$f":"F_FByerTimeUsage_I","v":{"$error":"#REF!"}},{"$f":"VLOOKUP(B162,Enumeration_FByerTimeUsage,3,FALSE)","v":{"$error":"#REF!"}},{"$f":"IF(ISERROR(C162)=TRUE,\"\",C162)","v":""},null,"Enumeration",{"$f":"CONCATENATE(D162)","v":""}]
["FByerPeopleInformed",{"$f":"F_FByerPeopleInformed_I","v":{"$error":"#REF!"}},{"$nulls":3},"Integer",{"$f":"IF((B163=0),\"\",B163)","v":{"$error":"#REF!"}}]
["FByerOtherRemarks",{"$f":"F_FByerOtherRemarks_I","v":{"$error":"#REF!"}},{"$nulls":3},"Long string",{"$f":"IF((B164=0),\"\",B164)","v":{"$error":"#REF!"}}]
["ProjectPhase",{"$f":"O_ProjectPhase_I1","v":{"$error":"#REF!"}},{"$f":"LOOKUP(B165,Name_tbl_ProjectPhases,Name_tbl_ProjectPhases_Id)","v":{"$error":"#REF!"}},{"$f":"IF(ISERROR(C165)=TRUE,\"\",C165)","v":""}]
[null,{"$f":"O_ProjectPhase_I2","v":{"$error":"#REF!"}},{"$f":"LOOKUP(B166,Name_tbl_ProjectPhases,Name_tbl_ProjectPhases_Id)","v":{"$error":"#REF!"}},{"$f":"IF(ISERROR(C166)=TRUE,\"\",CONCATENATE(Deletegn,C166))","v":""}]
[null,{"$f":"O_ProjectPhase_I3","v":{"$error":"#REF!"}},{"$f":"LOOKUP(B167,Name_tbl_ProjectPhases,Name_tbl_ProjectPhases_Id)","v":{"$error":"#REF!"}},{"$f":"IF(ISERROR(C167)=TRUE,\"\",CONCATENATE(Deletegn,C167))","v":""}]
[null,{"$f":"O_BuildingConservation_I","v":{"$error":"#REF!"}},{"$f":"IF(B168=\"JA\",230396,0)","v":{"$error":"#REF!"}},{"$f":"IF(C168=0,\"\",IF(CONCATENATE(D165,D166,D167)=\"\",C168,CONCATENATE(Deletegn,C168)))","v":{"$error":"#REF!"}},null,"Relation (many)",{"$f":"CONCATENATE(D165,D168)","v":{"$error":"#REF!"}}]
["ProjectTypes",{"$f":"O_ProjectTypes_I1","v":{"$error":"#REF!"}},{"$f":"LOOKUP(B169,Name_tbl_ProjectTypes,Name_tbl_ProjectTypes_Id)","v":{"$error":"#REF!"}},{"$f":"IF(ISERROR(C169)=TRUE,\"\",C169)","v":""}]
[null,{"$f":"O_ProjectTypes_I2","v":{"$error":"#REF!"}},{"$f":"LOOKUP(B170,Name_tbl_ProjectTypes,Name_tbl_ProjectTypes_Id)","v":{"$error":"#REF!"}},{"$f":"IF(ISERROR(C170)=TRUE,\"\",CONCATENATE(Deletegn,C170))","v":""}]
[null,{"$f":"O_ProjectTypes_I3","v":{"$error":"#REF!"}},{"$f":"LOOKUP(B171,Name_tbl_ProjectTypes,Name_tbl_ProjectTypes_Id)","v":{"$error":"#REF!"}},{"$f":"IF(ISERROR(C171)=TRUE,\"\",CONCATENATE(Deletegn,C171))","v":""},null,null,{"$f":"CONCATENATE(D169,D170,D171)","v":""}]
["FunctionBuildingCategory",{"$f":"O_FunctionBuildingCategory_I1","v":{"$error":"#REF!"}},{"$f":"LOOKUP(B172,Name_tbl_ArchitectofficeCategorys,Name_tbl_ArchitectofficeCategorys_Id)","v":{"$error":"#REF!"}},{"$f":"IF(ISERROR(C172)=TRUE,\"\",C172)","v":""}]
[null,{"$f":"O_FunctionBuildingCategory_I2","v":{"$error":"#REF!"}},{"$f":"LOOKUP(B173,Name_tbl_ArchitectofficeCategorys,Name_tbl_ArchitectofficeCategorys_Id)","v":{"$error":"#REF!"}},{"$f":"IF(ISERROR(C173)=TRUE,\"\",CONCATENATE(Deletegn,C173))","v":""},null,"Relation (many)"]
[null,{"$f":"O_FunctionBuildingCategory_I3","v":{"$error":"#REF!"}},{"$f":"LOOKUP(B174,Name_tbl_ArchitectofficeCategorys,Name_tbl_ArchitectofficeCategorys_Id)","v":{"$error":"#REF!"}},{"$f":"IF(ISERROR(C174)=TRUE,\"\",CONCATENATE(Deletegn,C174))","v":""},null,null,{"$f":"CONCATENATE(D172,D173,D174)","v":""}]
["ProjectCompetitionForm",{"$f":"O_ProjectCompetitionForm_I1","v":{"$error":"#REF!"}},{"$f":"LOOKUP(B175,Name_tbl_ProjectCompetitions,Name_tbl_ProjectCompetitions_Id)","v":{"$error":"#REF!"}},{"$f":"IF(ISERROR(C175)=TRUE,\"\",C175)","v":""},null,"Relation (many)"]
[null,{"$f":"O_ProjectCompetitionForm_I2","v":{"$error":"#REF!"}},{"$f":"LOOKUP(B176,Name_tbl_ProjectCompetitions,Name_tbl_ProjectCompetitions_Id)","v":{"$error":"#REF!"}},{"$f":"IF(ISERROR(C176)=TRUE,\"\",CONCATENATE(Deletegn,C176))","v":""}]
[null,{"$f":"O_ProjectCompetitionForm_I3","v":{"$error":"#REF!"}},{"$f":"LOOKUP(B177,Name_tbl_ProjectCompetitions,Name_tbl_ProjectCompetitions_Id)","v":{"$error":"#REF!"}},{"$f":"IF(ISERROR(C177)=TRUE,\"\",CONCATENATE(Deletegn,C177))","v":""},null,null,{"$f":"CONCATENATE(D175,D176,D177)","v":""}]
["ProjectContractingForm",{"$f":"O_ProjectContractingForm_I1","v":{"$error":"#REF!"}},{"$f":"LOOKUP(B178,Name_tbl_ContractingForms,Name_tbl_ContractingForms_Id)","v":{"$error":"#REF!"}},{"$f":"IF(ISERROR(C178)=TRUE,\"\",C178)","v":""},null,"Relation (many)"]
[null,{"$f":"O_ProjectContractingForm_I2","v":{"$error":"#REF!"}},{"$f":"LOOKUP(B179,Name_tbl_ContractingForms,Name_tbl_ContractingForms_Id)","v":{"$error":"#REF!"}},{"$f":"IF(ISERROR(C179)=TRUE,\"\",CONCATENATE(Deletegn,C179))","v":""}]
[null,{"$f":"O_ProjectContractingForm_I3","v":{"$error":"#REF!"}},{"$f":"LOOKUP(B180,Name_tbl_ContractingForms,Name_tbl_ContractingForms_Id)","v":{"$error":"#REF!"}},{"$f":"IF(ISERROR(C180)=TRUE,\"\",CONCATENATE(Deletegn,C180))","v":""},null,null,{"$f":"CONCATENATE(D178,D179,D180)","v":""}]
["ProjectEnvironmentalStandard",{"$f":"O_ProjectEnvironmentalStandard_I1","v":{"$error":"#REF!"}},{"$f":"LOOKUP(B181,Name_tbl_EnvironmentalStandards,Name_tbl_EnvironmentalStandards_Id)","v":{"$error":"#REF!"}},{"$f":"IF(ISERROR(C181)=TRUE,\"\",C181)","v":""}]
[null,{"$f":"O_ProjectEnvironmentalStandard_I2","v":{"$error":"#REF!"}},{"$f":"LOOKUP(B182,Name_tbl_EnvironmentalStandards,Name_tbl_EnvironmentalStandards_Id)","v":{"$error":"#REF!"}},{"$f":"IF(ISERROR(C182)=TRUE,\"\",CONCATENATE(Deletegn,C182))","v":""}]
[null,{"$f":"O_ProjectEnvironmentalStandard_I3","v":{"$error":"#REF!"}},{"$f":"LOOKUP(B183,Name_tbl_EnvironmentalStandards,Name_tbl_EnvironmentalStandards_Id)","v":{"$error":"#REF!"}},{"$f":"IF(ISERROR(C183)=TRUE,\"\",CONCATENATE(Deletegn,C183))","v":""}]
[null,{"$f":"O_ProjectEnvironmentalStandard_I4","v":{"$error":"#REF!"}},{"$f":"LOOKUP(B184,Name_tbl_EnvironmentalStandards,Name_tbl_EnvironmentalStandards_Id)","v":{"$error":"#REF!"}},{"$f":"IF(ISERROR(C184)=TRUE,\"\",CONCATENATE(Deletegn,C184))","v":""}]
[null,{"$f":"O_ProjectEnvironmentalStandard_I5","v":{"$error":"#REF!"}},{"$f":"LOOKUP(B185,Name_tbl_EnvironmentalStandards,Name_tbl_EnvironmentalStandards_Id)","v":{"$error":"#REF!"}},{"$f":"IF(ISERROR(C185)=TRUE,\"\",CONCATENATE(Deletegn,C185))","v":""},null,"Relation (many)",{"$f":"CONCATENATE(D181,D182,D183,D184,D185)","v":""}]
["ProjectAwards",{"$f":"O_ProjectAwards_I1","v":{"$error":"#REF!"}},{"$f":"LOOKUP(B186,Name_tbl_ProjectAwardss,Name_tbl_ProjectAwardss_Id)","v":{"$error":"#REF!"}},{"$f":"IF(ISERROR(C186)=TRUE,\"\",C186)","v":""}]
[null,{"$f":"O_ProjectAwards_I2","v":{"$error":"#REF!"}},{"$f":"LOOKUP(B187,Name_tbl_ProjectAwardss,Name_tbl_ProjectAwardss_Id)","v":{"$error":"#REF!"}},{"$f":"IF(ISERROR(C187)=TRUE,\"\",CONCATENATE(Deletegn,C187))","v":""}]
[null,{"$f":"O_ProjectAwards_I3","v":{"$error":"#REF!"}},{"$f":"LOOKUP(B188,Name_tbl_ProjectAwardss,Name_tbl_ProjectAwardss_Id)","v":{"$error":"#REF!"}},{"$f":"IF(ISERROR(C188)=TRUE,\"\",CONCATENATE(Deletegn,C188))","v":""}]
[null,{"$f":"O_ProjectAwards_I4","v":{"$error":"#REF!"}},{"$f":"LOOKUP(B189,Name_tbl_ProjectAwardss,Name_tbl_ProjectAwardss_Id)","v":{"$error":"#REF!"}},{"$f":"IF(ISERROR(C189)=TRUE,\"\",CONCATENATE(Deletegn,C189))","v":""},null,"Relation (many)",{"$f":"CONCATENATE(D186,D187,D188,D189)","v":""}]
["ProjectRoleModel",{"$f":"O_ProjectRoleModel_I1","v":{"$error":"#REF!"}},{"$f":"LOOKUP(B190,Name_tbl_RoleModels,Name_tbl_RoleModels_Id)","v":{"$error":"#REF!"}},{"$f":"IF(ISERROR(C190)=TRUE,\"\",C190)","v":""}]
[null,{"$f":"O_ProjectRoleModel_I2","v":{"$error":"#REF!"}},{"$f":"LOOKUP(B191,Name_tbl_RoleModels,Name_tbl_RoleModels_Id)","v":{"$error":"#REF!"}},{"$f":"IF(ISERROR(C191)=TRUE,\"\",CONCATENATE(Deletegn,C191))","v":""}]
[null,{"$f":"O_ProjectRoleModel_I3","v":{"$error":"#REF!"}},{"$f":"LOOKUP(B192,Name_tbl_RoleModels,Name_tbl_RoleModels_Id)","v":{"$error":"#REF!"}},{"$f":"IF(ISERROR(C192)=TRUE,\"\",CONCATENATE(Deletegn,C192))","v":""}]
[null,{"$f":"O_ProjectRoleModel_I4","v":{"$error":"#REF!"}},{"$f":"LOOKUP(B193,Name_tbl_RoleModels,Name_tbl_RoleModels_Id)","v":{"$error":"#REF!"}},{"$f":"IF(ISERROR(C193)=TRUE,\"\",CONCATENATE(Deletegn,C193))","v":""},null,"Relation (many)",{"$f":"CONCATENATE(D190,D191,D192,D193)","v":""}]
["ProjectResearch",{"$f":"O_ProjectResearch_I1","v":{"$error":"#REF!"}},{"$f":"LOOKUP(B194,Name_tbl_Researchs,Name_tbl_Researchs_Id)","v":{"$error":"#REF!"}},{"$f":"IF(ISERROR(C194)=TRUE,\"\",C194)","v":""}]
[null,{"$f":"O_ProjectResearch_I2","v":{"$error":"#REF!"}},{"$f":"LOOKUP(B195,Name_tbl_Researchs,Name_tbl_Researchs_Id)","v":{"$error":"#REF!"}},{"$f":"IF(ISERROR(C195)=TRUE,\"\",CONCATENATE(Deletegn,C195))","v":""}]
[null,{"$f":"O_ProjectResearch_I3","v":{"$error":"#REF!"}},{"$f":"LOOKUP(B196,Name_tbl_Researchs,Name_tbl_Researchs_Id)","v":{"$error":"#REF!"}},{"$f":"IF(ISERROR(C196)=TRUE,\"\",CONCATENATE(Deletegn,C196))","v":""}]
[null,{"$f":"O_ProjectResearch_I4","v":{"$error":"#REF!"}},{"$f":"LOOKUP(B197,Name_tbl_Researchs,Name_tbl_Researchs_Id)","v":{"$error":"#REF!"}},{"$f":"IF(ISERROR(C197)=TRUE,\"\",CONCATENATE(Deletegn,C197))","v":""},null,"Relation (many)",{"$f":"CONCATENATE(D194,D195,D196,D197)","v":""}]
["ProjectArchitectureGuide",{"$f":"A_ProjectArchitectureGuide_I1","v":{"$error":"#REF!"}},{"$f":"LOOKUP(B198,Name_tbl_ArchitectureGuides,Name_tbl_ArchitectureGuides_Id)","v":{"$error":"#REF!"}},{"$f":"IF(ISERROR(C198)=TRUE,\"\",C198)","v":""},null,"Relation (many)"]
[null,{"$f":"A_ProjectArchitectureGuide_I2","v":{"$error":"#REF!"}},{"$f":"LOOKUP(B199,Name_tbl_ArchitectureGuides,Name_tbl_ArchitectureGuides_Id)","v":{"$error":"#REF!"}},{"$f":"IF(ISERROR(C199)=TRUE,\"\",CONCATENATE(Deletegn,C199))","v":""}]
[null,{"$f":"A_ProjectArchitectureGuide_I3","v":{"$error":"#REF!"}},{"$f":"LOOKUP(B200,Name_tbl_ArchitectureGuides,Name_tbl_ArchitectureGuides_Id)","v":{"$error":"#REF!"}},{"$f":"IF(ISERROR(C200)=TRUE,\"\",CONCATENATE(Deletegn,C200))","v":""}]
[null,{"$f":"A_ProjectArchitectureGuide_I4","v":{"$error":"#REF!"}},{"$f":"LOOKUP(B201,Name_tbl_ArchitectureGuides,Name_tbl_ArchitectureGuides_Id)","v":{"$error":"#REF!"}},{"$f":"IF(ISERROR(C201)=TRUE,\"\",CONCATENATE(Deletegn,C201))","v":""},null,null,{"$f":"CONCATENATE(D198,D199,D200,D201)","v":""}]
["Builders",{"$f":"O_Builders_I1","v":{"$error":"#REF!"}},{"$f":"VLOOKUP(B202,NameTableConsultingCompanys,2,FALSE)","v":{"$error":"#REF!"}},{"$f":"IF(ISERROR(C202)=TRUE,\"\",C202)","v":""},null,"Relation (many)",{"$f":"CONCATENATE(D202)","v":""}]
["ArchitectARK",{"$f":"O_ArchitectARK_I1","v":{"$error":"#REF!"}},{"$f":"VLOOKUP(B203,NameTableArchitechtureOffices,2,FALSE)","v":{"$error":"#REF!"}},{"$f":"IF(ISERROR(C203)=TRUE,\"\",C203)","v":""},null,"Relation (many)"]
[null,{"$f":"O_ArchitectARK_I2","v":{"$error":"#REF!"}},{"$error":"#REF!"},{"$f":"IF(ISERROR(C204)=TRUE,\"\",CONCATENATE(Deletegn,C204))","v":""},null,null,{"$f":"CONCATENATE(D203,D204)","v":""}]
["ArchitectLARK",{"$f":"O_ArchitectLARK_I1","v":{"$error":"#REF!"}},{"$error":"#REF!"},"",null,"Relation (many)"]
[null,{"$f":"O_ArchitectLARK_I2","v":{"$error":"#REF!"}},{"$error":"#REF!"},{"$f":"IF(ISERROR(C206)=TRUE,\"\",CONCATENATE(Deletegn,C206))","v":""},null,null,{"$f":"CONCATENATE(D205,D206)","v":""}]
["ArchitectIARK",{"$f":"O_ArchitectIARK_I1","v":{"$error":"#REF!"}},{"$error":"#REF!"},"",null,"Relation (many)"]
[null,{"$f":"O_ArchitectIARK_I2","v":{"$error":"#REF!"}},{"$error":"#REF!"},{"$f":"IF(ISERROR(C208)=TRUE,\"\",CONCATENATE(Deletegn,C208))","v":""},null,null,{"$f":"CONCATENATE(D207,D208)","v":""}]
["OriginalArchitect",{"$f":"O_OriginalArchitect_I1","v":{"$error":"#REF!"}},{"$error":"#REF!"},"",null,"Relation (many)"]
[null,{"$f":"O_OriginalArchitect_I2","v":{"$error":"#REF!"}},{"$error":"#REF!"},{"$f":"IF(ISERROR(C210)=TRUE,\"\",CONCATENATE(Deletegn,C210))","v":""},null,null,{"$f":"CONCATENATE(D209,D210)","v":""}]
["ProjectManagagers",{"$f":"O_ProjectManagagers_I1","v":{"$error":"#REF!"}},{"$f":"VLOOKUP(B211,NameTableConsultingCompanys,2,FALSE)","v":{"$error":"#REF!"}},"",null,"Relation (many)"]
[null,{"$f":"O_ProjectManagagers_I2","v":{"$error":"#REF!"}},{"$f":"VLOOKUP(B212,NameTableConsultingCompanys,2,FALSE)","v":{"$error":"#REF!"}},{"$f":"IF(ISERROR(C212)=TRUE,\"\",CONCATENATE(Deletegn,C212))","v":""},null,null,{"$f":"CONCATENATE(D211,D212)","v":""}]
["EnvironmentConsultants",{"$f":"O_EnvironmentConsultants_I1","v":{"$error":"#REF!"}},{"$f":"VLOOKUP(B213,NameTableCompanys,2,FALSE)","v":{"$error":"#REF!"}},"",null,"Relation (many)"]
[null,{"$f":"O_EnvironmentConsultants_I2","v":{"$error":"#REF!"}},{"$error":"#REF!"},{"$f":"IF(ISERROR(C214)=TRUE,\"\",CONCATENATE(Deletegn,C214))","v":""},null,null,{"$f":"CONCATENATE(D213,D214)","v":""}]
["EnergyConsultants",{"$f":"O_EnergyConsultants_I1","v":{"$error":"#REF!"}},{"$error":"#REF!"},"",null,"Relation (many)"]
[null,{"$f":"O_EnergyConsultants_I2","v":{"$error":"#REF!"}},{"$error":"#REF!"},{"$f":"IF(ISERROR(C216)=TRUE,\"\",CONCATENATE(Deletegn,C216))","v":""},null,null,{"$f":"CONCATENATE(D215,D216)","v":""}]
["UniversalDesignConsultants",{"$f":"O_UniversalDesignConsultants_I1","v":{"$error":"#REF!"}},{"$error":"#REF!"},"",null,"Relation (many)"]
[null,{"$f":"O_UniversalDesignConsultants_I2","v":{"$error":"#REF!"}},{"$error":"#REF!"},{"$f":"IF(ISERROR(C218)=TRUE,\"\",CONCATENATE(Deletegn,C218))","v":""},null,null,{"$f":"CONCATENATE(D217,D218)","v":""}]
["AdvisorIngBygg",{"$f":"O_AdvisorIngBygg_I","v":{"$error":"#REF!"}},{"$f":"VLOOKUP(B219,NameTableConsultingCompanys,2,FALSE)","v":{"$error":"#REF!"}},"",null,"Relation (one)",{"$f":"CONCATENATE(D219)","v":""}]
["AdvisorIngVVS",{"$f":"O_AdvisorIngVVS_I","v":{"$error":"#REF!"}},{"$error":"#REF!"},"",null,"Relation (one)",""]
["AdvisorIngElektro",{"$f":"O_AdvisorIngElektro_I","v":{"$error":"#REF!"}},{"$error":"#REF!"},"",null,"Relation (one)",""]
["AdvisoringBuildingPhysics",{"$f":"O_AdvisorIngBuildingPhysics_I","v":{"$error":"#REF!"}},{"$error":"#REF!"},"",null,"Relation (one)",""]
["AdvisorIngFireSafety",{"$f":"O_AdvisorIngFireSafety_I","v":{"$error":"#REF!"}},{"$error":"#REF!"},"",null,"Relation (one)",""]
["AdvisorIngAcoustics",{"$f":"O_AdvisorIngAcoustics_I","v":{"$error":"#REF!"}},{"$error":"#REF!"},"",null,"Relation (one)",""]
["OtherAdvisors",{"$f":"O_OtherAdvisors_I","v":{"$error":"#REF!"}},null,null,{"$f":"T(D224)","v":""},"Long string",{"$f":"IF((B225=0),\"\",B225)","v":{"$error":"#REF!"}}]
["Contractors",{"$f":"O_Contractors_I1","v":{"$error":"#REF!"}},{"$f":"VLOOKUP(B226,NameTableConsultingCompanys,2,FALSE)","v":{"$error":"#REF!"}},{"$f":"IF(ISERROR(C226)=TRUE,\"\",C226)","v":""},null,"Relation (many)"]
[null,{"$f":"O_Contractors_I2","v":{"$error":"#REF!"}},{"$f":"VLOOKUP(B227,NameTableConsultingCompanys,2,FALSE)","v":{"$error":"#REF!"}},{"$f":"IF(ISERROR(C227)=TRUE,\"\",CONCATENATE(Deletegn,C227))","v":""}]
[null,{"$f":"O_Contractors_I3","v":{"$error":"#REF!"}},{"$f":"VLOOKUP(B228,NameTableConsultingCompanys,2,FALSE)","v":{"$error":"#REF!"}},{"$f":"IF(ISERROR(C228)=TRUE,\"\",CONCATENATE(Deletegn,C228))","v":""},null,null,{"$f":"CONCATENATE(D226,D227,D228)","v":""}]
["ConstructionManagement",{"$f":"O_ConstructionManagement_I1","v":{"$error":"#REF!"}},{"$f":"VLOOKUP(B229,NameTableConsultingCompanys,2,FALSE)","v":{"$error":"#REF!"}},{"$f":"IF(ISERROR(C229)=TRUE,\"\",C229)","v":""},null,"Relation (many)"]
[null,{"$f":"O_ConstructionManagement_I2","v":{"$error":"#REF!"}},{"$f":"VLOOKUP(B230,NameTableConsultingCompanys,2,FALSE)","v":{"$error":"#REF!"}},{"$f":"IF(ISERROR(C230)=TRUE,\"\",CONCATENATE(Deletegn,C230))","v":""},null,null,{"$f":"CONCATENATE(D229,D230)","v":""}]
["SubContractors",{"$f":"O_Subcontractors_I","v":{"$error":"#REF!"}},{"$nulls":3},"Long string",{"$f":"IF((B231=0),\"\",B231)","v":{"$error":"#REF!"}}]
["Manufacturers",{"$f":"O_Manufacturers_I","v":{"$error":"#REF!"}},{"$nulls":3},"Long string",{"$f":"IF((B232=0),\"\",B232)","v":{"$error":"#REF!"}}]
["ShowKeyFigures","-----",{"$f":"VLOOKUP(B233,Enumerations!$S$1:$T$4,2,FALSE)","v":0},{"$f":"IF(C233=0,\"\",C233)","v":""},null,"CheckBox",{"$f":"CONCATENATE(D233)","v":""}]
["AreaUsed",{"$nulls":3},{"$f":"IF(B251>0,CONCATENATE(B251,\" m2 (oppvarmet BRA)\"),IF(B250>0,CONCATENATE(B250,\" m2 (bruksareal BRA)\"),IF(B249>0,CONCATENATE(B249,\" m2 (brutto BTA)\"),\"\")))","v":{"$error":"#REF!"}},"Long string"]
[null,{"$f":"O_NumberOfResidents_Beboere_I","v":{"$error":"#REF!"}},{"$f":"IF(B235>0,CONCATENATE(B235,\" beboere\"),\"\")","v":{"$error":"#REF!"}},{"$f":"IF(C235=\"\",\"\",IF(SUM(B236:B243)=0,\".\",\", \"))","v":{"$error":"#REF!"}}]
[null,{"$f":"O_NumberOfResidents_Barnehageplasser_I","v":{"$error":"#REF!"}},{"$f":"IF(B236>0,CONCATENATE(B236,\" barnehageplasser\"),\"\")","v":{"$error":"#REF!"}},{"$f":"IF(C236=\"\",\"\",IF(SUM(B237:B243)=0,\".\",\", \"))","v":{"$error":"#REF!"}}]
[null,{"$f":"O_NumberOfResidents_Elever_I","v":{"$error":"#REF!"}},{"$f":"IF(B237>0,CONCATENATE(B237,\" elever\"),\"\")","v":{"$error":"#REF!"}},{"$f":"IF(C237=\"\",\"\",IF(SUM(B238:B243)=0,\".\",\", \"))","v":{"$error":"#REF!"}}]
[null,{"$f":"O_NumberOfResidents_Studenter_I","v":{"$error":"#REF!"}},{"$f":"IF(B238>0,CONCATENATE(B238,\" studenter\"),\"\")","v":{"$error":"#REF!"}},{"$f":"IF(C238=\"\",\"\",IF(SUM(B239:B243)=0,\".\",\", \"))","v":{"$error":"#REF!"}}]
[null,{"$f":"O_NumberOfResidents_Årsverk_I","v":{"$error":"#REF!"}},{"$f":"IF(B239>0,CONCATENATE(B239,\" årsverk\"),\"\")","v":{"$error":"#REF!"}},{"$f":"IF(C239=\"\",\"\",IF(SUM(B240:B243)=0,\".\",\", \"))","v":{"$error":"#REF!"}}]
[null,{"$f":"O_NumberOfResidents_Pasienter_I","v":{"$error":"#REF!"}},{"$f":"IF(B240>0,CONCATENATE(B240,\" pasienter\"),\"\")","v":{"$error":"#REF!"}},{"$f":"IF(C240=\"\",\"\",IF(SUM(B241:B243)=0,\".\",\", \"))","v":{"$error":"#REF!"}}]
[null,{"$f":"O_NumberOfResidents_Brukere_I","v":{"$error":"#REF!"}},{"$f":"IF(B241>0,CONCATENATE(B241,\" brukere\"),\"\")","v":{"$error":"#REF!"}},{"$f":"IF(C241=\"\",\"\",IF(SUM(B242:B243)=0,\".\",\", \"))","v":{"$error":"#REF!"}}]
[null,{"$f":"O_NumberOfResidents_Hotellsenger_I","v":{"$error":"#REF!"}},{"$f":"IF(B242>0,CONCATENATE(B242,\" hotellsenger\"),\"\")","v":{"$error":"#REF!"}},{"$f":"IF(C242=\"\",\"\",IF(SUM(B243:B243)=0,\".\",\", \"))","v":{"$error":"#REF!"}}]
[null,{"$f":"O_NumberOfResidents_Hotellrom_I","v":{"$error":"#REF!"}},{"$f":"IF(B243>0,CONCATENATE(B243,\" hotellrom\"),\"\")","v":{"$error":"#REF!"}},{"$f":"IF(C243=\"\",\"\",\".\")","v":{"$error":"#REF!"}},{"$f":"CONCATENATE(IF(B235+B236+B237+B238+B239+B240+B241+B242+B243>0,CONCATENATE(\" fordelt på \"),\"\"),C235,D235,C236,D236,C237,D237,C238,D238,C239,D239,C240,D240,C241,D241,C242,D242,C243,D243)","v":{"$error":"#REF!"}}]
[{"$nulls":4},{"$f":"IF(E234=\"\",\"\",(CONCATENATE(E234,IF(E243=\"\",IF(D248>0,CONCATENATE(\" fordelt på \",D248,\" personer.\"),\"\"),E243))))","v":{"$error":"#REF!"}}]
[null,{"$f":"IF(O_AreaUsed_I=0,\"\",O_AreaUsed_I)","v":{"$error":"#REF!"}},null,null,{"$f":"EXACT(MID(B245,1,15),MID(E244,1,15))","v":{"$error":"#REF!"}}]
[{"$nulls":4},{"$f":"IF(E245=TRUE(),CONCATENATE(E244,\" \",MID(B245,FIND(\"\n\",B245,1),10000)),CONCATENATE(IF(E244=\"\",B245,CONCATENATE(E244,Linebreak,B245))))","v":{"$error":"#REF!"}}]
[{"$nulls":4},{"$f":"IFERROR(E246,CONCATENATE(E244,Linebreak,B245))","v":{"$error":"#REF!"}},null,{"$f":"IF((E247=\"\n0\"),\"\",E247)","v":{"$error":"#REF!"}}]
["NumberOfResidents",{"$f":"IF((B235+B236+B237+B238+B239+B240+B241+B242)>0,B235+B236+B237+B238+B239+B240+B241+B242,0)","v":{"$error":"#REF!"}},null,{"$f":"IF(B248=0,P_NumberOfResidents_I,B248)","v":{"$error":"#REF!"}},null,"Integer",{"$f":"IF((D248=0),\"\",D248)","v":{"$error":"#REF!"}}]
["GrossSquareFootBTA",{"$f":"O_GrossSquareFootBTA_I","v":{"$error":"#REF!"}},{"$nulls":3},"Integer",{"$f":"IF((B249=0),\"\",B249)","v":{"$error":"#REF!"}}]
["GrossSquareFoot",{"$f":"O_GrossSquareFoot_I","v":{"$error":"#REF!"}},{"$nulls":3},"Integer",{"$f":"IF((B250=0),\"\",B250)","v":{"$error":"#REF!"}}]
["GrossSquareFootHeated",{"$f":"O_GrossSquareFootHeated_I","v":{"$error":"#REF!"}},{"$nulls":3},"Integer",{"$f":"IF((B251=0),\"\",B251)","v":{"$error":"#REF!"}}]
["SquareFootGlass",{"$f":"O_SquareFootGlass_I","v":{"$error":"#REF!"}},{"$nulls":3},"Float",{"$f":"IF((B252=0),\"\",B252)","v":{"$error":"#REF!"}}]
["CompactnessFactor",{"$f":"O_SurfaceArea_I/O_HeatedVolume_I","v":{"$error":"#REF!"}},null,{"$f":"IF(ISERROR(B253)=TRUE,0,B253)","v":{"v":0,"d":"0.000"}},{"$f":"IF(D253>0,ROUND(D253,4),ROUND(C253,4))","v":0},"Float",{"$f":"IF((E253=0),\"\",E253)","v":""}]
["GreenAreaIncease",{"$f":"F_GreenAreaIncrease_I","v":{"$error":"#REF!"}},{"$nulls":3},"Integer",{"$f":"IF((B254=0),\"\",B254)","v":{"$error":"#REF!"}}]
["HardAreaReduction",{"$f":"F_HardAreaReduction_I","v":{"$error":"#REF!"}},{"$nulls":3},"Integer",{"$error":"#REF!"}]
["WalkwaysLength",{"$f":"F_WalkwaysLength_I","v":{"$error":"#REF!"}},{"$nulls":3},"Integer",{"$error":"#REF!"}]
["DistanceToCollectivePoint",{"$f":"O_DistanceToCollectivePoint_I","v":{"$error":"#REF!"}},{"$nulls":3},"Integer",{"$error":"#REF!"}]
["DistanceToCityCenter",{"$f":"O_DistanceToCityCenter_I","v":{"$error":"#REF!"}},{"$nulls":3},"Integer",{"$error":"#REF!"}]
["ParkingArea",{"$f":"O_ParkingArea_I","v":{"$error":"#REF!"}},{"$nulls":3},"Float",{"$error":"#REF!"}]
["ParkingSpotsPerUnit",{"$f":"O_ParkingSpotsPerUnit_I","v":{"$error":"#REF!"}},{"$nulls":3},"Float",{"$error":"#REF!"}]
["BikeParkingArea",{"$f":"O_BikeParkingArea_I","v":{"$error":"#REF!"}},{"$nulls":3},"Float",{"$error":"#REF!"}]
["BikeParkingSpotsPerUnit",{"$f":"O_BikeParkingSpotsPerUnit_I","v":{"$error":"#REF!"}},{"$nulls":3},"Float",{"$error":"#REF!"}]
["FByerCO2",{"$f":"F_FByerCO2_I","v":{"$error":"#REF!"}},{"$nulls":3},"Float",{"$error":"#REF!"}]
["CO2Method",{"$f":"O_CO2Method_I","v":{"$error":"#REF!"}},{"$nulls":3},"Short string",{"$f":"IF((B264=0),\"\",B264)","v":{"$error":"#REF!"}}]
["CO2ReferenceEnergy",{"$f":"O_CO2ReferenceEnergy_I","v":{"$error":"#REF!"}},{"$nulls":3},"Float",{"$error":"#REF!"}]
["CO2ReferenceMaterials",{"$f":"O_CO2ReferenceMaterials_I","v":{"$error":"#REF!"}},{"$nulls":3},"Float",{"$error":"#REF!"}]
["CO2ReferenceTransport",{"$f":"O_CO2ReferenceTransport_I","v":{"$error":"#REF!"}},{"$nulls":3},"Float",{"$error":"#REF!"}]
["CO2DesignedEnergy",{"$f":"O_CO2DesignedEnergy_I","v":{"$error":"#REF!"}},{"$nulls":3},"Float",{"$error":"#REF!"}]
["CO2DesignedMaterials",{"$f":"O_CO2DesignedMaterials_I","v":{"$error":"#REF!"}},{"$nulls":3},"Float",{"$error":"#REF!"}]
["CO2DesignedTransport",{"$f":"O_CO2DesignedTransport_I","v":{"$error":"#REF!"}},{"$nulls":3},"Float",{"$error":"#REF!"}]
["CO2FinishedEnergy",{"$f":"O_CO2FinishedEnergy_I","v":{"$error":"#REF!"}},{"$nulls":3},"Float",{"$error":"#REF!"}]
["CO2FinishedMaterials",{"$f":"O_CO2FinishedMaterials_I","v":{"$error":"#REF!"}},{"$nulls":3},"Float",{"$error":"#REF!"}]
["CO2FinishedTransport",{"$f":"O_CO2FinishedTransport_I","v":{"$error":"#REF!"}},{"$nulls":3},"Float",{"$error":"#REF!"}]
["CO2InUseEnergy",{"$f":"O_CO2InUseEnergy_I","v":{"$error":"#REF!"}},{"$nulls":3},"Float",{"$error":"#REF!"}]
["CO2InUseMaterials",{"$f":"O_CO2InUseMaterials_I","v":{"$error":"#REF!"}},{"$nulls":3},"Float",{"$error":"#REF!"}]
["CO2InUseTransport",{"$f":"O_CO2InUseTransport_I","v":{"$error":"#REF!"}},{"$nulls":3},"Float",{"$error":"#REF!"}]
["EnergyLabel",{"$f":"O_EnergyLabel_I","v":{"$error":"#REF!"}},{"$f":"VLOOKUP(B277,Enumerations!$A$1:$C$10,3,FALSE)","v":{"$error":"#REF!"}},null,null,"Enumeration",{"$f":"IF(C277=1,\"\",C277)","v":{"$error":"#REF!"}}]
["HeatRating",{"$f":"O_HeatRating_I","v":{"$error":"#REF!"}},{"$f":"VLOOKUP(B278,Enumerations!$D$1:$F$10,3,FALSE)","v":{"$error":"#REF!"}},null,null,"Enumeration",{"$f":"IF(C278=1,\"\",C278)","v":{"$error":"#REF!"}}]
["EnergyConsumption",{"$f":"IF(B295>0,CONCATENATE(\"Målt forbruk (levert): \",B295,\" kWh/m2/år.\"),\"\")","v":{"$error":"#REF!"}},{"$f":"IF(B280=\"\",B279,IF(B279=\"\",\"\",CONCATENATE(B279,\" \")))","v":{"$error":"#REF!"}},{"$f":"IF(B279=\"\",\"\",CONCATENATE(\" \",O_EnergyConsumption_I))","v":{"$error":"#REF!"}},{"$f":"CONCATENATE(C279,C280)","v":{"$error":"#REF!"}}]
[null,{"$f":"CONCATENATE(IF(B288+B289>0,CONCATENATE(IF(B288=0,\"\",CONCATENATE(\"Netto energibehov: \",B288,\" kWh/m2 år. \")),IF(B289=0,\"\",CONCATENATE(\"Levert energi: \",B289,\" kWh/m2 år.\")),\" (Beregnet iht NS3700/3701).\"),IF(B290+B291>0,CONCATENATE(IF(B290=0,\"\",CONCATENATE(\"Netto energibehov: \",B290,\" kWh/m2 år. \")),IF(B291=0,\"\",CONCATENATE(\"Levert energi: \",B291,\" kWh/m2 år.\")),\" (Beregnet iht NS3031 og standard klima).\"),\"\")))","v":{"$error":"#REF!"}},{"$f":"IF(B281=\"\",B280,IF(B280=\"\",\"\",CONCATENATE(B280,\" \")))","v":{"$error":"#REF!"}},null,{"$f":"EXACT(MID(C281,1,15),MID(E279,1,15))","v":{"$error":"#REF!"}}]
[null,{"$f":"O_EnergyConsumption_I","v":{"$error":"#REF!"}},{"$f":"IF(B281=0,\"\",B281)","v":{"$error":"#REF!"}},null,{"$f":"IF(E280=TRUE(),CONCATENATE(E279,MID(C281,FIND(\"\n\",C281,1),10000)),IF(C281=\"\",E279,IF(E279=\"\",C281,CONCATENATE(E279,Linebreak,C281))))","v":{"$error":"#REF!"}},"Long string"]
[{"$nulls":4},{"$f":"IFERROR(E281,CONCATENATE(E279,Linebreak,C281))","v":{"$error":"#REF!"}},null,{"$f":"IF((E282=\"\n0\"),\"\",E282)","v":{"$error":"#REF!"}}]
["EnergySources",{"$f":"IF(O_Energiforsyningssystem_I1=0,\"-----\",O_Energiforsyningssystem_I1)","v":{"$error":"#REF!"}},{"$f":"O_EnergiforsyningssystemKommentar_I1","v":{"$error":"#REF!"}},{"$f":"IF(B283=\"-----\",\"\",CONCATENATE(B283,IF(C283=0,\"\",CONCATENATE(\" (\",C283,\")\")),IF(B284=\"-----\",\"\",\", \")))","v":{"$error":"#REF!"}},{"$f":"CONCATENATE(D283,D284,D285,D286)","v":{"$error":"#REF!"}}]
[null,{"$f":"IF(O_Energiforsyningssystem_I2=0,\"-----\",O_Energiforsyningssystem_I2)","v":{"$error":"#REF!"}},{"$f":"O_EnergiforsyningssystemKommentar_I2","v":{"$error":"#REF!"}},{"$f":"IF(B284=\"-----\",\"\",CONCATENATE(B284,IF(C284=0,\"\",CONCATENATE(\" (\",C284,\")\")),IF(B285=\"-----\",\"\",\", \")))","v":{"$error":"#REF!"}},{"$f":"EXACT(MID(C287,1,15),MID(E283,1,15))","v":{"$error":"#REF!"}}]
[null,{"$f":"IF(O_Energiforsyningssystem_I3=0,\"-----\",O_Energiforsyningssystem_I3)","v":{"$error":"#REF!"}},{"$f":"O_EnergiforsyningssystemKommentar_I3","v":{"$error":"#REF!"}},{"$f":"IF(B285=\"-----\",\"\",CONCATENATE(B285,IF(C285=0,\"\",CONCATENATE(\" (\",C285,\")\")),IF(B286=\"-----\",\"\",\", \")))","v":{"$error":"#REF!"}},{"$f":"IF(E284=TRUE(),CONCATENATE(E283,\" \",MID(C287,FIND(\"\n\",C287,1),10000)),IF(C287=\"\",E283,IF(E283=\"\",C287,CONCATENATE(E283,Linebreak,C287))))","v":{"$error":"#REF!"}}]
[null,{"$f":"IF(O_Energiforsyningssystem_I4=0,\"-----\",O_Energiforsyningssystem_I4)","v":{"$error":"#REF!"}},{"$f":"O_EnergiforsyningssystemKommentar_I4","v":{"$error":"#REF!"}},{"$f":"IF(B286=\"-----\",\"\",CONCATENATE(B286,IF(C286=0,\"\",CONCATENATE(\" (\",C286,\")\")),IF(C287=\"-----\",\"\",\", \")))","v":{"$error":"#REF!"}}]
[null,{"$f":"O_EnergySources_I","v":{"$error":"#REF!"}},{"$f":"IF(B287=0,\"\",B287)","v":{"$error":"#REF!"}},null,{"$f":"IFERROR(E285,CONCATENATE(E283,Linebreak,C287))","v":{"$error":"#REF!"}},"Long string",{"$f":"IF((E287=\"\n0\"),\"\",E287)","v":{"$error":"#REF!"}}]
["NetEnergy3700",{"$f":"O_NetEnergy3700_I","v":{"$error":"#REF!"}},{"$nulls":3},"Integer",{"$f":"IF((B288=0),\"\",B288)","v":{"$error":"#REF!"}}]
["EstimatedDeliveredEnergy3700",{"$f":"O_EstimatedDeliveredEnergy3700_I","v":{"$error":"#REF!"}},{"$nulls":3},"Integer",{"$f":"IF((B289=0),\"\",B289)","v":{"$error":"#REF!"}}]
["NetEnergy",{"$f":"O_NetEnergy_I","v":{"$error":"#REF!"}},{"$nulls":3},"Integer",{"$f":"IF((B290=0),\"\",B290)","v":{"$error":"#REF!"}}]
["EstimatedDeliveredEnergy",{"$f":"O_EstimatedDeliveredEnergy_I","v":{"$error":"#REF!"}},{"$nulls":3},"Integer",{"$error":"#REF!"}]
["EnergySavings",{"$f":"O_EnergySavings_I","v":{"$error":"#REF!"}},{"$nulls":3},"Integer",{"$error":"#REF!"}]
["EnergyConvertedFromElectricityToRenewable",{"$f":"O_EnergyConvertedFromElectricityToRenewable_I","v":{"$error":"#REF!"}},{"$nulls":3},"Integer",{"$error":"#REF!"}]
["EnergyConvertedFromFossilToRenewable",{"$f":"O_EnergyConvertedFromFossilToRenewable_I","v":{"$error":"#REF!"}},{"$nulls":3},"Integer",{"$error":"#REF!"}]
["EnergyDelivered",{"$f":"O_EnergyDelivered_I","v":{"$error":"#REF!"}},{"$nulls":3},"Integer",{"$f":"IF((B295=0),\"\",B295)","v":{"$error":"#REF!"}}]
["EnovaFactsEnergy",{"$f":"O_EnovaFactsEnergy_I","v":{"$error":"#REF!"}},{"$nulls":3},"Long string",{"$error":"#REF!"}]
["EnovaFactsComfort",{"$f":"O_EnovaFactsComfort_I","v":{"$error":"#REF!"}},{"$nulls":3},"Long string",{"$f":"IF((B297=0),\"\",B297)","v":{"$error":"#REF!"}}]
["UValueRoof",{"$f":"O_UValueRoof_I","v":{"$error":"#REF!"}},{"$nulls":3},"Float",{"$error":"#REF!"}]
["UValueFloor",{"$f":"O_UValueFloor_I","v":{"$error":"#REF!"}},{"$nulls":3},"Float",{"$error":"#REF!"}]
["UValueWall",{"$f":"O_UValueWall_I","v":{"$error":"#REF!"}},{"$nulls":3},"Float",{"$error":"#REF!"}]
["UValueWindow",{"$f":"O_UValueWindow_I","v":{"$error":"#REF!"}},{"$nulls":3},"Float",{"$error":"#REF!"}]
["MeasuredAirTightness",{"$f":"O_MeasuredAirTightness_I","v":{"$error":"#REF!"}},{"$nulls":3},"Float",{"$error":"#REF!"}]
["SpecificFanPower",{"$f":"O_SpecificFanPower_I","v":{"$error":"#REF!"}},{"$nulls":3},"Float",{"$error":"#REF!"}]
["HeatRecoveryEfficiency",{"$f":"O_HeatRecoveryEfficiency_I","v":{"$error":"#REF!"}},{"$f":"IF(B304>1,B304,B304*100)","v":{"$error":"#REF!"}},null,null,"Float",{"$f":"IF((C304=0),\"\",C304)","v":{"$error":"#REF!"}}]
["RoomHeating",{"$f":"O_RoomHeating_I","v":{"$error":"#REF!"}},{"$nulls":3},"Float",{"$f":"IF((B305=0),\"\",B305)","v":{"$error":"#REF!"}}]
["VentilationHeating",{"$f":"O_VentilationHeating_I","v":{"$error":"#REF!"}},{"$nulls":3},"Float",{"$f":"IF((B306=0),\"\",B306)","v":{"$error":"#REF!"}}]
["DomesticHotWater",{"$f":"O_DomesticHotWater_I","v":{"$error":"#REF!"}},{"$nulls":3},"Float",{"$f":"IF((B307=0),\"\",B307)","v":{"$error":"#REF!"}}]
["FanAdministration",{"$f":"O_FanAdministration_I","v":{"$error":"#REF!"}},{"$nulls":3},"Float",{"$f":"IF((B308=0),\"\",B308)","v":{"$error":"#REF!"}}]
["PumpAdministration",{"$f":"O_PumpAdministration_I","v":{"$error":"#REF!"}},{"$nulls":3},"Float",{"$error":"#REF!"}]
["Lighting",{"$f":"O_Lighting_I","v":{"$error":"#REF!"}},{"$nulls":3},"Float",{"$error":"#REF!"}]
["TechnicalEquipment",{"$f":"O_TechnicalEquipment_I","v":{"$error":"#REF!"}},{"$nulls":3},"Float",{"$error":"#REF!"}]
["RoomCooling",{"$f":"O_RoomCooling_I","v":{"$error":"#REF!"}},{"$nulls":3},"Float",{"$error":"#REF!"}]
["VentilationCooling",{"$f":"O_VentilationCooling_I","v":{"$error":"#REF!"}},{"$nulls":3},"Float",{"$error":"#REF!"}]
["OtherEnergyPosts",{"$f":"O_OtherEnergyPosts_I","v":{"$error":"#REF!"}},{"$nulls":3},"Float",{"$error":"#REF!"}]
["EnergyEfficiencyMethod",{"$f":"O_EnergyEfficiencyMethod_I","v":{"$error":"#REF!"}},{"$nulls":3},"Short string",{"$f":"IF((B315=0),\"\",B315)","v":{"$error":"#REF!"}}]
["BuildingCosts",{"$f":"IF(O_BuildingCostsSum_I=0,\"\",O_BuildingCostsSum_I)","v":{"$error":"#REF!"}},{"$f":"IF(B316=\"\",\"\",CONCATENATE(IF(B316>10000000,CONCATENATE(ROUND((B316/1000000),2),\" MNOK\"),CONCATENATE(B316,\" NOK\"))))","v":{"$error":"#REF!"}},{"$f":"IF(#REF!=0,\"\",#REF!)","v":{"$error":"#REF!"}},null,"Long string",{"$f":"IF(CONCATENATE(C316,D316)=\"\",\"\",IF(C316=\"\",D316,IF(D316=\"\",C316,CONCATENATE(C316,\" \",D316))))","v":{"$error":"#REF!"}}]
["MerkostnadM2",{"$f":"O_MerkostnadM2_I","v":{"$error":"#REF!"}},{"$nulls":3},"Integer",{"$error":"#REF!"}]
["MerkostnadEnergiM2Enova",{"$f":"O_MerkostnadEnergiM2Enova_I","v":{"$error":"#REF!"}},{"$nulls":3},"Integer",{"$error":"#REF!"}]
["MerkostnadUniversellUtformingM2",{"$f":"O_MerkostnadUniversellUtformingM2_I","v":{"$error":"#REF!"}},{"$nulls":3},"Integer",{"$error":"#REF!"}]
["ProjectSupportEnova",{"$f":"O_ProjectSupportEnova_I","v":{"$error":"#REF!"}},{"$nulls":3},"Integer",{"$error":"#REF!"}]
["ProjectSupportHusbanken",{"$f":"O_ProjectSupportHusbanken_I","v":{"$error":"#REF!"}},{"$nulls":3},"Integer",{"$error":"#REF!"}]
["PublishedIn",{"$f":"O_PublishedIn_I1","v":{"$error":"#REF!"}},{"$f":"IF(B322=0,\"\",B322)","v":{"$error":"#REF!"}},{"$f":"IF(B323=0,C322,CONCATENATE(C322,Linebreak))","v":{"$error":"#REF!"}}]
["PublishedIn",{"$f":"O_PublishedIn_I2","v":{"$error":"#REF!"}},{"$error":"#REF!"},{"$error":"#REF!"}]
["PublishedIn",{"$f":"O_PublishedIn_I3","v":{"$error":"#REF!"}},{"$error":"#REF!"},{"$error":"#REF!"}]
["PublishedIn",{"$f":"O_PublishedIn_I4","v":{"$error":"#REF!"}},{"$error":"#REF!"},{"$error":"#REF!"}]
["PublishedIn",{"$f":"O_PublishedIn_I5","v":{"$error":"#REF!"}},{"$error":"#REF!"},{"$error":"#REF!"}]
["PublishedIn",{"$f":"O_PublishedIn_I6","v":{"$error":"#REF!"}},{"$error":"#REF!"},{"$error":"#REF!"}]
["PublishedIn",{"$f":"O_PublishedIn_I7","v":{"$error":"#REF!"}},{"$error":"#REF!"},{"$error":"#REF!"}]
["PublishedIn",{"$f":"O_PublishedIn_I8","v":{"$error":"#REF!"}},{"$error":"#REF!"},{"$error":"#REF!"}]
["PublishedIn",{"$f":"O_PublishedIn_I9","v":{"$error":"#REF!"}},{"$error":"#REF!"},{"$error":"#REF!"},null,"Long string",{"$f":"CONCATENATE(D322,D323,D324,D325,D326,D327,D328,D329,D330)","v":{"$error":"#REF!"}}]
["QuickLinks","QuickLinkText","InternalNodeId","ExternalUrl","OpenInNewWindow"]
["QuickLink1",{"$f":"O_QuickLinks_Name_I1","v":{"$error":"#REF!"}},{"$f":"O_QuickLinks_InternalNodeId_I1","v":{"$error":"#REF!"}},{"$f":"IF(O_QuickLinks_ExternalUrl_I1=\"\",\"\",IF(ISERROR(FIND(\"http://\",O_QuickLinks_ExternalUrl_I1,1)),CONCATENATE(\"http://\",O_QuickLinks_ExternalUrl_I1),O_QuickLinks_ExternalUrl_I1))","v":{"$error":"#REF!"}},{"$f":"O_QuickLinks_OpenInNewWindow_I1","v":{"$error":"#REF!"}},{"$f":"IF(D332=\"\",\"\",CONCATENATE(Dele_QuickLinkText,IF(B332=0,D332,B332),Dele_QuickLinkExternalUrl,D332))","v":{"$error":"#REF!"}}]
["QuickLink2",{"$f":"O_QuickLinks_Name_I2","v":{"$error":"#REF!"}},{"$f":"O_QuickLinks_InternalNodeId_I2","v":{"$error":"#REF!"}},{"$f":"IF(O_QuickLinks_ExternalUrl_I2=\"\",\"\",IF(ISERROR(FIND(\"http://\",O_QuickLinks_ExternalUrl_I2,1)),CONCATENATE(\"http://\",O_QuickLinks_ExternalUrl_I2),O_QuickLinks_ExternalUrl_I2))","v":{"$error":"#REF!"}},{"$f":"O_QuickLinks_OpenInNewWindow_I2","v":{"$error":"#REF!"}},{"$error":"#REF!"}]
["QuickLink3",{"$f":"O_QuickLinks_Name_I3","v":{"$error":"#REF!"}},{"$f":"O_QuickLinks_InternalNodeId_I3","v":{"$error":"#REF!"}},{"$f":"IF(O_QuickLinks_ExternalUrl_I3=\"\",\"\",IF(ISERROR(FIND(\"http://\",O_QuickLinks_ExternalUrl_I3,1)),CONCATENATE(\"http://\",O_QuickLinks_ExternalUrl_I3),O_QuickLinks_ExternalUrl_I3))","v":{"$error":"#REF!"}},{"$f":"O_QuickLinks_OpenInNewWindow_I3","v":{"$error":"#REF!"}},{"$error":"#REF!"}]
["QuickLink4",{"$f":"O_QuickLinks_Name_I4","v":{"$error":"#REF!"}},{"$f":"O_QuickLinks_InternalNodeId_I4","v":{"$error":"#REF!"}},{"$f":"IF(O_QuickLinks_ExternalUrl_I4=\"\",\"\",IF(ISERROR(FIND(\"http://\",O_QuickLinks_ExternalUrl_I4,1)),CONCATENATE(\"http://\",O_QuickLinks_ExternalUrl_I4),O_QuickLinks_ExternalUrl_I4))","v":{"$error":"#REF!"}},{"$f":"O_QuickLinks_OpenInNewWindow_I4","v":{"$error":"#REF!"}},{"$error":"#REF!"}]
["QuickLink5",{"$f":"O_QuickLinks_Name_I5","v":{"$error":"#REF!"}},{"$f":"O_QuickLinks_InternalNodeId_I5","v":{"$error":"#REF!"}},{"$f":"IF(O_QuickLinks_ExternalUrl_I5=\"\",\"\",IF(ISERROR(FIND(\"http://\",O_QuickLinks_ExternalUrl_I5,1)),CONCATENATE(\"http://\",O_QuickLinks_ExternalUrl_I5),O_QuickLinks_ExternalUrl_I5))","v":{"$error":"#REF!"}},{"$f":"O_QuickLinks_OpenInNewWindow_I5","v":{"$error":"#REF!"}},{"$error":"#REF!"}]
["QuickLink6",{"$f":"O_QuickLinks_Name_I6","v":{"$error":"#REF!"}},{"$f":"O_QuickLinks_InternalNodeId_I6","v":{"$error":"#REF!"}},{"$f":"IF(O_QuickLinks_ExternalUrl_I6=\"\",\"\",IF(ISERROR(FIND(\"http://\",O_QuickLinks_ExternalUrl_I6,1)),CONCATENATE(\"http://\",O_QuickLinks_ExternalUrl_I6),O_QuickLinks_ExternalUrl_I6))","v":{"$error":"#REF!"}},{"$f":"O_QuickLinks_OpenInNewWindow_I6","v":{"$error":"#REF!"}},{"$error":"#REF!"}]
["QuickLink7",{"$f":"O_QuickLinks_Name_I7","v":{"$error":"#REF!"}},{"$f":"O_QuickLinks_InternalNodeId_I7","v":{"$error":"#REF!"}},{"$f":"IF(O_QuickLinks_ExternalUrl_I7=\"\",\"\",IF(ISERROR(FIND(\"http://\",O_QuickLinks_ExternalUrl_I7,1)),CONCATENATE(\"http://\",O_QuickLinks_ExternalUrl_I7),O_QuickLinks_ExternalUrl_I7))","v":{"$error":"#REF!"}},{"$f":"O_QuickLinks_OpenInNewWindow_I7","v":{"$error":"#REF!"}},{"$error":"#REF!"}]
["QuickLink8",{"$f":"O_QuickLinks_Name_I8","v":{"$error":"#REF!"}},{"$f":"O_QuickLinks_InternalNodeId_I8","v":{"$error":"#REF!"}},{"$f":"IF(O_QuickLinks_ExternalUrl_I8=\"\",\"\",IF(ISERROR(FIND(\"http://\",O_QuickLinks_ExternalUrl_I8,1)),CONCATENATE(\"http://\",O_QuickLinks_ExternalUrl_I8),O_QuickLinks_ExternalUrl_I8))","v":{"$error":"#REF!"}},{"$f":"O_QuickLinks_OpenInNewWindow_I8","v":{"$error":"#REF!"}},{"$error":"#REF!"}]
["QuickLink9",{"$f":"O_QuickLinks_Name_I9","v":{"$error":"#REF!"}},{"$f":"O_QuickLinks_InternalNodeId_I9","v":{"$error":"#REF!"}},{"$f":"IF(O_QuickLinks_ExternalUrl_I9=\"\",\"\",IF(ISERROR(FIND(\"http://\",O_QuickLinks_ExternalUrl_I9,1)),CONCATENATE(\"http://\",O_QuickLinks_ExternalUrl_I9),O_QuickLinks_ExternalUrl_I9))","v":{"$error":"#REF!"}},{"$f":"O_QuickLinks_OpenInNewWindow_I9","v":{"$error":"#REF!"}},{"$error":"#REF!"}]
["QuickLink10",{"$f":"O_QuickLinks_Name_I10","v":{"$error":"#REF!"}},{"$f":"O_QuickLinks_InternalNodeId_I10","v":{"$error":"#REF!"}},{"$f":"IF(O_QuickLinks_ExternalUrl_I10=\"\",\"\",IF(ISERROR(FIND(\"http://\",O_QuickLinks_ExternalUrl_I10,1)),CONCATENATE(\"http://\",O_QuickLinks_ExternalUrl_I10),O_QuickLinks_ExternalUrl_I10))","v":{"$error":"#REF!"}},{"$f":"O_QuickLinks_OpenInNewWindow_I10","v":{"$error":"#REF!"}},{"$error":"#REF!"}]
["QuickLink11",{"$f":"O_QuickLinks_Name_I11","v":{"$error":"#REF!"}},{"$f":"O_QuickLinks_InternalNodeId_I11","v":{"$error":"#REF!"}},{"$f":"IF(O_QuickLinks_ExternalUrl_I11=\"\",\"\",IF(ISERROR(FIND(\"http://\",O_QuickLinks_ExternalUrl_I11,1)),CONCATENATE(\"http://\",O_QuickLinks_ExternalUrl_I11),O_QuickLinks_ExternalUrl_I11))","v":{"$error":"#REF!"}},{"$f":"O_QuickLinks_OpenInNewWindow_I11","v":{"$error":"#REF!"}},{"$error":"#REF!"}]
["QuickLink12",{"$f":"O_QuickLinks_Name_I12","v":{"$error":"#REF!"}},{"$f":"O_QuickLinks_InternalNodeId_I12","v":{"$error":"#REF!"}},{"$f":"IF(O_QuickLinks_ExternalUrl_I12=\"\",\"\",IF(ISERROR(FIND(\"http://\",O_QuickLinks_ExternalUrl_I12,1)),CONCATENATE(\"http://\",O_QuickLinks_ExternalUrl_I12),O_QuickLinks_ExternalUrl_I12))","v":{"$error":"#REF!"}},{"$f":"O_QuickLinks_OpenInNewWindow_I12","v":{"$error":"#REF!"}},{"$error":"#REF!"}]
["QuickLink13",{"$f":"O_QuickLinks_Name_I13","v":{"$error":"#REF!"}},{"$f":"O_QuickLinks_InternalNodeId_I13","v":{"$error":"#REF!"}},{"$f":"IF(O_QuickLinks_ExternalUrl_I13=\"\",\"\",IF(ISERROR(FIND(\"http://\",O_QuickLinks_ExternalUrl_I13,1)),CONCATENATE(\"http://\",O_QuickLinks_ExternalUrl_I13),O_QuickLinks_ExternalUrl_I13))","v":{"$error":"#REF!"}},{"$f":"O_QuickLinks_OpenInNewWindow_I13","v":{"$error":"#REF!"}},{"$error":"#REF!"}]
["QuickLink14",{"$f":"O_QuickLinks_Name_I14","v":{"$error":"#REF!"}},{"$f":"O_QuickLinks_InternalNodeId_I14","v":{"$error":"#REF!"}},{"$f":"IF(O_QuickLinks_ExternalUrl_I14=\"\",\"\",IF(ISERROR(FIND(\"http://\",O_QuickLinks_ExternalUrl_I14,1)),CONCATENATE(\"http://\",O_QuickLinks_ExternalUrl_I14),O_QuickLinks_ExternalUrl_I14))","v":{"$error":"#REF!"}},{"$f":"O_QuickLinks_OpenInNewWindow_I14","v":{"$error":"#REF!"}},{"$error":"#REF!"},{"$f":"CONCATENATE(F332,F333,F334,F335,F336,F337,F338,F339,F340,F341,F342,F343,F344,F345)","v":{"$error":"#REF!"}}]
["References",{"$f":"O_References_I1","v":{"$error":"#REF!"}},{"$f":"IF(B346=0,\"\",B346)","v":{"$error":"#REF!"}},{"$f":"IF(C347=\"\",C346,CONCATENATE(C346,Linebreak))","v":{"$error":"#REF!"}}]
[null,{"$f":"O_References_I2","v":{"$error":"#REF!"}},{"$f":"IF(B347=0,\"\",B347)","v":{"$error":"#REF!"}},{"$f":"IF(C348=\"\",C347,CONCATENATE(C347,Linebreak))","v":{"$error":"#REF!"}}]
[null,{"$f":"O_References_I3","v":{"$error":"#REF!"}},{"$f":"IF(B348=0,\"\",B348)","v":{"$error":"#REF!"}},{"$f":"IF(C349=\"\",C348,CONCATENATE(C348,Linebreak))","v":{"$error":"#REF!"}}]
[null,{"$f":"O_References_I4","v":{"$error":"#REF!"}},{"$f":"IF(B349=0,\"\",B349)","v":{"$error":"#REF!"}},{"$f":"C349","v":{"$error":"#REF!"}},null,"Short string",{"$f":"CONCATENATE(D346,D347,D348,D349)","v":{"$error":"#REF!"}}]
["EditAccess",{"$f":"A_EditAccess_I","v":{"$error":"#REF!"}},{"$f":"VLOOKUP(B350,Relations!I1:J48,2,FALSE)","v":{"$error":"#REF!"}},{"$f":"IF(ISERROR(C350)=TRUE,\"\",C350)","v":""},null,"Relation (one)",{"$f":"IF((D350=0),\"\",D350)","v":""}]
["PublishAccess",{"$f":"A_PublishAccess_I","v":{"$error":"#REF!"}},{"$f":"VLOOKUP(B351,Relations!I2:J49,2,FALSE)","v":{"$error":"#REF!"}},{"$f":"IF(ISERROR(C351)=TRUE,\"\",C351)","v":""},null,"Relation (one)",{"$f":"IF((D351=0),\"\",D351)","v":""}]
{"$rows_empty":7}
["Diverse tegn"]
["Linjeskift","\n"]
["Mellom Relation (many)s",";"]
["Deletegn ParagraphTitle","[§ParagraphTitle§]"]
["Deletegn ParagraphText","[§ParagraphText§]"]
["Deletegn ChangeLogText","[§ChangeLogText§]"]
["Deletegn ChangeLogDate","[§ChangeLogDate§]"]
["Deletegn QuickLinkText","[§QuickLinkText§]"]
["Deletegn QuickLinkExternalUrl","[§QuickLinkExternalUrl§]"]
["HTML-avsnitt","<p>"]
["HTML-avsnittslutt","</p>"]

{"sheet":"MeasureExport","index":7,"n_rows":121,"n_cols":7,"rows_kept":121,"hidden":true,"merged":[[2,1,2,4],[17,1,17,4],[32,1,32,4],[47,1,47,4],[62,1,62,4],[77,1,77,4],[92,1,92,4],[107,1,107,4]]}
["Codename","Innhold",{"$nulls":3},"Property.type","Value til Eksport"]
["Id_1",{"$f":"T_EcoMeasure_Id_I1","v":{"$error":"#REF!"}},{"$nulls":3},"Integer",{"$f":"IF((B2=0),\"\",B2)","v":{"$error":"#REF!"}}]
["Name_1",{"$f":"T_EcoMeasure_Name_I1","v":{"$error":"#REF!"}},{"$nulls":3},"Short string",{"$f":"IF((B3=0),\"\",B3)","v":{"$error":"#REF!"}}]
["Project_1",{"$f":"A_ID_I","v":{"$error":"#REF!"}},null,{"$f":"IF(B3=0,\"\",B4)","v":{"$error":"#REF!"}},null,"Short string",{"$f":"IF((D4=0),\"\",D4)","v":{"$error":"#REF!"}}]
["Description_1",{"$f":"IF(T_EcoMeasure_Description_I1=\"\",\"\",SUBSTITUTE(SUBSTITUTE(SUBSTITUTE(SUBSTITUTE(SUBSTITUTE(SUBSTITUTE(SUBSTITUTE(SUBSTITUTE(SUBSTITUTE(SUBSTITUTE(SUBSTITUTE(SUBSTITUTE(SUBSTITUTE(SUBSTITUTE(SUBSTITUTE(SUBSTITUTE(SUBSTITUTE(SUBSTITUTE(SUBSTITUTE(SUBSTITUTE(SUBSTITUTE(SUBSTITUTE(SUBSTITUTE(SUBSTITUTE(SUBSTITUTE(SUBSTITUTE(SUBSTITUTE(SUBSTITUTE(SUBSTITUTE(T_EcoMeasure_Description_I1,\"<\",\"&lt;\"),\">\",\"&gt;\"),\"′\",\"&prime;\"),\"″\",\"&Prime;\"),\"≤\",\"&le;\"),\"≥\",\"&ge;\"),\"‾\",\"&oline;\"),\"−\",\"&minus;\"),\"⁄\",\"&frasl;\"),\"∫\",\"&int;\"),\"∑\",\"&sum;\"),\"∞\",\"&infin;\"),\"√\",\"&radic;\"),\"≈\",\"&asymp;\"),\"≠\",\"&ne;\"),\"≡\",\"&equiv;\"),\"∏\",\"&prod;\"),\"∩\",\"&cap;\"),\"∂\",\"&part;\"),\"←\",\"&larr;\"),\"↑\",\"&uarr;\"),\"→\",\"&rarr;\"),\"↓\",\"&darr;\"),\"↔\",\"&harr;\"),\"◊\",\"&loz;\"),\"♠\",\"&spades;\"),\"♣\",\"&clubs;\"),\"♥\",\"&hearts;\"),\"♦\",\"&diams;\"))","v":{"$error":"#REF!"}},{"$f":"IF(B5=\"\",\"\",SUBSTITUTE(SUBSTITUTE(SUBSTITUTE(SUBSTITUTE(SUBSTITUTE(SUBSTITUTE(SUBSTITUTE(SUBSTITUTE(SUBSTITUTE(SUBSTITUTE(SUBSTITUTE(SUBSTITUTE(SUBSTITUTE(SUBSTITUTE(SUBSTITUTE(SUBSTITUTE(SUBSTITUTE(SUBSTITUTE(SUBSTITUTE(SUBSTITUTE(SUBSTITUTE(SUBSTITUTE(SUBSTITUTE(SUBSTITUTE(B5,\"Α\",\"&Alpha;\"),\"Β\",\"&Beta;\"),\"Γ\",\"&Gamma;\"),\"Δ\",\"&Delta;\"),\"Ε\",\"&Epsilon;\"),\"Ζ\",\"&Zeta;\"),\"Η\",\"&Eta;\"),\"Θ\",\"&Theta;\"),\"Ι\",\"&Iota;\"),\"Κ\",\"&Kappa;\"),\"Λ\",\"&Lambda;\"),\"Μ\",\"&Mu;\"),\"Ν\",\"&Nu;\"),\"Ξ\",\"&Xi;\"),\"Ο\",\"&Omicron;\"),\"Π\",\"&Pi;\"),\"Ρ\",\"&Rho;\"),\"Σ\",\"&Sigma;\"),\"Τ\",\"&Tau;\"),\"Υ\",\"&Upsilon;\"),\"Φ\",\"&Phi;\"),\"Χ\",\"&Chi;\"),\"Ψ\",\"&Psi;\"),\"Ω\",\"&Omega;\"))","v":{"$error":"#REF!"}},{"$f":"IF(C5=\"\",\"\",SUBSTITUTE(SUBSTITUTE(SUBSTITUTE(SUBSTITUTE(SUBSTITUTE(SUBSTITUTE(SUBSTITUTE(SUBSTITUTE(SUBSTITUTE(SUBSTITUTE(SUBSTITUTE(SUBSTITUTE(SUBSTITUTE(SUBSTITUTE(SUBSTITUTE(SUBSTITUTE(SUBSTITUTE(SUBSTITUTE(SUBSTITUTE(SUBSTITUTE(SUBSTITUTE(SUBSTITUTE(SUBSTITUTE(SUBSTITUTE(SUBSTITUTE(C5,\"α\",\"&alpha;\"),\"β\",\"&beta;\"),\"γ\",\"&gamma;\"),\"δ\",\"&delta;\"),\"ε\",\"&epsilon;\"),\"ζ\",\"&zeta;\"),\"η\",\"&eta;\"),\"θ\",\"&theta;\"),\"ι\",\"&iota;\"),\"κ\",\"&kappa;\"),\"λ\",\"&lambda;\"),\"μ\",\"&mu;\"),\"ν\",\"&nu;\"),\"ξ\",\"&xi;\"),\"ο\",\"&omicron;\"),\"π\",\"&pi;\"),\"ρ\",\"&rho;\"),\"ς\",\"&sigmaf;\"),\"σ\",\"&sigma;\"),\"τ\",\"&tau;\"),\"υ\",\"&upsilon;\"),\"φ\",\"&phi;\"),\"χ\",\"&chi;\"),\"ψ\",\"&psi;\"),\"ω\",\"&omega;\"))","v":{"$error":"#REF!"}},{"$f":"IF((D5=\"\"),\"\",SUBSTITUTE(SUBSTITUTE(D5,\"\n\n\",\"</p><p>\"),\"\n\",\"<br>\"))","v":{"$error":"#REF!"}},"HTML",{"$f":"IF(E5=\"\",\"\",E5)","v":{"$error":"#REF!"}}]
["Enova_1",{"$f":"T_EcoMeasure_Enova_I1","v":{"$error":"#REF!"}},{"$f":"VLOOKUP(B6,Enumeration_Checkbox,2,FALSE)","v":{"$error":"#REF!"}},{"$f":"IF(C6=0,\"\",C6)","v":{"$error":"#REF!"}},null,"CheckBox",{"$f":"CONCATENATE(D6)","v":{"$error":"#REF!"}}]
["MeasureType_1",{"$f":"T_EcoMeasure_Measure_I1_1","v":{"$error":"#REF!"}},{"$f":"LOOKUP(B7,Name_tbl_EcoMeasureTypes,Name_tbl_EcoMeasureTypes_Id)","v":{"$error":"#REF!"}},{"$f":"IF(ISERROR(C7)=TRUE,\"\",C7)","v":""}]
[null,{"$f":"T_EcoMeasure_Measure_I1_2","v":{"$error":"#REF!"}},{"$error":"#REF!"},{"$f":"IF(ISERROR(C8)=TRUE,\"\",CONCATENATE(Deletegn,C8))","v":""}]
[null,{"$f":"T_EcoMeasure_Measure_I1_3","v":{"$error":"#REF!"}},{"$error":"#REF!"},""]
[null,{"$f":"T_EcoMeasure_Measure_I1_4","v":{"$error":"#REF!"}},{"$error":"#REF!"},""]
[null,{"$f":"T_EcoMeasure_Measure_I1_5","v":{"$error":"#REF!"}},{"$error":"#REF!"},""]
[null,{"$f":"T_EcoMeasure_Measure_I1_6","v":{"$error":"#REF!"}},{"$error":"#REF!"},""]
[null,{"$f":"T_EcoMeasure_Measure_I1_7","v":{"$error":"#REF!"}},{"$error":"#REF!"},""]
[null,{"$f":"T_EcoMeasure_Measure_I1_8","v":{"$error":"#REF!"}},{"$error":"#REF!"},"",null,null,{"$f":"CONCATENATE(D7,D8,D9,D10,D11,D12,D13,D14)","v":""}]
["EditAccess",{"$f":"A_EditAccess_I","v":{"$error":"#REF!"}},{"$f":"VLOOKUP(B15,Relations!$I$1:$J$38,2,FALSE)","v":{"$error":"#REF!"}},{"$f":"IF(B3=0,\"\",IF(ISERROR(C15)=TRUE,\"\",C15))","v":{"$error":"#REF!"}},null,"Relation (one)",{"$f":"IF((D15=0),\"\",D15)","v":{"$error":"#REF!"}}]
["PublishAccess",{"$f":"A_PublishAccess_I","v":{"$error":"#REF!"}},{"$f":"VLOOKUP(B16,Relations!$I$1:$J$38,2,FALSE)","v":{"$error":"#REF!"}},{"$f":"IF(B3=0,\"\",IF(ISERROR(C16)=TRUE,\"\",C16))","v":{"$error":"#REF!"}},null,"Relation (one)",{"$f":"IF((D16=0),\"\",D16)","v":{"$error":"#REF!"}}]
["Id_2",{"$f":"T_EcoMeasure_Id_I2","v":{"$error":"#REF!"}},{"$nulls":3},"Integer",{"$f":"IF((B17=0),\"\",B17)","v":{"$error":"#REF!"}}]
["Name_2",{"$f":"T_EcoMeasure_Name_I2","v":{"$error":"#REF!"}},{"$nulls":3},"Short string",{"$f":"IF((B18=0),\"\",B18)","v":{"$error":"#REF!"}}]
["Project_2",{"$f":"A_ID_I","v":{"$error":"#REF!"}},null,{"$f":"IF(B18=0,\"\",B19)","v":{"$error":"#REF!"}},null,"Short string",{"$f":"IF((D19=0),\"\",D19)","v":{"$error":"#REF!"}}]
["Description_2",{"$f":"IF(T_EcoMeasure_Description_I2=\"\",\"\",SUBSTITUTE(SUBSTITUTE(SUBSTITUTE(SUBSTITUTE(SUBSTITUTE(SUBSTITUTE(SUBSTITUTE(SUBSTITUTE(SUBSTITUTE(SUBSTITUTE(SUBSTITUTE(SUBSTITUTE(SUBSTITUTE(SUBSTITUTE(SUBSTITUTE(SUBSTITUTE(SUBSTITUTE(SUBSTITUTE(SUBSTITUTE(SUBSTITUTE(SUBSTITUTE(SUBSTITUTE(SUBSTITUTE(SUBSTITUTE(SUBSTITUTE(SUBSTITUTE(SUBSTITUTE(SUBSTITUTE(SUBSTITUTE(T_EcoMeasure_Description_I2,\"<\",\"&lt;\"),\">\",\"&gt;\"),\"′\",\"&prime;\"),\"″\",\"&Prime;\"),\"≤\",\"&le;\"),\"≥\",\"&ge;\"),\"‾\",\"&oline;\"),\"−\",\"&minus;\"),\"⁄\",\"&frasl;\"),\"∫\",\"&int;\"),\"∑\",\"&sum;\"),\"∞\",\"&infin;\"),\"√\",\"&radic;\"),\"≈\",\"&asymp;\"),\"≠\",\"&ne;\"),\"≡\",\"&equiv;\"),\"∏\",\"&prod;\"),\"∩\",\"&cap;\"),\"∂\",\"&part;\"),\"←\",\"&larr;\"),\"↑\",\"&uarr;\"),\"→\",\"&rarr;\"),\"↓\",\"&darr;\"),\"↔\",\"&harr;\"),\"◊\",\"&loz;\"),\"♠\",\"&spades;\"),\"♣\",\"&clubs;\"),\"♥\",\"&hearts;\"),\"♦\",\"&diams;\"))","v":{"$error":"#REF!"}},{"$f":"IF(B20=\"\",\"\",SUBSTITUTE(SUBSTITUTE(SUBSTITUTE(SUBSTITUTE(SUBSTITUTE(SUBSTITUTE(SUBSTITUTE(SUBSTITUTE(SUBSTITUTE(SUBSTITUTE(SUBSTITUTE(SUBSTITUTE(SUBSTITUTE(SUBSTITUTE(SUBSTITUTE(SUBSTITUTE(SUBSTITUTE(SUBSTITUTE(SUBSTITUTE(SUBSTITUTE(SUBSTITUTE(SUBSTITUTE(SUBSTITUTE(SUBSTITUTE(B20,\"Α\",\"&Alpha;\"),\"Β\",\"&Beta;\"),\"Γ\",\"&Gamma;\"),\"Δ\",\"&Delta;\"),\"Ε\",\"&Epsilon;\"),\"Ζ\",\"&Zeta;\"),\"Η\",\"&Eta;\"),\"Θ\",\"&Theta;\"),\"Ι\",\"&Iota;\"),\"Κ\",\"&Kappa;\"),\"Λ\",\"&Lambda;\"),\"Μ\",\"&Mu;\"),\"Ν\",\"&Nu;\"),\"Ξ\",\"&Xi;\"),\"Ο\",\"&Omicron;\"),\"Π\",\"&Pi;\"),\"Ρ\",\"&Rho;\"),\"Σ\",\"&Sigma;\"),\"Τ\",\"&Tau;\"),\"Υ\",\"&Upsilon;\"),\"Φ\",\"&Phi;\"),\"Χ\",\"&Chi;\"),\"Ψ\",\"&Psi;\"),\"Ω\",\"&Omega;\"))","v":{"$error":"#REF!"}},{"$f":"IF(C20=\"\",\"\",SUBSTITUTE(SUBSTITUTE(SUBSTITUTE(SUBSTITUTE(SUBSTITUTE(SUBSTITUTE(SUBSTITUTE(SUBSTITUTE(SUBSTITUTE(SUBSTITUTE(SUBSTITUTE(SUBSTITUTE(SUBSTITUTE(SUBSTITUTE(SUBSTITUTE(SUBSTITUTE(SUBSTITUTE(SUBSTITUTE(SUBSTITUTE(SUBSTITUTE(SUBSTITUTE(SUBSTITUTE(SUBSTITUTE(SUBSTITUTE(SUBSTITUTE(C20,\"α\",\"&alpha;\"),\"β\",\"&beta;\"),\"γ\",\"&gamma;\"),\"δ\",\"&delta;\"),\"ε\",\"&epsilon;\"),\"ζ\",\"&zeta;\"),\"η\",\"&eta;\"),\"θ\",\"&theta;\"),\"ι\",\"&iota;\"),\"κ\",\"&kappa;\"),\"λ\",\"&lambda;\"),\"μ\",\"&mu;\"),\"ν\",\"&nu;\"),\"ξ\",\"&xi;\"),\"ο\",\"&omicron;\"),\"π\",\"&pi;\"),\"ρ\",\"&rho;\"),\"ς\",\"&sigmaf;\"),\"σ\",\"&sigma;\"),\"τ\",\"&tau;\"),\"υ\",\"&upsilon;\"),\"φ\",\"&phi;\"),\"χ\",\"&chi;\"),\"ψ\",\"&psi;\"),\"ω\",\"&omega;\"))","v":{"$error":"#REF!"}},{"$f":"IF((D20=\"\"),\"\",SUBSTITUTE(SUBSTITUTE(D20,\"\n\n\",\"</p><p>\"),\"\n\",\"<br>\"))","v":{"$error":"#REF!"}},"HTML",{"$f":"IF(E20=\"\",\"\",E20)","v":{"$error":"#REF!"}}]
["Enova_2",{"$f":"T_EcoMeasure_Enova_I2","v":{"$error":"#REF!"}},{"$f":"VLOOKUP(B21,Enumeration_Checkbox,2,FALSE)","v":{"$error":"#REF!"}},{"$f":"IF(C21=0,\"\",C21)","v":{"$error":"#REF!"}},null,"CheckBox",{"$f":"CONCATENATE(D21)","v":{"$error":"#REF!"}}]
["MeasureType_2",{"$f":"T_EcoMeasure_Measure_I2_1","v":{"$error":"#REF!"}},{"$f":"LOOKUP(B22,Name_tbl_EcoMeasureTypes,Name_tbl_EcoMeasureTypes_Id)","v":{"$error":"#REF!"}},{"$f":"IF(ISERROR(C22)=TRUE,\"\",C22)","v":""}]
[null,{"$f":"T_EcoMeasure_Measure_I2_2","v":{"$error":"#REF!"}},{"$error":"#REF!"},{"$f":"IF(ISERROR(C23)=TRUE,\"\",CONCATENATE(Deletegn,C23))","v":""}]
[null,{"$f":"T_EcoMeasure_Measure_I2_3","v":{"$error":"#REF!"}},{"$error":"#REF!"},""]
[null,{"$f":"T_EcoMeasure_Measure_I2_4","v":{"$error":"#REF!"}},{"$error":"#REF!"},""]
[null,{"$f":"T_EcoMeasure_Measure_I2_5","v":{"$error":"#REF!"}},{"$error":"#REF!"},""]
[null,{"$f":"T_EcoMeasure_Measure_I2_6","v":{"$error":"#REF!"}},{"$error":"#REF!"},""]
[null,{"$f":"T_EcoMeasure_Measure_I2_7","v":{"$error":"#REF!"}},{"$error":"#REF!"},""]
[null,{"$f":"T_EcoMeasure_Measure_I2_8","v":{"$error":"#REF!"}},{"$error":"#REF!"},"",null,null,{"$f":"CONCATENATE(D22,D23,D24,D25,D26,D27,D28,D29)","v":""}]
["EditAccess",{"$f":"A_EditAccess_I","v":{"$error":"#REF!"}},{"$f":"VLOOKUP(B30,Relations!$I$1:$J$38,2,FALSE)","v":{"$error":"#REF!"}},{"$f":"IF(B18=0,\"\",IF(ISERROR(C30)=TRUE,\"\",C30))","v":{"$error":"#REF!"}},null,"Relation (one)",{"$f":"IF((D30=0),\"\",D30)","v":{"$error":"#REF!"}}]
["PublishAccess",{"$f":"A_PublishAccess_I","v":{"$error":"#REF!"}},{"$f":"VLOOKUP(B31,Relations!$I$1:$J$38,2,FALSE)","v":{"$error":"#REF!"}},{"$f":"IF(B18=0,\"\",IF(ISERROR(C31)=TRUE,\"\",C31))","v":{"$error":"#REF!"}},null,"Relation (one)",{"$f":"IF((D31=0),\"\",D31)","v":{"$error":"#REF!"}}]
["Id_3",{"$f":"T_EcoMeasure_Id_I3","v":{"$error":"#REF!"}},{"$nulls":3},"Integer",{"$f":"IF((B32=0),\"\",B32)","v":{"$error":"#REF!"}}]
["Name_3",{"$f":"T_EcoMeasure_Name_I3","v":{"$error":"#REF!"}},{"$nulls":3},"Short string",{"$f":"IF((B33=0),\"\",B33)","v":{"$error":"#REF!"}}]
["Project_3",{"$f":"A_ID_I","v":{"$error":"#REF!"}},null,{"$f":"IF(B33=0,\"\",B34)","v":{"$error":"#REF!"}},null,"Short string",{"$f":"IF((D34=0),\"\",D34)","v":{"$error":"#REF!"}}]
["Description_3",{"$f":"IF(T_EcoMeasure_Description_I3=\"\",\"\",SUBSTITUTE(SUBSTITUTE(SUBSTITUTE(SUBSTITUTE(SUBSTITUTE(SUBSTITUTE(SUBSTITUTE(SUBSTITUTE(SUBSTITUTE(SUBSTITUTE(SUBSTITUTE(SUBSTITUTE(SUBSTITUTE(SUBSTITUTE(SUBSTITUTE(SUBSTITUTE(SUBSTITUTE(SUBSTITUTE(SUBSTITUTE(SUBSTITUTE(SUBSTITUTE(SUBSTITUTE(SUBSTITUTE(SUBSTITUTE(SUBSTITUTE(SUBSTITUTE(SUBSTITUTE(SUBSTITUTE(SUBSTITUTE(T_EcoMeasure_Description_I3,\"<\",\"&lt;\"),\">\",\"&gt;\"),\"′\",\"&prime;\"),\"″\",\"&Prime;\"),\"≤\",\"&le;\"),\"≥\",\"&ge;\"),\"‾\",\"&oline;\"),\"−\",\"&minus;\"),\"⁄\",\"&frasl;\"),\"∫\",\"&int;\"),\"∑\",\"&sum;\"),\"∞\",\"&infin;\"),\"√\",\"&radic;\"),\"≈\",\"&asymp;\"),\"≠\",\"&ne;\"),\"≡\",\"&equiv;\"),\"∏\",\"&prod;\"),\"∩\",\"&cap;\"),\"∂\",\"&part;\"),\"←\",\"&larr;\"),\"↑\",\"&uarr;\"),\"→\",\"&rarr;\"),\"↓\",\"&darr;\"),\"↔\",\"&harr;\"),\"◊\",\"&loz;\"),\"♠\",\"&spades;\"),\"♣\",\"&clubs;\"),\"♥\",\"&hearts;\"),\"♦\",\"&diams;\"))","v":{"$error":"#REF!"}},{"$f":"IF(B35=\"\",\"\",SUBSTITUTE(SUBSTITUTE(SUBSTITUTE(SUBSTITUTE(SUBSTITUTE(SUBSTITUTE(SUBSTITUTE(SUBSTITUTE(SUBSTITUTE(SUBSTITUTE(SUBSTITUTE(SUBSTITUTE(SUBSTITUTE(SUBSTITUTE(SUBSTITUTE(SUBSTITUTE(SUBSTITUTE(SUBSTITUTE(SUBSTITUTE(SUBSTITUTE(SUBSTITUTE(SUBSTITUTE(SUBSTITUTE(SUBSTITUTE(B35,\"Α\",\"&Alpha;\"),\"Β\",\"&Beta;\"),\"Γ\",\"&Gamma;\"),\"Δ\",\"&Delta;\"),\"Ε\",\"&Epsilon;\"),\"Ζ\",\"&Zeta;\"),\"Η\",\"&Eta;\"),\"Θ\",\"&Theta;\"),\"Ι\",\"&Iota;\"),\"Κ\",\"&Kappa;\"),\"Λ\",\"&Lambda;\"),\"Μ\",\"&Mu;\"),\"Ν\",\"&Nu;\"),\"Ξ\",\"&Xi;\"),\"Ο\",\"&Omicron;\"),\"Π\",\"&Pi;\"),\"Ρ\",\"&Rho;\"),\"Σ\",\"&Sigma;\"),\"Τ\",\"&Tau;\"),\"Υ\",\"&Upsilon;\"),\"Φ\",\"&Phi;\"),\"Χ\",\"&Chi;\"),\"Ψ\",\"&Psi;\"),\"Ω\",\"&Omega;\"))","v":{"$error":"#REF!"}},{"$f":"IF(C35=\"\",\"\",SUBSTITUTE(SUBSTITUTE(SUBSTITUTE(SUBSTITUTE(SUBSTITUTE(SUBSTITUTE(SUBSTITUTE(SUBSTITUTE(SUBSTITUTE(SUBSTITUTE(SUBSTITUTE(SUBSTITUTE(SUBSTITUTE(SUBSTITUTE(SUBSTITUTE(SUBSTITUTE(SUBSTITUTE(SUBSTITUTE(SUBSTITUTE(SUBSTITUTE(SUBSTITUTE(SUBSTITUTE(SUBSTITUTE(SUBSTITUTE(SUBSTITUTE(C35,\"α\",\"&alpha;\"),\"β\",\"&beta;\"),\"γ\",\"&gamma;\"),\"δ\",\"&delta;\"),\"ε\",\"&epsilon;\"),\"ζ\",\"&zeta;\"),\"η\",\"&eta;\"),\"θ\",\"&theta;\"),\"ι\",\"&iota;\"),\"κ\",\"&kappa;\"),\"λ\",\"&lambda;\"),\"μ\",\"&mu;\"),\"ν\",\"&nu;\"),\"ξ\",\"&xi;\"),\"ο\",\"&omicron;\"),\"π\",\"&pi;\"),\"ρ\",\"&rho;\"),\"ς\",\"&sigmaf;\"),\"σ\",\"&sigma;\"),\"τ\",\"&tau;\"),\"υ\",\"&upsilon;\"),\"φ\",\"&phi;\"),\"χ\",\"&chi;\"),\"ψ\",\"&psi;\"),\"ω\",\"&omega;\"))","v":{"$error":"#REF!"}},{"$f":"IF((D35=\"\"),\"\",SUBSTITUTE(SUBSTITUTE(D35,\"\n\n\",\"</p><p>\"),\"\n\",\"<br>\"))","v":{"$error":"#REF!"}},"HTML",{"$f":"IF(E35=\"\",\"\",E35)","v":{"$error":"#REF!"}}]
["Enova_3",{"$f":"T_EcoMeasure_Enova_I3","v":{"$error":"#REF!"}},{"$f":"VLOOKUP(B36,Enumeration_Checkbox,2,FALSE)","v":{"$error":"#REF!"}},{"$f":"IF(C36=0,\"\",C36)","v":{"$error":"#REF!"}},null,"CheckBox",{"$f":"CONCATENATE(D36)","v":{"$error":"#REF!"}}]
["MeasureType_3",{"$f":"T_EcoMeasure_Measure_I3_1","v":{"$error":"#REF!"}},{"$f":"LOOKUP(B37,Name_tbl_EcoMeasureTypes,Name_tbl_EcoMeasureTypes_Id)","v":{"$error":"#REF!"}},{"$f":"IF(ISERROR(C37)=TRUE,\"\",C37)","v":""}]
[null,{"$f":"T_EcoMeasure_Measure_I3_2","v":{"$error":"#REF!"}},{"$error":"#REF!"},{"$f":"IF(ISERROR(C38)=TRUE,\"\",CONCATENATE(Deletegn,C38))","v":""}]
[null,{"$f":"T_EcoMeasure_Measure_I3_3","v":{"$error":"#REF!"}},{"$error":"#REF!"},""]
[null,{"$f":"T_EcoMeasure_Measure_I3_4","v":{"$error":"#REF!"}},{"$error":"#REF!"},""]
[null,{"$f":"T_EcoMeasure_Measure_I3_5","v":{"$error":"#REF!"}},{"$error":"#REF!"},""]
[null,{"$f":"T_EcoMeasure_Measure_I3_6","v":{"$error":"#REF!"}},{"$error":"#REF!"},""]
[null,{"$f":"T_EcoMeasure_Measure_I3_7","v":{"$error":"#REF!"}},{"$error":"#REF!"},""]
[null,{"$f":"T_EcoMeasure_Measure_I3_8","v":{"$error":"#REF!"}},{"$error":"#REF!"},"",null,null,{"$f":"CONCATENATE(D37,D38,D39,D40,D41,D42,D43,D44)","v":""}]
["EditAccess",{"$f":"A_EditAccess_I","v":{"$error":"#REF!"}},{"$f":"VLOOKUP(B45,Relations!$I$1:$J$38,2,FALSE)","v":{"$error":"#REF!"}},{"$f":"IF(B33=0,\"\",IF(ISERROR(C45)=TRUE,\"\",C45))","v":{"$error":"#REF!"}},null,"Relation (one)",{"$f":"IF((D45=0),\"\",D45)","v":{"$error":"#REF!"}}]
["PublishAccess",{"$f":"A_PublishAccess_I","v":{"$error":"#REF!"}},{"$f":"VLOOKUP(B46,Relations!$I$1:$J$38,2,FALSE)","v":{"$error":"#REF!"}},{"$f":"IF(B33=0,\"\",IF(ISERROR(C46)=TRUE,\"\",C46))","v":{"$error":"#REF!"}},null,"Relation (one)",{"$f":"IF((D46=0),\"\",D46)","v":{"$error":"#REF!"}}]
["Id_4",{"$f":"T_EcoMeasure_Id_I4","v":{"$error":"#REF!"}},{"$nulls":3},"Integer",{"$f":"IF((B47=0),\"\",B47)","v":{"$error":"#REF!"}}]
["Name_4",{"$f":"T_EcoMeasure_Name_I4","v":{"$error":"#REF!"}},{"$nulls":3},"Short string",{"$f":"IF((B48=0),\"\",B48)","v":{"$error":"#REF!"}}]
["Project_4",{"$f":"A_ID_I","v":{"$error":"#REF!"}},null,{"$f":"IF(B48=0,\"\",B49)","v":{"$error":"#REF!"}},null,"Short string",{"$f":"IF((D49=0),\"\",D49)","v":{"$error":"#REF!"}}]
["Description_4",{"$f":"IF(T_EcoMeasure_Description_I4=\"\",\"\",SUBSTITUTE(SUBSTITUTE(SUBSTITUTE(SUBSTITUTE(SUBSTITUTE(SUBSTITUTE(SUBSTITUTE(SUBSTITUTE(SUBSTITUTE(SUBSTITUTE(SUBSTITUTE(SUBSTITUTE(SUBSTITUTE(SUBSTITUTE(SUBSTITUTE(SUBSTITUTE(SUBSTITUTE(SUBSTITUTE(SUBSTITUTE(SUBSTITUTE(SUBSTITUTE(SUBSTITUTE(SUBSTITUTE(SUBSTITUTE(SUBSTITUTE(SUBSTITUTE(SUBSTITUTE(SUBSTITUTE(SUBSTITUTE(T_EcoMeasure_Description_I4,\"<\",\"&lt;\"),\">\",\"&gt;\"),\"′\",\"&prime;\"),\"″\",\"&Prime;\"),\"≤\",\"&le;\"),\"≥\",\"&ge;\"),\"‾\",\"&oline;\"),\"−\",\"&minus;\"),\"⁄\",\"&frasl;\"),\"∫\",\"&int;\"),\"∑\",\"&sum;\"),\"∞\",\"&infin;\"),\"√\",\"&radic;\"),\"≈\",\"&asymp;\"),\"≠\",\"&ne;\"),\"≡\",\"&equiv;\"),\"∏\",\"&prod;\"),\"∩\",\"&cap;\"),\"∂\",\"&part;\"),\"←\",\"&larr;\"),\"↑\",\"&uarr;\"),\"→\",\"&rarr;\"),\"↓\",\"&darr;\"),\"↔\",\"&harr;\"),\"◊\",\"&loz;\"),\"♠\",\"&spades;\"),\"♣\",\"&clubs;\"),\"♥\",\"&hearts;\"),\"♦\",\"&diams;\"))","v":{"$error":"#REF!"}},{"$f":"IF(B50=\"\",\"\",SUBSTITUTE(SUBSTITUTE(SUBSTITUTE(SUBSTITUTE(SUBSTITUTE(SUBSTITUTE(SUBSTITUTE(SUBSTITUTE(SUBSTITUTE(SUBSTITUTE(SUBSTITUTE(SUBSTITUTE(SUBSTITUTE(SUBSTITUTE(SUBSTITUTE(SUBSTITUTE(SUBSTITUTE(SUBSTITUTE(SUBSTITUTE(SUBSTITUTE(SUBSTITUTE(SUBSTITUTE(SUBSTITUTE(SUBSTITUTE(B50,\"Α\",\"&Alpha;\"),\"Β\",\"&Beta;\"),\"Γ\",\"&Gamma;\"),\"Δ\",\"&Delta;\"),\"Ε\",\"&Epsilon;\"),\"Ζ\",\"&Zeta;\"),\"Η\",\"&Eta;\"),\"Θ\",\"&Theta;\"),\"Ι\",\"&Iota;\"),\"Κ\",\"&Kappa;\"),\"Λ\",\"&Lambda;\"),\"Μ\",\"&Mu;\"),\"Ν\",\"&Nu;\"),\"Ξ\",\"&Xi;\"),\"Ο\",\"&Omicron;\"),\"Π\",\"&Pi;\"),\"Ρ\",\"&Rho;\"),\"Σ\",\"&Sigma;\"),\"Τ\",\"&Tau;\"),\"Υ\",\"&Upsilon;\"),\"Φ\",\"&Phi;\"),\"Χ\",\"&Chi;\"),\"Ψ\",\"&Psi;\"),\"Ω\",\"&Omega;\"))","v":{"$error":"#REF!"}},{"$f":"IF(C50=\"\",\"\",SUBSTITUTE(SUBSTITUTE(SUBSTITUTE(SUBSTITUTE(SUBSTITUTE(SUBSTITUTE(SUBSTITUTE(SUBSTITUTE(SUBSTITUTE(SUBSTITUTE(SUBSTITUTE(SUBSTITUTE(SUBSTITUTE(SUBSTITUTE(SUBSTITUTE(SUBSTITUTE(SUBSTITUTE(SUBSTITUTE(SUBSTITUTE(SUBSTITUTE(SUBSTITUTE(SUBSTITUTE(SUBSTITUTE(SUBSTITUTE(SUBSTITUTE(C50,\"α\",\"&alpha;\"),\"β\",\"&beta;\"),\"γ\",\"&gamma;\"),\"δ\",\"&delta;\"),\"ε\",\"&epsilon;\"),\"ζ\",\"&zeta;\"),\"η\",\"&eta;\"),\"θ\",\"&theta;\"),\"ι\",\"&iota;\"),\"κ\",\"&kappa;\"),\"λ\",\"&lambda;\"),\"μ\",\"&mu;\"),\"ν\",\"&nu;\"),\"ξ\",\"&xi;\"),\"ο\",\"&omicron;\"),\"π\",\"&pi;\"),\"ρ\",\"&rho;\"),\"ς\",\"&sigmaf;\"),\"σ\",\"&sigma;\"),\"τ\",\"&tau;\"),\"υ\",\"&upsilon;\"),\"φ\",\"&phi;\"),\"χ\",\"&chi;\"),\"ψ\",\"&psi;\"),\"ω\",\"&omega;\"))","v":{"$error":"#REF!"}},{"$f":"IF((D50=\"\"),\"\",SUBSTITUTE(SUBSTITUTE(D50,\"\n\n\",\"</p><p>\"),\"\n\",\"<br>\"))","v":{"$error":"#REF!"}},"HTML",{"$f":"IF(E50=\"\",\"\",E50)","v":{"$error":"#REF!"}}]
["Enova_4",{"$f":"T_EcoMeasure_Enova_I4","v":{"$error":"#REF!"}},{"$f":"VLOOKUP(B51,Enumeration_Checkbox,2,FALSE)","v":{"$error":"#REF!"}},{"$f":"IF(C51=0,\"\",C51)","v":{"$error":"#REF!"}},null,"CheckBox",{"$f":"CONCATENATE(D51)","v":{"$error":"#REF!"}}]
["MeasureType_4",{"$f":"T_EcoMeasure_Measure_I4_1","v":{"$error":"#REF!"}},{"$f":"LOOKUP(B52,Name_tbl_EcoMeasureTypes,Name_tbl_EcoMeasureTypes_Id)","v":{"$error":"#REF!"}},{"$f":"IF(ISERROR(C52)=TRUE,\"\",C52)","v":""}]
[null,{"$f":"T_EcoMeasure_Measure_I4_2","v":{"$error":"#REF!"}},{"$error":"#REF!"},{"$f":"IF(ISERROR(C53)=TRUE,\"\",CONCATENATE(Deletegn,C53))","v":""}]
[null,{"$f":"T_EcoMeasure_Measure_I4_3","v":{"$error":"#REF!"}},{"$error":"#REF!"},""]
[null,{"$f":"T_EcoMeasure_Measure_I4_4","v":{"$error":"#REF!"}},{"$error":"#REF!"},""]
[null,{"$f":"T_EcoMeasure_Measure_I4_5","v":{"$error":"#REF!"}},{"$error":"#REF!"},""]
[null,{"$f":"T_EcoMeasure_Measure_I4_6","v":{"$error":"#REF!"}},{"$error":"#REF!"},""]
[null,{"$f":"T_EcoMeasure_Measure_I4_7","v":{"$error":"#REF!"}},{"$error":"#REF!"},""]
[null,{"$f":"T_EcoMeasure_Measure_I4_8","v":{"$error":"#REF!"}},{"$error":"#REF!"},"",null,null,{"$f":"CONCATENATE(D52,D53,D54,D55,D56,D57,D58,D59)","v":""}]
["EditAccess",{"$f":"A_EditAccess_I","v":{"$error":"#REF!"}},{"$f":"VLOOKUP(B60,Relations!$I$1:$J$38,2,FALSE)","v":{"$error":"#REF!"}},{"$f":"IF(B48=0,\"\",IF(ISERROR(C60)=TRUE,\"\",C60))","v":{"$error":"#REF!"}},null,"Relation (one)",{"$f":"IF((D60=0),\"\",D60)","v":{"$error":"#REF!"}}]
["PublishAccess",{"$f":"A_PublishAccess_I","v":{"$error":"#REF!"}},{"$f":"VLOOKUP(B61,Relations!$I$1:$J$38,2,FALSE)","v":{"$error":"#REF!"}},{"$f":"IF(B48=0,\"\",IF(ISERROR(C61)=TRUE,\"\",C61))","v":{"$error":"#REF!"}},null,"Relation (one)",{"$f":"IF((D61=0),\"\",D61)","v":{"$error":"#REF!"}}]
["Id_5",{"$f":"T_EcoMeasure_Id_I5","v":{"$error":"#REF!"}},{"$nulls":3},"Integer",{"$f":"IF((B62=0),\"\",B62)","v":{"$error":"#REF!"}}]
["Name_5",{"$f":"T_EcoMeasure_Name_I5","v":{"$error":"#REF!"}},{"$nulls":3},"Short string",{"$f":"IF((B63=0),\"\",B63)","v":{"$error":"#REF!"}}]
["Project_5",{"$f":"A_ID_I","v":{"$error":"#REF!"}},null,{"$f":"IF(B63=0,\"\",B64)","v":{"$error":"#REF!"}},null,"Short string",{"$f":"IF((D64=0),\"\",D64)","v":{"$error":"#REF!"}}]
["Description_5",{"$f":"IF(T_EcoMeasure_Description_I5=\"\",\"\",SUBSTITUTE(SUBSTITUTE(SUBSTITUTE(SUBSTITUTE(SUBSTITUTE(SUBSTITUTE(SUBSTITUTE(SUBSTITUTE(SUBSTITUTE(SUBSTITUTE(SUBSTITUTE(SUBSTITUTE(SUBSTITUTE(SUBSTITUTE(SUBSTITUTE(SUBSTITUTE(SUBSTITUTE(SUBSTITUTE(SUBSTITUTE(SUBSTITUTE(SUBSTITUTE(SUBSTITUTE(SUBSTITUTE(SUBSTITUTE(SUBSTITUTE(SUBSTITUTE(SUBSTITUTE(SUBSTITUTE(SUBSTITUTE(T_EcoMeasure_Description_I5,\"<\",\"&lt;\"),\">\",\"&gt;\"),\"′\",\"&prime;\"),\"″\",\"&Prime;\"),\"≤\",\"&le;\"),\"≥\",\"&ge;\"),\"‾\",\"&oline;\"),\"−\",\"&minus;\"),\"⁄\",\"&frasl;\"),\"∫\",\"&int;\"),\"∑\",\"&sum;\"),\"∞\",\"&infin;\"),\"√\",\"&radic;\"),\"≈\",\"&asymp;\"),\"≠\",\"&ne;\"),\"≡\",\"&equiv;\"),\"∏\",\"&prod;\"),\"∩\",\"&cap;\"),\"∂\",\"&part;\"),\"←\",\"&larr;\"),\"↑\",\"&uarr;\"),\"→\",\"&rarr;\"),\"↓\",\"&darr;\"),\"↔\",\"&harr;\"),\"◊\",\"&loz;\"),\"♠\",\"&spades;\"),\"♣\",\"&clubs;\"),\"♥\",\"&hearts;\"),\"♦\",\"&diams;\"))","v":{"$error":"#REF!"}},{"$f":"IF(B65=\"\",\"\",SUBSTITUTE(SUBSTITUTE(SUBSTITUTE(SUBSTITUTE(SUBSTITUTE(SUBSTITUTE(SUBSTITUTE(SUBSTITUTE(SUBSTITUTE(SUBSTITUTE(SUBSTITUTE(SUBSTITUTE(SUBSTITUTE(SUBSTITUTE(SUBSTITUTE(SUBSTITUTE(SUBSTITUTE(SUBSTITUTE(SUBSTITUTE(SUBSTITUTE(SUBSTITUTE(SUBSTITUTE(SUBSTITUTE(SUBSTITUTE(B65,\"Α\",\"&Alpha;\"),\"Β\",\"&Beta;\"),\"Γ\",\"&Gamma;\"),\"Δ\",\"&Delta;\"),\"Ε\",\"&Epsilon;\"),\"Ζ\",\"&Zeta;\"),\"Η\",\"&Eta;\"),\"Θ\",\"&Theta;\"),\"Ι\",\"&Iota;\"),\"Κ\",\"&Kappa;\"),\"Λ\",\"&Lambda;\"),\"Μ\",\"&Mu;\"),\"Ν\",\"&Nu;\"),\"Ξ\",\"&Xi;\"),\"Ο\",\"&Omicron;\"),\"Π\",\"&Pi;\"),\"Ρ\",\"&Rho;\"),\"Σ\",\"&Sigma;\"),\"Τ\",\"&Tau;\"),\"Υ\",\"&Upsilon;\"),\"Φ\",\"&Phi;\"),\"Χ\",\"&Chi;\"),\"Ψ\",\"&Psi;\"),\"Ω\",\"&Omega;\"))","v":{"$error":"#REF!"}},{"$f":"IF(C65=\"\",\"\",SUBSTITUTE(SUBSTITUTE(SUBSTITUTE(SUBSTITUTE(SUBSTITUTE(SUBSTITUTE(SUBSTITUTE(SUBSTITUTE(SUBSTITUTE(SUBSTITUTE(SUBSTITUTE(SUBSTITUTE(SUBSTITUTE(SUBSTITUTE(SUBSTITUTE(SUBSTITUTE(SUBSTITUTE(SUBSTITUTE(SUBSTITUTE(SUBSTITUTE(SUBSTITUTE(SUBSTITUTE(SUBSTITUTE(SUBSTITUTE(SUBSTITUTE(C65,\"α\",\"&alpha;\"),\"β\",\"&beta;\"),\"γ\",\"&gamma;\"),\"δ\",\"&delta;\"),\"ε\",\"&epsilon;\"),\"ζ\",\"&zeta;\"),\"η\",\"&eta;\"),\"θ\",\"&theta;\"),\"ι\",\"&iota;\"),\"κ\",\"&kappa;\"),\"λ\",\"&lambda;\"),\"μ\",\"&mu;\"),\"ν\",\"&nu;\"),\"ξ\",\"&xi;\"),\"ο\",\"&omicron;\"),\"π\",\"&pi;\"),\"ρ\",\"&rho;\"),\"ς\",\"&sigmaf;\"),\"σ\",\"&sigma;\"),\"τ\",\"&tau;\"),\"υ\",\"&upsilon;\"),\"φ\",\"&phi;\"),\"χ\",\"&chi;\"),\"ψ\",\"&psi;\"),\"ω\",\"&omega;\"))","v":{"$error":"#REF!"}},{"$f":"IF((D65=\"\"),\"\",SUBSTITUTE(SUBSTITUTE(D65,\"\n\n\",\"</p><p>\"),\"\n\",\"<br>\"))","v":{"$error":"#REF!"}},"HTML",{"$f":"IF(E65=\"\",\"\",E65)","v":{"$error":"#REF!"}}]
["Enova_5",{"$f":"T_EcoMeasure_Enova_I5","v":{"$error":"#REF!"}},{"$f":"VLOOKUP(B66,Enumeration_Checkbox,2,FALSE)","v":{"$error":"#REF!"}},{"$f":"IF(C66=0,\"\",C66)","v":{"$error":"#REF!"}},null,"CheckBox",{"$f":"CONCATENATE(D66)","v":{"$error":"#REF!"}}]
["MeasureType_5",{"$f":"T_EcoMeasure_Measure_I5_1","v":{"$error":"#REF!"}},{"$f":"LOOKUP(B67,Name_tbl_EcoMeasureTypes,Name_tbl_EcoMeasureTypes_Id)","v":{"$error":"#REF!"}},{"$f":"IF(ISERROR(C67)=TRUE,\"\",C67)","v":""}]
[null,{"$f":"T_EcoMeasure_Measure_I5_2","v":{"$error":"#REF!"}},{"$error":"#REF!"},{"$f":"IF(ISERROR(C68)=TRUE,\"\",CONCATENATE(Deletegn,C68))","v":""}]
[null,{"$f":"T_EcoMeasure_Measure_I5_3","v":{"$error":"#REF!"}},{"$error":"#REF!"},""]
[null,{"$f":"T_EcoMeasure_Measure_I5_4","v":{"$error":"#REF!"}},{"$error":"#REF!"},""]
[null,{"$f":"T_EcoMeasure_Measure_I5_5","v":{"$error":"#REF!"}},{"$error":"#REF!"},""]
[null,{"$f":"T_EcoMeasure_Measure_I5_6","v":{"$error":"#REF!"}},{"$error":"#REF!"},""]
[null,{"$f":"T_EcoMeasure_Measure_I5_7","v":{"$error":"#REF!"}},{"$error":"#REF!"},""]
[null,{"$f":"T_EcoMeasure_Measure_I5_8","v":{"$error":"#REF!"}},{"$error":"#REF!"},"",null,null,{"$f":"CONCATENATE(D67,D68,D69,D70,D71,D72,D73,D74)","v":""}]
["EditAccess",{"$f":"A_EditAccess_I","v":{"$error":"#REF!"}},{"$f":"VLOOKUP(B75,Relations!$I$1:$J$38,2,FALSE)","v":{"$error":"#REF!"}},{"$f":"IF(B63=0,\"\",IF(ISERROR(C75)=TRUE,\"\",C75))","v":{"$error":"#REF!"}},null,"Relation (one)",{"$f":"IF((D75=0),\"\",D75)","v":{"$error":"#REF!"}}]
["PublishAccess",{"$f":"A_PublishAccess_I","v":{"$error":"#REF!"}},{"$f":"VLOOKUP(B76,Relations!$I$1:$J$38,2,FALSE)","v":{"$error":"#REF!"}},{"$f":"IF(B63=0,\"\",IF(ISERROR(C76)=TRUE,\"\",C76))","v":{"$error":"#REF!"}},null,"Relation (one)",{"$f":"IF((D76=0),\"\",D76)","v":{"$error":"#REF!"}}]
["Id_6",{"$f":"T_EcoMeasure_Id_I6","v":{"$error":"#REF!"}},{"$nulls":3},"Integer",{"$f":"IF((B77=0),\"\",B77)","v":{"$error":"#REF!"}}]
["Name_6",{"$f":"T_EcoMeasure_Name_I6","v":{"$error":"#REF!"}},{"$nulls":3},"Short string",{"$f":"IF((B78=0),\"\",B78)","v":{"$error":"#REF!"}}]
["Project_6",{"$f":"A_ID_I","v":{"$error":"#REF!"}},null,{"$f":"IF(B78=0,\"\",B79)","v":{"$error":"#REF!"}},null,"Short string",{"$f":"IF((D79=0),\"\",D79)","v":{"$error":"#REF!"}}]
["Description_6",{"$f":"IF(T_EcoMeasure_Description_I6=\"\",\"\",SUBSTITUTE(SUBSTITUTE(SUBSTITUTE(SUBSTITUTE(SUBSTITUTE(SUBSTITUTE(SUBSTITUTE(SUBSTITUTE(SUBSTITUTE(SUBSTITUTE(SUBSTITUTE(SUBSTITUTE(SUBSTITUTE(SUBSTITUTE(SUBSTITUTE(SUBSTITUTE(SUBSTITUTE(SUBSTITUTE(SUBSTITUTE(SUBSTITUTE(SUBSTITUTE(SUBSTITUTE(SUBSTITUTE(SUBSTITUTE(SUBSTITUTE(SUBSTITUTE(SUBSTITUTE(SUBSTITUTE(SUBSTITUTE(T_EcoMeasure_Description_I6,\"<\",\"&lt;\"),\">\",\"&gt;\"),\"′\",\"&prime;\"),\"″\",\"&Prime;\"),\"≤\",\"&le;\"),\"≥\",\"&ge;\"),\"‾\",\"&oline;\"),\"−\",\"&minus;\"),\"⁄\",\"&frasl;\"),\"∫\",\"&int;\"),\"∑\",\"&sum;\"),\"∞\",\"&infin;\"),\"√\",\"&radic;\"),\"≈\",\"&asymp;\"),\"≠\",\"&ne;\"),\"≡\",\"&equiv;\"),\"∏\",\"&prod;\"),\"∩\",\"&cap;\"),\"∂\",\"&part;\"),\"←\",\"&larr;\"),\"↑\",\"&uarr;\"),\"→\",\"&rarr;\"),\"↓\",\"&darr;\"),\"↔\",\"&harr;\"),\"◊\",\"&loz;\"),\"♠\",\"&spades;\"),\"♣\",\"&clubs;\"),\"♥\",\"&hearts;\"),\"♦\",\"&diams;\"))","v":{"$error":"#REF!"}},{"$f":"IF(B80=\"\",\"\",SUBSTITUTE(SUBSTITUTE(SUBSTITUTE(SUBSTITUTE(SUBSTITUTE(SUBSTITUTE(SUBSTITUTE(SUBSTITUTE(SUBSTITUTE(SUBSTITUTE(SUBSTITUTE(SUBSTITUTE(SUBSTITUTE(SUBSTITUTE(SUBSTITUTE(SUBSTITUTE(SUBSTITUTE(SUBSTITUTE(SUBSTITUTE(SUBSTITUTE(SUBSTITUTE(SUBSTITUTE(SUBSTITUTE(SUBSTITUTE(B80,\"Α\",\"&Alpha;\"),\"Β\",\"&Beta;\"),\"Γ\",\"&Gamma;\"),\"Δ\",\"&Delta;\"),\"Ε\",\"&Epsilon;\"),\"Ζ\",\"&Zeta;\"),\"Η\",\"&Eta;\"),\"Θ\",\"&Theta;\"),\"Ι\",\"&Iota;\"),\"Κ\",\"&Kappa;\"),\"Λ\",\"&Lambda;\"),\"Μ\",\"&Mu;\"),\"Ν\",\"&Nu;\"),\"Ξ\",\"&Xi;\"),\"Ο\",\"&Omicron;\"),\"Π\",\"&Pi;\"),\"Ρ\",\"&Rho;\"),\"Σ\",\"&Sigma;\"),\"Τ\",\"&Tau;\"),\"Υ\",\"&Upsilon;\"),\"Φ\",\"&Phi;\"),\"Χ\",\"&Chi;\"),\"Ψ\",\"&Psi;\"),\"Ω\",\"&Omega;\"))","v":{"$error":"#REF!"}},{"$f":"IF(C80=\"\",\"\",SUBSTITUTE(SUBSTITUTE(SUBSTITUTE(SUBSTITUTE(SUBSTITUTE(SUBSTITUTE(SUBSTITUTE(SUBSTITUTE(SUBSTITUTE(SUBSTITUTE(SUBSTITUTE(SUBSTITUTE(SUBSTITUTE(SUBSTITUTE(SUBSTITUTE(SUBSTITUTE(SUBSTITUTE(SUBSTITUTE(SUBSTITUTE(SUBSTITUTE(SUBSTITUTE(SUBSTITUTE(SUBSTITUTE(SUBSTITUTE(SUBSTITUTE(C80,\"α\",\"&alpha;\"),\"β\",\"&beta;\"),\"γ\",\"&gamma;\"),\"δ\",\"&delta;\"),\"ε\",\"&epsilon;\"),\"ζ\",\"&zeta;\"),\"η\",\"&eta;\"),\"θ\",\"&theta;\"),\"ι\",\"&iota;\"),\"κ\",\"&kappa;\"),\"λ\",\"&lambda;\"),\"μ\",\"&mu;\"),\"ν\",\"&nu;\"),\"ξ\",\"&xi;\"),\"ο\",\"&omicron;\"),\"π\",\"&pi;\"),\"ρ\",\"&rho;\"),\"ς\",\"&sigmaf;\"),\"σ\",\"&sigma;\"),\"τ\",\"&tau;\"),\"υ\",\"&upsilon;\"),\"φ\",\"&phi;\"),\"χ\",\"&chi;\"),\"ψ\",\"&psi;\"),\"ω\",\"&omega;\"))","v":{"$error":"#REF!"}},{"$f":"IF((D80=\"\"),\"\",SUBSTITUTE(SUBSTITUTE(D80,\"\n\n\",\"</p><p>\"),\"\n\",\"<br>\"))","v":{"$error":"#REF!"}},"HTML",{"$f":"IF(E80=\"\",\"\",E80)","v":{"$error":"#REF!"}}]
["Enova_6",{"$f":"T_EcoMeasure_Enova_I6","v":{"$error":"#REF!"}},{"$f":"VLOOKUP(B81,Enumeration_Checkbox,2,FALSE)","v":{"$error":"#REF!"}},{"$f":"IF(C81=0,\"\",C81)","v":{"$error":"#REF!"}},null,"CheckBox",{"$f":"CONCATENATE(D81)","v":{"$error":"#REF!"}}]
["MeasureType_6",{"$f":"T_EcoMeasure_Measure_I6_1","v":{"$error":"#REF!"}},{"$f":"LOOKUP(B82,Name_tbl_EcoMeasureTypes,Name_tbl_EcoMeasureTypes_Id)","v":{"$error":"#REF!"}},{"$f":"IF(ISERROR(C82)=TRUE,\"\",C82)","v":""}]
[null,{"$f":"T_EcoMeasure_Measure_I6_2","v":{"$error":"#REF!"}},{"$error":"#REF!"},{"$f":"IF(ISERROR(C83)=TRUE,\"\",CONCATENATE(Deletegn,C83))","v":""}]
[null,{"$f":"T_EcoMeasure_Measure_I6_3","v":{"$error":"#REF!"}},{"$error":"#REF!"},""]
[null,{"$f":"T_EcoMeasure_Measure_I6_4","v":{"$error":"#REF!"}},{"$error":"#REF!"},""]
[null,{"$f":"T_EcoMeasure_Measure_I6_5","v":{"$error":"#REF!"}},{"$error":"#REF!"},""]
[null,{"$f":"T_EcoMeasure_Measure_I6_6","v":{"$error":"#REF!"}},{"$error":"#REF!"},""]
[null,{"$f":"T_EcoMeasure_Measure_I6_7","v":{"$error":"#REF!"}},{"$error":"#REF!"},""]
[null,{"$f":"T_EcoMeasure_Measure_I6_8","v":{"$error":"#REF!"}},{"$error":"#REF!"},"",null,null,{"$f":"CONCATENATE(D82,D83,D84,D85,D86,D87,D88,D89)","v":""}]
["EditAccess",{"$f":"A_EditAccess_I","v":{"$error":"#REF!"}},{"$f":"VLOOKUP(B90,Relations!$I$1:$J$38,2,FALSE)","v":{"$error":"#REF!"}},{"$f":"IF(B78=0,\"\",IF(ISERROR(C90)=TRUE,\"\",C90))","v":{"$error":"#REF!"}},null,"Relation (one)",{"$f":"IF((D90=0),\"\",D90)","v":{"$error":"#REF!"}}]
["PublishAccess",{"$f":"A_PublishAccess_I","v":{"$error":"#REF!"}},{"$f":"VLOOKUP(B91,Relations!$I$1:$J$38,2,FALSE)","v":{"$error":"#REF!"}},{"$f":"IF(B78=0,\"\",IF(ISERROR(C91)=TRUE,\"\",C91))","v":{"$error":"#REF!"}},null,"Relation (one)",{"$f":"IF((D91=0),\"\",D91)","v":{"$error":"#REF!"}}]
["Id_7",{"$f":"T_EcoMeasure_Id_I7","v":{"$error":"#REF!"}},{"$nulls":3},"Integer",{"$f":"IF((B92=0),\"\",B92)","v":{"$error":"#REF!"}}]
["Name_7",{"$f":"T_EcoMeasure_Name_I7","v":{"$error":"#REF!"}},{"$nulls":3},"Short string",{"$f":"IF((B93=0),\"\",B93)","v":{"$error":"#REF!"}}]
["Project_7",{"$f":"A_ID_I","v":{"$error":"#REF!"}},null,{"$f":"IF(B93=0,\"\",B94)","v":{"$error":"#REF!"}},null,"Short string",{"$f":"IF((D94=0),\"\",D94)","v":{"$error":"#REF!"}}]
["Description_7",{"$f":"IF(T_EcoMeasure_Description_I7=\"\",\"\",SUBSTITUTE(SUBSTITUTE(SUBSTITUTE(SUBSTITUTE(SUBSTITUTE(SUBSTITUTE(SUBSTITUTE(SUBSTITUTE(SUBSTITUTE(SUBSTITUTE(SUBSTITUTE(SUBSTITUTE(SUBSTITUTE(SUBSTITUTE(SUBSTITUTE(SUBSTITUTE(SUBSTITUTE(SUBSTITUTE(SUBSTITUTE(SUBSTITUTE(SUBSTITUTE(SUBSTITUTE(SUBSTITUTE(SUBSTITUTE(SUBSTITUTE(SUBSTITUTE(SUBSTITUTE(SUBSTITUTE(SUBSTITUTE(T_EcoMeasure_Description_I7,\"<\",\"&lt;\"),\">\",\"&gt;\"),\"′\",\"&prime;\"),\"″\",\"&Prime;\"),\"≤\",\"&le;\"),\"≥\",\"&ge;\"),\"‾\",\"&oline;\"),\"−\",\"&minus;\"),\"⁄\",\"&frasl;\"),\"∫\",\"&int;\"),\"∑\",\"&sum;\"),\"∞\",\"&infin;\"),\"√\",\"&radic;\"),\"≈\",\"&asymp;\"),\"≠\",\"&ne;\"),\"≡\",\"&equiv;\"),\"∏\",\"&prod;\"),\"∩\",\"&cap;\"),\"∂\",\"&part;\"),\"←\",\"&larr;\"),\"↑\",\"&uarr;\"),\"→\",\"&rarr;\"),\"↓\",\"&darr;\"),\"↔\",\"&harr;\"),\"◊\",\"&loz;\"),\"♠\",\"&spades;\"),\"♣\",\"&clubs;\"),\"♥\",\"&hearts;\"),\"♦\",\"&diams;\"))","v":{"$error":"#REF!"}},{"$f":"IF(B95=\"\",\"\",SUBSTITUTE(SUBSTITUTE(SUBSTITUTE(SUBSTITUTE(SUBSTITUTE(SUBSTITUTE(SUBSTITUTE(SUBSTITUTE(SUBSTITUTE(SUBSTITUTE(SUBSTITUTE(SUBSTITUTE(SUBSTITUTE(SUBSTITUTE(SUBSTITUTE(SUBSTITUTE(SUBSTITUTE(SUBSTITUTE(SUBSTITUTE(SUBSTITUTE(SUBSTITUTE(SUBSTITUTE(SUBSTITUTE(SUBSTITUTE(B95,\"Α\",\"&Alpha;\"),\"Β\",\"&Beta;\"),\"Γ\",\"&Gamma;\"),\"Δ\",\"&Delta;\"),\"Ε\",\"&Epsilon;\"),\"Ζ\",\"&Zeta;\"),\"Η\",\"&Eta;\"),\"Θ\",\"&Theta;\"),\"Ι\",\"&Iota;\"),\"Κ\",\"&Kappa;\"),\"Λ\",\"&Lambda;\"),\"Μ\",\"&Mu;\"),\"Ν\",\"&Nu;\"),\"Ξ\",\"&Xi;\"),\"Ο\",\"&Omicron;\"),\"Π\",\"&Pi;\"),\"Ρ\",\"&Rho;\"),\"Σ\",\"&Sigma;\"),\"Τ\",\"&Tau;\"),\"Υ\",\"&Upsilon;\"),\"Φ\",\"&Phi;\"),\"Χ\",\"&Chi;\"),\"Ψ\",\"&Psi;\"),\"Ω\",\"&Omega;\"))","v":{"$error":"#REF!"}},{"$f":"IF(C95=\"\",\"\",SUBSTITUTE(SUBSTITUTE(SUBSTITUTE(SUBSTITUTE(SUBSTITUTE(SUBSTITUTE(SUBSTITUTE(SUBSTITUTE(SUBSTITUTE(SUBSTITUTE(SUBSTITUTE(SUBSTITUTE(SUBSTITUTE(SUBSTITUTE(SUBSTITUTE(SUBSTITUTE(SUBSTITUTE(SUBSTITUTE(SUBSTITUTE(SUBSTITUTE(SUBSTITUTE(SUBSTITUTE(SUBSTITUTE(SUBSTITUTE(SUBSTITUTE(C95,\"α\",\"&alpha;\"),\"β\",\"&beta;\"),\"γ\",\"&gamma;\"),\"δ\",\"&delta;\"),\"ε\",\"&epsilon;\"),\"ζ\",\"&zeta;\"),\"η\",\"&eta;\"),\"θ\",\"&theta;\"),\"ι\",\"&iota;\"),\"κ\",\"&kappa;\"),\"λ\",\"&lambda;\"),\"μ\",\"&mu;\"),\"ν\",\"&nu;\"),\"ξ\",\"&xi;\"),\"ο\",\"&omicron;\"),\"π\",\"&pi;\"),\"ρ\",\"&rho;\"),\"ς\",\"&sigmaf;\"),\"σ\",\"&sigma;\"),\"τ\",\"&tau;\"),\"υ\",\"&upsilon;\"),\"φ\",\"&phi;\"),\"χ\",\"&chi;\"),\"ψ\",\"&psi;\"),\"ω\",\"&omega;\"))","v":{"$error":"#REF!"}},{"$f":"IF((D95=\"\"),\"\",SUBSTITUTE(SUBSTITUTE(D95,\"\n\n\",\"</p><p>\"),\"\n\",\"<br>\"))","v":{"$error":"#REF!"}},"HTML",{"$f":"IF(E95=\"\",\"\",E95)","v":{"$error":"#REF!"}}]
["Enova_7",{"$f":"T_EcoMeasure_Enova_I7","v":{"$error":"#REF!"}},{"$f":"VLOOKUP(B96,Enumeration_Checkbox,2,FALSE)","v":{"$error":"#REF!"}},{"$f":"IF(C96=0,\"\",C96)","v":{"$error":"#REF!"}},null,"CheckBox",{"$f":"CONCATENATE(D96)","v":{"$error":"#REF!"}}]
["MeasureType_7",{"$f":"T_EcoMeasure_Measure_I7_1","v":{"$error":"#REF!"}},{"$f":"LOOKUP(B97,Name_tbl_EcoMeasureTypes,Name_tbl_EcoMeasureTypes_Id)","v":{"$error":"#REF!"}},{"$f":"IF(ISERROR(C97)=TRUE,\"\",C97)","v":""}]
[null,{"$f":"T_EcoMeasure_Measure_I7_2","v":{"$error":"#REF!"}},{"$error":"#REF!"},{"$f":"IF(ISERROR(C98)=TRUE,\"\",CONCATENATE(Deletegn,C98))","v":""}]
[null,{"$f":"T_EcoMeasure_Measure_I7_3","v":{"$error":"#REF!"}},{"$error":"#REF!"},""]
[null,{"$f":"T_EcoMeasure_Measure_I7_4","v":{"$error":"#REF!"}},{"$error":"#REF!"},""]
[null,{"$f":"T_EcoMeasure_Measure_I7_5","v":{"$error":"#REF!"}},{"$error":"#REF!"},""]
[null,{"$f":"T_EcoMeasure_Measure_I7_6","v":{"$error":"#REF!"}},{"$error":"#REF!"},""]
[null,{"$f":"T_EcoMeasure_Measure_I7_7","v":{"$error":"#REF!"}},{"$error":"#REF!"},""]
[null,{"$f":"T_EcoMeasure_Measure_I7_8","v":{"$error":"#REF!"}},{"$error":"#REF!"},"",null,null,{"$f":"CONCATENATE(D97,D98,D99,D100,D101,D102,D103,D104)","v":""}]
["EditAccess",{"$f":"A_EditAccess_I","v":{"$error":"#REF!"}},{"$f":"VLOOKUP(B105,Relations!$I$1:$J$38,2,FALSE)","v":{"$error":"#REF!"}},{"$f":"IF(B93=0,\"\",IF(ISERROR(C105)=TRUE,\"\",C105))","v":{"$error":"#REF!"}},null,"Relation (one)",{"$f":"IF((D105=0),\"\",D105)","v":{"$error":"#REF!"}}]
["PublishAccess",{"$f":"A_PublishAccess_I","v":{"$error":"#REF!"}},{"$f":"VLOOKUP(B106,Relations!$I$1:$J$38,2,FALSE)","v":{"$error":"#REF!"}},{"$f":"IF(B93=0,\"\",IF(ISERROR(C106)=TRUE,\"\",C106))","v":{"$error":"#REF!"}},null,"Relation (one)",{"$f":"IF((D106=0),\"\",D106)","v":{"$error":"#REF!"}}]
["Id_8",{"$f":"T_EcoMeasure_Id_I8","v":{"$error":"#REF!"}},{"$nulls":3},"Integer",{"$f":"IF((B107=0),\"\",B107)","v":{"$error":"#REF!"}}]
["Name_8",{"$f":"T_EcoMeasure_Name_I8","v":{"$error":"#REF!"}},{"$nulls":3},"Short string",{"$f":"IF((B108=0),\"\",B108)","v":{"$error":"#REF!"}}]
["Project_8",{"$f":"A_ID_I","v":{"$error":"#REF!"}},null,{"$f":"IF(B108=0,\"\",B109)","v":{"$error":"#REF!"}},null,"Short string",{"$f":"IF((D109=0),\"\",D109)","v":{"$error":"#REF!"}}]
["Description_8",{"$f":"IF(T_EcoMeasure_Description_I8=\"\",\"\",SUBSTITUTE(SUBSTITUTE(SUBSTITUTE(SUBSTITUTE(SUBSTITUTE(SUBSTITUTE(SUBSTITUTE(SUBSTITUTE(SUBSTITUTE(SUBSTITUTE(SUBSTITUTE(SUBSTITUTE(SUBSTITUTE(SUBSTITUTE(SUBSTITUTE(SUBSTITUTE(SUBSTITUTE(SUBSTITUTE(SUBSTITUTE(SUBSTITUTE(SUBSTITUTE(SUBSTITUTE(SUBSTITUTE(SUBSTITUTE(SUBSTITUTE(SUBSTITUTE(SUBSTITUTE(SUBSTITUTE(SUBSTITUTE(T_EcoMeasure_Description_I8,\"<\",\"&lt;\"),\">\",\"&gt;\"),\"′\",\"&prime;\"),\"″\",\"&Prime;\"),\"≤\",\"&le;\"),\"≥\",\"&ge;\"),\"‾\",\"&oline;\"),\"−\",\"&minus;\"),\"⁄\",\"&frasl;\"),\"∫\",\"&int;\"),\"∑\",\"&sum;\"),\"∞\",\"&infin;\"),\"√\",\"&radic;\"),\"≈\",\"&asymp;\"),\"≠\",\"&ne;\"),\"≡\",\"&equiv;\"),\"∏\",\"&prod;\"),\"∩\",\"&cap;\"),\"∂\",\"&part;\"),\"←\",\"&larr;\"),\"↑\",\"&uarr;\"),\"→\",\"&rarr;\"),\"↓\",\"&darr;\"),\"↔\",\"&harr;\"),\"◊\",\"&loz;\"),\"♠\",\"&spades;\"),\"♣\",\"&clubs;\"),\"♥\",\"&hearts;\"),\"♦\",\"&diams;\"))","v":{"$error":"#REF!"}},{"$f":"IF(B110=\"\",\"\",SUBSTITUTE(SUBSTITUTE(SUBSTITUTE(SUBSTITUTE(SUBSTITUTE(SUBSTITUTE(SUBSTITUTE(SUBSTITUTE(SUBSTITUTE(SUBSTITUTE(SUBSTITUTE(SUBSTITUTE(SUBSTITUTE(SUBSTITUTE(SUBSTITUTE(SUBSTITUTE(SUBSTITUTE(SUBSTITUTE(SUBSTITUTE(SUBSTITUTE(SUBSTITUTE(SUBSTITUTE(SUBSTITUTE(SUBSTITUTE(B110,\"Α\",\"&Alpha;\"),\"Β\",\"&Beta;\"),\"Γ\",\"&Gamma;\"),\"Δ\",\"&Delta;\"),\"Ε\",\"&Epsilon;\"),\"Ζ\",\"&Zeta;\"),\"Η\",\"&Eta;\"),\"Θ\",\"&Theta;\"),\"Ι\",\"&Iota;\"),\"Κ\",\"&Kappa;\"),\"Λ\",\"&Lambda;\"),\"Μ\",\"&Mu;\"),\"Ν\",\"&Nu;\"),\"Ξ\",\"&Xi;\"),\"Ο\",\"&Omicron;\"),\"Π\",\"&Pi;\"),\"Ρ\",\"&Rho;\"),\"Σ\",\"&Sigma;\"),\"Τ\",\"&Tau;\"),\"Υ\",\"&Upsilon;\"),\"Φ\",\"&Phi;\"),\"Χ\",\"&Chi;\"),\"Ψ\",\"&Psi;\"),\"Ω\",\"&Omega;\"))","v":{"$error":"#REF!"}},{"$f":"IF(C110=\"\",\"\",SUBSTITUTE(SUBSTITUTE(SUBSTITUTE(SUBSTITUTE(SUBSTITUTE(SUBSTITUTE(SUBSTITUTE(SUBSTITUTE(SUBSTITUTE(SUBSTITUTE(SUBSTITUTE(SUBSTITUTE(SUBSTITUTE(SUBSTITUTE(SUBSTITUTE(SUBSTITUTE(SUBSTITUTE(SUBSTITUTE(SUBSTITUTE(SUBSTITUTE(SUBSTITUTE(SUBSTITUTE(SUBSTITUTE(SUBSTITUTE(SUBSTITUTE(C110,\"α\",\"&alpha;\"),\"β\",\"&beta;\"),\"γ\",\"&gamma;\"),\"δ\",\"&delta;\"),\"ε\",\"&epsilon;\"),\"ζ\",\"&zeta;\"),\"η\",\"&eta;\"),\"θ\",\"&theta;\"),\"ι\",\"&iota;\"),\"κ\",\"&kappa;\"),\"λ\",\"&lambda;\"),\"μ\",\"&mu;\"),\"ν\",\"&nu;\"),\"ξ\",\"&xi;\"),\"ο\",\"&omicron;\"),\"π\",\"&pi;\"),\"ρ\",\"&rho;\"),\"ς\",\"&sigmaf;\"),\"σ\",\"&sigma;\"),\"τ\",\"&tau;\"),\"υ\",\"&upsilon;\"),\"φ\",\"&phi;\"),\"χ\",\"&chi;\"),\"ψ\",\"&psi;\"),\"ω\",\"&omega;\"))","v":{"$error":"#REF!"}},{"$f":"IF((D110=\"\"),\"\",SUBSTITUTE(SUBSTITUTE(D110,\"\n\n\",\"</p><p>\"),\"\n\",\"<br>\"))","v":{"$error":"#REF!"}},"HTML",{"$f":"IF(E110=\"\",\"\",E110)","v":{"$error":"#REF!"}}]
["Enova_8",{"$f":"T_EcoMeasure_Enova_I8","v":{"$error":"#REF!"}},{"$f":"VLOOKUP(B111,Enumeration_Checkbox,2,FALSE)","v":{"$error":"#REF!"}},{"$f":"IF(C111=0,\"\",C111)","v":{"$error":"#REF!"}},null,"CheckBox",{"$f":"CONCATENATE(D111)","v":{"$error":"#REF!"}}]
["MeasureType_8",{"$f":"T_EcoMeasure_Measure_I8_1","v":{"$error":"#REF!"}},{"$f":"LOOKUP(B112,Name_tbl_EcoMeasureTypes,Name_tbl_EcoMeasureTypes_Id)","v":{"$error":"#REF!"}},{"$f":"IF(ISERROR(C112)=TRUE,\"\",C112)","v":""}]
[null,{"$f":"T_EcoMeasure_Measure_I8_2","v":{"$error":"#REF!"}},{"$error":"#REF!"},{"$f":"IF(ISERROR(C113)=TRUE,\"\",CONCATENATE(Deletegn,C113))","v":""}]
[null,{"$f":"T_EcoMeasure_Measure_I8_3","v":{"$error":"#REF!"}},{"$error":"#REF!"},""]
[null,{"$f":"T_EcoMeasure_Measure_I8_4","v":{"$error":"#REF!"}},{"$error":"#REF!"},""]
[null,{"$f":"T_EcoMeasure_Measure_I8_5","v":{"$error":"#REF!"}},{"$error":"#REF!"},""]
[null,{"$f":"T_EcoMeasure_Measure_I8_6","v":{"$error":"#REF!"}},{"$error":"#REF!"},""]
[null,{"$f":"T_EcoMeasure_Measure_I8_7","v":{"$error":"#REF!"}},{"$error":"#REF!"},""]
[null,{"$f":"T_EcoMeasure_Measure_I8_8","v":{"$error":"#REF!"}},{"$error":"#REF!"},"",null,null,{"$f":"CONCATENATE(D112,D113,D114,D115,D116,D117,D118,D119)","v":""}]
["EditAccess",{"$f":"A_EditAccess_I","v":{"$error":"#REF!"}},{"$f":"VLOOKUP(B120,Relations!$I$1:$J$38,2,FALSE)","v":{"$error":"#REF!"}},{"$f":"IF(B108=0,\"\",IF(ISERROR(C120)=TRUE,\"\",C120))","v":{"$error":"#REF!"}},null,"Relation (one)",{"$f":"IF((D120=0),\"\",D120)","v":{"$error":"#REF!"}}]
["PublishAccess",{"$f":"A_PublishAccess_I","v":{"$error":"#REF!"}},{"$f":"VLOOKUP(B121,Relations!$I$1:$J$38,2,FALSE)","v":{"$error":"#REF!"}},{"$f":"IF(B108=0,\"\",IF(ISERROR(C121)=TRUE,\"\",C121))","v":{"$error":"#REF!"}},null,"Relation (one)",{"$f":"IF((D121=0),\"\",D121)","v":{"$error":"#REF!"}}]

{"sheet":"EcoProject","index":8,"n_rows":2,"n_cols":159,"rows_kept":2,"hidden":true}
["Id","Name","SubTitle","AuthorSignature","ProjectOwner","EditorialResponsibility","ShortDescription","GeneralProjectType","FinishedProject","PublishToByrapport","FramtidensByerDatabase","PublishToHusbanken","PublishToEnova","PublishToFramtidensByer","HideOnEcobox","HideFromProjectFrontPage","Contact","ContactPhone","ContactEmail","FByerExternalTags","ExternalTags","ExternalProjectDBUsers","Paragraphs","EcoMeasures","EconomyHeader","Economy","ClosingParagraphHeader","ClosingParagraph","ProjectresponsibleFB","ResponsibleDepartment","ProjectAddress","Location","Municipalities","MapLatitude","MapLongitude","MapZoomLevel","ProjectPeriod","ConstructionStartedYear","ConstructionCompletedYear","Partners","OthersInvolved","KeywordMeasures","Collaboration","MunicipalitiesCollaboration","PrivateCollaboration","OtherCollaboration","ProgressDescription","ProgressStatus","ChangeLog","FByerOtherResults","FByerCosts","FByerImportance","FByerTimeUsage","FByerPeopleInformed","FByerOtherRemarks","ProjectPhase","ProjectTypes","FunctionBuildingCategory","ProjectCompetitionForm","ProjectContractingForm","ProjectEnvironmentalStandard","ProjectAwards","ProjectRoleModel","ProjectResearch","ProjectArchitectureGuide","Builders","ArchitectARK","ArchitectLARK","ArchitectIARK","OriginalArchitect","ProjectManagagers","EnvironmentConsultants","EnergyConsultants","UniversalDesignConsultants","AdvisorIngBygg","AdvisorIngVVS","AdvisorIngElektro","AdvisoringBuildingPhysics","AdvisorIngFireSafety","AdvisorIngAcoustics","OtherAdvisors","Contractors","ConstructionManagement","SubContractors","AreaUsed","NumberOfResidents","GrossSquareFootBTA","GrossSquareFoot","GrossSquareFootHeated","SquareFootGlass","CompactnessFactor","GreenAreaIncease","HardAreaReduction","WalkwaysLength","DistanceToCollectivePoint","DistanceToCityCenter","ParkingArea","ParkingSpotsPerUnit","BikeParkingArea","BikeParkingSpotsPerUnit","FByerCO2","CO2Method","CO2ReferenceEnergy","CO2ReferenceMaterials","CO2ReferenceTransport","CO2DesignedEnergy","CO2DesignedMaterials","CO2DesignedTransport","CO2FinishedEnergy","CO2FinishedMaterials","CO2FinishedTransport","CO2InUseEnergy","CO2InUseMaterials","CO2InUseTransport","EnergyLabel","HeatRating","EnergyConsumption","EnergySources","NetEnergy3700","EstimatedDeliveredEnergy3700","NetEnergy","EstimatedDeliveredEnergy","EnergySavings","EnergyConvertedFromElectricityToRenewable","EnergyConvertedFromFossilToRenewable","EnergyDelivered","EnovaFactsEnergy","EnovaFactsComfort","UValueRoof","UValueFloor","UValueWall","UValueWindow","MeasuredAirTightness","SpecificFanPower","HeatRecoveryEfficiency","RoomHeating","VentilationHeating","DomesticHotWater","FanAdministration","PumpAdministration","Lighting","TechnicalEquipment","RoomCooling","VentilationCooling","OtherEnergyPosts","EnergyEfficiencyMethod","Manufacturers","BuildingCosts","MerkostnadM2","MerkostnadEnergiM2Enova","MerkostnadUniversellUtformingM2","ProjectSupportEnova","ProjectSupportHusbanken","PublishedIn","QuickLinks","References","PublishAccess","EditAccess","EcoProjectTemplate"]
[{"$f":"IF(ID=0,\"\",ID)","v":{"$error":"#REF!"}},{"$f":"IF(Name=0,\"\",Name)","v":{"$error":"#REF!"}},{"$f":"IF(Subtitle=0,\"\",Subtitle)","v":{"$error":"#REF!"}},{"$f":"IF(AuthorSignature=0,\"\",AuthorSignature)","v":{"$error":"#REF!"}},{"$f":"IF(ProjectOwner=0,\"\",ProjectOwner)","v":""},{"$f":"IF(EditorialResponsibility=0,\"\",EditorialResponsibility)","v":{"$error":"#REF!"}},{"$f":"IF(ShortDescription=0,\"\",ShortDescription)","v":{"$error":"#REF!"}},{"$f":"IF(GeneralProjectType=0,\"\",GeneralProjectType)","v":""},{"$f":"IF(FinishedProject=0,\"\",FinishedProject)","v":{"$error":"#REF!"}},{"$f":"IF(PublishToByrapport=0,\"\",PublishToByrapport)","v":{"$error":"#REF!"}},{"$f":"IF(FramtidensByerDatabase=0,\"\",FramtidensByerDatabase)","v":"FALSE"},{"$f":"IF(PublishToHusbanken=0,\"\",PublishToHusbanken)","v":{"$error":"#REF!"}},{"$f":"IF(PublishToEnova=0,\"\",PublishToEnova)","v":{"$error":"#REF!"}},{"$f":"IF(PublishToFramtidensByer=0,\"\",PublishToFramtidensByer)","v":{"$error":"#REF!"}},{"$f":"IF(HideOnEcobox=0,\"\",HideOnEcobox)","v":{"$error":"#REF!"}},{"$f":"IF(HideFromProjectFrontPage=0,\"\",HideFromProjectFrontPage)","v":{"$error":"#REF!"}},{"$f":"IF(Contact=0,\"\",Contact)","v":{"$error":"#REF!"}},{"$f":"IF(ContactPhone=0,\"\",ContactPhone)","v":{"$error":"#REF!"}},{"$f":"IF(ContactEmail=0,\"\",ContactEmail)","v":{"$error":"#REF!"}},{"$f":"IF(FByerExternalTags=0,\"\",FByerExternalTags)","v":""},{"$f":"IF(ExternalTags=0,\"\",ExternalTags)","v":""},{"$f":"IF(ExternalProjectDBUsers=0,\"\",ExternalProjectDBUsers)","v":""},{"$f":"IF(Paragraphs=0,\"\",Paragraphs)","v":{"$error":"#REF!"}},{"$f":"IF(EcoMeasures=0,\"\",EcoMeasures)","v":{"$error":"#REF!"}},{"$f":"IF(EconomyHeader=0,\"\",EconomyHeader)","v":{"$error":"#REF!"}},{"$f":"IF(Economy=0,\"\",Economy)","v":{"$error":"#REF!"}},{"$f":"IF(ClosingParagraphHeader=0,\"\",ClosingParagraphHeader)","v":{"$error":"#REF!"}},{"$f":"IF(ClosingParagraph=0,\"\",ClosingParagraph)","v":{"$error":"#REF!"}},{"$f":"IF(ProjectResponsibleFB=0,\"\",ProjectResponsibleFB)","v":""},{"$f":"IF(ResponsibleDepartment=0,\"\",ResponsibleDepartment)","v":{"$error":"#REF!"}},{"$f":"IF(ProjectAddress=0,\"\",ProjectAddress)","v":{"$error":"#REF!"}},{"$f":"IF(Location=0,\"\",Location)","v":{"$error":"#REF!"}},{"$f":"IF(Municipalities=0,\"\",Municipalities)","v":""},{"$f":"IF(MapLatitude=0,\"\",MapLatitude)","v":{"$error":"#REF!"}},{"$f":"IF(MapLongitude=0,\"\",MapLongitude)","v":{"$error":"#REF!"}},{"$f":"IF(MapZoomLevel=0,\"\",MapZoomLevel)","v":{"$error":"#REF!"}},{"$f":"IF(ProjectPeriod=0,\"\",ProjectPeriod)","v":{"$error":"#REF!"}},{"$f":"IF(ConstructionStartedYear=0,\"\",ConstructionStartedYear)","v":{"$error":"#REF!"}},{"$f":"IF(ConstructionCompletedYear=0,\"\",ConstructionCompletedYear)","v":{"$error":"#REF!"}},{"$f":"IF(Partners=0,\"\",Partners)","v":""},{"$f":"IF(OthersInvolved=0,\"\",OthersInvolved)","v":{"$error":"#REF!"}},{"$f":"IF(KeywordMeasures=0,\"\",KeywordMeasures)","v":""},{"$f":"IF(Collaboration=0,\"\",Collaboration)","v":{"$error":"#REF!"}},{"$f":"IF(MunicipalitiesCollaboration=0,\"\",MunicipalitiesCollaboration)","v":{"$error":"#REF!"}},{"$f":"IF(PrivateCollaboration=0,\"\",PrivateCollaboration)","v":{"$error":"#REF!"}},{"$f":"IF(OtherCollaboration=0,\"\",OtherCollaboration)","v":{"$error":"#REF!"}},{"$f":"IF(ProgressDescription=0,\"\",ProgressDescription)","v":{"$error":"#REF!"}},{"$f":"IF(ProgressStatus=0,\"\",ProgressStatus)","v":""},{"$f":"IF(ChangeLog=0,\"\",ChangeLog)","v":{"$error":"#REF!"}},{"$f":"IF(FByerOtherResults=0,\"\",FByerOtherResults)","v":{"$error":"#REF!"}},{"$f":"IF(FByerCosts=0,\"\",FByerCosts)","v":{"$error":"#REF!"}},{"$f":"IF(FByerImportance=0,\"\",FByerImportance)","v":""},{"$f":"IF(FByerTimeUsage=0,\"\",FByerTimeUsage)","v":""},{"$f":"IF(FByerPeopleInformed=0,\"\",FByerPeopleInformed)","v":{"$error":"#REF!"}},{"$f":"IF(FbyerOtherRemarks=0,\"\",FbyerOtherRemarks)","v":{"$error":"#REF!"}},{"$f":"IF(ProjectPhase=0,\"\",ProjectPhase)","v":{"$error":"#REF!"}},{"$f":"IF(ProjectTypes=0,\"\",ProjectTypes)","v":""},{"$f":"IF(FunctionBuildingCategory=0,\"\",FunctionBuildingCategory)","v":""},{"$f":"IF(ProjectCompetitionForm=0,\"\",ProjectCompetitionForm)","v":""},{"$f":"IF(ProjectContractingForm=0,\"\",ProjectContractingForm)","v":""},{"$f":"IF(ProjectEnvironmentalStandard=0,\"\",ProjectEnvironmentalStandard)","v":""},{"$f":"IF(ProjectAward=0,\"\",ProjectAward)","v":""},{"$f":"IF(ProjectRoleModel=0,\"\",ProjectRoleModel)","v":""},{"$f":"IF(ProjectResearch=0,\"\",ProjectResearch)","v":""},{"$f":"IF(ProjectArchitectureGuide=0,\"\",ProjectArchitectureGuide)","v":""},{"$f":"IF(Builders=0,\"\",Builders)","v":""},{"$f":"IF(ArchitectARK=0,\"\",ArchitectARK)","v":""},{"$f":"IF(ArchitectLARK=0,\"\",ArchitectLARK)","v":""},{"$f":"IF(ArchitectIARK=0,\"\",ArchitectIARK)","v":""},{"$f":"IF(OriginalArchitect=0,\"\",OriginalArchitect)","v":""},{"$f":"IF(ProjectManagagers=0,\"\",ProjectManagagers)","v":""},{"$f":"IF(EnvironmentConsultants=0,\"\",EnvironmentConsultants)","v":""},{"$f":"IF(EnergyConsultants=0,\"\",EnergyConsultants)","v":""},{"$f":"IF(UniversalDesignConsultants=0,\"\",UniversalDesignConsultants)","v":""},{"$f":"IF(AdvisorIngBygg=0,\"\",AdvisorIngBygg)","v":""},{"$f":"IF(AdvisorIngVVS=0,\"\",AdvisorIngVVS)","v":""},{"$f":"IF(AdvisorIngElektro=0,\"\",AdvisorIngElektro)","v":""},{"$f":"IF(AdvisorIngBuildingPhysics=0,\"\",AdvisorIngBuildingPhysics)","v":""},{"$f":"IF(AdvisorIngFireSafety=0,\"\",AdvisorIngFireSafety)","v":""},{"$f":"IF(AdvisorIngAcoustics=0,\"\",AdvisorIngAcoustics)","v":""},{"$f":"IF(OtherAdvisors=0,\"\",OtherAdvisors)","v":{"$error":"#REF!"}},{"$f":"IF(Contractors=0,\"\",Contractors)","v":""},{"$f":"IF(ConstructionManagement=0,\"\",ConstructionManagement)","v":""},{"$f":"IF(SubContractors=0,\"\",SubContractors)","v":{"$error":"#REF!"}},{"$f":"IF(AreaUsed=0,\"\",AreaUsed)","v":{"$error":"#REF!"}},{"$f":"IF(NumberOfResidents=0,\"\",NumberOfResidents)","v":{"$error":"#REF!"}},{"$f":"IF(GrossSquareFootBTA=0,\"\",GrossSquareFootBTA)","v":{"$error":"#REF!"}},{"$f":"IF(GrossSquareFoot=0,\"\",GrossSquareFoot)","v":{"$error":"#REF!"}},{"$f":"IF(GrossSquareFootHeated=0,\"\",GrossSquareFootHeated)","v":{"$error":"#REF!"}},{"$f":"IF(SquareFootGlass=0,\"\",SquareFootGlass)","v":{"$error":"#REF!"}},{"$f":"IF(CompactnessFactor=0,\"\",CompactnessFactor)","v":""},{"$f":"IF(GreenAreaIncrease=0,\"\",GreenAreaIncrease)","v":{"$error":"#REF!"}},{"$f":"IF(HardAreaReduction=0,\"\",HardAreaReduction)","v":{"$error":"#REF!"}},{"$f":"IF(WalkwaysLength=0,\"\",WalkwaysLength)","v":{"$error":"#REF!"}},{"$f":"IF(DistanceToCollectivePoint=0,\"\",DistanceToCollectivePoint)","v":{"$error":"#REF!"}},{"$f":"IF(DistanceToCityCenter=0,\"\",DistanceToCityCenter)","v":{"$error":"#REF!"}},{"$f":"IF(ParkingArea=0,\"\",ParkingArea)","v":{"$error":"#REF!"}},{"$f":"IF(ParkingSpotsPerUnit=0,\"\",ParkingSpotsPerUnit)","v":{"$error":"#REF!"}},{"$f":"IF(BikeParkingArea=0,\"\",BikeParkingArea)","v":{"$error":"#REF!"}},{"$f":"IF(BikeParkingSpotsPerUnit=0,\"\",BikeParkingSpotsPerUnit)","v":{"$error":"#REF!"}},{"$f":"IF(FByerCO2=0,\"\",FByerCO2)","v":{"$error":"#REF!"}},{"$f":"IF(CO2Method=0,\"\",CO2Method)","v":{"$error":"#REF!"}},{"$f":"IF(CO2ReferenceEnergy=0,\"\",CO2ReferenceEnergy)","v":{"$error":"#REF!"}},{"$f":"IF(CO2ReferenceMaterials=0,\"\",CO2ReferenceMaterials)","v":{"$error":"#REF!"}},{"$f":"IF(CO2ReferenceTransport=0,\"\",CO2ReferenceTransport)","v":{"$error":"#REF!"}},{"$f":"IF(CO2DesignedEnergy=0,\"\",CO2DesignedEnergy)","v":{"$error":"#REF!"}},{"$f":"IF(CO2DesignedMaterials=0,\"\",CO2DesignedMaterials)","v":{"$error":"#REF!"}},{"$f":"IF(CO2DesignedTransport=0,\"\",CO2DesignedTransport)","v":{"$error":"#REF!"}},{"$f":"IF(CO2FinishedEnergy=0,\"\",CO2FinishedEnergy)","v":{"$error":"#REF!"}},{"$f":"IF(CO2FinishedMaterials=0,\"\",CO2FinishedMaterials)","v":{"$error":"#REF!"}},{"$f":"IF(CO2FinishedTransport=0,\"\",CO2FinishedTransport)","v":{"$error":"#REF!"}},{"$f":"IF(CO2InUseEnergy=0,\"\",CO2InUseEnergy)","v":{"$error":"#REF!"}},{"$f":"IF(CO2InUseMaterials=0,\"\",CO2InUseMaterials)","v":{"$error":"#REF!"}},{"$f":"IF(CO2InUseTransport=0,\"\",CO2InUseTransport)","v":{"$error":"#REF!"}},{"$f":"IF(EnergyLabel=0,\"\",EnergyLabel)","v":{"$error":"#REF!"}},{"$f":"IF(HeatRating=0,\"\",HeatRating)","v":{"$error":"#REF!"}},{"$f":"IF(EnergyConsumption=0,\"\",EnergyConsumption)","v":{"$error":"#REF!"}},{"$f":"IF(EnergySources=0,\"\",EnergySources)","v":{"$error":"#REF!"}},{"$f":"IF(NetEnergy3700=0,\"\",NetEnergy3700)","v":{"$error":"#REF!"}},{"$f":"IF(EstimatedDeliveredEnergy3700=0,\"\",EstimatedDeliveredEnergy3700)","v":{"$error":"#REF!"}},{"$f":"IF(NetEnergy=0,\"\",NetEnergy)","v":{"$error":"#REF!"}},{"$f":"IF(EstimatedDeliveredEnergy=0,\"\",EstimatedDeliveredEnergy)","v":{"$error":"#REF!"}},{"$f":"IF(EnergySavings=0,\"\",EnergySavings)","v":{"$error":"#REF!"}},{"$f":"IF(EnergyConvertedFromElectricityToRenewable=0,\"\",EnergyConvertedFromElectricityToRenewable)","v":{"$error":"#REF!"}},{"$f":"IF(EnergyConvertedFromFossilToRenewable=0,\"\",EnergyConvertedFromFossilToRenewable)","v":{"$error":"#REF!"}},{"$f":"IF(EnergyDelivered=0,\"\",EnergyDelivered)","v":{"$error":"#REF!"}},{"$f":"IF(EnovaFactsEnergy=0,\"\",EnovaFactsEnergy)","v":{"$error":"#REF!"}},{"$f":"IF(EnovaFactsComfort=0,\"\",EnovaFactsComfort)","v":{"$error":"#REF!"}},{"$f":"IF(UValueRoof=0,\"\",UValueRoof)","v":{"$error":"#REF!"}},{"$f":"IF(UValueFloor=0,\"\",UValueFloor)","v":{"$error":"#REF!"}},{"$f":"IF(UValueWall=0,\"\",UValueWall)","v":{"$error":"#REF!"}},{"$f":"IF(UValueWindow=0,\"\",UValueWindow)","v":{"$error":"#REF!"}},{"$f":"IF(MeasuredAirTightness=0,\"\",MeasuredAirTightness)","v":{"$error":"#REF!"}},{"$f":"IF(SpecificFanPower=0,\"\",SpecificFanPower)","v":{"$error":"#REF!"}},{"$f":"IF(HeatRecoveryEfficiency=0,\"\",HeatRecoveryEfficiency)","v":{"$error":"#REF!"}},{"$f":"IF(RoomHeating=0,\"\",RoomHeating)","v":{"$error":"#REF!"}},{"$f":"IF(VentilationHeating=0,\"\",VentilationHeating)","v":{"$error":"#REF!"}},{"$f":"IF(DomesticHotWater=0,\"\",DomesticHotWater)","v":{"$error":"#REF!"}},{"$f":"IF(FanAdministration=0,\"\",FanAdministration)","v":{"$error":"#REF!"}},{"$f":"IF(PumpAdministration=0,\"\",PumpAdministration)","v":{"$error":"#REF!"}},{"$f":"IF(Lighting=0,\"\",Lighting)","v":{"$error":"#REF!"}},{"$f":"IF(TechnicalEquipment=0,\"\",TechnicalEquipment)","v":{"$error":"#REF!"}},{"$f":"IF(RoomCooling=0,\"\",RoomCooling)","v":{"$error":"#REF!"}},{"$f":"IF(VentilationCooling=0,\"\",VentilationCooling)","v":{"$error":"#REF!"}},{"$f":"IF(OtherEnergyPosts=0,\"\",OtherEnergyPosts)","v":{"$error":"#REF!"}},{"$f":"IF(EnergyEfficiencyMethod=0,\"\",EnergyEfficiencyMethod)","v":{"$error":"#REF!"}},{"$f":"IF(Manufacturers=0,\"\",Manufacturers)","v":{"$error":"#REF!"}},{"$f":"IF(BuildingCosts=0,\"\",BuildingCosts)","v":{"$error":"#REF!"}},{"$f":"IF(MerkostnadM2=0,\"\",MerkostnadM2)","v":{"$error":"#REF!"}},{"$f":"IF(MerkostnadEnergiM2Enova=0,\"\",MerkostnadEnergiM2Enova)","v":{"$error":"#REF!"}},{"$f":"IF(MerkostnadUniversellUtformingM2=0,\"\",MerkostnadUniversellUtformingM2)","v":{"$error":"#REF!"}},{"$f":"IF(ProjectSupportEnova=0,\"\",ProjectSupportEnova)","v":{"$error":"#REF!"}},{"$f":"IF(ProjectSupportHusbanken=0,\"\",ProjectSupportHusbanken)","v":{"$error":"#REF!"}},{"$f":"IF(PublishedIn=0,\"\",PublishedIn)","v":{"$error":"#REF!"}},{"$f":"IF(QuickLinks=0,\"\",QuickLinks)","v":{"$error":"#REF!"}},{"$f":"IF(References=0,\"\",References)","v":{"$error":"#REF!"}},{"$f":"IF(PublishAccess=0,\"\",PublishAccess)","v":""},{"$f":"IF(EditAccess=0,\"\",EditAccess)","v":""},{"$f":"IF(EcoProjectTemplate=0,\"\",EcoProjectTemplate)","v":""}]

{"sheet":"EcoMeasure","index":9,"n_rows":9,"n_cols":8,"rows_kept":9,"hidden":true}
["Id","Name","Project","Description","Enova","MeasureType","PublishAccess","EditAccess"]
[{"$f":"EcoMeasureId_E1","v":{"$error":"#REF!"}},{"$f":"EcoMeasureName_E1","v":{"$error":"#REF!"}},{"$f":"EcoMeasureProject_E1","v":{"$error":"#REF!"}},{"$f":"EcoMeasureDescription_E1","v":{"$error":"#REF!"}},{"$f":"EcoMeasureEnova_E1","v":{"$error":"#REF!"}},{"$f":"EcoMeasureMeasureType_E1","v":""},{"$f":"EcoMeasurePublishAccess_E1","v":{"$error":"#REF!"}},{"$f":"EcoMeasureEditAccess_E1","v":{"$error":"#REF!"}}]
[{"$f":"EcoMeasureId_E2","v":{"$error":"#REF!"}},{"$f":"EcoMeasureName_E2","v":{"$error":"#REF!"}},{"$f":"EcoMeasureProject_E2","v":{"$error":"#REF!"}},{"$f":"EcoMeasureDescription_E2","v":{"$error":"#REF!"}},{"$f":"EcoMeasureEnova_E2","v":{"$error":"#REF!"}},{"$f":"EcoMeasureMeasureType_E2","v":""},{"$f":"EcoMeasurePublishAccess_E2","v":{"$error":"#REF!"}},{"$f":"EcoMeasureEditAccess_E2","v":{"$error":"#REF!"}}]
[{"$f":"EcoMeasureId_E3","v":{"$error":"#REF!"}},{"$f":"EcoMeasureName_E3","v":{"$error":"#REF!"}},{"$f":"EcoMeasureProject_E3","v":{"$error":"#REF!"}},{"$f":"EcoMeasureDescription_E3","v":{"$error":"#REF!"}},{"$f":"EcoMeasureEnova_E3","v":{"$error":"#REF!"}},{"$f":"EcoMeasureMeasureType_E3","v":""},{"$f":"EcoMeasurePublishAccess_E3","v":{"$error":"#REF!"}},{"$f":"EcoMeasureEditAccess_E3","v":{"$error":"#REF!"}}]
[{"$f":"EcoMeasureId_E4","v":{"$error":"#REF!"}},{"$f":"EcoMeasureName_E4","v":{"$error":"#REF!"}},{"$f":"EcoMeasureProject_E4","v":{"$error":"#REF!"}},{"$f":"EcoMeasureDescription_E4","v":{"$error":"#REF!"}},{"$f":"EcoMeasureEnova_E4","v":{"$error":"#REF!"}},{"$f":"EcoMeasureMeasureType_E4","v":""},{"$f":"EcoMeasurePublishAccess_E4","v":{"$error":"#REF!"}},{"$f":"EcoMeasureEditAccess_E4","v":{"$error":"#REF!"}}]
[{"$f":"EcoMeasureId_E5","v":{"$error":"#REF!"}},{"$f":"EcoMeasureName_E5","v":{"$error":"#REF!"}},{"$f":"EcoMeasureProject_E5","v":{"$error":"#REF!"}},{"$f":"EcoMeasureDescription_E5","v":{"$error":"#REF!"}},{"$f":"EcoMeasureEnova_E5","v":{"$error":"#REF!"}},{"$f":"EcoMeasureMeasureType_E5","v":""},{"$f":"EcoMeasurePublishAccess_E5","v":{"$error":"#REF!"}},{"$f":"EcoMeasureEditAccess_E5","v":{"$error":"#REF!"}}]
[{"$f":"EcoMeasureId_E6","v":{"$error":"#REF!"}},{"$f":"EcoMeasureName_E6","v":{"$error":"#REF!"}},{"$f":"EcoMeasureProject_E6","v":{"$error":"#REF!"}},{"$f":"EcoMeasureDescription_E6","v":{"$error":"#REF!"}},{"$f":"EcoMeasureEnova_E6","v":{"$error":"#REF!"}},{"$f":"EcoMeasureMeasureType_E6","v":""},{"$f":"EcoMeasurePublishAccess_E6","v":{"$error":"#REF!"}},{"$f":"EcoMeasureEditAccess_E6","v":{"$error":"#REF!"}}]
[{"$f":"EcoMeasureId_E7","v":{"$error":"#REF!"}},{"$f":"EcoMeasureName_E7","v":{"$error":"#REF!"}},{"$f":"EcoMeasureProject_E7","v":{"$error":"#REF!"}},{"$f":"EcoMeasureDescription_E7","v":{"$error":"#REF!"}},{"$f":"EcoMeasureEnova_E7","v":{"$error":"#REF!"}},{"$f":"EcoMeasureMeasureType_E7","v":""},{"$f":"EcoMeasurePublishAccess_E7","v":{"$error":"#REF!"}},{"$f":"EcoMeasureEditAccess_E7","v":{"$error":"#REF!"}}]
[{"$f":"EcoMeasureId_E8","v":{"$error":"#REF!"}},{"$f":"EcoMeasureName_E8","v":{"$error":"#REF!"}},{"$f":"EcoMeasureProject_E8","v":{"$error":"#REF!"}},{"$f":"EcoMeasureDescription_E8","v":{"$error":"#REF!"}},{"$f":"EcoMeasureEnova_E8","v":{"$error":"#REF!"}},{"$f":"EcoMeasureMeasureType_E8","v":""},{"$f":"EcoMeasurePublishAccess_E8","v":{"$error":"#REF!"}},{"$f":"EcoMeasureEditAccess_E8","v":{"$error":"#REF!"}}]

{"sheet":"tbl_ArchitectureOffices","index":10,"n_rows":548,"n_cols":5,"rows_kept":548,"hidden":true}
["odata_title","odata_updated","Id","Name","Kolonne1"]
["Dyrø og Moen AS","2012-06-01T16:05:00+02:00",166571," Dyrø og Moen AS"]
["Hoen arkitektfirma, Anne Louise","2012-06-01T16:05:50+02:00",172585," Hoen arkitektfirma, Anne Louise"]
["Hus arkitekter AS","2012-06-01T16:05:49+02:00",171139," Hus arkitekter AS"]
["Kvien, Tord","2012-06-01T16:05:50+02:00",171771," Kvien, Tord"]
["1:1 Arkitekter AS","2012-06-01T16:05:49+02:00",166642,"1:1 Arkitekter AS"]
["3RW arkitekter","2012-06-01T16:05:48+02:00",166448,"3RW arkitekter"]
["4B Arkitekter AS","2012-06-01T16:05:49+02:00",166723,"4B Arkitekter AS"]
["70 °N arkitektur AS","2012-06-01T16:05:49+02:00",166469,"70 °N arkitektur AS"]
["a2 arkitekter as","2012-06-01T16:05:50+02:00",186465,"a2 arkitekter as"]
["AART (danmark)","2013-01-02T19:46:00+01:00",245870,"AART (danmark)"]
["Abacus as","2012-06-01T16:05:48+02:00",166417,"Abacus as"]
["Abo Plan & Arkitektur AS","2012-06-01T16:05:50+02:00",181938,"Abo Plan & Arkitektur AS"]
["absolutt arkitektur as","2012-06-01T16:05:51+02:00",235232,"absolutt arkitektur as"]
["ACK Arkitekter","2012-06-01T16:05:50+02:00",172791,"ACK Arkitekter"]
["Acona Tehnopole AS","2012-06-01T16:05:00+02:00",166432,"Acona Tehnopole AS"]
["Adaptiv Arkitektur AS","2013-02-18T16:01:00+01:00",247813,"Adaptiv Arkitektur AS"]
["Aepos arkitekter og planleggere AS","2012-06-01T16:05:48+02:00",166439,"Aepos arkitekter og planleggere AS"]
["AG Plan og Arkitektur AS","2012-06-01T16:05:48+02:00",166449,"AG Plan og Arkitektur AS"]
["Aga Arkitekter AS","2012-06-01T16:05:48+02:00",166181,"Aga Arkitekter AS"]
["Agraff AS","2013-01-27T11:46:18+01:00",166453,"Agraff AS"]
["AKC Arkitekter AS","2012-06-01T16:05:49+02:00",166455,"AKC Arkitekter AS"]
["a-lab as","2013-04-04T09:24:00+02:00",166183,"a-lab as"]
["Alliance arkitekter AS","2012-06-01T16:05:49+02:00",166456,"Alliance arkitekter AS"]
["Allsidig Arkitekt","2012-10-26T10:40:45+02:00",243404,"Allsidig Arkitekt"]
["alt arkitektur as","2012-06-01T16:05:49+02:00",166461,"alt arkitektur as"]
["AMB arkitekter AS","2012-06-01T16:05:51+02:00",233552,"AMB arkitekter AS"]
["Amdahl Strøm Cappelen Arkitekter AS","2012-06-01T16:05:51+02:00",219365,"Amdahl Strøm Cappelen Arkitekter AS"]
["Amtedal & Hansen Arkitektkontor as","2012-06-01T16:05:50+02:00",172681,"Amtedal & Hansen Arkitektkontor as"]
["Amtedal & Hansen Arkitektkontor AS","2013-02-13T11:00:00+01:00",247618,"Amtedal & Hansen Arkitektkontor AS"]
["Andersen & Flåte AS","2012-06-01T16:05:51+02:00",230398,"Andersen & Flåte AS"]
["Anderssen+Fremming AS","2012-06-01T16:05:50+02:00",172904,"Anderssen+Fremming AS"]
["Andresen Arkitekter AS","2012-06-01T16:05:49+02:00",166474,"Andresen Arkitekter AS"]
["April Arkitekter AS","2012-06-01T16:05:49+02:00",166476,"April Arkitekter AS"]
["arc arkitekter as","2012-06-01T16:05:50+02:00",172892,"arc arkitekter as"]
["ARC arkitektur AS","2013-03-15T15:33:00+01:00",248768,"ARC arkitektur AS"]
["Arcasa arkitekter AS","2012-06-01T16:05:49+02:00",166511,"Arcasa arkitekter AS"]
["Arc-ess AS","2012-06-01T16:05:49+02:00",166480,"Arc-ess AS"]
["Arch Uno AS","2012-06-01T16:05:49+02:00",166482,"Arch Uno AS"]
["Architectopia AS","2012-06-01T16:05:00+02:00",210153,"Architectopia AS"]
["Archus Arkitekter AS","2012-06-01T16:05:49+02:00",166483,"Archus Arkitekter AS"]
["Arcon Prosjekt AS","2012-06-01T16:05:50+02:00",172880,"Arcon Prosjekt AS"]
["Ario as","2012-06-01T16:05:49+02:00",166486,"Ario as"]
["Arkade Arkitektkontor AS","2012-12-20T10:50:00+01:00",245661,"Arkade Arkitektkontor AS"]
["Arkadia Arkitekter AS","2012-06-01T16:05:49+02:00",166487,"Arkadia Arkitekter AS"]
["Arken AS, Arkitektkontoret","2012-06-01T16:05:49+02:00",166490,"Arken AS, Arkitektkontoret "]
["Arkidea AS","2012-06-01T16:05:49+02:00",166491,"Arkidea AS"]
["Arkideco as","2012-06-01T16:05:50+02:00",172582,"Arkideco as"]
["ArkiForum AS","2012-06-01T16:05:49+02:00",166492,"ArkiForum AS"]
["Arkinett AS","2012-06-01T16:05:49+02:00",166493,"Arkinett AS"]
["Arkipartner AS","2012-06-01T16:05:49+02:00",166494,"Arkipartner AS"]
["Arkiplan AS","2012-06-01T16:05:49+02:00",166495,"Arkiplan AS"]
["Arkitekt Ludvig Hoddø MNAL","2012-11-16T15:18:00+01:00",244046,"Arkitekt Ludvig Hoddø MNAL"]
["Arkitekt MNAL Håvard Holm Endresen","2012-06-01T16:05:51+02:00",232534,"Arkitekt MNAL Håvard Holm Endresen"]
["Arkitektarna Krook & Tjäder A","2012-06-01T16:05:51+02:00",228619,"Arkitektarna Krook & Tjäder A "]
["Arkitektbua A/S","2012-06-01T16:05:49+02:00",166496,"Arkitektbua A/S"]
["Arkitektene AS - Arkitekt MNAL NPA Espen Eskeland","2012-06-01T16:05:49+02:00",166497,"Arkitektene AS - Arkitekt MNAL NPA Espen Eskeland"]
["Arkitektene Astrup og Hellern AS","2012-06-01T16:05:50+02:00",172846,"Arkitektene Astrup og Hellern AS"]
["Arkitektfirma Jon Vikøren AS","2012-06-01T16:05:51+02:00",217913,"Arkitektfirma Jon Vikøren AS"]
["Arkitektformidling","2012-06-01T16:05:50+02:00",181447,"Arkitektformidling"]
["Arkitektgruppen Cubus AS","2012-06-01T16:05:49+02:00",166499,"Arkitektgruppen Cubus AS "]
["Arkitekthuset Amlie - Strandgata 22 A/S","2012-06-01T16:05:49+02:00",166463,"Arkitekthuset Amlie - Strandgata 22 A/S"]
["Arkitekthuset Lunøe & Løffler","2012-06-01T16:05:49+02:00",166501,"Arkitekthuset Lunøe & Løffler "]
["Arkitektkompaniet AS","2012-06-01T16:05:51+02:00",232980,"Arkitektkompaniet AS"]
["Arkitektkontor","2012-08-29T14:14:43+02:00",241583,"Arkitektkontor"]
["Arkitektkontor","2013-02-18T16:05:24+01:00",247814,"Arkitektkontor"]
["Arkitektkontor","2013-02-21T12:34:12+01:00",247888,"Arkitektkontor"]
["Arkitektkontor","2013-04-02T13:57:27+02:00",249384,"Arkitektkontor"]
["Arkitektkontor","2013-04-10T11:08:23+02:00",249654,"Arkitektkontor"]
["Arkitektkontoret IHT","2013-01-01T23:00:00+01:00",245838,"Arkitektkontoret IHT"]
["Arkitektkontoret JoB AS","2013-02-18T16:07:00+01:00",247815,"Arkitektkontoret JoB AS"]
["Arkitektkontoret JoB AS","2013-03-01T14:45:00+01:00",248173,"Arkitektkontoret JoB AS"]
["Arkitektkontoret Tellus AS","2012-06-01T16:05:51+02:00",231316,"Arkitektkontoret Tellus AS"]
["Arkitektkontoret Tellus AS","2012-06-01T16:05:51+02:00",232821,"Arkitektkontoret Tellus AS"]
["Arkitektkontoret Tellus AS","2012-12-03T15:53:41+01:00",235528,"Arkitektkontoret Tellus AS"]
["Arkitektskap AS","2012-06-01T16:05:49+02:00",166514,"Arkitektskap AS"]
["Arkitektstudio as","2012-06-01T16:05:49+02:00",166522,"Arkitektstudio as"]
["Arkitektstudio Hamar AS","2012-06-01T16:05:49+02:00",166519,"Arkitektstudio Hamar AS"]
["Arkitektteam AS","2012-06-01T16:05:50+02:00",172649,"Arkitektteam AS"]
["Arkitektur EW verksted","2012-06-01T16:05:00+02:00",217475,"Arkitektur EW verksted"]
["Arkitekturverket AS","2013-04-02T13:40:00+02:00",249377,"Arkitekturverket AS"]
["Arkitekturverkstedet i Oslo/Asplan viak","2012-06-01T16:05:00+02:00",220271,"Arkitekturverkstedet i Oslo/Asplan viak"]
["Arkplan","2012-06-12T21:44:00+02:00",236749,"Arkplan"]
["Arktos Arkitektur AS","2012-06-01T16:05:50+02:00",172781,"Arktos Arkitektur AS"]
["Arne Eggen Arkitektkontor A/S","2012-06-01T16:05:50+02:00",201319,"Arne Eggen Arkitektkontor A/S"]
["Arstad arkitekter AS","2012-06-01T16:05:50+02:00",178009,"Arstad arkitekter AS"]
["ART arkitekter og ingeniører AS","2012-08-29T14:17:01+02:00",241584,"ART arkitekter og ingeniører AS"]
["ARTEC Prosjekt Team AS","2012-06-01T16:05:50+02:00",191891,"ARTEC Prosjekt Team AS"]
["Askim/Lantto Arkitekter AS","2012-06-01T16:05:50+02:00",172659,"Askim/Lantto Arkitekter AS"]
["Asplan Viak AS","2012-06-01T16:05:50+02:00",172914,"Asplan Viak AS"]
["Astad Arkitektur","2012-06-01T16:05:50+02:00",192806,"Astad Arkitektur"]
["Atelier Oslo","2012-06-01T16:05:50+02:00",172236,"Atelier Oslo"]
["A-tract AS","2013-04-04T09:23:00+02:00",172717,"A-tract AS"]
["Atsite","2012-06-01T16:05:51+02:00",235781,"Atsite"]
["Aursand Arkitektkontor AS, Espen","2012-06-01T16:05:50+02:00",185123,"Aursand Arkitektkontor AS, Espen "]
["Aursand og Spangen AS Sivilarkitekter","2012-06-01T16:05:50+02:00",172601,"Aursand og Spangen AS Sivilarkitekter"]
["AWP (Frankrike)","2013-01-02T19:06:00+01:00",245867,"AWP (Frankrike)"]
["b+b arkitekter as","2012-06-01T16:05:49+02:00",166536,"b+b arkitekter as"]
["Bar, AS Arkitektgruppen","2012-06-01T16:05:50+02:00",172234,"Bar, AS Arkitektgruppen "]
["Bark Arkitekter AS","2012-06-01T16:05:50+02:00",181847,"Bark Arkitekter AS"]
["Bas Arkitekter AS","2012-06-01T16:05:49+02:00",166527,"Bas Arkitekter AS"]
["Base Arkitekter AS","2012-06-01T16:05:49+02:00",166528,"Base Arkitekter AS"]
["Basis arkitekter as","2013-01-11T16:17:00+01:00",246156,"Basis arkitekter as"]
["Bauck AS, Arkitektkontoret Jan","2012-06-01T16:05:49+02:00",166531,"Bauck AS, Arkitektkontoret Jan"]
["BBW AS, Arkitektkontoret","2012-06-01T16:05:49+02:00",166526,"BBW AS, Arkitektkontoret "]
["Beate Ellingsen AS","2012-06-01T16:05:51+02:00",228641,"Beate Ellingsen AS"]
["Bente Rødahl Arkitekter AS","2012-06-01T16:05:51+02:00",234990,"Bente Rødahl Arkitekter AS"]
["Berg og Østvang AS, Arkitektene","2012-06-01T16:05:49+02:00",166498,"Berg og Østvang AS, Arkitektene"]
["Bergersen Arkitekter AS","2013-04-04T09:30:00+02:00",249501,"Bergersen Arkitekter AS"]
["Bergersen Gromholt Ottar Arkitekter AS","2012-06-01T16:05:49+02:00",166532,"Bergersen Gromholt Ottar Arkitekter AS"]
["Bergseth sivilarkitekt MNAL, Magne","2012-06-01T16:05:49+02:00",166533,"Bergseth sivilarkitekt MNAL, Magne "]
["Biesel Arkitekter AS, Eder","2012-06-01T16:05:50+02:00",172725,"Biesel Arkitekter AS, Eder "]
["Bifokal Zednik","2012-06-01T16:05:50+02:00",194016,"Bifokal Zednik"]
["Biong Arkitekter AS","2012-06-01T16:05:50+02:00",172658,"Biong Arkitekter AS"]
["Bios Arkitekter AS","2012-06-01T16:05:51+02:00",203536,"Bios Arkitekter AS"]
["Bjerke arkitektkontor","2012-06-01T16:05:49+02:00",166537,"Bjerke arkitektkontor"]
["Bjørbekk og Lindheim","2012-06-05T23:58:00+02:00",236408,"Bjørbekk og Lindheim"]
["Bjørn Haugstad Arkitekt MNAL","2012-06-01T16:05:51+02:00",227536,"Bjørn Haugstad Arkitekt MNAL"]
["Bjørnstad Prosjektering AS, Bjørn","2012-06-01T16:05:49+02:00",166538,"Bjørnstad Prosjektering AS, Bjørn "]
["blå arkitektur landskab ab","2012-06-01T16:05:49+02:00",166539,"blå arkitektur landskab ab"]
["Bo arkitekter as","2012-06-01T16:05:51+02:00",226513,"Bo arkitekter as"]
["Boarch arkitekter as","2012-06-01T16:05:49+02:00",166543,"Boarch arkitekter as"]
["Bogen Arkitektkontor AS, Petter","2012-06-01T16:05:49+02:00",166544,"Bogen Arkitektkontor AS, Petter "]
["Borealis Arkitekter as","2012-06-01T16:05:00+02:00",166545,"Borealis Arkitekter as"]
["Borsheim, Paal","2012-06-01T16:05:49+02:00",166547,"Borsheim, Paal "]
["Boxs arkitektstudio as","2012-06-01T16:05:51+02:00",226954,"Boxs arkitektstudio as"]
["Brandsberg-Dahls Arkitektkontor AS","2012-06-01T16:05:49+02:00",166548,"Brandsberg-Dahls Arkitektkontor AS"]
["Brendeland & Kristoffersen arkitekter A/S","2012-06-01T16:05:49+02:00",166549,"Brendeland & Kristoffersen arkitekter A/S"]
["Bris arkitekter","2013-01-29T13:16:00+01:00",247054,"Bris arkitekter"]
["Britt Krokene Sivilarkitekt MNAL AS","2013-02-28T14:58:00+01:00",248135,"Britt Krokene Sivilarkitekt MNAL AS"]
["Britt Krokene Sivilarkitekt MNAL AS","2013-02-28T15:09:00+01:00",248137,"Britt Krokene Sivilarkitekt MNAL AS"]
["Brodtkorb AS, Arkitektkontoret Kari Nissen","2012-06-01T16:05:50+02:00",171799,"Brodtkorb AS, Arkitektkontoret Kari Nissen "]
["Bruvoll arkitektur as","2013-01-11T09:16:14+01:00",246132,"Bruvoll arkitektur as"]
["Brækkan sivilarkitekt MNAL, Gudrun","2012-06-01T16:05:49+02:00",166550,"Brækkan sivilarkitekt MNAL, Gudrun "]
["Buck og Beyer arkitekter AS","2012-06-01T16:05:49+02:00",166551,"Buck og Beyer arkitekter AS"]
["Bødtker sivilarkitekt MNAL, Brit Sejersted","2012-06-01T16:05:49+02:00",166553,"Bødtker sivilarkitekt MNAL, Brit Sejersted "]
["Børve og Borchsenius as, Arkitektkontoret","2012-06-01T16:05:49+02:00",166554,"Børve og Borchsenius as, Arkitektkontoret "]
["Cadi AS","2012-06-01T16:05:49+02:00",166555,"Cadi AS"]
["Campbell ink, Scott Campbell","2012-06-01T16:05:49+02:00",166557,"Campbell ink, Scott Campbell"]
["Clou arkitektur","2012-06-01T16:05:49+02:00",166559,"Clou arkitektur"]
["Code: arkitektur as","2012-06-01T16:05:49+02:00",166560,"Code: arkitektur as"]
["Context AS","2012-06-01T16:05:49+02:00",166561,"Context AS"]
["Contur as - Arkitektur og Design","2012-06-01T16:05:50+02:00",172660,"Contur as - Arkitektur og Design"]
["Cox Strategisk design AS","2013-01-27T11:47:00+01:00",246947,"Cox Strategisk design AS"]
["ctrl+n arkitektur da","2012-06-01T16:05:51+02:00",207276,"ctrl+n arkitektur da"]
["C-V Hølmebakk Arkitektkontor","2012-06-01T16:05:51+02:00",221021,"C-V Hølmebakk Arkitektkontor"]
["DAC architecture","2012-06-01T16:05:51+02:00",217474,"DAC architecture"]
["Dahl & Myrhol AS, Arkitektene","2012-06-01T16:05:49+02:00",166562,"Dahl & Myrhol AS, Arkitektene "]
["Dahl & Uhre arkitekter as","2012-06-01T16:05:49+02:00",166564,"Dahl & Uhre arkitekter as"]
["Dahle & Breitenstein as","2012-06-01T16:05:49+02:00",166565,"Dahle & Breitenstein as"]
["Dark Arkitekter AS","2012-06-01T16:05:49+02:00",166566,"Dark Arkitekter AS"]
["DB Arkitektur AS","2012-06-01T16:05:51+02:00",206993,"DB Arkitektur AS"]
["DBC-arkitektur as","2012-06-01T16:05:49+02:00",166567,"DBC-arkitektur as"]
["Derlick arkitekter as","2012-06-01T16:05:49+02:00",166568,"Derlick arkitekter as"]
["div.A arkitekter","2012-06-01T16:05:00+02:00",166569,"div.A arkitekter"]
["Dyrvik Arkitekter AS","2012-06-01T16:05:49+02:00",166570,"Dyrvik Arkitekter AS"]
["Eder Biesel Arkitekter","2013-02-21T12:33:00+01:00",247887,"Eder Biesel Arkitekter"]
["Egg arkitekter as","2013-01-10T18:49:00+01:00",246134,"Egg arkitekter as"]
["Eggen Arkitekter AS","2012-06-01T16:05:49+02:00",166578,"Eggen Arkitekter AS"]
["Eggen AS, Arkitektkontoret Arne","2012-06-01T16:05:49+02:00",166575,"Eggen AS, Arkitektkontoret Arne "]
["Eggen Sivilarkitekt MNAL, Kjellaug Sandvik","2012-06-01T16:05:50+02:00",172605,"Eggen Sivilarkitekt MNAL, Kjellaug Sandvik "]
["Eide og Haslestad A/S, Arkitektkontoret","2012-06-01T16:05:49+02:00",166630,"Eide og Haslestad A/S, Arkitektkontoret "]
["EIK arkitektur & design as npa","2012-06-01T16:05:49+02:00",166632,"EIK arkitektur & design as npa"]
["Element arkitekter as","2012-06-01T16:05:49+02:00",166635,"Element arkitekter as"]
["Elfrida Bull Bene AS, Arkitektstudio","2012-06-01T16:05:00+02:00",166530,"Elfrida Bull Bene AS, Arkitektstudio"]
["Eliassen og Lambertz-Nilssen Arkitekter AS","2012-06-01T16:05:49+02:00",166636,"Eliassen og Lambertz-Nilssen Arkitekter AS"]
["Elisabeth Ekjord AS","2012-06-01T16:05:49+02:00",166633,"Elisabeth Ekjord AS"]
["Else Dahlseng Arkitekter AS","2012-06-01T16:05:49+02:00",166573,"Else Dahlseng Arkitekter AS"]
["Elverland arkitekt MNAL, Hanne","2012-06-01T16:05:49+02:00",166640,"Elverland arkitekt MNAL, Hanne "]
["Enerhaugen Arkitektkontor AS","2012-06-01T16:05:49+02:00",166641,"Enerhaugen Arkitektkontor AS"]
["Engelbrektson, Sivilarkitekt MNAL Richard","2012-06-01T16:05:50+02:00",172790,"Engelbrektson, Sivilarkitekt MNAL Richard "]
["Erik Møller arkitekter","2012-06-01T16:05:51+02:00",228640,"Erik Møller arkitekter"]
["Eriksen Skajaa Arkitekter","2012-06-01T16:05:51+02:00",207043,"Eriksen Skajaa Arkitekter"]
["Espen Handegård sivilarkitekt MNAL","2012-06-01T16:05:51+02:00",209987,"Espen Handegård sivilarkitekt MNAL"]
["Eva Solheim sivilarkitekt MNAL","2013-04-05T09:46:27+02:00",249559,"Eva Solheim sivilarkitekt MNAL"]
["F S Platou","2012-06-01T16:05:51+02:00",235806,"F S Platou"]
["Falkenberg MNAL, Siv.ark. Thomas","2012-06-01T16:05:49+02:00",166717,"Falkenberg MNAL, Siv.ark. Thomas "]
["Fasting Arkitekter AS","2012-06-01T16:05:49+02:00",166718,"Fasting Arkitekter AS"]
["Felix Arkitekter AS","2012-06-01T16:05:49+02:00",166720,"Felix Arkitekter AS"]
["Feste AS","2012-06-01T16:05:51+02:00",231899,"Feste AS"]
["Feste Grenland AS","2012-10-10T17:18:00+02:00",242831,"Feste Grenland AS"]
["Filter Arkitekter AS","2012-06-01T16:05:49+02:00",166721,"Filter Arkitekter AS"]
["Fjord Arkitekter AS","2012-06-01T16:05:51+02:00",218791,"Fjord Arkitekter AS"]
["Fjorden Arkitekter","2012-06-01T16:05:51+02:00",219703,"Fjorden Arkitekter"]
["Flux Arkitekter AS","2012-06-01T16:05:49+02:00",166724,"Flux Arkitekter AS"]
["Flyt arkitektur as","2013-01-11T10:01:48+01:00",199549,"Flyt arkitektur as"]
["Forente Arkitektkontorer A/S","2012-06-01T16:05:49+02:00",166725,"Forente Arkitektkontorer A/S"]
["Formgiverne d.a.","2012-06-01T16:05:49+02:00",166726,"Formgiverne d.a."]
["Fortunen Arkitekter AS","2012-06-01T16:05:00+02:00",166727,"Fortunen Arkitekter AS"]
["Forum Arkitekter AS","2012-06-01T16:05:49+02:00",166728,"Forum Arkitekter AS"]
["fossland as, arkitekt","2012-06-01T16:05:50+02:00",172996,"fossland as, arkitekt"]
["Frank a/s, Arkitektkontoret Lene","2012-06-01T16:05:49+02:00",166729,"Frank a/s, Arkitektkontoret Lene "]
["Friis Arkitekter AS","2012-06-01T16:05:50+02:00",178010,"Friis Arkitekter AS"]
["Gaia Arkitekter","2012-06-01T16:05:49+02:00",166730,"Gaia Arkitekter"]
["Gaia Tjøme","2012-06-01T16:05:50+02:00",172711,"Gaia Tjøme"]
["Gasa A/S, Arkitektkontoret","2012-06-01T16:05:49+02:00",166731,"Gasa A/S, Arkitektkontoret "]
["Ghilardi+Hellsten Arkitekter","2012-06-01T16:05:49+02:00",166732,"Ghilardi+Hellsten Arkitekter"]
["Gjøen, Arne","2012-06-01T16:05:49+02:00",166733,"Gjøen, Arne "]
["Gjørven AS, Arkitektkontoret Ingrid Ulving","2012-06-01T16:05:49+02:00",166734,"Gjørven AS, Arkitektkontoret Ingrid Ulving "]
["Gravbrøt siv.ark. MNAL, Pia Maria","2012-06-01T16:05:49+02:00",166735,"Gravbrøt siv.ark. MNAL, Pia Maria"]
["Grieg AS, Arkitektkontoret","2012-06-01T16:05:49+02:00",166736,"Grieg AS, Arkitektkontoret "]
["Grinde AS","2012-06-01T16:05:49+02:00",166737,"Grinde AS"]
["Gro Hovda sivilarkitekt mnal","2012-06-01T16:05:51+02:00",229124,"Gro Hovda sivilarkitekt mnal"]
["Grønn strek as","2012-10-11T17:50:00+02:00",242868,"Grønn strek as"]
["Gsella, Christian","2012-06-01T16:05:49+02:00",166738,"Gsella, Christian "]
["h. arkitektiner as","2012-06-01T16:05:50+02:00",171509,"h. arkitektiner as"]
["Haaland AS Siv.ark. MNAL, Arkitektkontoret","2012-06-01T16:05:50+02:00",172847,"Haaland AS Siv.ark. MNAL, Arkitektkontoret "]
["Haarklau og Lindeberg AS","2012-06-01T16:05:49+02:00",171141,"Haarklau og Lindeberg AS"]
["Haga og Grov AS, sivilarkitekter MNAL","2012-06-01T16:05:49+02:00",171073,"Haga og Grov AS, sivilarkitekter MNAL"]
["HAK, Holen Arkitektkontor","2013-02-26T14:48:00+01:00",171135,"HAK, Holen Arkitektkontor"]
["Haldde arkitekter AS","2012-10-10T12:46:00+02:00",242813,"Haldde arkitekter AS"]
["Halden Arkitektkontor AS","2012-06-01T16:05:50+02:00",172598,"Halden Arkitektkontor AS"]
["Halvorsen & Reine AS","2012-06-01T16:05:49+02:00",171075,"Halvorsen & Reine AS"]
["Halvorsen AS sivilarkitekt MNAL, Stein","2012-06-01T16:05:49+02:00",171076,"Halvorsen AS sivilarkitekt MNAL, Stein"]
["Halvorsen AS, Arkitektkontoret Konrad","2012-06-01T16:05:49+02:00",171074,"Halvorsen AS, Arkitektkontoret Konrad "]
["Hamre Arkitektkontor as, Stein","2012-06-01T16:05:49+02:00",171077,"Hamre Arkitektkontor as, Stein "]
["Hansen/Bjørndal Arkitekter AS","2012-06-01T16:05:49+02:00",171071,"Hansen/Bjørndal Arkitekter AS"]
["HAPTIC","2012-06-01T16:05:50+02:00",202235,"HAPTIC"]
["Haugedal, Arnar","2012-06-01T16:05:49+02:00",171079,"Haugedal, Arnar "]
["Haugen as, Arkitektkontoret Erling","2012-06-15T11:21:14+02:00",171080,"Haugen as, Arkitektkontoret Erling "]
["Haugen/ Zohar Arkitekter","2012-06-01T16:05:50+02:00",172684,"Haugen/ Zohar Arkitekter"]
["Hausberg siv.ark. MNAL, Egil J","2012-06-01T16:05:49+02:00",171081,"Hausberg siv.ark. MNAL, Egil J "]
["Heggelund og Koxvold AS Arkitekter MNAL","2012-06-01T16:05:49+02:00",171082,"Heggelund og Koxvold AS Arkitekter MNAL"]
["Heggenhougen Arkitekter AS","2012-06-01T16:05:49+02:00",171083,"Heggenhougen Arkitekter AS"]
["Helen & Hard AS","2012-06-01T16:05:51+02:00",229017,"Helen & Hard AS"]
["Helén Arkitekter AS, Bernt","2012-06-01T16:05:49+02:00",171084,"Helén Arkitekter AS, Bernt "]
["Helling Arkitekter Oslo AS, Lars","2012-06-01T16:05:49+02:00",171086,"Helling Arkitekter Oslo AS, Lars "]
["Henriksen Arkitekter AS, Arne","2012-06-01T16:05:50+02:00",172665,"Henriksen Arkitekter AS, Arne "]
["Hille Melbye Arkitekter AS","2012-06-01T16:05:49+02:00",171087,"Hille Melbye Arkitekter AS"]
["Hille Strandskogen AS arkitekter MNAL","2012-06-01T16:05:49+02:00",171088,"Hille Strandskogen AS arkitekter MNAL"]
["Hindhamar Landskapsarkitekter AS","2012-11-15T13:24:00+01:00",244003,"Hindhamar Landskapsarkitekter AS"]
["Hjelle Arkitekter AS, Harald","2012-06-01T16:05:49+02:00",171089,"Hjelle Arkitekter AS, Harald "]
["Hjeltnes AS, sivilarkitekter MNAL, Knut","2012-06-01T16:05:49+02:00",171090,"Hjeltnes AS, sivilarkitekter MNAL, Knut "]
["Hjorth Arkitekter","2013-03-21T15:13:00+01:00",249016,"Hjorth Arkitekter"]
["HLM arkitektur & plan A/S","2012-06-01T16:05:49+02:00",171092,"HLM arkitektur & plan A/S"]
["Hoff romstudio, Baard","2012-06-01T16:05:49+02:00",171094,"Hoff romstudio, Baard "]
["Hoffmann, Arne Arkitektene og Ib Omland Phd, sivilarkitekt mnal","2012-06-01T16:05:50+02:00",200496,"Hoffmann, Arne Arkitektene og Ib Omland Phd, sivilarkitekt mnal"]
["Holm & Grut Arkitekter MAA PAR","2012-06-01T16:05:49+02:00",171136,"Holm & Grut Arkitekter MAA PAR"]
["HRTB Arkitekter AS MNAL","2012-06-01T16:05:49+02:00",171072,"HRTB Arkitekter AS MNAL"]
["HSØ - Hagestande og Øvrehus Arkitektkontor AS","2011-11-03T12:20:37+01:00",171138,"HSØ - Hagestande og Øvrehus Arkitektkontor AS"]
["Hus AS, Arbeidsgruppen","2012-06-01T16:05:50+02:00",172584,"Hus AS, Arbeidsgruppen "]
["Huus og Heim Arkitektur","2012-06-01T16:05:00+02:00",172898,"Huus og Heim Arkitektur"]
["Hvoslef-Eide AS, Arkitektkontoret Didrik","2012-06-01T16:05:49+02:00",171140,"Hvoslef-Eide AS, Arkitektkontoret Didrik "]
["HWR arkitekter as","2012-06-01T16:05:49+02:00",171142,"HWR arkitekter as"]
["Hysj arkitekter AS","2012-06-01T16:05:51+02:00",210154,"Hysj arkitekter AS"]
["i2i.no as","2012-06-01T16:05:49+02:00",171148,"i2i.no as"]
["IDA arkitekter as","2012-06-01T16:05:51+02:00",232354,"IDA arkitekter as"]
["Ide Arkitekter","2012-06-01T16:05:49+02:00",171144,"Ide Arkitekter"]
["IdealBygg AS","2013-02-12T11:22:00+01:00",247502,"IdealBygg AS"]
["Indigo Arkitekter AS","2012-06-01T16:05:49+02:00",171146,"Indigo Arkitekter AS"]
["Ingvaldsen sivilarkitekt MNAL, Arne","2012-06-01T16:05:49+02:00",171147,"Ingvaldsen sivilarkitekt MNAL, Arne "]
["Interiørarkitekt MNIL Siri Obrestad Fuhr","2012-06-01T16:05:51+02:00",228971,"Interiørarkitekt MNIL Siri Obrestad Fuhr "]
["IversenPetch AS","2012-10-15T11:31:00+02:00",171487,"IversenPetch AS"]
["Jacobsen og Reiten Arkitektkontor AS","2012-06-01T16:05:49+02:00",171149,"Jacobsen og Reiten Arkitektkontor AS"]
["Jansen Arkitekter AS","2012-06-01T16:05:49+02:00",171150,"Jansen Arkitekter AS"]
["Jarmund Arkitekter as mnal, Kristin","2012-06-01T16:05:49+02:00",171152,"Jarmund Arkitekter as mnal, Kristin "]
["Jarmund/ Vigsnæs AS Arkitekter MNAL","2012-06-01T16:05:49+02:00",171151,"Jarmund/ Vigsnæs AS Arkitekter MNAL"]
["Jensen & Skodvin Arkitektkontor","2012-06-01T16:05:49+02:00",171154,"Jensen & Skodvin Arkitektkontor"]
["Jensen AS, Arkitektkontoret Kjell","2012-06-01T16:05:49+02:00",171153,"Jensen AS, Arkitektkontoret Kjell "]
["jm arkitektkontor","2012-06-01T16:05:49+02:00",171155,"jm arkitektkontor"]
["Johansen, Jonny sivilarkitekt MNAL","2012-06-01T16:05:50+02:00",200495,"Johansen, Jonny sivilarkitekt MNAL"]
["Jonsson Arkitektkontor, Gudmundur","2012-06-01T16:05:50+02:00",173253,"Jonsson Arkitektkontor, Gudmundur "]
["JST Arkitekter AS","2012-06-01T16:05:51+02:00",214510,"JST Arkitekter AS"]
["K16 AS, Arkitektkontoret","2012-06-01T16:05:50+02:00",171824,"K16 AS, Arkitektkontoret "]
["Kahrs Arkitekter AS, Paal J.","2012-06-01T16:05:50+02:00",171823,"Kahrs Arkitekter AS, Paal J."]
["Kap - kontor for arkitektur og plan","2012-06-01T16:05:50+02:00",171822,"Kap - kontor for arkitektur og plan"]
["Kapsel design as","2013-02-04T22:58:00+01:00",247308,"Kapsel design as"]
["Karsten T. Huitfeldt sivilarkitekt MNAL","2012-06-01T16:05:51+02:00",233829,"Karsten T. Huitfeldt sivilarkitekt MNAL"]
["Katarsis as","2012-06-01T16:05:50+02:00",172671,"Katarsis as"]
["KEO arkitekter AS","2012-06-01T16:05:00+02:00",171826,"KEO arkitekter AS"]
["Kester Bunyan Arkitektur as","2012-06-01T16:05:51+02:00",227234,"Kester Bunyan Arkitektur as"]
["KEY arkitekter as mnal","2012-06-01T16:05:51+02:00",215756,"KEY arkitekter as mnal"]
["Kibsgaard-Petersen AS","2012-06-01T16:05:51+02:00",229864,"Kibsgaard-Petersen AS"]
["Kile Stokholm Arkitekter AS","2012-06-01T16:05:50+02:00",171820,"Kile Stokholm Arkitekter AS"]
["KIMA arkitektur as","2013-04-12T15:39:00+02:00",171603,"KIMA arkitektur as"]
["Kjernehuset Arkitektkontor","2012-06-01T16:05:50+02:00",171819,"Kjernehuset Arkitektkontor"]
["Kleihues+Schuwerk Gesellschaft von Architekten mbH","2012-12-19T15:59:00+01:00",245623,"Kleihues+Schuwerk Gesellschaft von Architekten mbH"]
["Knudsen Arkitektkontor AS, Per","2012-06-01T16:05:50+02:00",171818,"Knudsen Arkitektkontor AS, Per "]
["Knudtsen AS, Arkitekthuset","2012-06-01T16:05:50+02:00",171816,"Knudtsen AS, Arkitekthuset "]
["Koda Arkitekter AS","2012-06-01T16:05:50+02:00",171813,"Koda Arkitekter AS"]
["Kon-sul AS","2012-06-01T16:05:50+02:00",171785,"Kon-sul AS"]
["Kosbergs Arkitektkontor AS","2012-06-01T16:05:50+02:00",171783,"Kosbergs Arkitektkontor AS"]
["Kraft arkitektkontor as","2012-06-01T16:05:50+02:00",171782,"Kraft arkitektkontor as"]
["Kristiansen & Bernhardt Arkitekter MNAL NPA, AS","2012-06-01T16:05:50+02:00",171825,"Kristiansen & Bernhardt Arkitekter MNAL NPA, AS "]
["Kristiansen & Selmer - Olsen AS","2012-06-01T16:05:50+02:00",173040,"Kristiansen & Selmer - Olsen AS"]
["Kritt Arkitekter AS","2012-06-01T16:05:50+02:00",171781,"Kritt Arkitekter AS"]
["Krogness Arkitekt MNAL, Ole A.","2012-06-01T16:05:50+02:00",171780,"Krogness Arkitekt MNAL, Ole A. "]
["Kronen AS sivilarkitekt MNAL, Bente","2012-06-01T16:05:50+02:00",172648,"Kronen AS sivilarkitekt MNAL, Bente "]
["Kry sivilarkitekt mnal, Geir Cock","2012-06-01T16:05:50+02:00",171779,"Kry sivilarkitekt mnal, Geir Cock"]
["Kuben Arkitektkontor","2012-11-01T09:27:00+01:00",243552,"Kuben Arkitektkontor"]
["Kvadrat as, Arkitektkontoret","2012-06-01T16:05:50+02:00",171778,"Kvadrat as, Arkitektkontoret "]
["Kvalvik & Kaada Arkitekter AS","2012-06-01T16:05:51+02:00",216490,"Kvalvik & Kaada Arkitekter AS"]
["Kvam og Skjønsberg AS sivilarkitekter MNAL","2012-06-01T16:05:50+02:00",171777,"Kvam og Skjønsberg AS sivilarkitekter MNAL"]
["Kvartal 19 Arkitektkontor AS","2012-06-01T16:05:51+02:00",215574,"Kvartal 19 Arkitektkontor AS"]
["KVARTS arkitekter as","2013-04-04T12:32:00+02:00",249528,"KVARTS arkitekter as"]
["Kvernaas Arkitekter A/S","2012-06-01T16:05:50+02:00",171773,"Kvernaas Arkitekter A/S"]
["L.O.F. Arkitekter MNAL AS","2012-06-01T16:05:50+02:00",171724,"L.O.F. Arkitekter MNAL AS"]
["L2 Arkitekter AS","2012-06-01T16:05:50+02:00",171719,"L2 Arkitekter AS"]
["landsbyarkitektene as","2012-06-01T16:05:50+02:00",171734,"landsbyarkitektene as"]
["Landskapsfabrikken","2012-11-11T23:52:00+01:00",243880,"Landskapsfabrikken"]
["Larsson A/S, K.E.","2012-06-01T16:05:50+02:00",171733,"Larsson A/S, K.E. "]
["Lead inc. as","2012-06-01T16:05:50+02:00",172586,"Lead inc. as"]
["Lerche Arkitekter AS","2012-06-01T16:05:50+02:00",171732,"Lerche Arkitekter AS"]
["Lerum Inc.","2012-06-01T16:05:50+02:00",171731,"Lerum Inc."]
["Lie Øyen arkitekter","2012-06-01T16:05:50+02:00",171730,"Lie Øyen arkitekter"]
["lille frøen as, Arkitektgruppen","2012-06-01T16:05:49+02:00",166500,"lille frøen as, Arkitektgruppen"]
["Lillestrøm Arkitektkontor AS","2012-06-01T16:05:50+02:00",172661,"Lillestrøm Arkitektkontor AS"]
["Linberg & Simmons","2012-06-01T16:05:50+02:00",171729,"Linberg & Simmons"]
["Lindstrøm, Sivilarkitekt Inga","2012-06-01T16:05:50+02:00",171728,"Lindstrøm, Sivilarkitekt Inga "]
["Linje arkitektur as","2012-06-01T16:05:00+02:00",171727,"Linje arkitektur as"]
["Link Arkitektur AS","2012-06-01T16:05:50+02:00",171726,"Link Arkitektur AS"]
["Link Signatur","2012-06-01T16:05:51+02:00",230069,"Link Signatur"]
["Liten Skala AS","2012-08-29T14:13:56+02:00",241582,"Liten Skala AS"]
["LMR arkitektur as","2012-06-01T16:05:50+02:00",171725,"LMR arkitektur as"]
["Logg arkitektur as","2012-06-01T16:05:50+02:00",171723,"Logg arkitektur as"]
["Longva Arkitekter AS","2012-06-01T16:05:50+02:00",171722,"Longva Arkitekter AS"]
["Lorentz Kielland arkitekter as","2012-06-01T16:05:51+02:00",202237,"Lorentz Kielland arkitekter as"]
["Lou","2012-06-01T16:05:50+02:00",171721,"Lou"]
["LPO arkitekter","2012-06-01T16:05:50+02:00",171720,"LPO arkitekter"]
["Lund & partnere","2012-06-01T16:05:50+02:00",171718,"Lund & partnere"]
["Lund & Slaatto Arkitekter AS","2012-06-01T16:05:50+02:00",171713,"Lund & Slaatto Arkitekter AS"]
["Lund A/S, Sivilarkitekt E. Broder","2012-06-01T16:05:50+02:00",171717,"Lund A/S, Sivilarkitekt E. Broder "]
["Lund Hagem Arkitekter AS","2012-06-01T16:05:50+02:00",171715,"Lund Hagem Arkitekter AS"]
["Lund MNAL, Sivilarkitekt Svein Erik","2012-06-01T16:05:50+02:00",171716,"Lund MNAL, Sivilarkitekt Svein Erik "]
["Lund-Johnsen sivilarkitekt MNAL, Roar","2012-06-01T16:05:50+02:00",171714,"Lund-Johnsen sivilarkitekt MNAL, Roar "]
["Lusparken Arkitekter AS","2012-06-01T16:05:50+02:00",171712,"Lusparken Arkitekter AS"]
["Ly Arkitekter AS","2012-06-01T16:05:50+02:00",171711,"Ly Arkitekter AS"]
["Lys og Mørk arkitektur og design","2012-06-01T16:05:50+02:00",171710,"Lys og Mørk arkitektur og design"]
["Løvetanna Landskap AS","2012-06-01T16:05:51+02:00",231819,"Løvetanna Landskap AS"]
["Løvseth + partners","2012-06-01T16:05:51+02:00",219318,"Løvseth + partners"]
["Løvseth arkitektkontor as, Morten","2012-06-01T16:05:50+02:00",171709,"Løvseth arkitektkontor as, Morten "]
["Mad as","2012-06-01T16:05:50+02:00",171704,"Mad as"]
["Madsø Sveen arkitekter AS","2012-06-01T16:05:50+02:00",172655,"Madsø Sveen arkitekter AS"]
["Magnus, Arkitektfirma Jens","2012-06-01T16:05:50+02:00",171703,"Magnus, Arkitektfirma Jens "]
["Make Arkitekter AS","2012-06-01T16:05:50+02:00",171702,"Make Arkitekter AS"]
["Malde mnal, Sivilarkitekt Paal","2012-06-01T16:05:50+02:00",185841,"Malde mnal, Sivilarkitekt Paal "]
["Malmquist sivilarkitekt MNAL MArch, E.B.","2012-06-01T16:05:50+02:00",171701,"Malmquist sivilarkitekt MNAL MArch, E.B. "]
["Mandrup Arkitektur & Design as","2012-06-01T16:05:50+02:00",171700,"Mandrup Arkitektur & Design as"]
["Map Arkitekter AS","2012-06-01T16:05:50+02:00",171699,"Map Arkitekter AS"]
["Marianne Laa","2012-12-17T11:58:00+01:00",245540,"Marianne Laa"]
["Marlow - Ramfelt A38 arkitektur og design as","2012-06-01T16:05:50+02:00",181036,"Marlow - Ramfelt A38 arkitektur og design as"]
["Martens Sivilarkitekt, Trond","2012-06-01T16:05:50+02:00",172881,"Martens Sivilarkitekt, Trond"]
["Medplan as Arkitekter","2012-06-01T16:05:50+02:00",171697,"Medplan as Arkitekter"]
["Meinich Arkitekter AS","2012-06-01T16:05:50+02:00",178890,"Meinich Arkitekter AS"]
["MEK Architects (Madrid)","2012-10-21T15:13:00+02:00",243120,"MEK Architects (Madrid)"]
["Mellbye Arkitekter AS","2012-06-01T16:05:50+02:00",171695,"Mellbye Arkitekter AS"]
["Metamorphosis","2012-06-01T16:05:51+02:00",205444,"Metamorphosis"]
["Meter Arkitektur AS","2012-06-01T16:05:50+02:00",171694,"Meter Arkitektur AS"]
["Metropolitan Workshop LLP","2012-06-01T16:05:50+02:00",171692,"Metropolitan Workshop LLP"]
["Mir Arkitektur AS","2012-06-01T16:05:50+02:00",171691,"Mir Arkitektur AS"]
["MMW sivilarkitekter mnal as","2012-06-01T16:05:50+02:00",171690,"MMW sivilarkitekter mnal as"]
["Moe & Løvseth AS","2012-06-01T16:05:50+02:00",171602,"Moe & Løvseth AS"]
["Moe Ltd, Sjur","2012-06-01T16:05:50+02:00",173043,"Moe Ltd, Sjur "]
["Molden AS, Mette & Morten","2012-06-01T16:05:50+02:00",171689,"Molden AS, Mette & Morten "]
["Momenta arkitekter","2012-06-01T16:05:50+02:00",171688,"Momenta arkitekter"]
["Momentum Arkitekter AS","2012-06-01T16:05:50+02:00",186182,"Momentum Arkitekter AS"]
["Morfeus Arkitekter","2012-06-01T16:05:50+02:00",172296,"Morfeus Arkitekter"]
["moseng poulsen arkitektur as","2012-06-01T16:05:50+02:00",192072,"moseng poulsen arkitektur as"]
["Mossige AS arkitekter","2012-06-01T16:05:50+02:00",171686,"Mossige AS arkitekter"]
["M-TO sivilarkitekt MNAL","2012-06-01T16:05:50+02:00",171685,"M-TO sivilarkitekt MNAL"]
["Mylius Arkitektkontor, E.","2012-06-01T16:05:50+02:00",178657,"Mylius Arkitektkontor, E. "]
["Myrstad AS, Arkitekt Jim","2012-06-01T16:05:50+02:00",171683,"Myrstad AS, Arkitekt Jim "]
["Møller, Arkitektfirmaet C.F.","2012-06-01T16:05:50+02:00",171681,"Møller, Arkitektfirmaet C.F. "]
["Møystad + Nielsen Arkitektur AS","2012-06-01T16:05:50+02:00",171680,"Møystad + Nielsen Arkitektur AS"]
["Narud-Stokke-Wiig sivilarkitekter as","2012-06-01T16:05:50+02:00",171508,"Narud-Stokke-Wiig sivilarkitekter as"]
["Nataas, Gisle","2012-06-01T16:05:50+02:00",171507,"Nataas, Gisle "]
["NAV A.S. Arkitekter MNAL NPA","2012-06-01T16:05:50+02:00",171506,"NAV A.S. Arkitekter MNAL NPA"]
["Nes Arkitekter, Leiv","2012-06-01T16:05:50+02:00",172651,"Nes Arkitekter, Leiv "]
["Nesodden Arkitektkontor AS","2012-06-01T16:05:50+02:00",172656,"Nesodden Arkitektkontor AS"]
["Noncon:form (Østerrike)","2013-01-02T18:51:00+01:00",245866,"Noncon:form (Østerrike)"]
["Norconsult AS","2013-02-04T19:22:00+01:00",247295,"Norconsult AS"]
["Nord AS, Arkitektkontoret","2012-06-01T16:05:50+02:00",171505,"Nord AS, Arkitektkontoret "]
["Nordberg As, Sissel","2012-06-01T16:05:50+02:00",172680,"Nordberg As, Sissel "]
["Nordic - Office of Architecture","2013-01-29T13:14:00+01:00",172792,"Nordic - Office of Architecture"]
["Nordplan AS","2012-06-01T16:05:50+02:00",171504,"Nordplan AS"]
["Nordvest Prosjekt AS","2012-06-01T16:05:50+02:00",171501,"Nordvest Prosjekt AS"]
["Norgeshus","2013-01-16T20:05:00+01:00",246279,"Norgeshus"]
["Nuno arkitektur AS","2012-06-01T16:05:49+02:00",166535,"Nuno arkitektur AS"]
["Nydesign AS","2012-06-01T16:05:51+02:00",207042,"Nydesign AS"]
["Og Arkitekter as","2012-06-01T16:05:49+02:00",166671,"Og Arkitekter as"]
["OHC arkitektur & design as","2012-06-01T16:05:50+02:00",172686,"OHC arkitektur & design as"]
["OK arkitekter","2012-06-01T16:05:50+02:00",171500,"OK arkitekter"]
["ONIX (nederland)","2013-01-02T17:29:00+01:00",245863,"ONIX (nederland)"]
["Opus Arkitekter as","2012-06-01T16:05:50+02:00",171499,"Opus Arkitekter as"]
["Origo arkitektgruppe as","2012-06-01T16:05:50+02:00",171498,"Origo arkitektgruppe as"]
["Ottar arkitekter as","2012-06-01T16:05:50+02:00",171497,"Ottar arkitekter as"]
["P. A. Holst sivilarkitekt mnal","2012-06-01T16:05:51+02:00",210155,"P. A. Holst sivilarkitekt mnal"]
["Panark AS","2012-06-01T16:05:50+02:00",171490,"Panark AS"]
["Pedersen arkitekter as, Kyrre","2012-06-01T16:05:50+02:00",171489,"Pedersen arkitekter as, Kyrre "]
["Pedersen/ Ege Arkitekter AS","2012-06-01T16:05:50+02:00",173039,"Pedersen/ Ege Arkitekter AS"]
["Perspektiv Arkitekter AS","2012-06-01T16:05:50+02:00",171488,"Perspektiv Arkitekter AS"]
["Pettersen & Partners - Hospital Planning and Design","2012-06-01T16:05:49+02:00",171486,"Pettersen & Partners - Hospital Planning and Design"]
["Pir II AS","2012-06-01T16:05:49+02:00",171485,"Pir II AS"]
["Pir II Oslo AS","2012-06-01T16:05:51+02:00",233236,"Pir II Oslo AS"]
["PirII i samarbeid med Studenter ved Högskolan för Design och Konsthandtverk i Göteborg (SUB lugarer)","2012-06-01T16:05:51+02:00",230105,"PirII i samarbeid med Studenter ved Högskolan för Design och Konsthandtverk i Göteborg (SUB lugarer)"]
["pka Arkitekter","2012-06-01T16:05:51+02:00",232085,"pka Arkitekter"]
["Plan arkitekter AS","2012-06-01T16:05:49+02:00",171483,"Plan arkitekter AS"]
["PlanA AS","2012-06-01T16:05:49+02:00",171484,"PlanA AS"]
["Plan-AE","2012-06-01T16:05:49+02:00",171482,"Plan-AE"]
["Planforum Arkitekter AS","2012-06-01T16:05:49+02:00",171481,"Planforum Arkitekter AS"]
["Plank arkitekter AS","2012-06-01T16:05:49+02:00",171480,"Plank arkitekter AS"]
["Plot arkitekter as","2012-06-01T16:05:51+02:00",230009,"Plot arkitekter as"]
["Plus arkitektur AS","2012-06-01T16:05:50+02:00",182236,"Plus arkitektur AS"]
["PML Arkitektur, sivilarkitekt Per Martin Landfald MNAL","2012-06-01T16:05:49+02:00",171479,"PML Arkitektur, sivilarkitekt Per Martin Landfald MNAL"]
["Point AS arkitektur+konseptdesign","2012-06-01T16:05:49+02:00",171478,"Point AS arkitektur+konseptdesign"]
["Poulsson/Pran AS","2012-06-01T16:05:49+02:00",166525,"Poulsson/Pran AS"]
["PPR arkitektur & design AS","2012-06-01T16:05:50+02:00",171491,"PPR arkitektur & design AS"]
["Praksis sivilarkitekter as","2012-06-01T16:05:49+02:00",171477,"Praksis sivilarkitekter as"]
["Pran, Peter","2012-06-01T16:05:49+02:00",171476,"Pran, Peter "]
["Puls Arkitekter AS","2012-06-01T16:05:49+02:00",171473,"Puls Arkitekter AS"]
["Pushak arkitekter","2012-06-01T16:05:49+02:00",171472,"Pushak arkitekter"]
["PV arkitekter as","2012-06-01T16:05:50+02:00",172662,"PV arkitekter as"]
["PW Arkitekter AS","2012-06-01T16:05:49+02:00",171471,"PW Arkitekter AS"]
["RAM arkitektur as","2012-06-01T16:05:50+02:00",172784,"RAM arkitektur as"]
["Ramberg AS sivilarkitekter MNAL, Torstein","2012-06-01T16:05:49+02:00",166682,"Ramberg AS sivilarkitekter MNAL, Torstein "]
["Rambøll Aros AS","2012-06-01T16:05:49+02:00",166680,"Rambøll Aros AS"]
["Rambøll AS","2013-02-13T10:44:00+01:00",247615,"Rambøll AS"]
["Rambøll Norge AS Arkitektur og Plan","2012-06-01T16:05:49+02:00",166681,"Rambøll Norge AS Arkitektur og Plan"]
["Ramm Salbu Arkitekter","2012-06-01T16:05:49+02:00",166626,"Ramm Salbu Arkitekter"]
["Ramsfjell Arkitekter AS","2012-06-01T16:05:49+02:00",166679,"Ramsfjell Arkitekter AS"]
["Ramstad Arkitekter as, Reiulf","2012-06-01T16:05:49+02:00",166684,"Ramstad Arkitekter as, Reiulf "]
["Rastad & Relling Arkitektkontor AS","2012-06-01T16:05:49+02:00",166678,"Rastad & Relling Arkitektkontor AS"]
["Ratio arkitekter as","2012-06-01T16:05:51+02:00",206444,"Ratio arkitekter as"]
["Raugstad Arkitektur AS","2012-11-16T14:16:00+01:00",244037,"Raugstad Arkitektur AS"]
["Re Arkitektur AS","2012-06-01T16:05:49+02:00",166677,"Re Arkitektur AS"]
["Rede arkitekter as","2012-06-01T16:05:50+02:00",172606,"Rede arkitekter as"]
["Rever og Drage","2013-02-04T16:35:00+01:00",247285,"Rever og Drage"]
["RIFT AS","2012-06-01T16:05:50+02:00",193622,"RIFT AS"]
["RiK Arkitektur AS","2012-06-01T16:05:49+02:00",166683,"RiK Arkitektur AS"]
["Rintala Eggertsson Arkitekter","2012-06-01T16:05:51+02:00",204162,"Rintala Eggertsson Arkitekter"]
["Riss Landskap AS","2013-01-02T17:30:00+01:00",245864,"Riss Landskap AS"]
["Roald AS Arkitektur, Ola","2012-06-01T16:05:49+02:00",166676,"Roald AS Arkitektur, Ola "]
["Rodeo arkitekter as","2012-06-01T16:05:49+02:00",166675,"Rodeo arkitekter as"]
["Rojo arkitekter as","2012-06-01T16:05:50+02:00",172675,"Rojo arkitekter as"]
["Romerike Arkitekter AS","2012-06-01T16:05:49+02:00",166674,"Romerike Arkitekter AS"]
["Romlaboratoriet AS","2012-06-01T16:05:51+02:00",219471,"Romlaboratoriet AS"]
["Rønsen Arkitekter AS, Jostein","2012-06-01T16:05:49+02:00",166672,"Rønsen Arkitekter AS, Jostein "]
["Rørby AS, Arkitekt Terje","2012-06-01T16:05:50+02:00",172668,"Rørby AS, Arkitekt Terje"]
["Sandbakk & Pettersen Arkitekter AS","2012-06-01T16:05:50+02:00",199606,"Sandbakk & Pettersen Arkitekter AS"]
["Sandvik, Siv. ark. mnal Jarle","2012-06-01T16:05:50+02:00",172890,"Sandvik, Siv. ark. mnal Jarle "]
["Saunders Arkitektur AS","2012-06-01T16:05:49+02:00",166623,"Saunders Arkitektur AS"]
["Scala arkitekter AS","2012-06-01T16:05:49+02:00",166622,"Scala arkitekter AS"]
["Scenario","2012-06-01T16:05:51+02:00",235782,"Scenario"]
["Schjelderup AS sivilarkitekter MNAL NPA, Helge","2012-06-01T16:05:50+02:00",172786,"Schjelderup AS sivilarkitekter MNAL NPA, Helge "]
["Schmitthenner arkitekter","2012-06-01T16:05:50+02:00",177781,"Schmitthenner arkitekter"]
["Schønherr landskab KS","2013-01-02T18:51:00+01:00",245865,"Schønherr landskab KS"]
["SE-Arkitektur A/S","2012-06-01T16:05:49+02:00",166621,"SE-Arkitektur A/S"]
["Selberg Arkitekter AS","2012-06-01T16:05:49+02:00",166619,"Selberg Arkitekter AS"]
["September Arkitekter","2012-06-01T16:05:51+02:00",213205,"September Arkitekter"]
["SG Arkitekter AS","2012-06-01T16:05:49+02:00",166618,"SG Arkitekter AS"]
["Signatur Arkitekter AS","2012-06-01T16:05:49+02:00",166617,"Signatur Arkitekter AS"]
["Sivilarkitekt MNAL Randi Slåtten","2013-01-29T14:05:00+01:00",247055,"Sivilarkitekt MNAL Randi Slåtten"]
["Sivilarkitekt MNAL Steinar Romedal AS","2012-06-28T13:37:32+02:00",238532,"Sivilarkitekt MNAL Steinar Romedal AS"]
["Sivilarkitekt mnal Øyvind Poulsson","2012-06-01T16:05:00+02:00",198799,"Sivilarkitekt mnal Øyvind Poulsson"]
["Sivilarkitekt Stein Stoknes MNAL","2012-06-01T16:05:51+02:00",234655,"Sivilarkitekt Stein Stoknes MNAL"]
["Sivilarkitekt Tordis Hoem as","2012-06-01T16:05:49+02:00",171093,"Sivilarkitekt Tordis Hoem as"]
["Sjo Fasting Arkitekter","2013-01-01T22:57:00+01:00",245837,"Sjo Fasting Arkitekter"]
["Sjåtil & Fornæss AS","2013-04-23T11:13:00+02:00",250062,"Sjåtil & Fornæss AS"]
["Sjåvåg sivilarkitekt MNALm Helle","2012-06-01T16:05:49+02:00",166616,"Sjåvåg sivilarkitekt MNALm Helle "]
["Skaane Arkitektur + Design","2012-06-01T16:05:49+02:00",166612,"Skaane Arkitektur + Design"]
["Skaara Arkitekter AS","2012-06-01T16:05:49+02:00",166523,"Skaara Arkitekter AS"]
["Skagenarkitektene","2012-06-01T16:05:49+02:00",166521,"Skagenarkitektene"]
["Skagenarkitektene","2012-06-01T16:05:49+02:00",166614,"Skagenarkitektene"]
["Skibnes Arkitekter AS","2013-04-15T09:06:00+02:00",249788,"Skibnes Arkitekter AS"]
["Skylstad as, Arkitekt Svein","2012-06-01T16:05:50+02:00",172685,"Skylstad as, Arkitekt Svein "]
["Sletvold Arkitekter MNAL","2012-06-01T16:05:49+02:00",166517,"Sletvold Arkitekter MNAL"]
["Slyngstad Aamlid Arkitekter AS","2012-06-01T16:05:49+02:00",166609,"Slyngstad Aamlid Arkitekter AS"]
["SMS arkitekter AS","2012-06-01T16:05:49+02:00",166510,"SMS arkitekter AS"]
["Snøhetta as","2012-06-01T16:05:49+02:00",166509,"Snøhetta as"]
["SOLARK","2012-06-01T16:05:50+02:00",194004,"SOLARK"]
["Solbjør Arkitektur","2012-06-01T16:05:49+02:00",166508,"Solbjør Arkitektur"]
["Solem Arkitektur AS","2012-06-01T16:05:49+02:00",166507,"Solem Arkitektur AS"]
["Solheim og Jacobsen arkitekter AS","2012-06-01T16:05:49+02:00",166505,"Solheim og Jacobsen arkitekter AS"]
["Solli Arkitekter AS","2012-06-01T16:05:00+02:00",166503,"Solli Arkitekter AS"]
["Solli Sivilarkitekt MNAL, Tore","2012-06-01T16:05:50+02:00",177575,"Solli Sivilarkitekt MNAL, Tore "]
["Solnes AS, Lil","2012-06-01T16:05:50+02:00",172720,"Solnes AS, Lil "]
["Spacegroup Arkitekter A/S","2012-06-01T16:05:49+02:00",166485,"Spacegroup Arkitekter A/S"]
["Spark arkitektur","2012-06-01T16:05:49+02:00",166484,"Spark arkitektur"]
["Spiss Arkitektur & Plan AS","2012-06-01T16:05:50+02:00",172895,"Spiss Arkitektur & Plan AS"]
["Spor Arkitekter AS","2012-06-01T16:05:49+02:00",166481,"Spor Arkitekter AS"]
["Sporstøl AS, Arkitektfirma","2012-06-01T16:05:49+02:00",166479,"Sporstøl AS, Arkitektfirma"]
["Stark Rød-Knudsen arkitekter AS","2012-06-01T16:05:50+02:00",173200,"Stark Rød-Knudsen arkitekter AS"]
["Stavseth&Lervik Arkitekter AS Mnal","2012-06-01T16:05:50+02:00",193742,"Stavseth&Lervik Arkitekter AS Mnal"]
["Steinsvik Arkitektkontor AS","2012-06-01T16:05:50+02:00",193910,"Steinsvik Arkitektkontor AS"]
["Steven Holl Architects","2012-11-11T23:51:00+01:00",243879,"Steven Holl Architects"]
["Stousland Arkitektkontor AS","2012-06-01T16:05:49+02:00",166478,"Stousland Arkitektkontor AS"]
["Streken arkitektgruppe as","2012-06-01T16:05:49+02:00",166475,"Streken arkitektgruppe as"]
["Studio 4 Arkitekter AS","2012-06-01T16:05:49+02:00",166470,"Studio 4 Arkitekter AS"]
["Studio ludo as","2012-06-01T16:05:49+02:00",166473,"Studio ludo as"]
["Studio Stokke","2012-06-01T16:05:49+02:00",166471,"Studio Stokke"]
["Sundt arkitekter","2012-06-01T16:05:50+02:00",172654,"Sundt arkitekter"]
["Svein Skibnes Arkitektkontor AS","2012-11-07T20:27:00+01:00",243755,"Svein Skibnes Arkitektkontor AS"]
["Sydarkitekter AS","2013-03-05T15:58:00+01:00",248323,"Sydarkitekter AS"]
["Sæther og Gythfeldt AS, Arkitektkontoret","2012-06-01T16:05:49+02:00",166468,"Sæther og Gythfeldt AS, Arkitektkontoret"]
["Sødal, Arkitekt Arne","2012-06-01T16:05:50+02:00",172896,"Sødal, Arkitekt Arne "]
["Sør AS, Arkitektkontoret","2012-06-01T16:05:50+02:00",172596,"Sør AS, Arkitektkontoret "]
["Sørli arkitekter as","2012-06-01T16:05:50+02:00",172893,"Sørli arkitekter as"]
["Sørli og Haugstad (Shark) AS Arkitektkontor","2012-06-01T16:05:49+02:00",166467,"Sørli og Haugstad (Shark) AS Arkitektkontor"]
["Sørumgård, Marit","2012-06-01T16:05:49+02:00",166466,"Sørumgård, Marit"]
["Tandberg Arkitekter MNAL","2012-06-01T16:05:50+02:00",172901,"Tandberg Arkitekter MNAL"]
["TBA Arkitekter","2012-06-01T16:05:49+02:00",166465,"TBA Arkitekter"]
["Team St. Olav ANS","2012-10-21T20:05:00+02:00",243127,"Team St. Olav ANS"]
["Tegn 3 AS","2012-06-01T16:05:51+02:00",234630,"Tegn 3 AS"]
["Tegn arkitektur og design as","2012-06-01T16:05:49+02:00",166464,"Tegn arkitektur og design as"]
["Tegneverket Arkitekter AS","2012-06-01T16:05:50+02:00",172735,"Tegneverket Arkitekter AS"]
["Teiknistofan Trød","2012-06-01T16:05:48+02:00",166446,"Teiknistofan Trød"]
["Thorenfeldt Arkitekter AS","2012-06-01T16:05:49+02:00",166462,"Thorenfeldt Arkitekter AS"]
["Thorsnes Arkitekter AS, Thomas","2012-06-01T16:05:49+02:00",166460,"Thorsnes Arkitekter AS, Thomas "]
["Thrane AS, Klaus","2012-06-01T16:05:50+02:00",172676,"Thrane AS, Klaus "]
["Tippetue Arkitekter as","2012-06-01T16:05:50+02:00",172657,"Tippetue Arkitekter as"]
["Tjøme arkitektkontor","2012-06-01T16:05:49+02:00",166459,"Tjøme arkitektkontor"]
["Tollaas, Inger-Johanne","2012-06-01T16:05:49+02:00",166458,"Tollaas, Inger-Johanne "]
["Tom Edvardsen Arkitekter AS","2013-01-29T13:02:00+01:00",247051,"Tom Edvardsen Arkitekter AS"]
["Topos arkitektur og design as","2012-06-01T16:05:49+02:00",166454,"Topos arkitektur og design as"]
["Tornes, Sivilarkitekt MNAL Anne Britt","2012-06-01T16:05:49+02:00",166452,"Tornes, Sivilarkitekt MNAL Anne Britt "]
["Torp AS Arkitekter MNAL, Niels","2012-06-01T16:05:48+02:00",166451,"Torp AS Arkitekter MNAL, Niels"]
["Torsteinsrud-Smith Arkitekter","2012-06-01T16:05:48+02:00",166450,"Torsteinsrud-Smith Arkitekter"]
["TRAFO arkitektur","2012-06-01T16:05:51+02:00",210075,"TRAFO arkitektur"]
["Trollvegg Arkitektstudio AS","2012-06-01T16:05:50+02:00",173041,"Trollvegg Arkitektstudio AS"]
["Tupelo a+d","2012-06-01T16:05:48+02:00",166445,"Tupelo a+d"]
["Tveit as, Arkitektkontoret Nils","2012-06-01T16:05:50+02:00",173194,"Tveit as, Arkitektkontoret Nils"]
["TYIN tegnestue Arkitekter AS","2012-06-01T16:05:51+02:00",216543,"TYIN tegnestue Arkitekter AS"]
["Tysseland Arkitektur AS","2012-06-01T16:05:49+02:00",171156,"Tysseland Arkitektur AS"]
["Urban Rabbe arkitekter as","2012-06-01T16:05:48+02:00",166442,"Urban Rabbe arkitekter as"]
["Ustad, Sivilarkitekt MNAL Atle","2012-06-01T16:05:48+02:00",166440,"Ustad, Sivilarkitekt MNAL Atle"]
["Various Architects AS","2012-06-01T16:05:50+02:00",172894,"Various Architects AS"]
["Vatne sivilarkitekt MNAL NPA, Kjell","2012-06-01T16:05:48+02:00",166438,"Vatne sivilarkitekt MNAL NPA, Kjell"]
["Verte landskap - arkitektur as","2012-06-01T16:05:50+02:00",191305,"Verte landskap - arkitektur as"]
["Vest AS, Arkitektkontoret","2012-06-01T16:05:48+02:00",166437,"Vest AS, Arkitektkontoret "]
["Vesterlid, Arkitekt MNAL Arne","2012-06-01T16:05:48+02:00",166436,"Vesterlid, Arkitekt MNAL Arne "]
["Vikanes Bungum Arkitekter AS","2012-06-01T16:05:48+02:00",166431,"Vikanes Bungum Arkitekter AS"]
["Vindveggen Arkitekter AS","2012-06-01T16:05:00+02:00",172783,"Vindveggen Arkitekter AS"]
["Vindveggen, Martin Glomnes","2012-06-01T16:05:48+02:00",166430,"Vindveggen, Martin Glomnes"]
["Vis-à-vis","2012-06-01T16:05:50+02:00",172683,"Vis-à-vis"]
["Vulkan arkitekter as","2012-06-01T16:05:48+02:00",166428,"Vulkan arkitekter as"]
["VY as arkitektur","2012-06-01T16:05:49+02:00",166628,"VY as arkitektur"]
["Wendt AS, Arkitektkontoret Gjertrud","2012-06-01T16:05:50+02:00",172730,"Wendt AS, Arkitektkontoret Gjertrud "]
["Westad & Brusletto as, Arkitektkontoret","2012-06-01T16:05:00+02:00",166425,"Westad & Brusletto as, Arkitektkontoret "]
["Wiberg AS Arkitektur & plan","2012-06-01T16:05:51+02:00",228511,"Wiberg AS Arkitektur & plan"]
["WOOD arkitektur+design","2012-06-01T16:05:51+02:00",207151,"WOOD arkitektur+design"]
["Yran, Petter  & Bjørn Storbraaten Architects AS","2012-06-01T16:05:48+02:00",166414,"Yran, Petter  & Bjørn Storbraaten Architects AS"]
["Zinc AS","2012-06-01T16:05:51+02:00",230397,"Zinc AS"]
["ØKAW AS Arkitekter MNAL","2012-06-01T16:05:48+02:00",166405,"ØKAW AS Arkitekter MNAL"]
["Østengen og Bergo Landskapsarkitekter AS","2012-12-19T16:01:00+01:00",245624,"Østengen og Bergo Landskapsarkitekter AS"]
["Østgaard Arkitekter AS","2012-06-01T16:05:48+02:00",166402,"Østgaard Arkitekter AS"]
["Øye arkitektkontor as, Georg","2012-06-01T16:05:48+02:00",166398,"Øye arkitektkontor as, Georg"]
["Øystein Thommesen AS","2012-12-10T11:29:00+01:00",244635,"Øystein Thommesen AS"]
["Øystein Thommesen AS","2013-03-04T16:09:00+01:00",248257,"Øystein Thommesen AS"]

{"sheet":"tbl_Companys","index":11,"n_rows":1282,"n_cols":5,"rows_kept":1282,"hidden":true}
["odata_title","odata_updated","Id","Name","Kolonne1"]
["Dyrø og Moen AS","2012-06-01T16:05:00+02:00",166571," Dyrø og Moen AS"]
["Hoen arkitektfirma, Anne Louise","2012-06-01T16:05:50+02:00",172585," Hoen arkitektfirma, Anne Louise"]
["Hus arkitekter AS","2012-06-01T16:05:49+02:00",171139," Hus arkitekter AS"]
["Kvien, Tord","2012-06-01T16:05:50+02:00",171771," Kvien, Tord"]
["Vailant Group Norge AS","2012-02-03T11:35:00+01:00",232350," Vailant Group Norge AS"]
["1:1 Arkitekter AS","2012-06-01T16:05:49+02:00",166642,"1:1 Arkitekter AS"]
["3RW arkitekter","2012-06-01T16:05:48+02:00",166448,"3RW arkitekter"]
["4B Arkitekter AS","2012-06-01T16:05:49+02:00",166723,"4B Arkitekter AS"]
["70 °N arkitektur AS","2012-06-01T16:05:49+02:00",166469,"70 °N arkitektur AS"]
["A.L. Høyer Skien AS","2011-11-16T13:55:33+01:00",228642,"A.L. Høyer Skien AS"]
["A/S Betong, Stavanger","2010-12-06T16:33:41+01:00",101120,"A/S Betong, Stavanger"]
["a2 arkitekter as","2012-06-01T16:05:50+02:00",186465,"a2 arkitekter as"]
["Aadnesen glass AS","2010-12-06T16:33:42+01:00",172630,"Aadnesen glass AS"]
["Aalerud AS Rådgivede ingeniører","2011-11-16T13:56:51+01:00",181045,"Aalerud AS Rådgivede ingeniører"]
["AART (danmark)","2013-01-02T19:46:00+01:00",245870,"AART (danmark)"]
["Aas Jakobsen AS","2010-12-06T16:33:41+01:00",121133,"Aas Jakobsen AS "]
["Aas Luftbehandling","2011-09-08T16:05:00+02:00",225767,"Aas Luftbehandling"]
["Aase Byggeadministrasjon AS","2010-12-06T16:33:42+01:00",202816,"Aase Byggeadministrasjon AS"]
["Aasen Bygg AS","2013-02-18T11:40:35+01:00",233806,"Aasen Bygg AS"]
["Abacus as","2012-06-01T16:05:48+02:00",166417,"Abacus as"]
["ABC Elektro","2012-02-03T11:30:00+01:00",232346,"ABC Elektro"]
["ABC Elektro installasjon AS","2011-10-27T09:52:00+02:00",228143,"ABC Elektro installasjon AS"]
["Abo Plan & Arkitektur AS","2012-06-01T16:05:50+02:00",181938,"Abo Plan & Arkitektur AS"]
["absolutt arkitektur as","2012-06-01T16:05:51+02:00",235232,"absolutt arkitektur as"]
["ACK Arkitekter","2012-06-01T16:05:50+02:00",172791,"ACK Arkitekter"]
["Acona Tehnopole AS","2012-06-01T16:05:00+02:00",166432,"Acona Tehnopole AS"]
["Acusto AS","2010-12-06T16:33:42+01:00",202452,"Acusto AS"]
["Adaptiv Arkitektur AS","2013-02-18T16:01:00+01:00",247813,"Adaptiv Arkitektur AS"]
["Advansia as","2011-02-11T16:26:00+01:00",217293,"Advansia as"]
["Aepos arkitekter og planleggere AS","2012-06-01T16:05:48+02:00",166439,"Aepos arkitekter og planleggere AS"]
["AF Decom","2010-12-06T16:33:42+01:00",178158,"AF Decom "]
["AF Decom (riving)","2010-12-06T16:33:42+01:00",178924,"AF Decom (riving)"]
["AF Gruppen","2010-12-06T16:33:42+01:00",202450,"AF Gruppen"]
["AG Plan og Arkitektur AS","2012-06-01T16:05:48+02:00",166449,"AG Plan og Arkitektur AS"]
["Aga Arkitekter AS","2012-06-01T16:05:48+02:00",166181,"Aga Arkitekter AS"]
["Agathon Borgen AS","2013-02-13T00:32:00+01:00",247607,"Agathon Borgen AS"]
["Agraff - arkitekter","2012-11-19T22:52:00+01:00",244138,"Agraff - arkitekter"]
["Agraff AS","2013-01-27T11:46:18+01:00",166453,"Agraff AS"]
["AKC Arkitekter AS","2012-06-01T16:05:49+02:00",166455,"AKC Arkitekter AS"]
["Aktiv Arena","2010-12-06T16:33:42+01:00",192374,"Aktiv Arena"]
["Aktivhus AS","2011-12-12T09:09:26+01:00",230176,"Aktivhus AS"]
["AL Høyer Skien AS","2010-12-06T16:33:41+01:00",121313,"AL Høyer Skien AS"]
["a-lab as","2013-04-04T09:24:00+02:00",166183,"a-lab as"]
["Alliance arkitekter AS","2012-06-01T16:05:49+02:00",166456,"Alliance arkitekter AS"]
["Allsidig Arkitekt","2012-10-26T10:40:45+02:00",243404,"Allsidig Arkitekt"]
["alt arkitektur as","2012-06-01T16:05:49+02:00",166461,"alt arkitektur as"]
["Alta Rør AS","2013-02-15T14:22:00+01:00",247732,"Alta Rør AS"]
["Alvdal trelast","2012-02-03T11:37:00+01:00",232353,"Alvdal trelast"]
["Amalienborg Aveny AS","2012-12-20T10:49:52+01:00",233200,"Amalienborg Aveny AS"]
["AMB arkitekter AS","2012-06-01T16:05:51+02:00",233552,"AMB arkitekter AS"]
["Amdahl Strøm Cappelen Arkitekter AS","2012-06-01T16:05:51+02:00",219365,"Amdahl Strøm Cappelen Arkitekter AS"]
["Amtedal & Hansen Arkitektkontor as","2012-06-01T16:05:50+02:00",172681,"Amtedal & Hansen Arkitektkontor as"]
["Amtedal & Hansen Arkitektkontor AS","2013-02-13T11:00:00+01:00",247618,"Amtedal & Hansen Arkitektkontor AS"]
["Anders Ellefsen","2010-12-06T16:33:41+01:00",103267,"Anders Ellefsen"]
["Andersen & Askjem AS","2010-12-06T16:33:41+01:00",112302,"Andersen & Askjem AS "]
["Andersen & Flåte AS","2012-06-01T16:05:51+02:00",230398,"Andersen & Flåte AS"]
["Andersen og Johnson AS","2011-08-02T11:59:00+02:00",224067,"Andersen og Johnson AS"]
["Anderssen+Fremming AS","2012-06-01T16:05:50+02:00",172904,"Anderssen+Fremming AS"]
["Andresen Arkitekter AS","2012-06-01T16:05:49+02:00",166474,"Andresen Arkitekter AS"]
["April Arkitekter AS","2012-06-01T16:05:49+02:00",166476,"April Arkitekter AS"]
["Arbeidsfellesskapet Kruse Strømme DA","2013-01-25T19:14:00+01:00",246929,"Arbeidsfellesskapet Kruse Strømme DA"]
["arc arkitekter as","2012-06-01T16:05:50+02:00",172892,"arc arkitekter as"]
["ARC arkitektur AS","2013-03-15T15:33:00+01:00",248768,"ARC arkitektur AS"]
["Arcasa arkitekter AS","2012-06-01T16:05:49+02:00",166511,"Arcasa arkitekter AS"]
["Arc-ess AS","2012-06-01T16:05:49+02:00",166480,"Arc-ess AS"]
["Arch Uno AS","2012-06-01T16:05:49+02:00",166482,"Arch Uno AS"]
["Architectopia AS","2012-06-01T16:05:00+02:00",210153,"Architectopia AS"]
["Archus Arkitekter AS","2012-06-01T16:05:49+02:00",166483,"Archus Arkitekter AS"]
["Arcon Prosjekt AS","2012-06-01T16:05:50+02:00",172880,"Arcon Prosjekt AS"]
["Ario as","2012-06-01T16:05:49+02:00",166486,"Ario as"]
["Arkade Arkitektkontor AS","2012-12-20T10:50:00+01:00",245661,"Arkade Arkitektkontor AS"]
["Arkadia Arkitekter AS","2012-06-01T16:05:49+02:00",166487,"Arkadia Arkitekter AS"]
["Arken AS, Arkitektkontoret","2012-06-01T16:05:49+02:00",166490,"Arken AS, Arkitektkontoret "]
["Arkidea AS","2012-06-01T16:05:49+02:00",166491,"Arkidea AS"]
["Arkideco as","2012-06-01T16:05:50+02:00",172582,"Arkideco as"]
["ArkiForum AS","2012-06-01T16:05:49+02:00",166492,"ArkiForum AS"]
["Arkinett AS","2012-06-01T16:05:49+02:00",166493,"Arkinett AS"]
["Arkipartner AS","2012-06-01T16:05:49+02:00",166494,"Arkipartner AS"]
["Arkiplan AS","2012-06-01T16:05:49+02:00",166495,"Arkiplan AS"]
["Arkitekt Bengt Michaelsen","2012-10-11T17:52:00+02:00",242869,"Arkitekt Bengt Michaelsen"]
["Arkitekt Ludvig Hoddø MNAL","2012-11-16T15:18:00+01:00",244046,"Arkitekt Ludvig Hoddø MNAL"]
["Arkitekt MNAL Håvard Holm Endresen","2012-06-01T16:05:51+02:00",232534,"Arkitekt MNAL Håvard Holm Endresen"]
["Arkitektarna Krook & Tjäder A","2012-06-01T16:05:51+02:00",228619,"Arkitektarna Krook & Tjäder A "]
["Arkitektbua A/S","2012-06-01T16:05:49+02:00",166496,"Arkitektbua A/S"]
["Arkitektene AS - Arkitekt MNAL NPA Espen Eskeland","2012-06-01T16:05:49+02:00",166497,"Arkitektene AS - Arkitekt MNAL NPA Espen Eskeland"]
["Arkitektene Astrup og Hellern AS","2012-06-01T16:05:50+02:00",172846,"Arkitektene Astrup og Hellern AS"]
["Arkitektfirma Jon Vikøren AS","2012-06-01T16:05:51+02:00",217913,"Arkitektfirma Jon Vikøren AS"]
["Arkitektformidling","2012-06-01T16:05:50+02:00",181447,"Arkitektformidling"]
["Arkitektgruppen Cubus AS","2013-03-19T15:22:00+01:00",248888,"Arkitektgruppen Cubus AS"]
["Arkitektgruppen Cubus AS","2012-06-01T16:05:49+02:00",166499,"Arkitektgruppen Cubus AS "]
["Arkitektgruppen Drammen AS","2011-03-06T14:47:38+01:00",214402,"Arkitektgruppen Drammen AS"]
["Arkitekthuset Amlie - Strandgata 22 A/S","2012-06-01T16:05:49+02:00",166463,"Arkitekthuset Amlie - Strandgata 22 A/S"]
["Arkitekthuset Lunøe & Løffler","2012-06-01T16:05:49+02:00",166501,"Arkitekthuset Lunøe & Løffler "]
["Arkitektkompaniet AS","2012-06-01T16:05:51+02:00",232980,"Arkitektkompaniet AS"]
["Arkitektkontor","2012-08-29T14:14:43+02:00",241583,"Arkitektkontor"]
["Arkitektkontor","2013-02-18T16:05:24+01:00",247814,"Arkitektkontor"]
["Arkitektkontor","2013-02-21T12:34:12+01:00",247888,"Arkitektkontor"]
["Arkitektkontor","2013-04-02T13:57:27+02:00",249384,"Arkitektkontor"]
["Arkitektkontor","2013-04-10T11:08:23+02:00",249654,"Arkitektkontor"]
["Arkitektkontoret IHT","2013-01-01T23:00:00+01:00",245838,"Arkitektkontoret IHT"]
["Arkitektkontoret JoB AS","2013-02-18T16:07:00+01:00",247815,"Arkitektkontoret JoB AS"]
["Arkitektkontoret JoB AS","2013-03-01T14:45:00+01:00",248173,"Arkitektkontoret JoB AS"]
["Arkitektkontoret Tellus AS","2012-06-01T16:05:51+02:00",231316,"Arkitektkontoret Tellus AS"]
["Arkitektkontoret Tellus AS","2012-06-01T16:05:51+02:00",232821,"Arkitektkontoret Tellus AS"]
["Arkitektkontoret Tellus AS","2012-12-03T15:53:41+01:00",235528,"Arkitektkontoret Tellus AS"]
["Arkitektskap AS","2012-06-01T16:05:49+02:00",166514,"Arkitektskap AS"]
["Arkitektstudio as","2012-06-01T16:05:49+02:00",166522,"Arkitektstudio as"]
["Arkitektstudio Hamar AS","2012-06-01T16:05:49+02:00",166519,"Arkitektstudio Hamar AS"]
["Arkitektteam AS","2012-06-01T16:05:50+02:00",172649,"Arkitektteam AS"]
["Arkitektur EW verksted","2012-06-01T16:05:00+02:00",217475,"Arkitektur EW verksted"]
["Arkitekturverket AS","2013-04-02T13:40:00+02:00",249377,"Arkitekturverket AS"]
["Arkitekturverkstedet i Oslo/Asplan viak","2012-06-01T16:05:00+02:00",220271,"Arkitekturverkstedet i Oslo/Asplan viak"]
["Arkplan","2012-06-12T21:44:00+02:00",236749,"Arkplan"]
["Arktos Arkitektur AS","2012-06-01T16:05:50+02:00",172781,"Arktos Arkitektur AS"]
["Arne Aakermann","2010-12-06T16:33:42+01:00",160605,"Arne Aakermann"]
["Arne Eggen Arkitektkontor A/S","2012-06-01T16:05:50+02:00",201319,"Arne Eggen Arkitektkontor A/S"]
["Arne Vidar Hegni","2010-12-06T16:33:41+01:00",112497,"Arne Vidar Hegni"]
["Arne Wikholm AS","2010-12-06T16:33:41+01:00",110769,"Arne Wikholm AS"]
["Arstad arkitekter AS","2012-06-01T16:05:50+02:00",178009,"Arstad arkitekter AS"]
["ART arkitekter og ingeniører AS","2012-08-29T14:17:01+02:00",241584,"ART arkitekter og ingeniører AS"]
["Artec AS","2013-02-04T19:23:00+01:00",247296,"Artec AS"]
["ARTEC Prosjekt Team AS","2012-06-01T16:05:50+02:00",191891,"ARTEC Prosjekt Team AS"]
["AS Anlegg","2010-12-06T16:33:41+01:00",110996,"AS Anlegg"]
["AS Frederiksen","2010-12-06T16:33:41+01:00",98695,"AS Frederiksen"]
["As Luft Miljø (RIV)","2011-01-03T13:16:00+01:00",215426,"As Luft Miljø (RIV)"]
["AS Olaussen Rådg. Ingeniørkontor","2010-12-06T16:33:41+01:00",112298,"AS Olaussen Rådg. Ingeniørkontor"]
["Asker kommune","2010-12-06T16:33:42+01:00",160579,"Asker kommune"]
["Askim/Lantto Arkitekter AS","2012-06-01T16:05:50+02:00",172659,"Askim/Lantto Arkitekter AS"]
["Aso (Arne Olaussen)","2010-12-06T16:33:42+01:00",162893,"Aso (Arne Olaussen)"]
["Aspelin Ramm","2010-12-06T16:33:42+01:00",205922,"Aspelin Ramm"]
["Asplan Viak","2010-12-06T16:33:41+01:00",103330,"Asplan Viak"]
["Asplan Viak AS","2012-06-01T16:05:50+02:00",172914,"Asplan Viak AS"]
["Asplan Viak as - KanEnergi","2011-02-22T14:29:00+01:00",217374,"Asplan Viak as - KanEnergi"]
["Astad Arkitektur","2012-06-01T16:05:50+02:00",192806,"Astad Arkitektur"]
["Atelier Dreiseitl","2010-12-06T16:33:42+01:00",193820,"Atelier Dreiseitl"]
["Atelier Oslo","2012-06-01T16:05:50+02:00",172236,"Atelier Oslo"]
["Atlant Entreprenør AS","2012-12-17T12:03:00+01:00",245544,"Atlant Entreprenør AS"]
["A-tract AS","2013-04-04T09:23:00+02:00",172717,"A-tract AS"]
["Atsite","2012-06-01T16:05:51+02:00",235781,"Atsite"]
["Aursand Arkitektkontor AS, Espen","2012-06-01T16:05:50+02:00",185123,"Aursand Arkitektkontor AS, Espen "]
["Aursand og Spangen AS Sivilarkitekter","2012-06-01T16:05:50+02:00",172601,"Aursand og Spangen AS Sivilarkitekter"]
["Aust Agder Fylkeskommune / Risør Videregående skole","2010-12-06T16:33:42+01:00",203391,"Aust Agder Fylkeskommune / Risør Videregående skole"]
["Avanti Ryfylket AS","2010-12-06T16:33:42+01:00",172631,"Avanti Ryfylket AS"]
["AWP (Frankrike)","2013-01-02T19:06:00+01:00",245867,"AWP (Frankrike)"]
["Axlander & Rosell","2010-12-06T16:33:41+01:00",110990,"Axlander & Rosell"]
["b+b arkitekter as","2012-06-01T16:05:49+02:00",166536,"b+b arkitekter as"]
["Backe prosjekt AS","2010-12-06T16:33:42+01:00",160575,"Backe prosjekt AS"]
["Backo AS","2013-01-28T12:47:00+01:00",246979,"Backo AS"]
["Baneservice AS","2010-12-06T16:33:42+01:00",182798,"Baneservice AS"]
["Bar, AS Arkitektgruppen","2012-06-01T16:05:50+02:00",172234,"Bar, AS Arkitektgruppen "]
["Bark Arkitekter AS","2012-06-01T16:05:50+02:00",181847,"Bark Arkitekter AS"]
["Barkaleitet Borettslag","2011-10-31T13:19:05+01:00",228270,"Barkaleitet Borettslag"]
["Bas Arkitekter AS","2012-06-01T16:05:49+02:00",166527,"Bas Arkitekter AS"]
["Base Arkitekter AS","2012-06-01T16:05:49+02:00",166528,"Base Arkitekter AS"]
["Base Property AS","2010-12-06T16:33:42+01:00",172593,"Base Property AS"]
["Basis arkitekter as","2013-01-11T16:17:00+01:00",246156,"Basis arkitekter as"]
["BA-tec AS","2013-01-16T15:17:00+01:00",246268,"BA-tec AS"]
["Bauck AS, Arkitektkontoret Jan","2012-06-01T16:05:49+02:00",166531,"Bauck AS, Arkitektkontoret Jan"]
["BBW AS, Arkitektkontoret","2012-06-01T16:05:49+02:00",166526,"BBW AS, Arkitektkontoret "]
["Beate Ellingsen AS","2012-06-01T16:05:51+02:00",228641,"Beate Ellingsen AS"]
["Bente Rødahl Arkitekter AS","2012-06-01T16:05:51+02:00",234990,"Bente Rødahl Arkitekter AS"]
["Berg Knudsen as","2013-02-04T23:03:43+01:00",247313,"Berg Knudsen as"]
["Berg og Østvang AS, Arkitektene","2012-06-01T16:05:49+02:00",166498,"Berg og Østvang AS, Arkitektene"]
["Bergen Bolig og Byfornyelse KF","2011-03-01T09:57:00+01:00",218052,"Bergen Bolig og Byfornyelse KF"]
["Bergen Gulvleggerservice AS","2010-12-06T16:33:42+01:00",157876,"Bergen Gulvleggerservice AS"]
["Bergen kommune","2010-12-06T16:33:42+01:00",172825,"Bergen kommune"]
["Bergen kommune, etat for utbygging","2013-03-15T09:36:00+01:00",248739,"Bergen kommune, etat for utbygging"]
["Bergen og omegn boligbyggelag (BOB)","2010-12-06T16:33:42+01:00",160598,"Bergen og omegn boligbyggelag (BOB)"]
["Bergen og omegn boligbyggelag (BOB)","2010-12-06T16:33:42+01:00",160599,"Bergen og omegn boligbyggelag (BOB)"]
["Bergersen Arkitekter AS","2013-04-04T09:30:00+02:00",249501,"Bergersen Arkitekter AS"]
["Bergersen Gromholt Ottar Arkitekter AS","2012-06-01T16:05:49+02:00",166532,"Bergersen Gromholt Ottar Arkitekter AS"]
["Bergseth sivilarkitekt MNAL, Magne","2012-06-01T16:05:49+02:00",166533,"Bergseth sivilarkitekt MNAL, Magne "]
["Berit og Helge Sørås","2010-12-06T16:33:42+01:00",160600,"Berit og Helge Sørås"]
["Bermingrud Entreprenør AS","2013-01-16T15:19:00+01:00",246269,"Bermingrud Entreprenør AS"]
["Bernt Krogh","2010-12-06T16:33:42+01:00",162868,"Bernt Krogh"]
["BGM Arkitekter AS","2013-02-13T10:47:00+01:00",247616,"BGM Arkitekter AS"]
["BGM Arkitekter/ Asplan Viak","2013-02-13T11:07:00+01:00",247620,"BGM Arkitekter/ Asplan Viak"]
["Biesel Arkitekter AS, Eder","2012-06-01T16:05:50+02:00",172725,"Biesel Arkitekter AS, Eder "]
["Bifokal Zednik","2012-06-01T16:05:50+02:00",194016,"Bifokal Zednik"]
["Biltorget AS","2010-12-06T16:33:42+01:00",160594,"Biltorget AS"]
["Biong Arkitekter AS","2012-06-01T16:05:50+02:00",172658,"Biong Arkitekter AS"]
["Bios Arkitekter AS","2012-06-01T16:05:51+02:00",203536,"Bios Arkitekter AS"]
["Bjarte Fyllingen as","2011-08-05T10:01:00+02:00",224139,"Bjarte Fyllingen as"]
["Bjerga Bygg AS","2010-12-06T16:33:41+01:00",103217,"Bjerga Bygg AS"]
["Bjerga eiendom AS","2010-12-06T16:33:42+01:00",160577,"Bjerga eiendom AS"]
["Bjerke arkitektkontor","2012-06-01T16:05:49+02:00",166537,"Bjerke arkitektkontor"]
["Bjerke Ventilasjon AS (Ventilasjon)","2010-12-06T16:33:41+01:00",155179,"Bjerke Ventilasjon AS (Ventilasjon)"]
["Bjørbekk og Lindheim","2012-06-05T23:58:00+02:00",236408,"Bjørbekk og Lindheim"]
["Bjørn Haugstad Arkitekt MNAL","2012-06-01T16:05:51+02:00",227536,"Bjørn Haugstad Arkitekt MNAL"]
["Bjørnstad Prosjektering AS, Bjørn","2012-06-01T16:05:49+02:00",166538,"Bjørnstad Prosjektering AS, Bjørn "]
["Blikkenslager Østensen AS","2010-12-06T16:33:42+01:00",157874,"Blikkenslager Østensen AS"]
["blå arkitektur landskab ab","2012-06-01T16:05:49+02:00",166539,"blå arkitektur landskab ab"]
["Bo arkitekter as","2012-06-01T16:05:51+02:00",226513,"Bo arkitekter as"]
["Boarch arkitekter as","2012-06-01T16:05:49+02:00",166543,"Boarch arkitekter as"]
["Bogen Arkitektkontor AS, Petter","2012-06-01T16:05:49+02:00",166544,"Bogen Arkitektkontor AS, Petter "]
["Bolkesjø AS","2010-12-06T16:33:00+01:00",119783,"Bolkesjø AS "]
["Borealis Arkitekter as","2012-06-01T16:05:00+02:00",166545,"Borealis Arkitekter as"]
["Borsheim, Paal","2012-06-01T16:05:49+02:00",166547,"Borsheim, Paal "]
["Boxs arkitektstudio as","2012-06-01T16:05:51+02:00",226954,"Boxs arkitektstudio as"]
["Boye-Waage","2011-11-04T14:30:12+01:00",217083,"Boye-Waage"]
["BP Norge","2010-12-06T16:33:41+01:00",98842,"BP Norge"]
["BP Solar","2010-12-06T16:33:41+01:00",98840,"BP Solar"]
["Brandsberg-Dahls Arkitektkontor AS","2012-06-01T16:05:49+02:00",166548,"Brandsberg-Dahls Arkitektkontor AS"]
["Brannsikkerhet Total AS (Sprinkleranlegg)","2010-12-06T16:33:41+01:00",155177,"Brannsikkerhet Total AS (Sprinkleranlegg)"]
["Brattørkaia AS","2012-03-22T19:39:00+01:00",233805,"Brattørkaia AS"]
["Bravida","2010-12-06T16:33:42+01:00",178585,"Bravida"]
["Bravida Norge AS (El, IT og VVS teknikk)","2010-12-06T16:33:42+01:00",157574,"Bravida Norge AS (El, IT og VVS teknikk)"]
["Brekke & Strand Akustikk AS","2012-06-05T22:58:00+02:00",209556,"Brekke & Strand Akustikk AS"]
["Brendeland & Kristoffersen arkitekter A/S","2012-06-01T16:05:49+02:00",166549,"Brendeland & Kristoffersen arkitekter A/S"]
["Bright elektro","2010-12-06T16:33:42+01:00",204394,"Bright elektro"]
["Bright VVS","2010-12-06T16:33:42+01:00",204393,"Bright VVS"]
["Bris arkitekter","2013-01-29T13:16:00+01:00",247054,"Bris arkitekter"]
["Britt Krokene Sivilarkitekt MNAL AS","2013-02-28T14:58:00+01:00",248135,"Britt Krokene Sivilarkitekt MNAL AS"]
["Britt Krokene Sivilarkitekt MNAL AS","2013-02-28T15:09:00+01:00",248137,"Britt Krokene Sivilarkitekt MNAL AS"]
["Brodtkorb AS, Arkitektkontoret Kari Nissen","2012-06-01T16:05:50+02:00",171799,"Brodtkorb AS, Arkitektkontoret Kari Nissen "]
["Brucon v/Ottar langehaug","2010-12-06T16:33:42+01:00",193871,"Brucon v/Ottar langehaug"]
["Bruvoll arkitektur as","2013-01-11T09:16:14+01:00",246132,"Bruvoll arkitektur as"]
["Bryggeriparken AS","2011-11-25T10:50:00+01:00",229555,"Bryggeriparken AS"]
["Brækkan sivilarkitekt MNAL, Gudrun","2012-06-01T16:05:49+02:00",166550,"Brækkan sivilarkitekt MNAL, Gudrun "]
["Brødrene Holstad AS","2012-11-11T14:22:00+01:00",243860,"Brødrene Holstad AS"]
["Brødrene Jørmeland (grunn)","2010-12-06T16:33:42+01:00",162880,"Brødrene Jørmeland (grunn)"]
["Brødrene Olstad AS","2010-12-06T16:33:41+01:00",103261,"Brødrene Olstad AS"]
["Brødrene Ulveseth AS","2013-03-15T09:43:00+01:00",248741,"Brødrene Ulveseth AS"]
["BS Akustikk AS","2010-12-06T16:33:41+01:00",103148,"BS Akustikk AS"]
["BSH Husholdningsapparater AS (hvitevarer)","2010-12-06T16:33:42+01:00",198979,"BSH Husholdningsapparater AS (hvitevarer)"]
["Buck og Beyer arkitekter AS","2012-06-01T16:05:49+02:00",166551,"Buck og Beyer arkitekter AS"]
["BundeBygg AS","2010-12-06T16:33:00+01:00",102857,"BundeBygg AS"]
["Byberg Maskin AS (gravearbeider)","2010-12-06T16:33:42+01:00",172924,"Byberg Maskin AS (gravearbeider)"]
["ByBo AS","2010-12-06T16:33:42+01:00",166301,"ByBo AS"]
["Bygganalyse AS","2010-12-06T16:33:41+01:00",103151,"Bygganalyse AS"]
["Byggeadministrasjon AS","2013-01-25T17:01:00+01:00",246927,"Byggeadministrasjon AS"]
["Byggforsk","2010-12-06T16:33:41+01:00",112150,"Byggforsk"]
["Byggmeister Samson Kjoberg","2011-08-02T11:58:31+02:00",224066,"Byggmeister Samson Kjoberg"]
["Byggmester Goa (tømmerarbeider)","2010-12-06T16:33:42+01:00",172923,"Byggmester Goa (tømmerarbeider)"]
["Byggmester Tom Martinsen","2010-12-06T16:33:41+01:00",103367,"Byggmester Tom Martinsen"]
["Byggmester Tom Martinsen","2010-12-06T16:33:42+01:00",160584,"Byggmester Tom Martinsen"]
["ByggMester VEST","2010-12-06T16:33:42+01:00",166296,"ByggMester VEST"]
["Byggmester Vest as (arkitektfag)","2011-01-03T13:37:00+01:00",215432,"Byggmester Vest as (arkitektfag)"]
["Byggmesterfirma Hansen og Lauritsen AS","2010-12-06T16:33:42+01:00",200080,"Byggmesterfirma Hansen og Lauritsen AS"]
["Byggplan AS","2012-11-11T20:19:00+01:00",243865,"Byggplan AS"]
["Bærum Kommune","2012-12-13T18:59:23+01:00",157567,"Bærum Kommune"]
["Bødtker sivilarkitekt MNAL, Brit Sejersted","2012-06-01T16:05:49+02:00",166553,"Bødtker sivilarkitekt MNAL, Brit Sejersted "]
["Bøhmer entreprenør AS","2010-12-06T16:33:41+01:00",103209,"Bøhmer entreprenør AS"]
["Børre Svindal Larsen as","2010-12-06T16:33:41+01:00",119976,"Børre Svindal Larsen as"]
["Børve og Borchsenius as, Arkitektkontoret","2012-06-01T16:05:49+02:00",166554,"Børve og Borchsenius as, Arkitektkontoret "]
["C. Svenkerud","2010-12-06T16:33:41+01:00",101064,"C. Svenkerud"]
["Cadi AS","2012-06-01T16:05:49+02:00",166555,"Cadi AS"]
["Campbell ink, Scott Campbell","2012-06-01T16:05:49+02:00",166557,"Campbell ink, Scott Campbell"]
["Chem - Con AS (mur og gulv)","2010-12-06T16:33:42+01:00",162879,"Chem - Con AS (mur og gulv)"]
["Christiansen og Roberg AS","2011-03-06T14:45:35+01:00",213753,"Christiansen og Roberg AS"]
["Claudio Trovanelli (Hypokausten og peiser)","2010-12-06T16:33:42+01:00",162876,"Claudio Trovanelli (Hypokausten og peiser)"]
["Clou arkitektur","2012-06-01T16:05:49+02:00",166559,"Clou arkitektur"]
["Code: arkitektur as","2012-06-01T16:05:49+02:00",166560,"Code: arkitektur as"]
["Colt AS","2010-12-06T16:33:42+01:00",202454,"Colt AS"]
["Comfort consult AS","2010-12-06T16:33:41+01:00",110994,"Comfort consult AS "]
["Conradi AS","2011-02-17T09:38:00+01:00",217516,"Conradi AS "]
["Context AS","2012-06-01T16:05:49+02:00",166561,"Context AS"]
["Contur as - Arkitektur og Design","2012-06-01T16:05:50+02:00",172660,"Contur as - Arkitektur og Design"]
["Corebis as","2010-12-06T16:33:41+01:00",155654,"Corebis as"]
["Cowi as","2011-11-16T15:05:00+01:00",217298,"Cowi as"]
["Cox Strategisk design AS","2013-01-27T11:47:00+01:00",246947,"Cox Strategisk design AS"]
["CTM AS","2010-12-06T16:33:41+01:00",111930,"CTM AS"]
["ctrl+n arkitektur da","2012-06-01T16:05:51+02:00",207276,"ctrl+n arkitektur da"]
["C-V Hølmebakk Arkitektkontor","2012-06-01T16:05:51+02:00",221021,"C-V Hølmebakk Arkitektkontor"]
["Czelusta Trebygg og Takteknikk","2011-07-08T09:31:00+02:00",223524,"Czelusta Trebygg og Takteknikk"]
["D. Nysted AS (interiør)","2010-12-06T16:33:41+01:00",155842,"D. Nysted AS (interiør)"]
["DAC architecture","2012-06-01T16:05:51+02:00",217474,"DAC architecture"]
["Dagfinn H. Jørgensen AS","2012-11-11T14:15:45+01:00",98460,"Dagfinn H. Jørgensen AS"]
["Dahl & Myrhol AS, Arkitektene","2012-06-01T16:05:49+02:00",166562,"Dahl & Myrhol AS, Arkitektene "]
["Dahl & Uhre arkitekter as","2012-06-01T16:05:49+02:00",166564,"Dahl & Uhre arkitekter as"]
["Dahle & Breitenstein as","2012-06-01T16:05:49+02:00",166565,"Dahle & Breitenstein as"]
["Dark Arkitekter AS","2012-06-01T16:05:49+02:00",166566,"Dark Arkitekter AS"]
["DB Arkitektur AS","2012-06-01T16:05:51+02:00",206993,"DB Arkitektur AS"]
["DBC Elprosjekt as","2012-12-17T12:01:00+01:00",245542,"DBC Elprosjekt as"]
["DBC-arkitektur as","2012-06-01T16:05:49+02:00",166567,"DBC-arkitektur as"]
["DeltaTe (RIV)","2010-12-06T16:33:42+01:00",207494,"DeltaTe (RIV)"]
["Deltatek AS","2010-12-06T16:33:00+01:00",202314,"Deltatek AS"]
["Derlick arkitekter as","2012-06-01T16:05:49+02:00",166568,"Derlick arkitekter as"]
["Dimensjon Rådgiving AS","2010-12-06T16:33:42+01:00",172754,"Dimensjon Rådgiving AS"]
["div.A arkitekter","2012-06-01T16:05:00+02:00",166569,"div.A arkitekter"]
["Djupevik Båtbyggeri AS (hovedkonstruksjon eik)","2010-12-06T16:33:42+01:00",162860,"Djupevik Båtbyggeri AS (hovedkonstruksjon eik)"]
["DNF AS","2010-12-06T16:33:00+01:00",115447,"DNF AS"]
["Dokken AS","2010-12-06T16:33:41+01:00",110473,"Dokken AS"]
["Dr. techn. Kristoffer Apeland AS","2010-12-06T16:33:00+01:00",119829,"Dr. techn. Kristoffer Apeland AS"]
["Drammen Eiendom KF","2010-12-06T16:33:42+01:00",204308,"Drammen Eiendom KF"]
["Drammen kommune","2010-12-06T16:33:42+01:00",162580,"Drammen kommune"]
["Drange Maskin AS","2013-03-15T09:42:00+01:00",248740,"Drange Maskin AS"]
["dyAna GmbH (Tyskland)","2012-12-28T15:05:00+01:00",245788,"dyAna GmbH (Tyskland)"]
["Dyrvik Arkitekter AS","2012-06-01T16:05:49+02:00",166570,"Dyrvik Arkitekter AS"]
["ECT AS","2010-12-06T16:33:00+01:00",98463,"ECT AS"]
["Eder Biesel Arkitekter","2013-02-21T12:33:00+01:00",247887,"Eder Biesel Arkitekter"]
["Effecta","2010-12-06T16:33:42+01:00",181821,"Effecta"]
["Egerhei AS","2010-12-06T16:33:41+01:00",103333,"Egerhei AS"]
["Egersund Kommune","2010-12-06T16:33:42+01:00",158054,"Egersund Kommune"]
["Egg arkitekter as","2013-01-10T18:49:00+01:00",246134,"Egg arkitekter as"]
["Eggen Arkitekter AS","2012-06-01T16:05:49+02:00",166578,"Eggen Arkitekter AS"]
["Eggen AS, Arkitektkontoret Arne","2012-06-01T16:05:49+02:00",166575,"Eggen AS, Arkitektkontoret Arne "]
["Eggen Sivilarkitekt MNAL, Kjellaug Sandvik","2012-06-01T16:05:50+02:00",172605,"Eggen Sivilarkitekt MNAL, Kjellaug Sandvik "]
["Egil Berge AS","2012-11-11T20:23:00+01:00",243867,"Egil Berge AS"]
["Eide entreprenør AS (Årnes)","2012-06-08T09:12:12+02:00",216250,"Eide entreprenør AS (Årnes)"]
["Eide og Haslestad A/S, Arkitektkontoret","2012-06-01T16:05:49+02:00",166630,"Eide og Haslestad A/S, Arkitektkontoret "]
["Eiendomsprosjektering as","2013-02-04T23:01:00+01:00",247310,"Eiendomsprosjektering as"]
["EIK arkitektur & design as npa","2012-06-01T16:05:49+02:00",166632,"EIK arkitektur & design as npa"]
["Ekrheim Elconsult AS","2010-12-06T16:33:00+01:00",162871,"Ekrheim Elconsult AS"]
["El miljø AS","2013-01-18T12:59:10+01:00",244638,"El miljø AS"]
["Elconsultteam AS","2010-12-06T16:33:41+01:00",103275,"Elconsultteam AS "]
["Elconsultteam Sør","2012-10-11T17:54:21+02:00",217000,"Elconsultteam Sør"]
["Elconsultteam sør (RIE)","2011-02-07T13:31:00+01:00",216998,"Elconsultteam sør (RIE)"]
["Electronova as","2013-02-04T23:01:00+01:00",247311,"Electronova as"]
["Elektro Nord AS","2013-02-15T14:23:00+01:00",247733,"Elektro Nord AS"]
["Elektroeksperten AS","2013-01-28T12:47:00+01:00",246980,"Elektroeksperten AS"]
["Elektroteam AS (RIE)","2011-03-08T13:40:00+01:00",218403,"Elektroteam AS (RIE)"]
["Element arkitekter as","2012-06-01T16:05:49+02:00",166635,"Element arkitekter as"]
["Elfrida Bull Bene AS, Arkitektstudio","2012-06-01T16:05:00+02:00",166530,"Elfrida Bull Bene AS, Arkitektstudio"]
["Eliassen og Lambertz-Nilssen Arkitekter AS","2012-06-01T16:05:49+02:00",166636,"Eliassen og Lambertz-Nilssen Arkitekter AS"]
["Elisabeth Ekjord AS","2012-06-01T16:05:49+02:00",166633,"Elisabeth Ekjord AS"]
["Elnan","2010-12-06T16:33:42+01:00",164722,"Elnan"]
["ELNAN AS","2010-12-06T16:33:41+01:00",98985,"ELNAN AS"]
["Elnan AS","2010-12-06T16:33:41+01:00",111928,"Elnan AS"]
["Elplan AS","2010-12-06T16:33:00+01:00",178153,"Elplan AS"]
["El-prosjekt","2010-12-06T16:33:41+01:00",121315,"El-prosjekt"]
["Else Dahlseng Arkitekter AS","2012-06-01T16:05:49+02:00",166573,"Else Dahlseng Arkitekter AS"]
["Elverland arkitekt MNAL, Hanne","2012-06-01T16:05:49+02:00",166640,"Elverland arkitekt MNAL, Hanne "]
["EM teknikk AS","2010-12-06T16:33:41+01:00",120245,"EM teknikk AS"]
["EMA AS","2010-12-06T16:33:42+01:00",202453,"EMA AS"]
["Endre Tvinnereim","2012-02-21T15:22:00+01:00",232981,"Endre Tvinnereim"]
["Energetica","2012-05-30T10:34:00+02:00",235785,"Energetica"]
["Enerhaugen Arkitektkontor AS","2012-06-01T16:05:49+02:00",166641,"Enerhaugen Arkitektkontor AS"]
["Engelbrektson, Sivilarkitekt MNAL Richard","2012-06-01T16:05:50+02:00",172790,"Engelbrektson, Sivilarkitekt MNAL Richard "]
["Entra Eiendom AS","2011-06-27T12:35:00+02:00",223036,"Entra Eiendom AS"]
["Entreprenør Magnar Sivertsen as (grunn og betong)","2011-01-03T13:29:00+01:00",215431,"Entreprenør Magnar Sivertsen as (grunn og betong)"]
["Entro nova AS","2010-12-06T16:33:41+01:00",121244,"Entro nova AS"]
["Enøk-senteret AS","2010-12-06T16:33:42+01:00",205125,"Enøk-senteret AS"]
["Erichsen & Horgen AS","2010-12-06T16:33:41+01:00",98872,"Erichsen & Horgen AS"]
["Erik Møller arkitekter","2012-06-01T16:05:51+02:00",228640,"Erik Møller arkitekter"]
["Eriksen og Thorsvik AS (bygg)","2011-03-08T13:47:54+01:00",218404,"Eriksen og Thorsvik AS (bygg)"]
["Eriksen Skajaa Arkitekter","2012-06-01T16:05:51+02:00",207043,"Eriksen Skajaa Arkitekter"]
["Erstad & Lekven Bergen as","2011-08-05T10:06:00+02:00",224140,"Erstad & Lekven Bergen as"]
["Erstad & Lekven Oslo AS","2012-11-06T10:09:00+01:00",243696,"Erstad & Lekven Oslo AS"]
["Esbensen Rådgivende Ingeniører AS","2010-12-06T16:33:00+01:00",202457,"Esbensen Rådgivende Ingeniører AS"]
["Espen Handegård sivilarkitekt MNAL","2012-06-01T16:05:51+02:00",209987,"Espen Handegård sivilarkitekt MNAL"]
["eStatikk","2013-01-01T20:15:00+01:00",245833,"eStatikk"]
["Eva Solheim sivilarkitekt MNAL","2013-04-05T09:46:27+02:00",249559,"Eva Solheim sivilarkitekt MNAL"]
["Evotek AS","2010-12-06T16:33:41+01:00",98464,"Evotek AS"]
["F S Platou","2012-06-01T16:05:51+02:00",235806,"F S Platou"]
["F. Stensrud AS","2011-10-27T09:51:00+02:00",228141,"F. Stensrud AS"]
["Faber bygg AS","2012-12-28T15:09:00+01:00",245789,"Faber bygg AS"]
["Fagerborg menighet","2012-11-05T14:26:00+01:00",243665,"Fagerborg menighet"]
["Falkenberg MNAL, Siv.ark. Thomas","2012-06-01T16:05:49+02:00",166717,"Falkenberg MNAL, Siv.ark. Thomas "]
["Farsund kommune","2010-12-06T16:33:42+01:00",160582,"Farsund kommune"]
["Fasting Arkitekter AS","2012-06-01T16:05:49+02:00",166718,"Fasting Arkitekter AS"]
["Faveo Prosjektledelse AS","2012-02-29T15:12:00+01:00",233203,"Faveo Prosjektledelse AS"]
["FAVEO/Grønn byggallianse v/Sverre Tiltnes (Miljøkoordinator)","2010-12-06T16:33:42+01:00",214152,"FAVEO/Grønn byggallianse v/Sverre Tiltnes (Miljøkoordinator)"]
["Felix Arkitekter AS","2012-06-01T16:05:49+02:00",166720,"Felix Arkitekter AS"]
["FERD K23 AS","2013-01-22T15:23:00+01:00",246723,"FERD K23 AS"]
["Feste AS","2012-06-01T16:05:51+02:00",231899,"Feste AS"]
["Feste Grenland AS","2012-10-10T17:18:00+02:00",242831,"Feste Grenland AS"]
["Filter Arkitekter AS","2012-06-01T16:05:49+02:00",166721,"Filter Arkitekter AS"]
["Fjord Arkitekter AS","2012-06-01T16:05:51+02:00",218791,"Fjord Arkitekter AS"]
["Fjorden Arkitekter","2012-06-01T16:05:51+02:00",219703,"Fjorden Arkitekter"]
["Flux Arkitekter AS","2012-06-01T16:05:49+02:00",166724,"Flux Arkitekter AS"]
["Flyt arkitektur as","2013-01-11T10:01:48+01:00",199549,"Flyt arkitektur as"]
["Fløibanen","2010-12-06T16:33:42+01:00",182799,"Fløibanen"]
["Follo Bygg og Eiendom AS","2012-11-05T14:34:00+01:00",243669,"Follo Bygg og Eiendom AS"]
["Forente Arkitektkontorer A/S","2012-06-01T16:05:49+02:00",166725,"Forente Arkitektkontorer A/S"]
["Formgiverne d.a.","2012-06-01T16:05:49+02:00",166726,"Formgiverne d.a."]
["Forsvarsbygg","2013-03-21T01:36:00+01:00",248971,"Forsvarsbygg"]
["Fortunen Arkitekter AS","2012-06-01T16:05:00+02:00",166727,"Fortunen Arkitekter AS"]
["Forum Arkitekter AS","2012-06-01T16:05:49+02:00",166728,"Forum Arkitekter AS"]
["Forus Næringspark AS","2010-12-06T16:33:42+01:00",163053,"Forus Næringspark AS"]
["Forus Rør AS","2010-12-06T16:33:41+01:00",155841,"Forus Rør AS"]
["fossland as, arkitekt","2012-06-01T16:05:50+02:00",172996,"fossland as, arkitekt"]
["Frank a/s, Arkitektkontoret Lene","2012-06-01T16:05:49+02:00",166729,"Frank a/s, Arkitektkontoret Lene "]
["Frank Hansen, Åfjord (Strandbar)","2011-12-09T10:09:00+01:00",230107,"Frank Hansen, Åfjord (Strandbar)"]
["Fredricia Miller siv.ark MNAL","2010-12-06T16:33:41+01:00",119975,"Fredricia Miller siv.ark MNAL"]
["Fredrikstad kommune","2012-08-17T13:14:00+02:00",241086,"Fredrikstad kommune"]
["Fredrikstad kommune, Teknisk drift","2012-08-17T13:16:00+02:00",241087,"Fredrikstad kommune, Teknisk drift"]
["Friis Arkitekter AS","2012-06-01T16:05:50+02:00",178010,"Friis Arkitekter AS"]
["Frode Olsson AS (forskaling, støp)","2010-12-06T16:33:41+01:00",155839,"Frode Olsson AS (forskaling, støp)"]
["Froland kommune","2011-03-06T16:29:43+01:00",215887,"Froland kommune"]
["Frost Entrepenør AS (bygningsmessige arbeider)","2010-12-06T16:33:42+01:00",162920,"Frost Entrepenør AS (bygningsmessige arbeider)"]
["Frost Entreprenør AS","2010-12-06T16:33:41+01:00",111932,"Frost Entreprenør AS"]
["Frydenlund og Høyer AS","2012-11-11T20:26:00+01:00",243868,"Frydenlund og Høyer AS"]
["Frøiland Bygg","2010-12-06T16:33:42+01:00",158043,"Frøiland Bygg"]
["Fyllingen Maskinstasjon","2010-12-06T16:33:42+01:00",182796,"Fyllingen Maskinstasjon"]
["Gaia Arkitekter","2012-06-01T16:05:49+02:00",166730,"Gaia Arkitekter"]
["GAIA Lista AS (RIV)","2010-12-06T16:33:42+01:00",207493,"GAIA Lista AS (RIV)"]
["Gaia Tjøme","2012-06-01T16:05:50+02:00",172711,"Gaia Tjøme"]
["Gasa A/S, Arkitektkontoret","2012-06-01T16:05:49+02:00",166731,"Gasa A/S, Arkitektkontoret "]
["Gauldal Bygg AS","2013-01-16T20:08:00+01:00",222846,"Gauldal Bygg AS"]
["Geir Knudsen AS","2010-12-06T16:33:42+01:00",166298,"Geir Knudsen AS"]
["Geoenergi as","2010-12-06T16:33:41+01:00",120246,"Geoenergi as"]
["Ghilardi+Hellsten Arkitekter","2012-06-01T16:05:49+02:00",166732,"Ghilardi+Hellsten Arkitekter"]
["Gjøen, Arne","2012-06-01T16:05:49+02:00",166733,"Gjøen, Arne "]
["Gjørven AS, Arkitektkontoret Ingrid Ulving","2012-06-01T16:05:49+02:00",166734,"Gjørven AS, Arkitektkontoret Ingrid Ulving "]
["GK Norge AS","2012-12-28T15:04:00+01:00",245787,"GK Norge AS"]
["Glassbygg AS","2012-03-22T19:43:00+01:00",233807,"Glassbygg AS"]
["Glassfasade GF01: Skandinaviska Glassystem","2010-12-06T16:33:42+01:00",202823,"Glassfasade GF01: Skandinaviska Glassystem"]
["glava as","2010-12-06T16:33:41+01:00",155325,"glava as"]
["Gravbrøt siv.ark. MNAL, Pia Maria","2012-06-01T16:05:49+02:00",166735,"Gravbrøt siv.ark. MNAL, Pia Maria"]
["Graveentreprenør Geir Stuberg","2011-09-08T16:02:00+02:00",225761,"Graveentreprenør Geir Stuberg"]
["Greåker VVS AS","2010-12-06T16:33:41+01:00",103364,"Greåker VVS AS"]
["Grieg AS, Arkitektkontoret","2012-06-01T16:05:49+02:00",166736,"Grieg AS, Arkitektkontoret "]
["Grinde AS","2012-06-01T16:05:49+02:00",166737,"Grinde AS"]
["Grip og Zen Resort (miljøsertifisering)","2010-12-06T16:33:42+01:00",178591,"Grip og Zen Resort (miljøsertifisering)"]
["Gro Hovda sivilarkitekt mnal","2012-06-01T16:05:51+02:00",229124,"Gro Hovda sivilarkitekt mnal"]
["Grong kommune","2010-12-06T16:33:42+01:00",160603,"Grong kommune"]
["Grøner AS","2010-12-06T16:33:41+01:00",103250,"Grøner AS"]
["Grønmyr Barnehage","2011-03-08T14:26:00+01:00",218416,"Grønmyr Barnehage"]
["Grønmyr Bygg v/Ole Eliassen","2011-03-08T14:23:00+01:00",218412,"Grønmyr Bygg v/Ole Eliassen"]
["Grønn strek as","2012-10-11T17:50:00+02:00",242868,"Grønn strek as"]
["Gsella, Christian","2012-06-01T16:05:49+02:00",166738,"Gsella, Christian "]
["Gunnar Karlsen AS (automatisering)","2010-12-06T16:33:42+01:00",172629,"Gunnar Karlsen AS (automatisering)"]
["h. arkitektiner as","2012-06-01T16:05:50+02:00",171509,"h. arkitektiner as"]
["H2 Byggeteknikk AS","2013-02-04T19:24:58+01:00",231963,"H2 Byggeteknikk AS"]
["Haaland AS Siv.ark. MNAL, Arkitektkontoret","2012-06-01T16:05:50+02:00",172847,"Haaland AS Siv.ark. MNAL, Arkitektkontoret "]
["Haarklau og Lindeberg AS","2012-06-01T16:05:49+02:00",171141,"Haarklau og Lindeberg AS"]
["Haga og Grov AS, sivilarkitekter MNAL","2012-06-01T16:05:49+02:00",171073,"Haga og Grov AS, sivilarkitekter MNAL"]
["HAK, Holen Arkitektkontor","2013-02-26T14:48:00+01:00",171135,"HAK, Holen Arkitektkontor"]
["Haldde arkitekter AS","2012-10-10T12:46:00+02:00",242813,"Haldde arkitekter AS"]
["Halden Arkitektkontor AS","2012-06-01T16:05:50+02:00",172598,"Halden Arkitektkontor AS"]
["Halvorsen & Reine AS","2012-06-01T16:05:49+02:00",171075,"Halvorsen & Reine AS"]
["Halvorsen AS sivilarkitekt MNAL, Stein","2012-06-01T16:05:49+02:00",171076,"Halvorsen AS sivilarkitekt MNAL, Stein"]
["Halvorsen AS, Arkitektkontoret Konrad","2012-06-01T16:05:49+02:00",171074,"Halvorsen AS, Arkitektkontoret Konrad "]
["Hambra","2011-12-16T14:28:09+01:00",110466,"Hambra"]
["Hammer Rådgivning","2010-12-06T16:33:41+01:00",103260,"Hammer Rådgivning"]
["Hamre Arkitektkontor as, Stein","2012-06-01T16:05:49+02:00",171077,"Hamre Arkitektkontor as, Stein "]
["Hamstad AS (RIV)","2010-12-06T16:33:42+01:00",162916,"Hamstad AS (RIV)"]
["Handegård & Pedersen AS","2011-03-01T09:48:00+01:00",218047,"Handegård & Pedersen AS"]
["Hans Helgesen og sønner AS","2010-12-06T16:33:41+01:00",110764,"Hans Helgesen og sønner AS"]
["Hansaparken AS","2010-12-06T16:33:42+01:00",160606,"Hansaparken AS"]
["Hansen/Bjørndal Arkitekter AS","2012-06-01T16:05:49+02:00",171071,"Hansen/Bjørndal Arkitekter AS"]
["HAPTIC","2012-06-01T16:05:50+02:00",202235,"HAPTIC"]
["Harboe og Leganger","2010-12-06T16:33:42+01:00",165391,"Harboe og Leganger"]
["Harsem prosjektering AS","2010-12-06T16:33:41+01:00",112300,"Harsem prosjektering AS"]
["Hartmann Prosjektrådgiving AS","2012-07-09T12:08:00+02:00",240270,"Hartmann Prosjektrådgiving AS"]
["Hartmann Prosjektrådgivning AS","2013-01-30T21:16:00+01:00",246978,"Hartmann Prosjektrådgivning AS"]
["Haugedal, Arnar","2012-06-01T16:05:49+02:00",171079,"Haugedal, Arnar "]
["Haugen as, Arkitektkontoret Erling","2012-06-15T11:21:14+02:00",171080,"Haugen as, Arkitektkontoret Erling "]
["Haugen/ Zohar Arkitekter","2012-06-01T16:05:50+02:00",172684,"Haugen/ Zohar Arkitekter"]
["Hausberg siv.ark. MNAL, Egil J","2012-06-01T16:05:49+02:00",171081,"Hausberg siv.ark. MNAL, Egil J "]
["HBBL","2010-12-06T16:33:41+01:00",155837,"HBBL"]
["Heggelund og Koxvold AS Arkitekter MNAL","2012-06-01T16:05:49+02:00",171082,"Heggelund og Koxvold AS Arkitekter MNAL"]
["Heggenhougen Arkitekter AS","2012-06-01T16:05:49+02:00",171083,"Heggenhougen Arkitekter AS"]
["Heiberg & Tveter (RIE)","2010-12-06T16:33:42+01:00",178580,"Heiberg & Tveter (RIE)"]
["Heimdal Bolig","2012-07-09T11:54:00+02:00",240269,"Heimdal Bolig"]
["Heimdal Entreprenør AS","2010-12-06T16:33:42+01:00",164727,"Heimdal Entreprenør AS"]
["Heindenreich-Ris & Lillefjære A/S","2010-12-06T16:33:41+01:00",120139,"Heindenreich-Ris & Lillefjære A/S"]
["HE-Kjelleveien AS","2013-01-16T15:14:00+01:00",246267,"HE-Kjelleveien AS"]
["Helen & Hard AS","2010-12-06T16:33:42+01:00",192377,"Helen & Hard AS"]
["Helen & Hard AS","2012-06-01T16:05:51+02:00",229017,"Helen & Hard AS"]
["Helén Arkitekter AS, Bernt","2012-06-01T16:05:49+02:00",171084,"Helén Arkitekter AS, Bernt "]
["Helge Lunde","2010-12-06T16:33:42+01:00",204511,"Helge Lunde"]
["Helling Arkitekter Oslo AS, Lars","2012-06-01T16:05:49+02:00",171086,"Helling Arkitekter Oslo AS, Lars "]
["Helsebygg Midt-Norge","2012-10-21T20:04:00+02:00",243126,"Helsebygg Midt-Norge"]
["Hemato Eiendom","2012-10-09T16:48:00+02:00",242773,"Hemato Eiendom"]
["Henning Stokke","2010-12-06T16:33:42+01:00",162859,"Henning Stokke"]
["Henriksen Arkitekter AS, Arne","2012-06-01T16:05:50+02:00",172665,"Henriksen Arkitekter AS, Arne "]
["HENT AS","2010-12-06T16:33:42+01:00",157573,"HENT AS "]
["Hent AS (Knut Alstad)","2010-12-06T16:33:42+01:00",157568,"Hent AS (Knut Alstad)"]
["HENT AS (totalentreprenør)","2011-10-27T09:59:11+02:00",228147,"HENT AS (totalentreprenør)"]
["Hille Melbye Arkitekter AS","2012-06-01T16:05:49+02:00",171087,"Hille Melbye Arkitekter AS"]
["Hille Strandskogen AS arkitekter MNAL","2012-06-01T16:05:49+02:00",171088,"Hille Strandskogen AS arkitekter MNAL"]
["Hindhamar Landskapsarkitekter AS","2012-11-15T13:24:00+01:00",244003,"Hindhamar Landskapsarkitekter AS"]
["Hjelle Arkitekter AS, Harald","2012-06-01T16:05:49+02:00",171089,"Hjelle Arkitekter AS, Harald "]
["Hjellnes Consult AS","2012-06-06T01:14:00+02:00",225259,"Hjellnes Consult AS"]
["Hjelmeland Mur & Flis AS (mur og gulv)","2010-12-06T16:33:42+01:00",172954,"Hjelmeland Mur & Flis AS (mur og gulv)"]
["Hjeltnes AS, sivilarkitekter MNAL, Knut","2012-06-01T16:05:49+02:00",171090,"Hjeltnes AS, sivilarkitekter MNAL, Knut "]
["Hjorth Arkitekter","2013-03-21T15:13:00+01:00",249016,"Hjorth Arkitekter"]
["HLM arkitektur & plan A/S","2012-06-01T16:05:49+02:00",171092,"HLM arkitektur & plan A/S"]
["Hoff romstudio, Baard","2012-06-01T16:05:49+02:00",171094,"Hoff romstudio, Baard "]
["Hoffmann, Arne Arkitektene og Ib Omland Phd, sivilarkitekt mnal","2012-06-01T16:05:50+02:00",200496,"Hoffmann, Arne Arkitektene og Ib Omland Phd, sivilarkitekt mnal"]
["Hol Kirkelige Fellesråd","2012-12-17T11:52:00+01:00",245537,"Hol Kirkelige Fellesråd"]
["Holm & Grut Arkitekter MAA PAR","2012-06-01T16:05:49+02:00",171136,"Holm & Grut Arkitekter MAA PAR"]
["Holtefjell Entreprenør AS","2010-12-06T16:33:42+01:00",204306,"Holtefjell Entreprenør AS"]
["Holz Norge 100 (massivtreelementer)","2010-12-06T16:33:42+01:00",158133,"Holz Norge 100 (massivtreelementer)"]
["Hordaland Fylkeskommune Eigedomsseksjonen","2011-08-05T10:08:00+02:00",224141,"Hordaland Fylkeskommune Eigedomsseksjonen"]
["Horten kommune","2011-03-06T14:44:44+01:00",213267,"Horten kommune"]
["HR Prosjekt AS","2013-03-06T10:08:00+01:00",248373,"HR Prosjekt AS"]
["HRL Skien","2010-12-06T16:33:42+01:00",162892,"HRL Skien"]
["HRTB Arkitekter AS MNAL","2012-06-01T16:05:49+02:00",171072,"HRTB Arkitekter AS MNAL"]
["HS Vagle AS","2010-12-06T16:33:41+01:00",155840,"HS Vagle AS"]
["HSØ - Hagestande og Øvrehus Arkitektkontor AS","2011-11-03T12:20:37+01:00",171138,"HSØ - Hagestande og Øvrehus Arkitektkontor AS"]
["Hus AS, Arbeidsgruppen","2012-06-01T16:05:50+02:00",172584,"Hus AS, Arbeidsgruppen "]
["Huus og Heim Arkitektur","2012-06-01T16:05:00+02:00",172898,"Huus og Heim Arkitektur"]
["Hvoslef-Eide AS, Arkitektkontoret Didrik","2012-06-01T16:05:49+02:00",171140,"Hvoslef-Eide AS, Arkitektkontoret Didrik "]
["HWR arkitekter as","2012-06-01T16:05:49+02:00",171142,"HWR arkitekter as"]
["Hysj arkitekter AS","2012-06-01T16:05:51+02:00",210154,"Hysj arkitekter AS"]
["Häussler/H-produkter","2010-12-06T16:33:42+01:00",178213,"Häussler/H-produkter"]
["i NOR as (RIE)","2010-12-06T16:33:42+01:00",182981,"i NOR as (RIE)"]
["i2i.no as","2012-06-01T16:05:49+02:00",171148,"i2i.no as"]
["IBR el-prosjekt AS","2010-12-06T16:33:00+01:00",181046,"IBR el-prosjekt AS"]
["IDA arkitekter as","2012-06-01T16:05:51+02:00",232354,"IDA arkitekter as"]
["Ide Arkitekter","2012-06-01T16:05:49+02:00",171144,"Ide Arkitekter"]
["IdealBygg AS","2013-02-12T11:22:00+01:00",247502,"IdealBygg AS"]
["Iguzzini (lys)","2010-12-06T16:33:42+01:00",198981,"Iguzzini (lys)"]
["Ikke offentlig","2013-01-01T20:13:45+01:00",245832,"Ikke offentlig"]
["Ilje AS","2010-12-06T16:33:42+01:00",160572,"Ilje AS"]
["In`by AS","2010-12-06T16:33:42+01:00",160569,"In`by AS"]
["Indigo Arkitekter AS","2012-06-01T16:05:49+02:00",171146,"Indigo Arkitekter AS"]
["Ineo Eiendom & Base Property","2013-04-02T14:29:30+02:00",249381,"Ineo Eiendom & Base Property"]
["Ing. Evensen AS","2012-08-17T13:19:00+02:00",241091,"Ing. Evensen AS"]
["Ing. Jan Johannessen as","2010-12-06T16:33:41+01:00",155960,"Ing. Jan Johannessen as"]
["Ing. K. Simonsen A/S","2010-12-06T16:33:41+01:00",101080,"Ing. K. Simonsen A/S"]
["Ing. Per Ødemark","2010-12-06T16:33:41+01:00",110995,"Ing. Per Ødemark"]
["Ing. Seim & Hultgreen AS","2010-12-06T16:33:41+01:00",103278,"Ing. Seim & Hultgreen AS"]
["Ingar Ellefsrød, Erling Vermelid, Odd Skadsem, Steinar Wegger","2010-12-06T16:33:41+01:00",121096,"Ingar Ellefsrød, Erling Vermelid, Odd Skadsem, Steinar Wegger"]
["Ingenia AS","2012-12-19T16:53:00+01:00",214726,"Ingenia AS"]
["Ingeniør Petter Nome AS (RIV)","2010-12-06T16:33:42+01:00",209552,"Ingeniør Petter Nome AS (RIV)"]
["Ingvaldsen sivilarkitekt MNAL, Arne","2012-06-01T16:05:49+02:00",171147,"Ingvaldsen sivilarkitekt MNAL, Arne "]
["Instanes AS","2010-12-06T16:33:41+01:00",110753,"Instanes AS"]
["Interconsult ASA","2010-12-06T16:33:41+01:00",102852,"Interconsult ASA "]
["Interiørarkitekt MNIL Siri Obrestad Fuhr","2012-06-01T16:05:51+02:00",228971,"Interiørarkitekt MNIL Siri Obrestad Fuhr "]
["Ipark Eiendom AS","2012-12-28T14:55:00+01:00",245783,"Ipark Eiendom AS"]
["Isola","2010-12-06T16:33:42+01:00",178211,"Isola"]
["ISS Landscaping AS ved Stein Anders Sundbye","2010-12-06T16:33:41+01:00",121092,"ISS Landscaping AS ved Stein Anders Sundbye "]
["ISS O.Skaaret AS","2010-12-06T16:33:41+01:00",103188,"ISS O.Skaaret AS"]
["Istad Tekniske AS","2012-07-09T12:09:00+02:00",240271,"Istad Tekniske AS"]
["ITECH (EL, VVS)","2010-12-06T16:33:42+01:00",164238,"ITECH (EL, VVS)"]
["IversenPetch AS","2012-10-15T11:31:00+02:00",171487,"IversenPetch AS"]
["Jackon","2010-12-06T16:33:42+01:00",178212,"Jackon"]
["Jacobsen og Reiten Arkitektkontor AS","2012-06-01T16:05:49+02:00",171149,"Jacobsen og Reiten Arkitektkontor AS"]
["Jadarhus AS","2010-12-06T16:33:41+01:00",155835,"Jadarhus AS"]
["Jan Brataas Ecobas AS","2010-12-06T16:33:41+01:00",119775,"Jan Brataas Ecobas AS"]
["Jan Nilsen Robstad (VVS)","2010-12-06T16:33:42+01:00",158195,"Jan Nilsen Robstad (VVS)"]
["Jan Willy Førland (PTL)","2010-12-06T16:33:42+01:00",158201,"Jan Willy Førland (PTL)"]
["Jansen Arkitekter AS","2012-06-01T16:05:49+02:00",171150,"Jansen Arkitekter AS"]
["Jarmund Arkitekter as mnal, Kristin","2012-06-01T16:05:49+02:00",171152,"Jarmund Arkitekter as mnal, Kristin "]
["Jarmund/ Vigsnæs AS Arkitekter MNAL","2012-06-01T16:05:49+02:00",171151,"Jarmund/ Vigsnæs AS Arkitekter MNAL"]
["Jensen & Skodvin Arkitektkontor","2012-06-01T16:05:49+02:00",171154,"Jensen & Skodvin Arkitektkontor"]
["Jensen AS, Arkitektkontoret Kjell","2012-06-01T16:05:49+02:00",171153,"Jensen AS, Arkitektkontoret Kjell "]
["jm arkitektkontor","2012-06-01T16:05:49+02:00",171155,"jm arkitektkontor"]
["JM Byggholt AS","2011-01-13T16:45:02+01:00",215940,"JM Byggholt AS"]
["Jo Toftdal (byggmester)","2010-12-06T16:33:42+01:00",177643,"Jo Toftdal (byggmester)"]
["Joachim Eble architektur","2010-12-06T16:33:42+01:00",207495,"Joachim Eble architektur"]
["Johannes Lipphardt, Trondheim kommune","2012-02-03T12:56:00+01:00",232345,"Johannes Lipphardt, Trondheim kommune"]
["Johansen, Jonny sivilarkitekt MNAL","2012-06-01T16:05:50+02:00",200495,"Johansen, Jonny sivilarkitekt MNAL"]
["Johs E. Øvsthus AS","2011-12-12T09:04:00+01:00",230174,"Johs E. Øvsthus AS"]
["Jon Bojer Godal","2013-02-04T16:38:00+01:00",247287,"Jon Bojer Godal"]
["Jonsson Arkitektkontor, Gudmundur","2012-06-01T16:05:50+02:00",173253,"Jonsson Arkitektkontor, Gudmundur "]
["Jorunn Sannes (kunstner, fasade)","2010-12-06T16:33:42+01:00",202820,"Jorunn Sannes (kunstner, fasade)"]
["JST Arkitekter AS","2012-06-01T16:05:51+02:00",214510,"JST Arkitekter AS"]
["Jærbetong AS","2011-11-15T14:55:00+01:00",228972,"Jærbetong AS"]
["K. Lund / ORAS","2010-12-06T16:33:41+01:00",98982,"K. Lund / ORAS"]
["K16 AS, Arkitektkontoret","2012-06-01T16:05:50+02:00",171824,"K16 AS, Arkitektkontoret "]
["Kahrs Arkitekter AS, Paal J.","2012-06-01T16:05:50+02:00",171823,"Kahrs Arkitekter AS, Paal J."]
["Kai Paulsen (Skanska AS)","2010-12-06T16:33:42+01:00",160688,"Kai Paulsen (Skanska AS)"]
["Kanvas","2010-12-06T16:33:42+01:00",157879,"Kanvas"]
["Kanvas v/ Lisbet Andresen","2010-12-06T16:33:42+01:00",157878,"Kanvas v/ Lisbet Andresen"]
["Kap - kontor for arkitektur og plan","2012-06-01T16:05:50+02:00",171822,"Kap - kontor for arkitektur og plan"]
["Kapsel design as","2013-02-04T22:58:00+01:00",247308,"Kapsel design as"]
["Karl Kvalsund AS (RIE)","2010-12-06T16:33:42+01:00",205124,"Karl Kvalsund AS (RIE)"]
["Karl Sæbjørn Kjøllesdal","2010-12-06T16:33:42+01:00",160592,"Karl Sæbjørn Kjøllesdal"]
["Karsten T. Huitfeldt sivilarkitekt MNAL","2012-06-01T16:05:51+02:00",233829,"Karsten T. Huitfeldt sivilarkitekt MNAL"]
["Katarsis as","2012-06-01T16:05:50+02:00",172671,"Katarsis as"]
["KEO arkitekter AS","2012-06-01T16:05:00+02:00",171826,"KEO arkitekter AS"]
["Kester Bunyan Arkitektur as","2012-06-01T16:05:51+02:00",227234,"Kester Bunyan Arkitektur as"]
["KEY arkitekter as mnal","2012-06-01T16:05:51+02:00",215756,"KEY arkitekter as mnal"]
["Kibsgaard-Petersen AS","2012-06-01T16:05:51+02:00",229864,"Kibsgaard-Petersen AS"]
["Kilde Akustikk AS","2011-03-01T09:49:26+01:00",155178,"Kilde Akustikk AS "]
["KILDE akustikk as (RIAKU)","2011-01-03T13:21:54+01:00",215429,"KILDE akustikk as (RIAKU)"]
["Kile Stokholm Arkitekter AS","2012-06-01T16:05:50+02:00",171820,"Kile Stokholm Arkitekter AS"]
["KIMA arkitektur as","2013-04-12T15:39:00+02:00",171603,"KIMA arkitektur as"]
["Kjell Garshol AS, Bærum","2010-12-06T16:33:41+01:00",120019,"Kjell Garshol AS, Bærum"]
["Kjell Ludvigsen (RIB)","2010-12-06T16:33:42+01:00",209555,"Kjell Ludvigsen (RIB)"]
["Kjell Ludvigsen AS","2013-02-15T18:35:00+01:00",247748,"Kjell Ludvigsen AS"]
["Kjell Sævik as","2011-01-03T13:22:00+01:00",215430,"Kjell Sævik as"]
["Kjernehuset Arkitektkontor","2012-06-01T16:05:50+02:00",171819,"Kjernehuset Arkitektkontor"]
["Kleihues+Schuwerk Gesellschaft von Architekten mbH","2012-12-19T15:59:00+01:00",245623,"Kleihues+Schuwerk Gesellschaft von Architekten mbH"]
["Klepp installasjon AS","2010-12-06T16:33:42+01:00",163047,"Klepp installasjon AS"]
["Klepp installasjon AS","2010-12-06T16:33:42+01:00",165638,"Klepp installasjon AS"]
["Klepp kyrkjelege fellesråd","2011-11-15T14:37:00+01:00",228968,"Klepp kyrkjelege fellesråd"]
["Klepphus AS","2010-12-06T16:33:42+01:00",158052,"Klepphus AS"]
["Klimat Teknologi AB","2010-12-06T16:33:41+01:00",120058,"Klimat Teknologi AB"]
["Klimatak YIT (RIV, RIE)","2010-12-06T16:33:42+01:00",158194,"Klimatak YIT (RIV, RIE)"]
["KLP Eiendom","2010-12-06T16:33:42+01:00",208891,"KLP Eiendom"]
["KN Kjøita AS (Egil Andre Jore)","2010-12-06T16:33:42+01:00",158191,"KN Kjøita AS (Egil Andre Jore)"]
["Knudsen Arkitektkontor AS, Per","2012-06-01T16:05:50+02:00",171818,"Knudsen Arkitektkontor AS, Per "]
["Knudtsen AS, Arkitekthuset","2012-06-01T16:05:50+02:00",171816,"Knudtsen AS, Arkitekthuset "]
["Knut Skutle as","2010-12-06T16:33:41+01:00",112152,"Knut Skutle as"]
["Knut Skutle AS","2010-12-06T16:33:41+01:00",155124,"Knut Skutle AS"]
["Knut Skutle AS","2010-12-06T16:33:41+01:00",155180,"Knut Skutle AS"]
["Koda Arkitekter AS","2012-06-01T16:05:50+02:00",171813,"Koda Arkitekter AS"]
["Kolberg ventilasjon (RIV)","2010-12-06T16:33:42+01:00",214147,"Kolberg ventilasjon (RIV)"]
["Kolnes maskin","2010-12-06T16:33:42+01:00",163151,"Kolnes maskin"]
["Kolnes Maskin","2010-12-06T16:33:42+01:00",165636,"Kolnes Maskin"]
["Kolnes Maskin AS","2010-12-06T16:33:42+01:00",163048,"Kolnes Maskin AS"]
["Kongsvinger kommune og Hedmark fylkeskommune","2010-12-14T09:48:00+01:00",214729,"Kongsvinger kommune og Hedmark fylkeskommune"]
["Kon-sul AS","2012-06-01T16:05:50+02:00",171785,"Kon-sul AS"]
["Konsulentfirma","2012-02-03T11:30:54+01:00",232347,"Konsulentfirma"]
["Konsulentfirma","2012-02-03T11:31:14+01:00",232348,"Konsulentfirma"]
["Konsulentfirma","2012-02-03T12:49:24+01:00",232357,"Konsulentfirma"]
["Konsulentfirma","2013-02-12T11:16:45+01:00",247568,"Konsulentfirma"]
["Konsulentfirma","2013-02-12T11:25:56+01:00",247574,"Konsulentfirma"]
["Konsulentfirma","2013-02-12T11:28:26+01:00",247576,"Konsulentfirma"]
["Konsulentfirma","2013-02-12T13:13:56+01:00",247580,"Konsulentfirma"]
["Konsulentfirma","2013-02-12T13:14:12+01:00",247581,"Konsulentfirma"]
["Konsulentfirma","2013-03-06T10:05:28+01:00",248370,"Konsulentfirma"]
["Konsulentfirma","2013-04-02T13:55:00+02:00",249382,"Konsulentfirma"]
["Konsulentfirmaet i trondheim på kantstein","2011-03-06T14:46:34+01:00",212106,"Konsulentfirmaet i trondheim på kantstein"]
["Kosbergs Arkitektkontor AS","2012-06-01T16:05:50+02:00",171783,"Kosbergs Arkitektkontor AS"]
["Kraft arkitektkontor as","2012-06-01T16:05:50+02:00",171782,"Kraft arkitektkontor as"]
["Krisesenteret i Telemark","2011-02-07T15:01:00+01:00",217042,"Krisesenteret i Telemark"]
["Kristian Fadum AS","2010-12-06T16:33:41+01:00",112307,"Kristian Fadum AS"]
["Kristiansand kommune","2010-12-06T16:33:42+01:00",157560,"Kristiansand kommune"]
["Kristiansand kommune","2010-12-06T16:33:42+01:00",157561,"Kristiansand kommune"]
["Kristiansand kommune v/Kristiansand Eiendom","2013-02-13T10:31:20+01:00",216994,"Kristiansand kommune v/Kristiansand Eiendom"]
["Kristiansen & Bernhardt Arkitekter MNAL NPA, AS","2012-06-01T16:05:50+02:00",171825,"Kristiansen & Bernhardt Arkitekter MNAL NPA, AS "]
["Kristiansen & Selmer - Olsen AS","2012-06-01T16:05:50+02:00",173040,"Kristiansen & Selmer - Olsen AS"]
["Kritt Arkitekter AS","2012-06-01T16:05:50+02:00",171781,"Kritt Arkitekter AS"]
["Krogness Arkitekt MNAL, Ole A.","2012-06-01T16:05:50+02:00",171780,"Krogness Arkitekt MNAL, Ole A. "]
["Kronen AS sivilarkitekt MNAL, Bente","2012-06-01T16:05:50+02:00",172648,"Kronen AS sivilarkitekt MNAL, Bente "]
["KRS-gruppen","2010-12-06T16:33:41+01:00",103160,"KRS-gruppen"]
["Kruse Smith (Arvid Fredriksen)","2010-12-06T16:33:42+01:00",158200,"Kruse Smith (Arvid Fredriksen)"]
["Kruse Smith (Hans Ragnar Uthus)","2010-12-06T16:33:41+01:00",155932,"Kruse Smith (Hans Ragnar Uthus)"]
["Kruse Smith Entreprenør AS","2011-08-04T10:56:01+02:00",155929,"Kruse Smith Entreprenør AS"]
["Kry sivilarkitekt mnal, Geir Cock","2012-06-01T16:05:50+02:00",171779,"Kry sivilarkitekt mnal, Geir Cock"]
["Kuben Arkitektkontor","2012-11-01T09:27:00+01:00",243552,"Kuben Arkitektkontor"]
["Kvadrat as, Arkitektkontoret","2012-06-01T16:05:50+02:00",171778,"Kvadrat as, Arkitektkontoret "]
["Kvalvik & Kaada Arkitekter AS","2012-06-01T16:05:51+02:00",216490,"Kvalvik & Kaada Arkitekter AS"]
["Kvam og Skjønsberg AS sivilarkitekter MNAL","2012-06-01T16:05:50+02:00",171777,"Kvam og Skjønsberg AS sivilarkitekter MNAL"]
["Kvartal 19 Arkitektkontor AS","2012-06-01T16:05:51+02:00",215574,"Kvartal 19 Arkitektkontor AS"]
["KVARTS arkitekter as","2013-04-04T12:32:00+02:00",249528,"KVARTS arkitekter as"]
["Kvernaas Arkitekter A/S","2012-06-01T16:05:50+02:00",171773,"Kvernaas Arkitekter A/S"]
["L.O.F. Arkitekter MNAL AS","2012-06-01T16:05:50+02:00",171724,"L.O.F. Arkitekter MNAL AS"]
["L2 Arkitekter AS","2012-06-01T16:05:50+02:00",171719,"L2 Arkitekter AS"]
["landsbyarkitektene as","2012-06-01T16:05:50+02:00",171734,"landsbyarkitektene as"]
["Landskapsentreprenørene AS","2010-12-17T08:58:00+01:00",214836,"Landskapsentreprenørene AS"]
["Landskapsfabrikken","2012-11-11T23:52:00+01:00",243880,"Landskapsfabrikken"]
["Lars Myhre AS","2012-11-11T20:21:00+01:00",243866,"Lars Myhre AS"]
["Lars Myhre Østfold AS (RIV)","2010-12-22T10:51:00+01:00",215015,"Lars Myhre Østfold AS (RIV)"]
["Lars og Marit Nilssen","2010-12-06T16:33:42+01:00",160593,"Lars og Marit Nilssen"]
["Larsen Entreprenør AS","2010-12-06T16:33:42+01:00",178588,"Larsen Entreprenør AS"]
["Larsson A/S, K.E.","2012-06-01T16:05:50+02:00",171733,"Larsson A/S, K.E. "]
["Lead inc. as","2012-06-01T16:05:50+02:00",172586,"Lead inc. as"]
["Lerche Arkitekter AS","2012-06-01T16:05:50+02:00",171732,"Lerche Arkitekter AS"]
["Lerum Inc.","2012-06-01T16:05:50+02:00",171731,"Lerum Inc."]
["Lervike AS","2013-02-04T16:39:00+01:00",247289,"Lervike AS"]
["LH Bygg Berkåk og Stjern Entreprenør AS Åfjord (Kysthus)","2011-12-09T10:09:00+01:00",230108,"LH Bygg Berkåk og Stjern Entreprenør AS Åfjord (Kysthus)"]
["Lian AS","2010-12-06T16:33:42+01:00",202456,"Lian AS"]
["Lie Øyen arkitekter","2012-06-01T16:05:50+02:00",171730,"Lie Øyen arkitekter"]
["lille frøen as, Arkitektgruppen","2012-06-01T16:05:49+02:00",166500,"lille frøen as, Arkitektgruppen"]
["Lillestrøm Arkitektkontor AS","2012-06-01T16:05:50+02:00",172661,"Lillestrøm Arkitektkontor AS"]
["Linberg & Simmons","2012-06-01T16:05:50+02:00",171729,"Linberg & Simmons"]
["Lindstrøm, Sivilarkitekt Inga","2012-06-01T16:05:50+02:00",171728,"Lindstrøm, Sivilarkitekt Inga "]
["Linje arkitektur as","2012-06-01T16:05:00+02:00",171727,"Linje arkitektur as"]
["Link Arkitektur AS","2012-06-01T16:05:50+02:00",171726,"Link Arkitektur AS"]
["Link Signatur","2012-06-01T16:05:51+02:00",230069,"Link Signatur"]
["Liten Skala AS","2012-08-29T14:13:56+02:00",241582,"Liten Skala AS"]
["LMR arkitektur as","2012-06-01T16:05:50+02:00",171725,"LMR arkitektur as"]
["Logg arkitektur as","2012-06-01T16:05:50+02:00",171723,"Logg arkitektur as"]
["Longva Arkitekter AS","2012-06-01T16:05:50+02:00",171722,"Longva Arkitekter AS"]
["Lorentz Kielland arkitekter as","2012-06-01T16:05:51+02:00",202237,"Lorentz Kielland arkitekter as"]
["Lou","2012-06-01T16:05:50+02:00",171721,"Lou"]
["LPO arkitekter","2012-06-01T16:05:50+02:00",171720,"LPO arkitekter"]
["Lund & partnere","2012-06-01T16:05:50+02:00",171718,"Lund & partnere"]
["Lund & Slaatto Arkitekter AS","2012-06-01T16:05:50+02:00",171713,"Lund & Slaatto Arkitekter AS"]
["Lund A/S, Sivilarkitekt E. Broder","2012-06-01T16:05:50+02:00",171717,"Lund A/S, Sivilarkitekt E. Broder "]
["Lund Hagem Arkitekter AS","2012-06-01T16:05:50+02:00",171715,"Lund Hagem Arkitekter AS"]
["Lund MNAL, Sivilarkitekt Svein Erik","2012-06-01T16:05:50+02:00",171716,"Lund MNAL, Sivilarkitekt Svein Erik "]
["Lundenes as/ AS Anlegg","2010-12-06T16:33:41+01:00",103472,"Lundenes as/ AS Anlegg"]
["Lund-Johnsen sivilarkitekt MNAL, Roar","2012-06-01T16:05:50+02:00",171714,"Lund-Johnsen sivilarkitekt MNAL, Roar "]
["Lusparken Arkitekter AS","2012-06-01T16:05:50+02:00",171712,"Lusparken Arkitekter AS"]
["Lux Brannteknologi AS","2012-11-05T14:33:00+01:00",243668,"Lux Brannteknologi AS"]
["Ly Arkitekter AS","2012-06-01T16:05:50+02:00",171711,"Ly Arkitekter AS"]
["Lys og Mørk arkitektur og design","2012-06-01T16:05:50+02:00",171710,"Lys og Mørk arkitektur og design"]
["Lys og Varme AS","2013-01-22T19:06:00+01:00",246739,"Lys og Varme AS"]
["Lyse AS (energi)","2010-12-06T16:33:42+01:00",162882,"Lyse AS (energi)"]
["Løvetanna Landskap AS","2012-06-01T16:05:51+02:00",231819,"Løvetanna Landskap AS"]
["Løvik K A A/S","2010-12-06T16:33:42+01:00",157871,"Løvik K A A/S"]
["Løvold AS","2010-12-06T16:33:41+01:00",121071,"Løvold AS"]
["Løvseth + partners","2012-06-01T16:05:51+02:00",219318,"Løvseth + partners"]
["Løvseth arkitektkontor as, Morten","2012-06-01T16:05:50+02:00",171709,"Løvseth arkitektkontor as, Morten "]
["Løyning AS","2010-12-06T16:33:41+01:00",103327,"Løyning AS"]
["Mad as","2012-06-01T16:05:50+02:00",171704,"Mad as"]
["Madsø Sveen arkitekter AS","2012-06-01T16:05:50+02:00",172655,"Madsø Sveen arkitekter AS"]
["Magnus, Arkitektfirma Jens","2012-06-01T16:05:50+02:00",171703,"Magnus, Arkitektfirma Jens "]
["Make Arkitekter AS","2012-06-01T16:05:50+02:00",171702,"Make Arkitekter AS"]
["Malde mnal, Sivilarkitekt Paal","2012-06-01T16:05:50+02:00",185841,"Malde mnal, Sivilarkitekt Paal "]
["Malermester Per Johannesen AS","2010-12-06T16:33:42+01:00",157875,"Malermester Per Johannesen AS"]
["Malmquist sivilarkitekt MNAL MArch, E.B.","2012-06-01T16:05:50+02:00",171701,"Malmquist sivilarkitekt MNAL MArch, E.B. "]
["Malnes og Endresen AS","2011-11-08T14:34:00+01:00",228643,"Malnes og Endresen AS"]
["Malvin L. Hillestad","2010-12-06T16:33:42+01:00",192375,"Malvin L. Hillestad"]
["Mandrup Arkitektur & Design as","2012-06-01T16:05:50+02:00",171700,"Mandrup Arkitektur & Design as"]
["Map Arkitekter AS","2012-06-01T16:05:50+02:00",171699,"Map Arkitekter AS"]
["Marianne Laa","2012-12-17T11:58:00+01:00",245540,"Marianne Laa"]
["Marianne og Kim Rudolph-Lund","2010-12-06T16:33:42+01:00",207411,"Marianne og Kim Rudolph-Lund"]
["Marlow - Ramfelt A38 arkitektur og design as","2012-06-01T16:05:50+02:00",181036,"Marlow - Ramfelt A38 arkitektur og design as"]
["Martens Sivilarkitekt, Trond","2012-06-01T16:05:50+02:00",172881,"Martens Sivilarkitekt, Trond"]
["Martinsons Tre AB","2010-12-06T16:33:42+01:00",178156,"Martinsons Tre AB"]
["Martinsons Tre AS","2012-02-03T11:34:00+01:00",232349,"Martinsons Tre AS"]
["Martinsons Tre AS (rådgivn. massivtre)","2011-10-27T09:55:00+02:00",228145,"Martinsons Tre AS (rådgivn. massivtre)"]
["Materialbanken AS (Malmfuru)","2010-12-06T16:33:42+01:00",162874,"Materialbanken AS (Malmfuru)"]
["Maurstadgruppen","2010-12-06T16:33:42+01:00",182978,"Maurstadgruppen"]
["May Bente Aronsen (kunstner, lobby)","2010-12-06T16:33:42+01:00",203158,"May Bente Aronsen (kunstner, lobby)"]
["Medplan as Arkitekter","2012-06-01T16:05:50+02:00",171697,"Medplan as Arkitekter"]
["Meinich Arkitekter AS","2012-06-01T16:05:50+02:00",178890,"Meinich Arkitekter AS"]
["MEK Architects (Madrid)","2012-10-21T15:13:00+02:00",243120,"MEK Architects (Madrid)"]
["Mellbye Arkitekter AS","2012-06-01T16:05:50+02:00",171695,"Mellbye Arkitekter AS"]
["Mercur VVS Entreprenør AS","2010-12-06T16:33:41+01:00",110475,"Mercur VVS Entreprenør AS"]
["Mesterbygg Namsos","2012-06-12T11:58:00+02:00",236724,"Mesterbygg Namsos"]
["Mesterhus","2010-12-06T16:33:42+01:00",204956,"Mesterhus"]
["Mesterhus","2010-12-06T16:33:42+01:00",204957,"Mesterhus"]
["Metamorphosis","2012-06-01T16:05:51+02:00",205444,"Metamorphosis"]
["Meteorologisk institutt","2010-12-06T16:33:00+01:00",181037,"Meteorologisk institutt"]
["Meter Arkitektur AS","2012-06-01T16:05:50+02:00",171694,"Meter Arkitektur AS"]
["Metropolitan Workshop LLP","2012-06-01T16:05:50+02:00",171692,"Metropolitan Workshop LLP"]
["Michael Blümlein AS (RIBr)","2010-12-22T10:50:00+01:00",215013,"Michael Blümlein AS (RIBr)"]
["Miljøbyen Granås AS","2013-01-28T12:46:00+01:00",246977,"Miljøbyen Granås AS"]
["Miljøconsult AS","2013-02-04T19:25:00+01:00",247297,"Miljøconsult AS"]
["Miljøforskningssenteret ANS","2010-12-06T16:33:42+01:00",160588,"Miljøforskningssenteret ANS"]
["Minera Norge AS (skifer)","2010-12-06T16:33:41+01:00",155751,"Minera Norge AS (skifer)"]
["Mir Arkitektur AS","2012-06-01T16:05:50+02:00",171691,"Mir Arkitektur AS"]
["MMW sivilarkitekter mnal as","2012-06-01T16:05:50+02:00",171690,"MMW sivilarkitekter mnal as"]
["Modalsli Prosjektering","2010-12-06T16:33:00+01:00",162870,"Modalsli Prosjektering"]
["Moe & Løvseth AS","2012-06-01T16:05:50+02:00",171602,"Moe & Løvseth AS"]
["Moe Ltd, Sjur","2012-06-01T16:05:50+02:00",173043,"Moe Ltd, Sjur "]
["Moelven Elektro AS (RIE)","2010-12-06T16:33:42+01:00",214149,"Moelven Elektro AS (RIE)"]
["Moelven limtre","2010-12-06T16:33:42+01:00",162861,"Moelven limtre "]
["Moelven massivtre (dekker, veggelementer)","2010-12-06T16:33:42+01:00",162862,"Moelven massivtre (dekker, veggelementer)"]
["Molden AS, Mette & Morten","2012-06-01T16:05:50+02:00",171689,"Molden AS, Mette & Morten "]
["Momenta arkitekter","2012-06-01T16:05:50+02:00",171688,"Momenta arkitekter"]
["Momentum Arkitekter AS","2012-06-01T16:05:50+02:00",186182,"Momentum Arkitekter AS"]
["Morfeus Arkitekter","2012-06-01T16:05:50+02:00",172296,"Morfeus Arkitekter"]
["Morten Hagen","2010-12-06T16:33:41+01:00",110658,"Morten Hagen"]
["moseng poulsen arkitektur as","2012-06-01T16:05:50+02:00",192072,"moseng poulsen arkitektur as"]
["Mossemøllene eiendom","2011-08-02T09:54:00+02:00",224058,"Mossemøllene eiendom"]
["Mossige AS arkitekter","2012-06-01T16:05:50+02:00",171686,"Mossige AS arkitekter"]
["M-TO sivilarkitekt MNAL","2012-06-01T16:05:50+02:00",171685,"M-TO sivilarkitekt MNAL"]
["Multiconsult","2010-12-06T16:33:00+01:00",97927,"Multiconsult"]
["Multiteknikk AS","2010-12-06T16:33:00+01:00",155701,"Multiteknikk AS"]
["Murermester Tore Sjømæling","2011-09-08T16:02:00+02:00",225762,"Murermester Tore Sjømæling"]
["Murmester Aksel Hansen","2010-12-06T16:33:42+01:00",157873,"Murmester Aksel Hansen"]
["Murmester Rolf Holm as","2010-12-06T16:33:41+01:00",112153,"Murmester Rolf Holm as"]
["Myhrerenga BRL","2010-12-06T16:33:42+01:00",191299,"Myhrerenga BRL"]
["Myklebust AS","2012-10-18T15:06:00+02:00",178927,"Myklebust AS"]
["Mylius Arkitektkontor, E.","2012-06-01T16:05:50+02:00",178657,"Mylius Arkitektkontor, E. "]
["Myrstad AS, Arkitekt Jim","2012-06-01T16:05:50+02:00",171683,"Myrstad AS, Arkitekt Jim "]
["Myrvold Utemiljø","2010-12-06T16:33:42+01:00",178583,"Myrvold Utemiljø"]
["Møller, Arkitektfirmaet C.F.","2012-06-01T16:05:50+02:00",171681,"Møller, Arkitektfirmaet C.F. "]
["Møre og Romsdal fylkeskommune","2013-02-04T16:36:00+01:00",247286,"Møre og Romsdal fylkeskommune"]
["Møystad + Nielsen Arkitektur AS","2012-06-01T16:05:50+02:00",171680,"Møystad + Nielsen Arkitektur AS"]
["Narud-Stokke-Wiig sivilarkitekter as","2012-06-01T16:05:50+02:00",171508,"Narud-Stokke-Wiig sivilarkitekter as"]
["Nataas, Gisle","2012-06-01T16:05:50+02:00",171507,"Nataas, Gisle "]
["National Elektro AS","2010-12-06T16:33:41+01:00",110479,"National Elektro AS"]
["Naturbygg AS","2010-12-06T16:33:41+01:00",103262,"Naturbygg AS"]
["NAV A.S. Arkitekter MNAL NPA","2012-06-01T16:05:50+02:00",171506,"NAV A.S. Arkitekter MNAL NPA"]
["NCC Construction AS","2010-12-06T16:33:41+01:00",97922,"NCC Construction AS"]
["NCC Construction AS","2010-12-06T16:33:42+01:00",165388,"NCC Construction AS"]
["NCC Property Development","2010-12-06T16:33:42+01:00",207445,"NCC Property Development"]
["Neas Consulting","2012-06-06T10:50:25+02:00",178155,"Neas Consulting"]
["Nedig AS","2010-12-06T16:33:41+01:00",103150,"Nedig AS"]
["Nedre Buskerud Boligbyggelag (NBBO)","2010-12-06T16:33:42+01:00",207456,"Nedre Buskerud Boligbyggelag (NBBO)"]
["Nes Arkitekter, Leiv","2012-06-01T16:05:50+02:00",172651,"Nes Arkitekter, Leiv "]
["Nesodden Arkitektkontor AS","2012-06-01T16:05:50+02:00",172656,"Nesodden Arkitektkontor AS"]
["Nesodden kommune","2010-12-06T16:33:42+01:00",160571,"Nesodden kommune"]
["Nexi Bygg as","2010-12-06T16:33:41+01:00",94533,"Nexi Bygg as"]
["Nils Ivar Bovim","2010-12-06T16:33:42+01:00",193869,"Nils Ivar Bovim"]
["NODE rådgivende ing.AS","2010-12-06T16:33:42+01:00",166297,"NODE rådgivende ing.AS"]
["NODE rådgivende ingeniører as (RIB)","2011-01-03T13:13:00+01:00",215424,"NODE rådgivende ingeniører as (RIB)"]
["Noncon:form (Østerrike)","2013-01-02T18:51:00+01:00",245866,"Noncon:form (Østerrike)"]
["Norconsult AS","2010-12-06T16:33:00+01:00",103147,"Norconsult AS"]
["Norconsult AS","2013-02-04T19:22:00+01:00",247295,"Norconsult AS"]
["Nord AS, Arkitektkontoret","2012-06-01T16:05:50+02:00",171505,"Nord AS, Arkitektkontoret "]
["NorDan AS (dører, vinduer, glassfasade)","2010-12-06T16:33:42+01:00",172953,"NorDan AS (dører, vinduer, glassfasade)"]
["Nordberg As, Sissel","2012-06-01T16:05:50+02:00",172680,"Nordberg As, Sissel "]
["Nordbohus AS v/ ingeniør Randi Nåvik","2010-12-06T16:33:41+01:00",111983,"Nordbohus AS v/ ingeniør Randi Nåvik "]
["Nordesign","2012-02-03T11:37:00+01:00",232352,"Nordesign"]
["Nordic - Office of Architecture","2013-01-29T13:14:00+01:00",172792,"Nordic - Office of Architecture"]
["Nordland Fylkeskommune","2011-07-04T13:41:00+02:00",223331,"Nordland Fylkeskommune"]
["Nordplan AS","2012-06-01T16:05:50+02:00",171504,"Nordplan AS"]
["Nordvest Prosjekt AS","2012-06-01T16:05:50+02:00",171501,"Nordvest Prosjekt AS"]
["Norelement (PREFAB)","2010-12-06T16:33:42+01:00",158234,"Norelement (PREFAB)"]
["Norelement Dag Kerlefsen (PREFAB)","2010-12-06T16:33:42+01:00",158196,"Norelement Dag Kerlefsen (PREFAB)"]
["Norgeshus","2013-01-16T20:05:00+01:00",246279,"Norgeshus"]
["Norgeshus AS","2013-01-18T12:59:00+01:00",246401,"Norgeshus AS"]
["Norsas","2010-12-06T16:33:42+01:00",184491,"Norsas"]
["Norsk brannvernforening","2013-02-04T23:02:00+01:00",247312,"Norsk brannvernforening"]
["Norsk institutt for naturforskning (NINA)","2013-01-27T11:44:00+01:00",246946,"Norsk institutt for naturforskning (NINA)"]
["Norsk Massivtre AS","2010-12-06T16:33:42+01:00",177615,"Norsk Massivtre AS"]
["Norsk Oljemuseum","2010-12-06T16:33:42+01:00",192372,"Norsk Oljemuseum"]
["Noveta AS","2010-12-06T16:33:42+01:00",202451,"Noveta AS "]
["NTNU","2010-12-06T16:33:00+01:00",178928,"NTNU"]
["Nuno arkitektur AS","2012-06-01T16:05:49+02:00",166535,"Nuno arkitektur AS"]
["Nydesign AS","2012-06-01T16:05:51+02:00",207042,"Nydesign AS"]
["Nygaard AS","2010-12-06T16:33:42+01:00",192282,"Nygaard AS"]
["Nyland byggeadministrasjon AS","2012-12-28T14:56:00+01:00",245784,"Nyland byggeadministrasjon AS"]
["OBAS","2010-12-06T16:33:42+01:00",204487,"OBAS"]
["OBOS nye hjem","2010-12-06T16:33:42+01:00",160585,"OBOS nye hjem"]
["OBOS Nye Hjem","2010-12-06T16:33:42+01:00",204958,"OBOS Nye Hjem"]
["OEC Consulting AS","2010-12-07T12:27:00+01:00",214495,"OEC Consulting AS"]
["OFE AS","2010-12-06T16:33:41+01:00",101079,"OFE AS"]
["Og Arkitekter as","2012-06-01T16:05:49+02:00",166671,"Og Arkitekter as"]
["OHC arkitektur & design as","2012-06-01T16:05:50+02:00",172686,"OHC arkitektur & design as"]
["OK arkitekter","2012-06-01T16:05:50+02:00",171500,"OK arkitekter"]
["OKK Entreprenør AS","2010-12-06T16:33:42+01:00",214156,"OKK Entreprenør AS"]
["Olaussen AS","2011-03-06T14:46:51+01:00",213832,"Olaussen AS"]
["Olav Olsen","2010-12-06T16:33:41+01:00",120134,"Olav Olsen "]
["Ole Jørgen Furdal, Sveio kommune","2010-12-06T16:33:42+01:00",172749,"Ole Jørgen Furdal, Sveio kommune"]
["Ole K. Karlsen Entreprenør AS","2010-12-06T16:33:41+01:00",103185,"Ole K. Karlsen Entreprenør AS"]
["Ole Sivertsen AS","2012-12-10T11:32:05+01:00",244639,"Ole Sivertsen AS"]
["Oleivsgard Byggconsult AS","2013-02-04T22:11:00+01:00",247302,"Oleivsgard Byggconsult AS"]
["Olset AS","2010-12-06T16:33:41+01:00",103002,"Olset AS"]
["Omsorgsbygg Oslo KF","2010-12-22T11:01:00+01:00",215026,"Omsorgsbygg Oslo KF"]
["ONIX (nederland)","2013-01-02T17:29:00+01:00",245863,"ONIX (nederland)"]
["OPAK AS","2010-12-06T16:33:00+01:00",178578,"OPAK AS"]
["Oppland bygg ans","2013-02-04T22:58:00+01:00",247309,"Oppland bygg ans"]
["Oppland fylkeskommune","2013-02-04T22:57:00+01:00",247307,"Oppland fylkeskommune"]
["Opticonsult as","2010-12-06T16:33:41+01:00",155959,"Opticonsult as"]
["Opticonsult Førde (EL)","2010-12-06T16:33:41+01:00",136170,"Opticonsult Førde (EL)"]
["Optimo Prosjekt AS","2012-06-06T10:30:08+02:00",223602,"Optimo Prosjekt AS"]
["Opus Arkitekter as","2012-06-01T16:05:50+02:00",171499,"Opus Arkitekter as"]
["ORAS Agder AS","2010-12-06T16:33:41+01:00",103149,"ORAS Agder AS"]
["Oras AS","2013-03-06T10:07:24+01:00",248371,"Oras AS"]
["Oras as (RIV)","2010-12-06T16:33:42+01:00",214148,"Oras as (RIV)"]
["Oras AS (VVS)","2010-12-06T16:33:42+01:00",165637,"Oras AS (VVS)"]
["Oras AS (VVS)","2010-12-06T16:33:42+01:00",163045,"Oras AS (VVS) "]
["Oras buskerud","2010-12-06T16:33:41+01:00",119896,"Oras buskerud "]
["Oras Trondheim as","2010-12-06T16:33:42+01:00",164721,"Oras Trondheim as"]
["Origo arkitektgruppe as","2012-06-01T16:05:50+02:00",171498,"Origo arkitektgruppe as"]
["Origo AS (VVA)","2010-12-06T16:33:41+01:00",155700,"Origo AS (VVA)"]
["Orkdal kommune","2013-01-23T17:38:00+01:00",246803,"Orkdal kommune"]
["Oslo Byggentreprenør AS","2013-01-25T17:01:00+01:00",246926,"Oslo Byggentreprenør AS"]
["Oslo kommune","2010-12-06T16:33:42+01:00",160568,"Oslo kommune"]
["Oslo Kommune ved Vann- og avløpsetaten og Friluftsetaten","2010-12-06T16:33:42+01:00",162435,"Oslo Kommune ved Vann- og avløpsetaten og Friluftsetaten"]
["Oslo kommune, Bydel Alna","2011-03-06T15:42:11+01:00",214717,"Oslo kommune, Bydel Alna"]
["Oslo kommune, Bydel Stovner","2011-03-06T15:41:23+01:00",214749,"Oslo kommune, Bydel Stovner"]
["Oslo kommune, Bydel Stovner","2011-03-06T15:41:05+01:00",214750,"Oslo kommune, Bydel Stovner"]
["Oslo kommune, Friluftsetaten","2010-12-06T16:33:42+01:00",160595,"Oslo kommune, Friluftsetaten"]
["Oslo kommune, Friluftsetaten og Bydel Alna","2011-03-06T15:41:40+01:00",214740,"Oslo kommune, Friluftsetaten og Bydel Alna"]
["Oslo kommune, idrettsetaten","2011-03-11T14:50:00+01:00",218624,"Oslo kommune, idrettsetaten"]
["Oslo Kommune, Kulturbyggene i Bjørvika","2011-02-11T16:26:00+01:00",217291,"Oslo Kommune, Kulturbyggene i Bjørvika"]
["Oslo kommune, Utdanningsetaten","2011-02-16T15:16:00+01:00",217493,"Oslo kommune, Utdanningsetaten"]
["Oslo Prosjektadministrasjon AS v/Terje Inglingstad","2010-12-06T16:33:42+01:00",214154,"Oslo Prosjektadministrasjon AS v/Terje Inglingstad"]
["Oslo S Utvikling AS","2011-03-03T13:19:00+01:00",218166,"Oslo S Utvikling AS"]
["Oslo Vei AS","2010-12-06T16:33:42+01:00",172255,"Oslo Vei AS"]
["Otium AS","2010-12-06T16:33:42+01:00",158042,"Otium AS"]
["Ottar arkitekter as","2012-06-01T16:05:50+02:00",171497,"Ottar arkitekter as"]
["Overhalla kommune","2012-06-12T11:54:00+02:00",236723,"Overhalla kommune"]
["P. A. Holst sivilarkitekt mnal","2012-06-01T16:05:51+02:00",210155,"P. A. Holst sivilarkitekt mnal"]
["Panark AS","2012-06-01T16:05:50+02:00",171490,"Panark AS"]
["Papirbredden Eiendom AS","2010-12-06T16:33:00+01:00",207270,"Papirbredden Eiendom AS"]
["Pascal Rådgivning AS","2010-12-06T16:33:42+01:00",192376,"Pascal Rådgivning AS"]
["Passivhus Norge a/s","2010-12-06T16:33:41+01:00",111941,"Passivhus Norge a/s"]
["Pedersen arkitekter as, Kyrre","2012-06-01T16:05:50+02:00",171489,"Pedersen arkitekter as, Kyrre "]
["Pedersen/ Ege Arkitekter AS","2012-06-01T16:05:50+02:00",173039,"Pedersen/ Ege Arkitekter AS"]
["Peggy Brilke","2012-12-10T11:30:00+01:00",244637,"Peggy Brilke"]
["Per Arne Hestetun og Anne Grete Gruben","2010-12-06T16:33:42+01:00",160590,"Per Arne Hestetun og Anne Grete Gruben"]
["Per Rasmussen AS, Bærum","2010-12-06T16:33:41+01:00",120020,"Per Rasmussen AS, Bærum "]
["Perspektiv Arkitekter AS","2012-06-01T16:05:50+02:00",171488,"Perspektiv Arkitekter AS"]
["Pettersen & Partners - Hospital Planning and Design","2012-06-01T16:05:49+02:00",171486,"Pettersen & Partners - Hospital Planning and Design"]
["Pilestredet Park Boligutbygging ANS","2010-12-06T16:33:42+01:00",164812,"Pilestredet Park Boligutbygging ANS"]
["Pir II AS","2012-06-01T16:05:49+02:00",171485,"Pir II AS"]
["Pir II AS","2013-02-18T14:51:00+01:00",247808,"Pir II AS"]
["Pir II Oslo AS","2012-06-01T16:05:51+02:00",233236,"Pir II Oslo AS"]
["PirII i samarbeid med Studenter ved Högskolan för Design och Konsthandtverk i Göteborg (SUB lugarer)","2012-06-01T16:05:51+02:00",230105,"PirII i samarbeid med Studenter ved Högskolan för Design och Konsthandtverk i Göteborg (SUB lugarer)"]
["pka Arkitekter","2012-06-01T16:05:51+02:00",232085,"pka Arkitekter"]
["Plan arkitekter AS","2012-06-01T16:05:49+02:00",171483,"Plan arkitekter AS"]
["PlanA AS","2012-06-01T16:05:49+02:00",171484,"PlanA AS"]
["Plan-AE","2012-06-01T16:05:49+02:00",171482,"Plan-AE"]
["Planforum Arkitekter AS","2012-06-01T16:05:49+02:00",171481,"Planforum Arkitekter AS"]
["Plank arkitekter AS","2012-06-01T16:05:49+02:00",171480,"Plank arkitekter AS"]
["Planteknikk AS","2012-08-17T13:19:00+02:00",241090,"Planteknikk AS"]
["Plot arkitekter as","2012-06-01T16:05:51+02:00",230009,"Plot arkitekter as"]
["Plus arkitektur AS","2012-06-01T16:05:50+02:00",182236,"Plus arkitektur AS"]
["PML Arkitektur, sivilarkitekt Per Martin Landfald MNAL","2012-06-01T16:05:49+02:00",171479,"PML Arkitektur, sivilarkitekt Per Martin Landfald MNAL"]
["Point AS arkitektur+konseptdesign","2012-06-01T16:05:49+02:00",171478,"Point AS arkitektur+konseptdesign"]
["Polyplan AS","2010-12-06T16:33:41+01:00",121067,"Polyplan AS "]
["Porsgrunn kommune","2013-03-05T13:25:00+01:00",248316,"Porsgrunn kommune"]
["Poulsson/Pran AS","2012-06-01T16:05:49+02:00",166525,"Poulsson/Pran AS"]
["PPR arkitektur & design AS","2012-06-01T16:05:50+02:00",171491,"PPR arkitektur & design AS"]
["Praksis sivilarkitekter as","2012-06-01T16:05:49+02:00",171477,"Praksis sivilarkitekter as"]
["Pran, Peter","2012-06-01T16:05:49+02:00",171476,"Pran, Peter "]
["Prima-Hus AS","2010-12-06T16:33:41+01:00",111931,"Prima-Hus AS"]
["Procon AS","2012-12-28T14:59:00+01:00",245786,"Procon AS"]
["Prokon AS","2012-11-11T14:11:00+01:00",243859,"Prokon AS"]
["Prosjektbygg AS","2010-12-06T16:33:42+01:00",205121,"Prosjektbygg AS"]
["Prosjektutvikling Midt-Norge AS","2010-12-06T16:33:41+01:00",98696,"Prosjektutvikling Midt-Norge AS"]
["Protan Bygg og Tak AS","2010-12-06T16:33:42+01:00",163049,"Protan Bygg og Tak AS"]
["Protan Bygg og Tak AS","2010-12-06T16:33:42+01:00",165641,"Protan Bygg og Tak AS"]
["Puls Arkitekter AS","2012-06-01T16:05:49+02:00",171473,"Puls Arkitekter AS"]
["Pushak arkitekter","2012-06-01T16:05:49+02:00",171472,"Pushak arkitekter"]
["PV arkitekter as","2012-06-01T16:05:50+02:00",172662,"PV arkitekter as"]
["PW Arkitekter AS","2012-06-01T16:05:49+02:00",171471,"PW Arkitekter AS"]
["PÅ Elektroforum AS","2010-12-06T16:33:42+01:00",200082,"PÅ Elektroforum AS"]
["Ragnars AS","2010-12-06T16:33:42+01:00",202455,"Ragnars AS"]
["RAM arkitektur as","2012-06-01T16:05:50+02:00",172784,"RAM arkitektur as"]
["Ramberg AS sivilarkitekter MNAL, Torstein","2012-06-01T16:05:49+02:00",166682,"Ramberg AS sivilarkitekter MNAL, Torstein "]
["Rambøll","2012-03-22T19:41:00+01:00",217764,"Rambøll"]
["Rambøll Aros AS","2012-06-01T16:05:49+02:00",166680,"Rambøll Aros AS"]
["Rambøll AS","2013-02-13T10:44:00+01:00",247615,"Rambøll AS"]
["Rambøll Norge AS Arkitektur og Plan","2012-06-01T16:05:49+02:00",166681,"Rambøll Norge AS Arkitektur og Plan"]
["Ramm Salbu Arkitekter","2012-06-01T16:05:49+02:00",166626,"Ramm Salbu Arkitekter"]
["Ramsfjell Arkitekter AS","2012-06-01T16:05:49+02:00",166679,"Ramsfjell Arkitekter AS"]
["Ramstad Arkitekter as, Reiulf","2012-06-01T16:05:49+02:00",166684,"Ramstad Arkitekter as, Reiulf "]
["Ranheimsveien eiendom, Utstillingsplassen Eiendom AS, Larshus AS","2011-11-08T10:41:00+01:00",228622,"Ranheimsveien eiendom, Utstillingsplassen Eiendom AS, Larshus AS"]
["Rasmussen & Strand AS","2013-02-15T18:35:00+01:00",247749,"Rasmussen & Strand AS"]
["Rastad & Relling Arkitektkontor AS","2012-06-01T16:05:49+02:00",166678,"Rastad & Relling Arkitektkontor AS"]
["Ratio arkitekter as","2012-06-01T16:05:51+02:00",206444,"Ratio arkitekter as"]
["Raugstad Arkitektur AS","2012-11-16T14:16:00+01:00",244037,"Raugstad Arkitektur AS"]
["Raugstad as","2010-12-06T16:33:41+01:00",155958,"Raugstad as"]
["Re Arkitektur AS","2012-06-01T16:05:49+02:00",166677,"Re Arkitektur AS"]
["REC Indovent","2010-12-06T16:33:42+01:00",178214,"REC Indovent"]
["Rede arkitekter as","2012-06-01T16:05:50+02:00",172606,"Rede arkitekter as"]
["Reidar Kristiansen","2010-12-06T16:33:41+01:00",119978,"Reidar Kristiansen"]
["Reinertsen AS","2010-12-06T16:33:42+01:00",163052,"Reinertsen AS"]
["Reinertsen AS (RIAku)","2010-12-22T10:51:00+01:00",215014,"Reinertsen AS (RIAku)"]
["Reinertsen Engineering AS","2010-12-06T16:33:41+01:00",110277,"Reinertsen Engineering AS"]
["Reum og Laugtaug AS","2010-12-06T16:33:41+01:00",111923,"Reum og Laugtaug AS"]
["Rever og Drage","2013-02-04T16:35:00+01:00",247285,"Rever og Drage"]
["Richard Ligård, Framtidens Aktivhus AS","2011-09-08T16:08:00+02:00",225770,"Richard Ligård, Framtidens Aktivhus AS"]
["RIFT AS","2012-06-01T16:05:50+02:00",193622,"RIFT AS"]
["RiK Arkitektur AS","2012-06-01T16:05:49+02:00",166683,"RiK Arkitektur AS"]
["Riksheim Consulting AS (RIV)","2010-12-06T16:33:42+01:00",205123,"Riksheim Consulting AS (RIV)"]
["Rintala Eggertsson Arkitekter","2012-06-01T16:05:51+02:00",204162,"Rintala Eggertsson Arkitekter"]
["Riss Landskap AS","2013-01-02T17:30:00+01:00",245864,"Riss Landskap AS"]
["RIV Bjørkaas AS","2010-12-06T16:33:41+01:00",110885,"RIV Bjørkaas AS"]
["Rivco AS","2011-11-16T13:53:37+01:00",216997,"Rivco AS"]
["Roald AS Arkitektur, Ola","2012-06-01T16:05:49+02:00",166676,"Roald AS Arkitektur, Ola "]
["Roald Haldorsen v/ Oslo Prosjektadministrasjon AS","2010-12-22T10:54:00+01:00",215021,"Roald Haldorsen v/ Oslo Prosjektadministrasjon AS"]
["Roar Jørgensen AS","2013-02-15T18:36:00+01:00",247750,"Roar Jørgensen AS"]
["Roar Ousland og Marit Grinaker Wright","2012-10-09T16:46:20+02:00",242772,"Roar Ousland og Marit Grinaker Wright"]
["Roar Svenning & Torild Landklopp","2011-12-09T10:04:00+01:00",230104,"Roar Svenning & Torild Landklopp"]
["Robak VVS as (RIVA)","2011-01-03T13:14:00+01:00",215425,"Robak VVS as (RIVA)"]
["Rockwool","2010-12-06T16:33:42+01:00",177641,"Rockwool"]
["Rodeo arkitekter as","2012-06-01T16:05:49+02:00",166675,"Rodeo arkitekter as"]
["Rogaland bygg og prosjektutvikling AS","2010-12-06T16:33:42+01:00",158048,"Rogaland bygg og prosjektutvikling AS"]
["Rogaland entreprenør AS","2010-12-06T16:33:42+01:00",163150,"Rogaland entreprenør AS"]
["Rogaland entreprenør AS","2010-12-06T16:33:42+01:00",172632,"Rogaland entreprenør AS"]
["Rogaland entreprnør AS","2010-12-06T16:33:42+01:00",165639,"Rogaland entreprnør AS"]
["Rojo arkitekter as","2012-06-01T16:05:50+02:00",172675,"Rojo arkitekter as"]
["Rolf Selvaag","2010-12-06T16:33:42+01:00",205918,"Rolf Selvaag"]
["ROM Eiendom AS","2010-12-06T16:33:42+01:00",214139,"ROM Eiendom AS"]
["Romerike Arkitekter AS","2012-06-01T16:05:49+02:00",166674,"Romerike Arkitekter AS"]
["Romlaboratoriet AS","2012-06-01T16:05:51+02:00",219471,"Romlaboratoriet AS"]
["Rose Marie Steinsvik sivilark. MNAL","2010-12-06T16:33:42+01:00",182979,"Rose Marie Steinsvik sivilark. MNAL"]
["Rosenborg Utvikling AS","2010-12-06T16:33:42+01:00",164717,"Rosenborg Utvikling AS"]
["RSG AS","2012-01-23T13:41:00+01:00",231900,"RSG AS"]
["Runde Miljøbygg AS","2010-12-06T16:33:42+01:00",205126,"Runde Miljøbygg AS"]
["Rye-Kittelsen AS","2010-12-06T16:33:41+01:00",121314,"Rye-Kittelsen AS"]
["Ryenstubben Invest AS","2013-01-22T19:01:00+01:00",246737,"Ryenstubben Invest AS"]
["Rygg Maskin AS (graveentrepenør)","2010-12-06T16:33:41+01:00",155707,"Rygg Maskin AS (graveentrepenør)"]
["Rønsen Arkitekter AS, Jostein","2012-06-01T16:05:49+02:00",166672,"Rønsen Arkitekter AS, Jostein "]
["Rørby AS, Arkitekt Terje","2012-06-01T16:05:50+02:00",172668,"Rørby AS, Arkitekt Terje"]
["Rørfunn AS","2011-10-27T09:52:00+02:00",228142,"Rørfunn AS"]
["Rørteknikk AS","2011-09-08T16:04:00+02:00",225766,"Rørteknikk AS"]
["Rørteknikk AS","2010-12-06T16:33:41+01:00",111926,"Rørteknikk AS "]
["Samferdselsetaten, Oslo kommune","2010-12-06T16:33:42+01:00",172254,"Samferdselsetaten, Oslo kommune"]
["Samnanger kommune","2010-12-06T16:33:42+01:00",160602,"Samnanger kommune"]
["Sandbakk & Pettersen Arkitekter AS","2012-06-01T16:05:50+02:00",199606,"Sandbakk & Pettersen Arkitekter AS"]
["Sandnes kommune","2010-12-06T16:33:42+01:00",158019,"Sandnes kommune"]
["Sandnes Kommune (Ragna Stakland)","2010-12-06T16:33:42+01:00",162854,"Sandnes Kommune (Ragna Stakland)"]
["Sandvik, Siv. ark. mnal Jarle","2012-06-01T16:05:50+02:00",172890,"Sandvik, Siv. ark. mnal Jarle "]
["Sandås bygg AS","2010-12-06T16:33:41+01:00",112304,"Sandås bygg AS"]
["SAPA (dører og vinduer)","2010-12-06T16:33:42+01:00",205249,"SAPA (dører og vinduer)"]
["Saunders Arkitektur AS","2012-06-01T16:05:49+02:00",166623,"Saunders Arkitektur AS"]
["Scala arkitekter AS","2012-06-01T16:05:49+02:00",166622,"Scala arkitekter AS"]
["Scandiaconsult","2010-12-06T16:33:41+01:00",98705,"Scandiaconsult "]
["Scandic Oslo Airport","2011-11-08T10:10:00+01:00",228616,"Scandic Oslo Airport"]
["SCC AS","2010-12-06T16:33:41+01:00",110988,"SCC AS "]
["Scenario","2012-06-01T16:05:51+02:00",235782,"Scenario"]
["Schjelderup AS sivilarkitekter MNAL NPA, Helge","2012-06-01T16:05:50+02:00",172786,"Schjelderup AS sivilarkitekter MNAL NPA, Helge "]
["Schmitthenner arkitekter","2012-06-01T16:05:50+02:00",177781,"Schmitthenner arkitekter"]
["Schüco International KG","2010-12-06T16:33:42+01:00",162455,"Schüco International KG "]
["Schønherr landskab KS","2013-01-02T18:51:00+01:00",245865,"Schønherr landskab KS"]
["Seabrokers","2010-12-06T16:33:41+01:00",155927,"Seabrokers"]
["SE-Arkitektur A/S","2012-06-01T16:05:49+02:00",166621,"SE-Arkitektur A/S"]
["Seby AS","2010-12-06T16:33:41+01:00",121070,"Seby AS"]
["Seko Elektro AS","2010-12-06T16:33:42+01:00",178584,"Seko Elektro AS"]
["Selberg Arkitekter AS","2012-06-01T16:05:49+02:00",166619,"Selberg Arkitekter AS"]
["Selmer AS","2010-12-06T16:33:41+01:00",97845,"Selmer AS"]
["Selvaagbygg","2010-12-06T16:33:41+01:00",119895,"Selvaagbygg"]
["Senterbygg Entreprenør AS","2013-03-21T01:37:00+01:00",248972,"Senterbygg Entreprenør AS"]
["September Arkitekter","2012-06-01T16:05:51+02:00",213205,"September Arkitekter"]
["SFS intec AS","2010-12-06T16:33:42+01:00",193872,"SFS intec AS"]
["SG Arkitekter AS","2012-06-01T16:05:49+02:00",166618,"SG Arkitekter AS"]
["Sig. Halvorsen (rørlegger)","2010-12-06T16:33:42+01:00",162881,"Sig. Halvorsen (rørlegger)"]
["Signatur Arkitekter AS","2012-06-01T16:05:49+02:00",166617,"Signatur Arkitekter AS"]
["Sigurd Eide","2010-12-06T16:33:42+01:00",204512,"Sigurd Eide"]
["Simex AS","2010-12-06T16:33:41+01:00",97932,"Simex AS"]
["SINTEF","2010-12-06T16:33:41+01:00",98459,"SINTEF"]
["SINTEF (energiteknikk, byggteknikk)","2010-12-06T16:33:42+01:00",162918,"SINTEF (energiteknikk, byggteknikk)"]
["SINTEF Byggforsk","2010-12-06T16:33:42+01:00",166300,"SINTEF Byggforsk"]
["SINTEF Byggforsk","2010-12-06T16:33:42+01:00",193873,"SINTEF Byggforsk"]
["Sinus AS","2011-02-17T09:39:00+01:00",217517,"Sinus AS"]
["Sinus AS v/Tønnes Ognedal og Svein Folkvord (akustikk)","2010-12-06T16:33:42+01:00",172611,"Sinus AS v/Tønnes Ognedal og Svein Folkvord (akustikk)"]
["Sinus Elektro (Elektro)","2010-12-06T16:33:42+01:00",162872,"Sinus Elektro (Elektro)"]
["SiT Eiendom","2010-12-06T16:33:42+01:00",165390,"SiT Eiendom"]
["Siv ing Haug og Blom-Bakke AS","2010-12-06T16:33:00+01:00",172595,"Siv ing Haug og Blom-Bakke AS"]
["Siv. ing. Karl Knudsen","2010-12-06T16:33:42+01:00",184492,"Siv. ing. Karl Knudsen"]
["Siv. Ing. Netteberg AS (VVS)","2010-12-06T16:33:41+01:00",155175,"Siv. Ing. Netteberg AS (VVS)"]
["Siv. Ing. P.O. Danielsen","2010-12-06T16:33:42+01:00",164718,"Siv. Ing. P.O. Danielsen"]
["Siv. Ing. Trond Thorvaldsen AS","2010-12-06T16:33:00+01:00",204307,"Siv. Ing. Trond Thorvaldsen AS"]
["Siv.Ing Knut Finseth AS (RIB)","2010-12-06T16:33:42+01:00",214145,"Siv.Ing Knut Finseth AS (RIB)"]
["Siv.ing. Christian Svenkerud","2010-12-06T16:33:41+01:00",110760,"Siv.ing. Christian Svenkerud"]
["Siv.ing. JP Dybdahl AS (RIV)","2010-12-06T16:33:42+01:00",202688,"Siv.ing. JP Dybdahl AS (RIV)"]
["Siv.ing. P.O.Danielsen AS (RIB)","2010-12-06T16:33:42+01:00",208884,"Siv.ing. P.O.Danielsen AS (RIB)"]
["Siv.ing. Terje Orlien AS","2010-12-06T16:33:41+01:00",119831,"Siv.ing. Terje Orlien AS"]
["Siv.ing. Trond Amundsen AS (RIB)","2010-12-06T16:33:42+01:00",162915,"Siv.ing. Trond Amundsen AS (RIB)"]
["Siv.Ing. Øyvind Berntsen AS (RIV)","2010-12-06T16:33:42+01:00",160691,"Siv.Ing. Øyvind Berntsen AS (RIV)"]
["Sivilarkitekt Erik Ask","2010-12-06T16:33:42+01:00",160576,"Sivilarkitekt Erik Ask"]
["Sivilarkitekt MNAL Randi Slåtten","2013-01-29T14:05:00+01:00",247055,"Sivilarkitekt MNAL Randi Slåtten"]
["Sivilarkitekt MNAL Steinar Romedal AS","2012-06-28T13:37:32+02:00",238532,"Sivilarkitekt MNAL Steinar Romedal AS"]
["Sivilarkitekt mnal Øyvind Poulsson","2012-06-01T16:05:00+02:00",198799,"Sivilarkitekt mnal Øyvind Poulsson"]
["Sivilarkitekt Stein Stoknes MNAL","2012-06-01T16:05:51+02:00",234655,"Sivilarkitekt Stein Stoknes MNAL"]
["Sivilarkitekt Tordis Hoem as","2012-06-01T16:05:49+02:00",171093,"Sivilarkitekt Tordis Hoem as"]
["Sivilingeniørene Storkmoen og Hamre AS","2010-12-06T16:33:41+01:00",112147,"Sivilingeniørene Storkmoen og Hamre AS "]
["Sjo Fasting Arkitekter","2013-01-01T22:57:00+01:00",245837,"Sjo Fasting Arkitekter"]
["Sjåtil & Fornæss AS","2013-04-23T11:13:00+02:00",250062,"Sjåtil & Fornæss AS"]
["Sjåvåg sivilarkitekt MNALm Helle","2012-06-01T16:05:49+02:00",166616,"Sjåvåg sivilarkitekt MNALm Helle "]
["SK Langeland (byggeleder grunn & betong)","2010-12-06T16:33:42+01:00",162877,"SK Langeland (byggeleder grunn & betong)"]
["Skaane Arkitektur + Design","2012-06-01T16:05:49+02:00",166612,"Skaane Arkitektur + Design"]
["Skaara Arkitekter AS","2012-06-01T16:05:49+02:00",166523,"Skaara Arkitekter AS"]
["Skaaret AS","2010-12-06T16:33:42+01:00",191906,"Skaaret AS"]
["Skagenarkitektene","2012-06-01T16:05:49+02:00",166521,"Skagenarkitektene"]
["Skagenarkitektene","2012-06-01T16:05:49+02:00",166614,"Skagenarkitektene"]
["Skandinaviska Glassystem AB","2010-12-06T16:33:42+01:00",166655,"Skandinaviska Glassystem AB"]
["Skansen AS","2010-12-06T16:33:00+01:00",160587,"Skansen AS"]
["Skansen Consult AS","2012-06-06T00:06:00+02:00",236409,"Skansen Consult AS"]
["Skanska AS","2010-12-06T16:33:42+01:00",160687,"Skanska AS"]
["Skanska Eiendomsutvikling","2012-01-24T16:40:00+01:00",231962,"Skanska Eiendomsutvikling"]
["Skanska KEB","2013-01-22T15:30:00+01:00",246725,"Skanska KEB"]
["Skanska Region Bergen","2012-01-24T16:45:00+01:00",231965,"Skanska Region Bergen"]
["Skanska SPU","2013-01-22T15:29:00+01:00",246724,"Skanska SPU"]
["Skanska Tekniske","2012-01-24T16:43:00+01:00",231964,"Skanska Tekniske"]
["Skanska Tekniske Enteprise","2013-01-22T15:32:00+01:00",246726,"Skanska Tekniske Enteprise"]
["Ski boligbyggelag","2010-12-06T16:33:42+01:00",160573,"Ski boligbyggelag"]
["Skibnes Arkitekter AS","2013-04-15T09:06:00+02:00",249788,"Skibnes Arkitekter AS"]
["Skien Kommune","2010-12-06T16:33:41+01:00",155980,"Skien Kommune"]
["Skien kommune","2011-02-07T15:00:00+01:00",217041,"Skien kommune"]
["Skylstad as, Arkitekt Svein","2012-06-01T16:05:50+02:00",172685,"Skylstad as, Arkitekt Svein "]
["Sletvold Arkitekter MNAL","2012-06-01T16:05:49+02:00",166517,"Sletvold Arkitekter MNAL"]
["Slyngstad Aamlid Arkitekter AS","2012-06-01T16:05:49+02:00",166609,"Slyngstad Aamlid Arkitekter AS"]
["Smed Alsaker AS","2010-12-06T16:33:42+01:00",157877,"Smed Alsaker AS"]
["SMI energi og miljø AS","2012-12-28T14:58:00+01:00",245785,"SMI energi og miljø AS"]
["Smidt & Ingebrigtsen AS","2011-03-01T09:45:00+01:00",218044,"Smidt & Ingebrigtsen AS"]
["SMS arkitekter AS","2012-06-01T16:05:49+02:00",166510,"SMS arkitekter AS"]
["SNO Sogndal","2010-12-17T11:18:00+01:00",214842,"SNO Sogndal"]
["Snøhetta as","2012-06-01T16:05:49+02:00",166509,"Snøhetta as"]
["Sohlberg og Toftenes AS","2010-12-06T16:33:00+01:00",181038,"Sohlberg og Toftenes AS"]
["SOLARK","2012-06-01T16:05:50+02:00",194004,"SOLARK"]
["Solarnor AS","2010-12-06T16:33:41+01:00",103201,"Solarnor AS"]
["Solberg & Toftenes (RIBR)","2010-12-06T16:33:42+01:00",214150,"Solberg & Toftenes (RIBR)"]
["Solberg og Toftenes AS","2010-12-06T16:33:42+01:00",160580,"Solberg og Toftenes AS"]
["Solbjør Arkitektur","2012-06-01T16:05:49+02:00",166508,"Solbjør Arkitektur"]
["Solem Arkitektur AS","2012-06-01T16:05:49+02:00",166507,"Solem Arkitektur AS"]
["Solheim og Jacobsen arkitekter AS","2012-06-01T16:05:49+02:00",166505,"Solheim og Jacobsen arkitekter AS"]
["Solland AS (ventilasjon)","2010-12-06T16:33:41+01:00",155703,"Solland AS (ventilasjon)"]
["Solli Arkitekter AS","2012-06-01T16:05:00+02:00",166503,"Solli Arkitekter AS"]
["Solli Sivilarkitekt MNAL, Tore","2012-06-01T16:05:50+02:00",177575,"Solli Sivilarkitekt MNAL, Tore "]
["Solnes AS, Lil","2012-06-01T16:05:50+02:00",172720,"Solnes AS, Lil "]
["SOS Brannsikring AS","2012-12-17T12:02:00+01:00",245543,"SOS Brannsikring AS"]
["Spacegroup Arkitekter A/S","2012-06-01T16:05:49+02:00",166485,"Spacegroup Arkitekter A/S"]
["Sparebank 1 SMN kvartalet","2010-12-06T16:33:42+01:00",178925,"Sparebank 1 SMN kvartalet"]
["Spark arkitektur","2012-06-01T16:05:49+02:00",166484,"Spark arkitektur"]
["Spets AS","2010-12-06T16:33:42+01:00",165393,"Spets AS "]
["Spiss Arkitektur & Plan AS","2012-06-01T16:05:50+02:00",172895,"Spiss Arkitektur & Plan AS"]
["Spor Arkitekter AS","2012-06-01T16:05:49+02:00",166481,"Spor Arkitekter AS"]
["Sporstøl AS, Arkitektfirma","2012-06-01T16:05:49+02:00",166479,"Sporstøl AS, Arkitektfirma"]
["SSBYGG AS","2011-09-08T16:03:00+02:00",225764,"SSBYGG AS"]
["Stark Rød-Knudsen arkitekter AS","2012-06-01T16:05:50+02:00",173200,"Stark Rød-Knudsen arkitekter AS"]
["Statens vegvesen","2010-12-06T16:33:42+01:00",158051,"Statens vegvesen"]
["Statens vegvesen, Turistvegkontoret","2010-12-06T16:33:42+01:00",180285,"Statens vegvesen, Turistvegkontoret"]
["Statkraft Grøner AS","2010-12-06T16:33:41+01:00",120022,"Statkraft Grøner AS"]
["Statnett SF","2012-10-21T14:25:00+02:00",243117,"Statnett SF"]
["Statsbygg","2010-12-06T16:33:42+01:00",160597,"Statsbygg"]
["Stavanger boligbyggelag","2010-12-06T16:33:41+01:00",155706,"Stavanger boligbyggelag"]
["Stavanger boligbyggelag","2010-12-06T16:33:42+01:00",158050,"Stavanger boligbyggelag"]
["Stavanger kommune","2011-01-19T09:08:00+01:00",216181,"Stavanger kommune"]
["Stavanger kommune v/ Stavanger Eiendom","2010-12-06T16:33:42+01:00",160511,"Stavanger kommune v/ Stavanger Eiendom"]
["Stavanger Turistforening","2010-12-06T16:33:41+01:00",155750,"Stavanger Turistforening"]
["Stavne Gård AS","2010-12-06T16:33:41+01:00",110817,"Stavne Gård AS"]
["Stavseth&Lervik Arkitekter AS Mnal","2012-06-01T16:05:50+02:00",193742,"Stavseth&Lervik Arkitekter AS Mnal"]
["Steen & Lund","2010-12-06T16:33:42+01:00",193821,"Steen & Lund"]
["STEIEN Consult AS","2012-11-05T14:28:00+01:00",243667,"STEIEN Consult AS"]
["Stein Stoknes","2010-12-06T16:33:42+01:00",177614,"Stein Stoknes"]
["Steinar Johansen (tømrer)","2010-12-06T16:33:41+01:00",112571,"Steinar Johansen (tømrer)"]
["Steinar Moldal","2013-02-04T16:38:00+01:00",247288,"Steinar Moldal"]
["Steinsvik Arkitektkontor AS","2012-06-01T16:05:50+02:00",193910,"Steinsvik Arkitektkontor AS"]
["Stensrud og Danielsen","2010-12-06T16:33:41+01:00",121159,"Stensrud og Danielsen"]
["Steven Holl Architects","2012-11-11T23:51:00+01:00",243879,"Steven Holl Architects"]
["Stiftelsen Kirkens Bymisjon","2013-02-15T18:33:00+01:00",247747,"Stiftelsen Kirkens Bymisjon"]
["Stiftelsen Østfoldforskning","2010-12-06T16:33:41+01:00",110820,"Stiftelsen Østfoldforskning "]
["Stjern AS","2010-12-06T16:33:41+01:00",110280,"Stjern AS"]
["Stjern Entreprenør AS Åfjord (SUB-lugarer)","2011-12-09T10:09:00+01:00",230106,"Stjern Entreprenør AS Åfjord (SUB-lugarer) "]
["Stockholm Lighting AB","2012-03-22T19:44:00+01:00",233808,"Stockholm Lighting AB"]
["Stokke Stål AS Fundamenter og betongkonstruksjoner; Dr. Ing. Olav Olsen AS (vindskjermer)","2010-12-06T16:33:41+01:00",155184,"Stokke Stål AS Fundamenter og betongkonstruksjoner; Dr. Ing. Olav Olsen AS (vindskjermer)"]
["Stokke Stål AS Fundamenter og betongkonstruksjoner; Dr. Ing. Olav Olsen AS (vindskjermer)","2010-12-06T16:33:41+01:00",155187,"Stokke Stål AS Fundamenter og betongkonstruksjoner; Dr. Ing. Olav Olsen AS (vindskjermer)"]
["Stoltz Røthing AS","2011-12-02T12:49:41+01:00",228271,"Stoltz Røthing AS"]
["Storebrand Livsforsikring v/Storebrand Eiendom AS","2010-12-06T16:33:42+01:00",202313,"Storebrand Livsforsikring v/Storebrand Eiendom AS"]
["Stormorken og Hamre AS","2012-12-19T16:50:00+01:00",214725,"Stormorken og Hamre AS"]
["Stor-Oslo Prosjekt AS","2013-01-22T19:02:00+01:00",246738,"Stor-Oslo Prosjekt AS"]
["Stousland Arkitektkontor AS","2012-06-01T16:05:49+02:00",166478,"Stousland Arkitektkontor AS"]
["Strand forskaling (betong)","2010-12-06T16:33:42+01:00",162878,"Strand forskaling (betong)"]
["Straume AS","2011-03-01T09:47:00+01:00",218046,"Straume AS"]
["Streken arkitektgruppe as","2012-06-01T16:05:49+02:00",166475,"Streken arkitektgruppe as"]
["Structura AS","2010-12-06T16:33:42+01:00",162912,"Structura AS"]
["Structura AS (Roberth Nøsen)","2010-12-06T16:33:42+01:00",162921,"Structura AS (Roberth Nøsen)"]
["Strøm Gundersen AS","2011-10-25T11:39:00+02:00",228043,"Strøm Gundersen AS"]
["Studentsamskibnaden i Oslo","2010-12-06T16:33:42+01:00",160574,"Studentsamskibnaden i Oslo"]
["Studentsamskibnaden i Oslo","2010-12-06T16:33:42+01:00",160604,"Studentsamskibnaden i Oslo"]
["Studentsamskipnaden i Trondheim (SiT)","2010-12-06T16:33:00+01:00",165386,"Studentsamskipnaden i Trondheim (SiT)"]
["Studio 4 Arkitekter AS","2012-06-01T16:05:49+02:00",166470,"Studio 4 Arkitekter AS"]
["Studio ludo as","2012-06-01T16:05:49+02:00",166473,"Studio ludo as"]
["Studio Stokke","2012-06-01T16:05:49+02:00",166471,"Studio Stokke"]
["Stærk & Co AS (RIB/RIBr)","2010-12-06T16:33:42+01:00",160690,"Stærk & Co AS (RIB/RIBr)"]
["Støltun","2010-12-06T16:33:42+01:00",201860,"Støltun"]
["Sundt arkitekter","2012-06-01T16:05:50+02:00",172654,"Sundt arkitekter"]
["Svartlamoen boligstiftelse","2010-12-06T16:33:42+01:00",160586,"Svartlamoen boligstiftelse"]
["Svartlamoen boligstiftelse / Trondheim kommune","2011-02-08T13:29:00+01:00",217121,"Svartlamoen boligstiftelse / Trondheim kommune"]
["Svein Aase","2010-12-06T16:33:42+01:00",172878,"Svein Aase"]
["Svein Arne Bøyum","2011-01-03T10:11:50+01:00",215411,"Svein Arne Bøyum"]
["Svein Boasson AS","2010-12-06T16:33:42+01:00",182797,"Svein Boasson AS"]
["Svein Skibnes Arkitektkontor AS","2012-11-07T20:27:00+01:00",243755,"Svein Skibnes Arkitektkontor AS"]
["Svein Søvik AS","2010-12-06T16:33:41+01:00",101074,"Svein Søvik AS"]
["Svein Søvik AS","2010-12-06T16:33:41+01:00",119844,"Svein Søvik AS"]
["Sveio Kommune","2010-12-06T16:33:42+01:00",158055,"Sveio Kommune"]
["Svendby Bygg Consult AS","2010-12-06T16:33:41+01:00",98697,"Svendby Bygg Consult AS"]
["Svenneby sag og høvleri (gulv)","2010-12-06T16:33:42+01:00",200375,"Svenneby sag og høvleri (gulv)"]
["Sweco","2012-05-30T10:00:00+02:00",218407,"Sweco"]
["Swedoor","2012-02-03T11:36:00+01:00",232351,"Swedoor"]
["Sydarkitekter AS","2013-03-05T15:58:00+01:00",248323,"Sydarkitekter AS"]
["System air","2010-12-06T16:33:41+01:00",119804,"System air"]
["Systemair AS","2010-12-06T16:33:42+01:00",172755,"Systemair AS"]
["Systemhus Norge AS","2010-12-06T16:33:41+01:00",120940,"Systemhus Norge AS"]
["Sæther og Gythfeldt AS, Arkitektkontoret","2012-06-01T16:05:49+02:00",166468,"Sæther og Gythfeldt AS, Arkitektkontoret"]
["Søbstad AS","2010-12-06T16:33:42+01:00",165404,"Søbstad AS"]
["Sødal, Arkitekt Arne","2012-06-01T16:05:50+02:00",172896,"Sødal, Arkitekt Arne "]
["Sør AS, Arkitektkontoret","2012-06-01T16:05:50+02:00",172596,"Sør AS, Arkitektkontoret "]
["Sørli arkitekter as","2012-06-01T16:05:50+02:00",172893,"Sørli arkitekter as"]
["Sørli og Haugstad (Shark) AS Arkitektkontor","2012-06-01T16:05:49+02:00",166467,"Sørli og Haugstad (Shark) AS Arkitektkontor"]
["Sør-Trøndelag fylkeskommune","2013-02-05T03:30:00+01:00",247323,"Sør-Trøndelag fylkeskommune"]
["Sørumgård, Marit","2012-06-01T16:05:49+02:00",166466,"Sørumgård, Marit"]
["T. Johansen Drift AS","2013-02-15T14:22:00+01:00",247731,"T. Johansen Drift AS"]
["Tandberg Arkitekter MNAL","2012-06-01T16:05:50+02:00",172901,"Tandberg Arkitekter MNAL"]
["Tangen Ing. og arkitektkontor","2011-03-06T14:44:59+01:00",213268,"Tangen Ing. og arkitektkontor"]
["TBA Arkitekter","2012-06-01T16:05:49+02:00",166465,"TBA Arkitekter"]
["Team Rør AS (rørlegger)","2010-12-06T16:33:41+01:00",155704,"Team Rør AS (rørlegger)"]
["Team St. Olav ANS","2012-10-21T20:05:00+02:00",243127,"Team St. Olav ANS"]
["Team St. Olav ANS","2012-10-21T20:06:00+02:00",243128,"Team St. Olav ANS"]
["Teaterplassen 1 AS","2010-12-06T16:33:42+01:00",160689,"Teaterplassen 1 AS"]
["Technoconsult AS (Ribr)","2010-12-06T16:33:42+01:00",162917,"Technoconsult AS (Ribr)"]
["Tegn 3 AS","2012-06-01T16:05:51+02:00",234630,"Tegn 3 AS"]
["Tegn arkitektur og design as","2012-06-01T16:05:49+02:00",166464,"Tegn arkitektur og design as"]
["Tegneverket Arkitekter AS","2012-06-01T16:05:50+02:00",172735,"Tegneverket Arkitekter AS"]
["Teiknistofan Trød","2012-06-01T16:05:48+02:00",166446,"Teiknistofan Trød"]
["Teka Eiendom AS","2013-02-12T13:16:00+01:00",247582,"Teka Eiendom AS"]
["Teknisk byrå AS","2010-12-06T16:33:41+01:00",97933,"Teknisk byrå AS"]
["Teknisk Ventilasjon AS","2011-10-27T09:53:00+02:00",228144,"Teknisk Ventilasjon AS"]
["Tekno Team AS","2010-12-06T16:33:42+01:00",165395,"Tekno Team AS "]
["Teknobygg AS","2010-12-06T16:33:00+01:00",178920,"Teknobygg AS"]
["Teknoconsult AS","2011-09-08T16:07:00+02:00",225768,"Teknoconsult AS"]
["Telerør","2013-03-06T10:04:00+01:00",248369,"Telerør"]
["Telesafe Consulting AS","2010-12-06T16:33:41+01:00",110462,"Telesafe Consulting AS"]
["Tempero Energitjenester AS","2010-12-06T16:33:42+01:00",165394,"Tempero Energitjenester AS"]
["Theorells AS","2010-12-06T16:33:41+01:00",121191,"Theorells AS"]
["Thermoplan AS","2011-03-08T13:28:00+01:00",218396,"Thermoplan AS"]
["Thermoplan AS rådgivende ingeniørfirma (VVS)","2011-03-08T13:40:19+01:00",218402,"Thermoplan AS rådgivende ingeniørfirma (VVS)"]
["Thorenfeldt Arkitekter AS","2012-06-01T16:05:49+02:00",166462,"Thorenfeldt Arkitekter AS"]
["Thorsnes Arkitekter AS, Thomas","2012-06-01T16:05:49+02:00",166460,"Thorsnes Arkitekter AS, Thomas "]
["Thrane AS, Klaus","2012-06-01T16:05:50+02:00",172676,"Thrane AS, Klaus "]
["Thunes Partners AS","2010-12-06T16:33:41+01:00",110755,"Thunes Partners AS"]
["Timber AS","2010-12-06T16:33:41+01:00",111855,"Timber AS"]
["Time kyrkje","2011-12-08T10:48:00+01:00",230068,"Time kyrkje"]
["Time kyrkjelege fellesråd","2011-12-09T14:50:00+01:00",230118,"Time kyrkjelege fellesråd"]
["Tippetue Arkitekter as","2012-06-01T16:05:50+02:00",172657,"Tippetue Arkitekter as"]
["Tjøme arkitektkontor","2012-06-01T16:05:49+02:00",166459,"Tjøme arkitektkontor"]
["Tollaas, Inger-Johanne","2012-06-01T16:05:49+02:00",166458,"Tollaas, Inger-Johanne "]
["Tom Edvardsen Arkitekter AS","2013-01-29T13:02:00+01:00",247051,"Tom Edvardsen Arkitekter AS"]
["Tone Ulland Stokke","2010-12-06T16:33:42+01:00",158056,"Tone Ulland Stokke"]
["Topos arkitektur og design as","2012-06-01T16:05:49+02:00",166454,"Topos arkitektur og design as"]
["Tor Entreprenør AS","2010-12-06T16:33:41+01:00",121317,"Tor Entreprenør AS"]
["Tor Helge Dokka","2010-12-06T16:33:42+01:00",204509,"Tor Helge Dokka"]
["Tor Nykvist & sønn AS","2010-12-06T16:33:41+01:00",110966,"Tor Nykvist & sønn AS"]
["Tore Ravndal AS","2010-12-06T16:33:42+01:00",162863,"Tore Ravndal AS"]
["Torleif Holm Glad","2012-11-05T14:27:00+01:00",243666,"Torleif Holm Glad"]
["Tornes, Sivilarkitekt MNAL Anne Britt","2012-06-01T16:05:49+02:00",166452,"Tornes, Sivilarkitekt MNAL Anne Britt "]
["Torp AS Arkitekter MNAL, Niels","2012-06-01T16:05:48+02:00",166451,"Torp AS Arkitekter MNAL, Niels"]
["Torsteinsrud-Smith Arkitekter","2012-06-01T16:05:48+02:00",166450,"Torsteinsrud-Smith Arkitekter"]
["TRAFO arkitektur","2012-06-01T16:05:51+02:00",210075,"TRAFO arkitektur"]
["Trebyggeriet AS","2010-12-06T16:33:00+01:00",163046,"Trebyggeriet AS"]
["TreSenteret","2010-12-06T16:33:42+01:00",178177,"TreSenteret"]
["Treteknisk Institutt, rådgivingstjenesten","2013-02-05T01:32:00+01:00",247318,"Treteknisk Institutt, rådgivingstjenesten"]
["Trifolia Landskpasarkitekter","2011-03-06T15:40:47+01:00",214751,"Trifolia Landskpasarkitekter"]
["Trio Entreprenør","2011-03-06T14:45:15+01:00",213751,"Trio Entreprenør"]
["Troll Næring as","2013-01-30T20:28:57+01:00",224101,"Troll Næring as"]
["Trollvegg Arkitektstudio AS","2012-06-01T16:05:50+02:00",173041,"Trollvegg Arkitektstudio AS"]
["Tromsø kommune","2011-05-10T22:27:00+02:00",221240,"Tromsø kommune"]
["Tromsø kommune Eiendom","2011-02-08T12:42:44+01:00",217112,"Tromsø kommune Eiendom"]
["Trond Wickman AS","2010-12-06T16:33:42+01:00",166299,"Trond Wickman AS"]
["Trond Wickman as (RIE)","2011-01-03T13:17:00+01:00",215427,"Trond Wickman as (RIE)"]
["Trondheim byteknikk","2010-12-06T16:33:42+01:00",165405,"Trondheim byteknikk"]
["Trondheim kommune","2010-12-06T16:33:42+01:00",178147,"Trondheim kommune"]
["Trondheim kommune","2010-12-06T16:33:42+01:00",213052,"Trondheim kommune"]
["Trondheim kommune v/ Trondheim eiendom","2010-12-06T16:33:00+01:00",160601,"Trondheim kommune v/ Trondheim eiendom"]
["Tronrud Entreprenør AS","2010-12-06T16:33:42+01:00",178579,"Tronrud Entreprenør AS"]
["Trygve Leiksett (SMN Kvartalet)","2010-12-06T16:33:42+01:00",178934,"Trygve Leiksett (SMN Kvartalet)"]
["Trønderplan","2012-06-12T15:39:00+02:00",236737,"Trønderplan"]
["Tunge AS Mesterhus","2010-12-06T16:33:00+01:00",155708,"Tunge AS Mesterhus"]
["Tunge Maskin AS","2010-12-06T16:33:41+01:00",155838,"Tunge Maskin AS"]
["Tupelo a+d","2012-06-01T16:05:48+02:00",166445,"Tupelo a+d"]
["Tveit as, Arkitektkontoret Nils","2012-06-01T16:05:50+02:00",173194,"Tveit as, Arkitektkontoret Nils"]
["TYIN tegnestue Arkitekter AS","2012-06-01T16:05:51+02:00",216543,"TYIN tegnestue Arkitekter AS"]
["Tysseland Arkitektur AS","2012-06-01T16:05:49+02:00",171156,"Tysseland Arkitektur AS"]
["Tømrer-Tomas AS (byggeleder)","2010-12-06T16:33:42+01:00",207498,"Tømrer-Tomas AS (byggeleder)"]
["Tønsberg kommunale eiendom KF","2011-03-06T14:44:17+01:00",213757,"Tønsberg kommunale eiendom KF"]
["Ulsteinvik kommune","2010-12-06T16:33:41+01:00",157538,"Ulsteinvik kommune"]
["Undervisningsbygg Oslo KF","2011-08-31T11:58:00+02:00",225258,"Undervisningsbygg Oslo KF"]
["Unico AS","2010-12-06T16:33:41+01:00",119773,"Unico AS"]
["Unison Elektro AS (elektro)","2010-12-06T16:33:41+01:00",155705,"Unison Elektro AS (elektro)"]
["Universell Utforming AS","2012-12-18T11:20:00+01:00",245581,"Universell Utforming AS"]
["Urban Rabbe arkitekter as","2012-06-01T16:05:48+02:00",166442,"Urban Rabbe arkitekter as"]
["Urd Klima Sandnes AS (ventilasjon)","2010-12-06T16:33:42+01:00",162873,"Urd Klima Sandnes AS (ventilasjon)"]
["USBL (Stig Paugaard)","2010-12-06T16:33:42+01:00",191298,"USBL (Stig Paugaard)"]
["Ustad, Sivilarkitekt MNAL Atle","2012-06-01T16:05:48+02:00",166440,"Ustad, Sivilarkitekt MNAL Atle"]
["Utdanningsforbundet","2010-12-06T16:33:42+01:00",202685,"Utdanningsforbundet"]
["Utstillingsplassen Eiendom","2011-11-08T10:12:00+01:00",228617,"Utstillingsplassen Eiendom"]
["Varde byggadministrasjon AS","2010-12-06T16:33:42+01:00",172761,"Varde byggadministrasjon AS"]
["Various Architects AS","2012-06-01T16:05:50+02:00",172894,"Various Architects AS"]
["VAR-prosjekt AS, Bærum","2010-12-06T16:33:41+01:00",120021,"VAR-prosjekt AS, Bærum "]
["Vatne sivilarkitekt MNAL NPA, Kjell","2012-06-01T16:05:48+02:00",166438,"Vatne sivilarkitekt MNAL NPA, Kjell"]
["VEF Entreprenør","2012-01-09T10:36:00+01:00",231291,"VEF Entreprenør"]
["Veg Tech AB (sedumstaket)","2010-12-06T16:33:41+01:00",155181,"Veg Tech AB (sedumstaket)"]
["Veg Tech AB (sedumstaket)","2010-12-06T16:33:41+01:00",155182,"Veg Tech AB (sedumstaket)"]
["Veidekke ASA","2010-12-06T16:33:41+01:00",103003,"Veidekke ASA"]
["Veidekke Eiedom AS","2010-12-06T16:33:42+01:00",164235,"Veidekke Eiedom AS"]
["Veidekke entreprenør AS","2010-12-06T16:33:42+01:00",165881,"Veidekke entreprenør AS"]
["Velux Norge AS (takvinduer)","2010-12-06T16:33:42+01:00",162875,"Velux Norge AS (takvinduer)"]
["Vennesla kommune","2012-06-06T11:11:00+02:00",231289,"Vennesla kommune"]
["Verte landskap - arkitektur as","2012-06-01T16:05:50+02:00",191305,"Verte landskap - arkitektur as"]
["Vest AS, Arkitektkontoret","2012-06-01T16:05:48+02:00",166437,"Vest AS, Arkitektkontoret "]
["Vest Consult (VVS)","2010-12-06T16:33:41+01:00",101065,"Vest Consult (VVS)"]
["Vestafjell as (grunn og betong)","2011-03-08T13:50:46+01:00",218406,"Vestafjell as (grunn og betong)"]
["Vesterlid, Arkitekt MNAL Arne","2012-06-01T16:05:48+02:00",166436,"Vesterlid, Arkitekt MNAL Arne "]
["Via Nova AS","2010-12-06T16:33:41+01:00",97856,"Via Nova AS"]
["Vikanes Bungum Arkitekter AS","2012-06-01T16:05:48+02:00",166431,"Vikanes Bungum Arkitekter AS"]
["Viken skog","2012-11-11T20:15:00+01:00",243864,"Viken skog"]
["Vindveggen Arkitekter AS","2012-06-01T16:05:00+02:00",172783,"Vindveggen Arkitekter AS"]
["Vindveggen, Martin Glomnes","2012-06-01T16:05:48+02:00",166430,"Vindveggen, Martin Glomnes"]
["Vink Plast AS (Vindskjermer)","2010-12-06T16:33:41+01:00",155183,"Vink Plast AS (Vindskjermer)"]
["Vink Plast AS (Vindskjermer)","2010-12-06T16:33:41+01:00",155185,"Vink Plast AS (Vindskjermer)"]
["Vintervoll AS","2011-09-08T16:04:00+02:00",225765,"Vintervoll AS"]
["Vis-à-vis","2012-06-01T16:05:50+02:00",172683,"Vis-à-vis"]
["Vision Bygg AS","2013-01-01T20:17:00+01:00",245834,"Vision Bygg AS"]
["Vulkan arkitekter as","2012-06-01T16:05:48+02:00",166428,"Vulkan arkitekter as"]
["VVS Norplan AS","2010-12-06T16:33:00+01:00",178154,"VVS Norplan AS"]
["VY as arkitektur","2012-06-01T16:05:49+02:00",166628,"VY as arkitektur"]
["Wegger & Kvalsvik AS (totalentreprenør)","2010-12-22T10:54:26+01:00",215020,"Wegger & Kvalsvik AS (totalentreprenør)"]
["Wendt AS, Arkitektkontoret Gjertrud","2012-06-01T16:05:50+02:00",172730,"Wendt AS, Arkitektkontoret Gjertrud "]
["Westad & Brusletto as, Arkitektkontoret","2012-06-01T16:05:00+02:00",166425,"Westad & Brusletto as, Arkitektkontoret "]
["Wiberg arkitektur & plan","2011-10-31T13:20:00+01:00",228272,"Wiberg arkitektur & plan"]
["Wiberg AS Arkitektur & plan","2012-06-01T16:05:51+02:00",228511,"Wiberg AS Arkitektur & plan"]
["Will Arentz AS","2010-12-06T16:33:41+01:00",103206,"Will Arentz AS"]
["Will Arentz, Rådgivende ingeniører","2010-12-06T16:33:42+01:00",164237,"Will Arentz, Rådgivende ingeniører "]
["WOOD arkitektur+design","2012-06-01T16:05:51+02:00",207151,"WOOD arkitektur+design"]
["Wörle Sparowitz Ingenieure (statikk)","2010-12-06T16:33:42+01:00",172575,"Wörle Sparowitz Ingenieure (statikk)"]
["YIT","2010-12-06T16:33:00+01:00",178922,"YIT"]
["YIT (tekniske løsninger)","2010-12-06T16:33:42+01:00",158235,"YIT (tekniske løsninger)"]
["YIT (ventilasjon, EL)","2010-12-06T16:33:42+01:00",157872,"YIT (ventilasjon, EL)"]
["YIT, Gard Olsen (Elektro)","2010-12-06T16:33:42+01:00",158193,"YIT, Gard Olsen (Elektro)"]
["YIT/Optimo Prosjekt","2012-06-06T10:33:00+02:00",236448,"YIT/Optimo Prosjekt"]
["Yran, Petter  & Bjørn Storbraaten Architects AS","2012-06-01T16:05:48+02:00",166414,"Yran, Petter  & Bjørn Storbraaten Architects AS"]
["Zen Resort & Spa, Norge","2010-12-06T16:33:42+01:00",178577,"Zen Resort & Spa, Norge"]
["Zinc AS","2012-06-01T16:05:51+02:00",230397,"Zinc AS"]
["Øivin Vestre","2010-12-06T16:33:42+01:00",192373,"Øivin Vestre"]
["ØKAW AS Arkitekter MNAL","2012-06-01T16:05:48+02:00",166405,"ØKAW AS Arkitekter MNAL"]
["Økologisk håndverksbedrift / NJH","2010-12-06T16:33:41+01:00",112306,"Økologisk håndverksbedrift / NJH"]
["Øren Consult","2010-12-06T16:33:00+01:00",172587,"Øren Consult"]
["Østengen og Bergo Landskapsarkitekter AS","2012-12-19T16:01:00+01:00",245624,"Østengen og Bergo Landskapsarkitekter AS"]
["Østgaard Arkitekter AS","2012-06-01T16:05:48+02:00",166402,"Østgaard Arkitekter AS"]
["Øvre Romerike Prosjektering AS","2010-12-06T16:33:41+01:00",103255,"Øvre Romerike Prosjektering AS"]
["Øye arkitektkontor as, Georg","2012-06-01T16:05:48+02:00",166398,"Øye arkitektkontor as, Georg"]
["Øystein Thommesen AS","2012-12-10T11:29:00+01:00",244635,"Øystein Thommesen AS"]
["Øystein Thommesen AS","2012-12-10T11:30:00+01:00",244636,"Øystein Thommesen AS"]
["Øystein Thommesen AS","2013-03-04T16:09:00+01:00",248257,"Øystein Thommesen AS"]
["ÅF - Consult AS","2012-12-19T16:57:00+01:00",214727,"ÅF - Consult AS"]
["ÅF Engineering AS","2011-03-06T14:45:53+01:00",213756,"ÅF Engineering AS"]
["ÅF-consulting AS (RIE)","2012-12-19T16:56:53+01:00",209553,"ÅF-consulting AS (RIE)"]
["Åke Larson Construction AS","2010-12-06T16:33:42+01:00",160581,"Åke Larson Construction AS"]
["Åsane Byggmesterforretning AS","2011-03-01T09:53:00+01:00",218050,"Åsane Byggmesterforretning AS"]
["Åsane Byggmesterforretning AS","2011-03-01T09:54:00+01:00",218051,"Åsane Byggmesterforretning AS"]

{"sheet":"tbl_ConsultingCompanys","index":12,"n_rows":735,"n_cols":5,"rows_kept":735,"hidden":true}
["odata_title","odata_updated","Id","Name","Kolonne1"]
["Vailant Group Norge AS","2012-02-03T11:35:00+01:00",232350," Vailant Group Norge AS"]
["A.L. Høyer Skien AS","2011-11-16T13:55:33+01:00",228642,"A.L. Høyer Skien AS"]
["A/S Betong, Stavanger","2010-12-06T16:33:41+01:00",101120,"A/S Betong, Stavanger"]
["Aadnesen glass AS","2010-12-06T16:33:42+01:00",172630,"Aadnesen glass AS"]
["Aalerud AS Rådgivede ingeniører","2011-11-16T13:56:51+01:00",181045,"Aalerud AS Rådgivede ingeniører"]
["Aas Jakobsen AS","2010-12-06T16:33:41+01:00",121133,"Aas Jakobsen AS "]
["Aas Luftbehandling","2011-09-08T16:05:00+02:00",225767,"Aas Luftbehandling"]
["Aase Byggeadministrasjon AS","2010-12-06T16:33:42+01:00",202816,"Aase Byggeadministrasjon AS"]
["Aasen Bygg AS","2013-02-18T11:40:35+01:00",233806,"Aasen Bygg AS"]
["ABC Elektro","2012-02-03T11:30:00+01:00",232346,"ABC Elektro"]
["ABC Elektro installasjon AS","2011-10-27T09:52:00+02:00",228143,"ABC Elektro installasjon AS"]
["Acusto AS","2010-12-06T16:33:42+01:00",202452,"Acusto AS"]
["Advansia as","2011-02-11T16:26:00+01:00",217293,"Advansia as"]
["AF Decom","2010-12-06T16:33:42+01:00",178158,"AF Decom "]
["AF Decom (riving)","2010-12-06T16:33:42+01:00",178924,"AF Decom (riving)"]
["AF Gruppen","2010-12-06T16:33:42+01:00",202450,"AF Gruppen"]
["Agathon Borgen AS","2013-02-13T00:32:00+01:00",247607,"Agathon Borgen AS"]
["Agraff - arkitekter","2012-11-19T22:52:00+01:00",244138,"Agraff - arkitekter"]
["Aktiv Arena","2010-12-06T16:33:42+01:00",192374,"Aktiv Arena"]
["Aktivhus AS","2011-12-12T09:09:26+01:00",230176,"Aktivhus AS"]
["AL Høyer Skien AS","2010-12-06T16:33:41+01:00",121313,"AL Høyer Skien AS"]
["Alta Rør AS","2013-02-15T14:22:00+01:00",247732,"Alta Rør AS"]
["Alvdal trelast","2012-02-03T11:37:00+01:00",232353,"Alvdal trelast"]
["Amalienborg Aveny AS","2012-12-20T10:49:52+01:00",233200,"Amalienborg Aveny AS"]
["Anders Ellefsen","2010-12-06T16:33:41+01:00",103267,"Anders Ellefsen"]
["Andersen & Askjem AS","2010-12-06T16:33:41+01:00",112302,"Andersen & Askjem AS "]
["Andersen og Johnson AS","2011-08-02T11:59:00+02:00",224067,"Andersen og Johnson AS"]
["Arbeidsfellesskapet Kruse Strømme DA","2013-01-25T19:14:00+01:00",246929,"Arbeidsfellesskapet Kruse Strømme DA"]
["Arkitekt Bengt Michaelsen","2012-10-11T17:52:00+02:00",242869,"Arkitekt Bengt Michaelsen"]
["Arkitektgruppen Cubus AS","2013-03-19T15:22:00+01:00",248888,"Arkitektgruppen Cubus AS"]
["Arkitektgruppen Drammen AS","2011-03-06T14:47:38+01:00",214402,"Arkitektgruppen Drammen AS"]
["Arne Aakermann","2010-12-06T16:33:42+01:00",160605,"Arne Aakermann"]
["Arne Vidar Hegni","2010-12-06T16:33:41+01:00",112497,"Arne Vidar Hegni"]
["Arne Wikholm AS","2010-12-06T16:33:41+01:00",110769,"Arne Wikholm AS"]
["Artec AS","2013-02-04T19:23:00+01:00",247296,"Artec AS"]
["AS Anlegg","2010-12-06T16:33:41+01:00",110996,"AS Anlegg"]
["AS Frederiksen","2010-12-06T16:33:41+01:00",98695,"AS Frederiksen"]
["As Luft Miljø (RIV)","2011-01-03T13:16:00+01:00",215426,"As Luft Miljø (RIV)"]
["AS Olaussen Rådg. Ingeniørkontor","2010-12-06T16:33:41+01:00",112298,"AS Olaussen Rådg. Ingeniørkontor"]
["Asker kommune","2010-12-06T16:33:42+01:00",160579,"Asker kommune"]
["Aso (Arne Olaussen)","2010-12-06T16:33:42+01:00",162893,"Aso (Arne Olaussen)"]
["Aspelin Ramm","2010-12-06T16:33:42+01:00",205922,"Aspelin Ramm"]
["Asplan Viak","2010-12-06T16:33:41+01:00",103330,"Asplan Viak"]
["Asplan Viak as - KanEnergi","2011-02-22T14:29:00+01:00",217374,"Asplan Viak as - KanEnergi"]
["Atelier Dreiseitl","2010-12-06T16:33:42+01:00",193820,"Atelier Dreiseitl"]
["Atlant Entreprenør AS","2012-12-17T12:03:00+01:00",245544,"Atlant Entreprenør AS"]
["Aust Agder Fylkeskommune / Risør Videregående skole","2010-12-06T16:33:42+01:00",203391,"Aust Agder Fylkeskommune / Risør Videregående skole"]
["Avanti Ryfylket AS","2010-12-06T16:33:42+01:00",172631,"Avanti Ryfylket AS"]
["Axlander & Rosell","2010-12-06T16:33:41+01:00",110990,"Axlander & Rosell"]
["Backe prosjekt AS","2010-12-06T16:33:42+01:00",160575,"Backe prosjekt AS"]
["Backo AS","2013-01-28T12:47:00+01:00",246979,"Backo AS"]
["Baneservice AS","2010-12-06T16:33:42+01:00",182798,"Baneservice AS"]
["Barkaleitet Borettslag","2011-10-31T13:19:05+01:00",228270,"Barkaleitet Borettslag"]
["Base Property AS","2010-12-06T16:33:42+01:00",172593,"Base Property AS"]
["BA-tec AS","2013-01-16T15:17:00+01:00",246268,"BA-tec AS"]
["Berg Knudsen as","2013-02-04T23:03:43+01:00",247313,"Berg Knudsen as"]
["Bergen Bolig og Byfornyelse KF","2011-03-01T09:57:00+01:00",218052,"Bergen Bolig og Byfornyelse KF"]
["Bergen Gulvleggerservice AS","2010-12-06T16:33:42+01:00",157876,"Bergen Gulvleggerservice AS"]
["Bergen kommune","2010-12-06T16:33:42+01:00",172825,"Bergen kommune"]
["Bergen kommune, etat for utbygging","2013-03-15T09:36:00+01:00",248739,"Bergen kommune, etat for utbygging"]
["Bergen og omegn boligbyggelag (BOB)","2010-12-06T16:33:42+01:00",160598,"Bergen og omegn boligbyggelag (BOB)"]
["Bergen og omegn boligbyggelag (BOB)","2010-12-06T16:33:42+01:00",160599,"Bergen og omegn boligbyggelag (BOB)"]
["Berit og Helge Sørås","2010-12-06T16:33:42+01:00",160600,"Berit og Helge Sørås"]
["Bermingrud Entreprenør AS","2013-01-16T15:19:00+01:00",246269,"Bermingrud Entreprenør AS"]
["Bernt Krogh","2010-12-06T16:33:42+01:00",162868,"Bernt Krogh"]
["BGM Arkitekter AS","2013-02-13T10:47:00+01:00",247616,"BGM Arkitekter AS"]
["BGM Arkitekter/ Asplan Viak","2013-02-13T11:07:00+01:00",247620,"BGM Arkitekter/ Asplan Viak"]
["Biltorget AS","2010-12-06T16:33:42+01:00",160594,"Biltorget AS"]
["Bjarte Fyllingen as","2011-08-05T10:01:00+02:00",224139,"Bjarte Fyllingen as"]
["Bjerga Bygg AS","2010-12-06T16:33:41+01:00",103217,"Bjerga Bygg AS"]
["Bjerga eiendom AS","2010-12-06T16:33:42+01:00",160577,"Bjerga eiendom AS"]
["Bjerke Ventilasjon AS (Ventilasjon)","2010-12-06T16:33:41+01:00",155179,"Bjerke Ventilasjon AS (Ventilasjon)"]
["Blikkenslager Østensen AS","2010-12-06T16:33:42+01:00",157874,"Blikkenslager Østensen AS"]
["Bolkesjø AS","2010-12-06T16:33:00+01:00",119783,"Bolkesjø AS "]
["Boye-Waage","2011-11-04T14:30:12+01:00",217083,"Boye-Waage"]
["BP Norge","2010-12-06T16:33:41+01:00",98842,"BP Norge"]
["BP Solar","2010-12-06T16:33:41+01:00",98840,"BP Solar"]
["Brannsikkerhet Total AS (Sprinkleranlegg)","2010-12-06T16:33:41+01:00",155177,"Brannsikkerhet Total AS (Sprinkleranlegg)"]
["Brattørkaia AS","2012-03-22T19:39:00+01:00",233805,"Brattørkaia AS"]
["Bravida","2010-12-06T16:33:42+01:00",178585,"Bravida"]
["Bravida Norge AS (El, IT og VVS teknikk)","2010-12-06T16:33:42+01:00",157574,"Bravida Norge AS (El, IT og VVS teknikk)"]
["Brekke & Strand Akustikk AS","2012-06-05T22:58:00+02:00",209556,"Brekke & Strand Akustikk AS"]
["Bright elektro","2010-12-06T16:33:42+01:00",204394,"Bright elektro"]
["Bright VVS","2010-12-06T16:33:42+01:00",204393,"Bright VVS"]
["Brucon v/Ottar langehaug","2010-12-06T16:33:42+01:00",193871,"Brucon v/Ottar langehaug"]
["Bryggeriparken AS","2011-11-25T10:50:00+01:00",229555,"Bryggeriparken AS"]
["Brødrene Holstad AS","2012-11-11T14:22:00+01:00",243860,"Brødrene Holstad AS"]
["Brødrene Jørmeland (grunn)","2010-12-06T16:33:42+01:00",162880,"Brødrene Jørmeland (grunn)"]
["Brødrene Olstad AS","2010-12-06T16:33:41+01:00",103261,"Brødrene Olstad AS"]
["Brødrene Ulveseth AS","2013-03-15T09:43:00+01:00",248741,"Brødrene Ulveseth AS"]
["BS Akustikk AS","2010-12-06T16:33:41+01:00",103148,"BS Akustikk AS"]
["BSH Husholdningsapparater AS (hvitevarer)","2010-12-06T16:33:42+01:00",198979,"BSH Husholdningsapparater AS (hvitevarer)"]
["BundeBygg AS","2010-12-06T16:33:00+01:00",102857,"BundeBygg AS"]
["Byberg Maskin AS (gravearbeider)","2010-12-06T16:33:42+01:00",172924,"Byberg Maskin AS (gravearbeider)"]
["ByBo AS","2010-12-06T16:33:42+01:00",166301,"ByBo AS"]
["Bygganalyse AS","2010-12-06T16:33:41+01:00",103151,"Bygganalyse AS"]
["Byggeadministrasjon AS","2013-01-25T17:01:00+01:00",246927,"Byggeadministrasjon AS"]
["Byggforsk","2010-12-06T16:33:41+01:00",112150,"Byggforsk"]
["Byggmeister Samson Kjoberg","2011-08-02T11:58:31+02:00",224066,"Byggmeister Samson Kjoberg"]
["Byggmester Goa (tømmerarbeider)","2010-12-06T16:33:42+01:00",172923,"Byggmester Goa (tømmerarbeider)"]
["Byggmester Tom Martinsen","2010-12-06T16:33:41+01:00",103367,"Byggmester Tom Martinsen"]
["Byggmester Tom Martinsen","2010-12-06T16:33:42+01:00",160584,"Byggmester Tom Martinsen"]
["ByggMester VEST","2010-12-06T16:33:42+01:00",166296,"ByggMester VEST"]
["Byggmester Vest as (arkitektfag)","2011-01-03T13:37:00+01:00",215432,"Byggmester Vest as (arkitektfag)"]
["Byggmesterfirma Hansen og Lauritsen AS","2010-12-06T16:33:42+01:00",200080,"Byggmesterfirma Hansen og Lauritsen AS"]
["Byggplan AS","2012-11-11T20:19:00+01:00",243865,"Byggplan AS"]
["Bærum Kommune","2012-12-13T18:59:23+01:00",157567,"Bærum Kommune"]
["Bøhmer entreprenør AS","2010-12-06T16:33:41+01:00",103209,"Bøhmer entreprenør AS"]
["Børre Svindal Larsen as","2010-12-06T16:33:41+01:00",119976,"Børre Svindal Larsen as"]
["C. Svenkerud","2010-12-06T16:33:41+01:00",101064,"C. Svenkerud"]
["Chem - Con AS (mur og gulv)","2010-12-06T16:33:42+01:00",162879,"Chem - Con AS (mur og gulv)"]
["Christiansen og Roberg AS","2011-03-06T14:45:35+01:00",213753,"Christiansen og Roberg AS"]
["Claudio Trovanelli (Hypokausten og peiser)","2010-12-06T16:33:42+01:00",162876,"Claudio Trovanelli (Hypokausten og peiser)"]
["Colt AS","2010-12-06T16:33:42+01:00",202454,"Colt AS"]
["Comfort consult AS","2010-12-06T16:33:41+01:00",110994,"Comfort consult AS "]
["Conradi AS","2011-02-17T09:38:00+01:00",217516,"Conradi AS "]
["Corebis as","2010-12-06T16:33:41+01:00",155654,"Corebis as"]
["Cowi as","2011-11-16T15:05:00+01:00",217298,"Cowi as"]
["CTM AS","2010-12-06T16:33:41+01:00",111930,"CTM AS"]
["Czelusta Trebygg og Takteknikk","2011-07-08T09:31:00+02:00",223524,"Czelusta Trebygg og Takteknikk"]
["D. Nysted AS (interiør)","2010-12-06T16:33:41+01:00",155842,"D. Nysted AS (interiør)"]
["Dagfinn H. Jørgensen AS","2012-11-11T14:15:45+01:00",98460,"Dagfinn H. Jørgensen AS"]
["DBC Elprosjekt as","2012-12-17T12:01:00+01:00",245542,"DBC Elprosjekt as"]
["DeltaTe (RIV)","2010-12-06T16:33:42+01:00",207494,"DeltaTe (RIV)"]
["Deltatek AS","2010-12-06T16:33:00+01:00",202314,"Deltatek AS"]
["Dimensjon Rådgiving AS","2010-12-06T16:33:42+01:00",172754,"Dimensjon Rådgiving AS"]
["Djupevik Båtbyggeri AS (hovedkonstruksjon eik)","2010-12-06T16:33:42+01:00",162860,"Djupevik Båtbyggeri AS (hovedkonstruksjon eik)"]
["DNF AS","2010-12-06T16:33:00+01:00",115447,"DNF AS"]
["Dokken AS","2010-12-06T16:33:41+01:00",110473,"Dokken AS"]
["Dr. techn. Kristoffer Apeland AS","2010-12-06T16:33:00+01:00",119829,"Dr. techn. Kristoffer Apeland AS"]
["Drammen Eiendom KF","2010-12-06T16:33:42+01:00",204308,"Drammen Eiendom KF"]
["Drammen kommune","2010-12-06T16:33:42+01:00",162580,"Drammen kommune"]
["Drange Maskin AS","2013-03-15T09:42:00+01:00",248740,"Drange Maskin AS"]
["dyAna GmbH (Tyskland)","2012-12-28T15:05:00+01:00",245788,"dyAna GmbH (Tyskland)"]
["ECT AS","2010-12-06T16:33:00+01:00",98463,"ECT AS"]
["Effecta","2010-12-06T16:33:42+01:00",181821,"Effecta"]
["Egerhei AS","2010-12-06T16:33:41+01:00",103333,"Egerhei AS"]
["Egersund Kommune","2010-12-06T16:33:42+01:00",158054,"Egersund Kommune"]
["Egil Berge AS","2012-11-11T20:23:00+01:00",243867,"Egil Berge AS"]
["Eide entreprenør AS (Årnes)","2012-06-08T09:12:12+02:00",216250,"Eide entreprenør AS (Årnes)"]
["Eiendomsprosjektering as","2013-02-04T23:01:00+01:00",247310,"Eiendomsprosjektering as"]
["Ekrheim Elconsult AS","2010-12-06T16:33:00+01:00",162871,"Ekrheim Elconsult AS"]
["El miljø AS","2013-01-18T12:59:10+01:00",244638,"El miljø AS"]
["Elconsultteam AS","2010-12-06T16:33:41+01:00",103275,"Elconsultteam AS "]
["Elconsultteam Sør","2012-10-11T17:54:21+02:00",217000,"Elconsultteam Sør"]
["Elconsultteam sør (RIE)","2011-02-07T13:31:00+01:00",216998,"Elconsultteam sør (RIE)"]
["Electronova as","2013-02-04T23:01:00+01:00",247311,"Electronova as"]
["Elektro Nord AS","2013-02-15T14:23:00+01:00",247733,"Elektro Nord AS"]
["Elektroeksperten AS","2013-01-28T12:47:00+01:00",246980,"Elektroeksperten AS"]
["Elektroteam AS (RIE)","2011-03-08T13:40:00+01:00",218403,"Elektroteam AS (RIE)"]
["Elnan","2010-12-06T16:33:42+01:00",164722,"Elnan"]
["ELNAN AS","2010-12-06T16:33:41+01:00",98985,"ELNAN AS"]
["Elnan AS","2010-12-06T16:33:41+01:00",111928,"Elnan AS"]
["Elplan AS","2010-12-06T16:33:00+01:00",178153,"Elplan AS"]
["El-prosjekt","2010-12-06T16:33:41+01:00",121315,"El-prosjekt"]
["EM teknikk AS","2010-12-06T16:33:41+01:00",120245,"EM teknikk AS"]
["EMA AS","2010-12-06T16:33:42+01:00",202453,"EMA AS"]
["Endre Tvinnereim","2012-02-21T15:22:00+01:00",232981,"Endre Tvinnereim"]
["Energetica","2012-05-30T10:34:00+02:00",235785,"Energetica"]
["Entra Eiendom AS","2011-06-27T12:35:00+02:00",223036,"Entra Eiendom AS"]
["Entreprenør Magnar Sivertsen as (grunn og betong)","2011-01-03T13:29:00+01:00",215431,"Entreprenør Magnar Sivertsen as (grunn og betong)"]
["Entro nova AS","2010-12-06T16:33:41+01:00",121244,"Entro nova AS"]
["Enøk-senteret AS","2010-12-06T16:33:42+01:00",205125,"Enøk-senteret AS"]
["Erichsen & Horgen AS","2010-12-06T16:33:41+01:00",98872,"Erichsen & Horgen AS"]
["Eriksen og Thorsvik AS (bygg)","2011-03-08T13:47:54+01:00",218404,"Eriksen og Thorsvik AS (bygg)"]
["Erstad & Lekven Bergen as","2011-08-05T10:06:00+02:00",224140,"Erstad & Lekven Bergen as"]
["Erstad & Lekven Oslo AS","2012-11-06T10:09:00+01:00",243696,"Erstad & Lekven Oslo AS"]
["Esbensen Rådgivende Ingeniører AS","2010-12-06T16:33:00+01:00",202457,"Esbensen Rådgivende Ingeniører AS"]
["eStatikk","2013-01-01T20:15:00+01:00",245833,"eStatikk"]
["Evotek AS","2010-12-06T16:33:41+01:00",98464,"Evotek AS"]
["F. Stensrud AS","2011-10-27T09:51:00+02:00",228141,"F. Stensrud AS"]
["Faber bygg AS","2012-12-28T15:09:00+01:00",245789,"Faber bygg AS"]
["Fagerborg menighet","2012-11-05T14:26:00+01:00",243665,"Fagerborg menighet"]
["Farsund kommune","2010-12-06T16:33:42+01:00",160582,"Farsund kommune"]
["Faveo Prosjektledelse AS","2012-02-29T15:12:00+01:00",233203,"Faveo Prosjektledelse AS"]
["FAVEO/Grønn byggallianse v/Sverre Tiltnes (Miljøkoordinator)","2010-12-06T16:33:42+01:00",214152,"FAVEO/Grønn byggallianse v/Sverre Tiltnes (Miljøkoordinator)"]
["FERD K23 AS","2013-01-22T15:23:00+01:00",246723,"FERD K23 AS"]
["Fløibanen","2010-12-06T16:33:42+01:00",182799,"Fløibanen"]
["Follo Bygg og Eiendom AS","2012-11-05T14:34:00+01:00",243669,"Follo Bygg og Eiendom AS"]
["Forsvarsbygg","2013-03-21T01:36:00+01:00",248971,"Forsvarsbygg"]
["Forus Næringspark AS","2010-12-06T16:33:42+01:00",163053,"Forus Næringspark AS"]
["Forus Rør AS","2010-12-06T16:33:41+01:00",155841,"Forus Rør AS"]
["Frank Hansen, Åfjord (Strandbar)","2011-12-09T10:09:00+01:00",230107,"Frank Hansen, Åfjord (Strandbar)"]
["Fredricia Miller siv.ark MNAL","2010-12-06T16:33:41+01:00",119975,"Fredricia Miller siv.ark MNAL"]
["Fredrikstad kommune","2012-08-17T13:14:00+02:00",241086,"Fredrikstad kommune"]
["Fredrikstad kommune, Teknisk drift","2012-08-17T13:16:00+02:00",241087,"Fredrikstad kommune, Teknisk drift"]
["Frode Olsson AS (forskaling, støp)","2010-12-06T16:33:41+01:00",155839,"Frode Olsson AS (forskaling, støp)"]
["Froland kommune","2011-03-06T16:29:43+01:00",215887,"Froland kommune"]
["Frost Entrepenør AS (bygningsmessige arbeider)","2010-12-06T16:33:42+01:00",162920,"Frost Entrepenør AS (bygningsmessige arbeider)"]
["Frost Entreprenør AS","2010-12-06T16:33:41+01:00",111932,"Frost Entreprenør AS"]
["Frydenlund og Høyer AS","2012-11-11T20:26:00+01:00",243868,"Frydenlund og Høyer AS"]
["Frøiland Bygg","2010-12-06T16:33:42+01:00",158043,"Frøiland Bygg"]
["Fyllingen Maskinstasjon","2010-12-06T16:33:42+01:00",182796,"Fyllingen Maskinstasjon"]
["GAIA Lista AS (RIV)","2010-12-06T16:33:42+01:00",207493,"GAIA Lista AS (RIV)"]
["Gauldal Bygg AS","2013-01-16T20:08:00+01:00",222846,"Gauldal Bygg AS"]
["Geir Knudsen AS","2010-12-06T16:33:42+01:00",166298,"Geir Knudsen AS"]
["Geoenergi as","2010-12-06T16:33:41+01:00",120246,"Geoenergi as"]
["GK Norge AS","2012-12-28T15:04:00+01:00",245787,"GK Norge AS"]
["Glassbygg AS","2012-03-22T19:43:00+01:00",233807,"Glassbygg AS"]
["Glassfasade GF01: Skandinaviska Glassystem","2010-12-06T16:33:42+01:00",202823,"Glassfasade GF01: Skandinaviska Glassystem"]
["glava as","2010-12-06T16:33:41+01:00",155325,"glava as"]
["Graveentreprenør Geir Stuberg","2011-09-08T16:02:00+02:00",225761,"Graveentreprenør Geir Stuberg"]
["Greåker VVS AS","2010-12-06T16:33:41+01:00",103364,"Greåker VVS AS"]
["Grip og Zen Resort (miljøsertifisering)","2010-12-06T16:33:42+01:00",178591,"Grip og Zen Resort (miljøsertifisering)"]
["Grong kommune","2010-12-06T16:33:42+01:00",160603,"Grong kommune"]
["Grøner AS","2010-12-06T16:33:41+01:00",103250,"Grøner AS"]
["Grønmyr Barnehage","2011-03-08T14:26:00+01:00",218416,"Grønmyr Barnehage"]
["Grønmyr Bygg v/Ole Eliassen","2011-03-08T14:23:00+01:00",218412,"Grønmyr Bygg v/Ole Eliassen"]
["Gunnar Karlsen AS (automatisering)","2010-12-06T16:33:42+01:00",172629,"Gunnar Karlsen AS (automatisering)"]
["H2 Byggeteknikk AS","2013-02-04T19:24:58+01:00",231963,"H2 Byggeteknikk AS"]
["Hambra","2011-12-16T14:28:09+01:00",110466,"Hambra"]
["Hammer Rådgivning","2010-12-06T16:33:41+01:00",103260,"Hammer Rådgivning"]
["Hamstad AS (RIV)","2010-12-06T16:33:42+01:00",162916,"Hamstad AS (RIV)"]
["Handegård & Pedersen AS","2011-03-01T09:48:00+01:00",218047,"Handegård & Pedersen AS"]
["Hans Helgesen og sønner AS","2010-12-06T16:33:41+01:00",110764,"Hans Helgesen og sønner AS"]
["Hansaparken AS","2010-12-06T16:33:42+01:00",160606,"Hansaparken AS"]
["Harboe og Leganger","2010-12-06T16:33:42+01:00",165391,"Harboe og Leganger"]
["Harsem prosjektering AS","2010-12-06T16:33:41+01:00",112300,"Harsem prosjektering AS"]
["Hartmann Prosjektrådgiving AS","2012-07-09T12:08:00+02:00",240270,"Hartmann Prosjektrådgiving AS"]
["Hartmann Prosjektrådgivning AS","2013-01-30T21:16:00+01:00",246978,"Hartmann Prosjektrådgivning AS"]
["HBBL","2010-12-06T16:33:41+01:00",155837,"HBBL"]
["Heiberg & Tveter (RIE)","2010-12-06T16:33:42+01:00",178580,"Heiberg & Tveter (RIE)"]
["Heimdal Bolig","2012-07-09T11:54:00+02:00",240269,"Heimdal Bolig"]
["Heimdal Entreprenør AS","2010-12-06T16:33:42+01:00",164727,"Heimdal Entreprenør AS"]
["Heindenreich-Ris & Lillefjære A/S","2010-12-06T16:33:41+01:00",120139,"Heindenreich-Ris & Lillefjære A/S"]
["HE-Kjelleveien AS","2013-01-16T15:14:00+01:00",246267,"HE-Kjelleveien AS"]
["Helen & Hard AS","2010-12-06T16:33:42+01:00",192377,"Helen & Hard AS"]
["Helge Lunde","2010-12-06T16:33:42+01:00",204511,"Helge Lunde"]
["Helsebygg Midt-Norge","2012-10-21T20:04:00+02:00",243126,"Helsebygg Midt-Norge"]
["Hemato Eiendom","2012-10-09T16:48:00+02:00",242773,"Hemato Eiendom"]
["Henning Stokke","2010-12-06T16:33:42+01:00",162859,"Henning Stokke"]
["HENT AS","2010-12-06T16:33:42+01:00",157573,"HENT AS "]
["Hent AS (Knut Alstad)","2010-12-06T16:33:42+01:00",157568,"Hent AS (Knut Alstad)"]
["HENT AS (totalentreprenør)","2011-10-27T09:59:11+02:00",228147,"HENT AS (totalentreprenør)"]
["Hjellnes Consult AS","2012-06-06T01:14:00+02:00",225259,"Hjellnes Consult AS"]
["Hjelmeland Mur & Flis AS (mur og gulv)","2010-12-06T16:33:42+01:00",172954,"Hjelmeland Mur & Flis AS (mur og gulv)"]
["Hol Kirkelige Fellesråd","2012-12-17T11:52:00+01:00",245537,"Hol Kirkelige Fellesråd"]
["Holtefjell Entreprenør AS","2010-12-06T16:33:42+01:00",204306,"Holtefjell Entreprenør AS"]
["Holz Norge 100 (massivtreelementer)","2010-12-06T16:33:42+01:00",158133,"Holz Norge 100 (massivtreelementer)"]
["Hordaland Fylkeskommune Eigedomsseksjonen","2011-08-05T10:08:00+02:00",224141,"Hordaland Fylkeskommune Eigedomsseksjonen"]
["Horten kommune","2011-03-06T14:44:44+01:00",213267,"Horten kommune"]
["HR Prosjekt AS","2013-03-06T10:08:00+01:00",248373,"HR Prosjekt AS"]
["HRL Skien","2010-12-06T16:33:42+01:00",162892,"HRL Skien"]
["HS Vagle AS","2010-12-06T16:33:41+01:00",155840,"HS Vagle AS"]
["Häussler/H-produkter","2010-12-06T16:33:42+01:00",178213,"Häussler/H-produkter"]
["i NOR as (RIE)","2010-12-06T16:33:42+01:00",182981,"i NOR as (RIE)"]
["IBR el-prosjekt AS","2010-12-06T16:33:00+01:00",181046,"IBR el-prosjekt AS"]
["Iguzzini (lys)","2010-12-06T16:33:42+01:00",198981,"Iguzzini (lys)"]
["Ikke offentlig","2013-01-01T20:13:45+01:00",245832,"Ikke offentlig"]
["Ilje AS","2010-12-06T16:33:42+01:00",160572,"Ilje AS"]
["In`by AS","2010-12-06T16:33:42+01:00",160569,"In`by AS"]
["Ineo Eiendom & Base Property","2013-04-02T14:29:30+02:00",249381,"Ineo Eiendom & Base Property"]
["Ing. Evensen AS","2012-08-17T13:19:00+02:00",241091,"Ing. Evensen AS"]
["Ing. Jan Johannessen as","2010-12-06T16:33:41+01:00",155960,"Ing. Jan Johannessen as"]
["Ing. K. Simonsen A/S","2010-12-06T16:33:41+01:00",101080,"Ing. K. Simonsen A/S"]
["Ing. Per Ødemark","2010-12-06T16:33:41+01:00",110995,"Ing. Per Ødemark"]
["Ing. Seim & Hultgreen AS","2010-12-06T16:33:41+01:00",103278,"Ing. Seim & Hultgreen AS"]
["Ingar Ellefsrød, Erling Vermelid, Odd Skadsem, Steinar Wegger","2010-12-06T16:33:41+01:00",121096,"Ingar Ellefsrød, Erling Vermelid, Odd Skadsem, Steinar Wegger"]
["Ingenia AS","2012-12-19T16:53:00+01:00",214726,"Ingenia AS"]
["Ingeniør Petter Nome AS (RIV)","2010-12-06T16:33:42+01:00",209552,"Ingeniør Petter Nome AS (RIV)"]
["Instanes AS","2010-12-06T16:33:41+01:00",110753,"Instanes AS"]
["Interconsult ASA","2010-12-06T16:33:41+01:00",102852,"Interconsult ASA "]
["Ipark Eiendom AS","2012-12-28T14:55:00+01:00",245783,"Ipark Eiendom AS"]
["Isola","2010-12-06T16:33:42+01:00",178211,"Isola"]
["ISS Landscaping AS ved Stein Anders Sundbye","2010-12-06T16:33:41+01:00",121092,"ISS Landscaping AS ved Stein Anders Sundbye "]
["ISS O.Skaaret AS","2010-12-06T16:33:41+01:00",103188,"ISS O.Skaaret AS"]
["Istad Tekniske AS","2012-07-09T12:09:00+02:00",240271,"Istad Tekniske AS"]
["ITECH (EL, VVS)","2010-12-06T16:33:42+01:00",164238,"ITECH (EL, VVS)"]
["Jackon","2010-12-06T16:33:42+01:00",178212,"Jackon"]
["Jadarhus AS","2010-12-06T16:33:41+01:00",155835,"Jadarhus AS"]
["Jan Brataas Ecobas AS","2010-12-06T16:33:41+01:00",119775,"Jan Brataas Ecobas AS"]
["Jan Nilsen Robstad (VVS)","2010-12-06T16:33:42+01:00",158195,"Jan Nilsen Robstad (VVS)"]
["Jan Willy Førland (PTL)","2010-12-06T16:33:42+01:00",158201,"Jan Willy Førland (PTL)"]
["JM Byggholt AS","2011-01-13T16:45:02+01:00",215940,"JM Byggholt AS"]
["Jo Toftdal (byggmester)","2010-12-06T16:33:42+01:00",177643,"Jo Toftdal (byggmester)"]
["Joachim Eble architektur","2010-12-06T16:33:42+01:00",207495,"Joachim Eble architektur"]
["Johannes Lipphardt, Trondheim kommune","2012-02-03T12:56:00+01:00",232345,"Johannes Lipphardt, Trondheim kommune"]
["Johs E. Øvsthus AS","2011-12-12T09:04:00+01:00",230174,"Johs E. Øvsthus AS"]
["Jon Bojer Godal","2013-02-04T16:38:00+01:00",247287,"Jon Bojer Godal"]
["Jorunn Sannes (kunstner, fasade)","2010-12-06T16:33:42+01:00",202820,"Jorunn Sannes (kunstner, fasade)"]
["Jærbetong AS","2011-11-15T14:55:00+01:00",228972,"Jærbetong AS"]
["K. Lund / ORAS","2010-12-06T16:33:41+01:00",98982,"K. Lund / ORAS"]
["Kai Paulsen (Skanska AS)","2010-12-06T16:33:42+01:00",160688,"Kai Paulsen (Skanska AS)"]
["Kanvas","2010-12-06T16:33:42+01:00",157879,"Kanvas"]
["Kanvas v/ Lisbet Andresen","2010-12-06T16:33:42+01:00",157878,"Kanvas v/ Lisbet Andresen"]
["Karl Kvalsund AS (RIE)","2010-12-06T16:33:42+01:00",205124,"Karl Kvalsund AS (RIE)"]
["Karl Sæbjørn Kjøllesdal","2010-12-06T16:33:42+01:00",160592,"Karl Sæbjørn Kjøllesdal"]
["Kilde Akustikk AS","2011-03-01T09:49:26+01:00",155178,"Kilde Akustikk AS "]
["KILDE akustikk as (RIAKU)","2011-01-03T13:21:54+01:00",215429,"KILDE akustikk as (RIAKU)"]
["Kjell Garshol AS, Bærum","2010-12-06T16:33:41+01:00",120019,"Kjell Garshol AS, Bærum"]
["Kjell Ludvigsen (RIB)","2010-12-06T16:33:42+01:00",209555,"Kjell Ludvigsen (RIB)"]
["Kjell Ludvigsen AS","2013-02-15T18:35:00+01:00",247748,"Kjell Ludvigsen AS"]
["Kjell Sævik as","2011-01-03T13:22:00+01:00",215430,"Kjell Sævik as"]
["Klepp installasjon AS","2010-12-06T16:33:42+01:00",163047,"Klepp installasjon AS"]
["Klepp installasjon AS","2010-12-06T16:33:42+01:00",165638,"Klepp installasjon AS"]
["Klepp kyrkjelege fellesråd","2011-11-15T14:37:00+01:00",228968,"Klepp kyrkjelege fellesråd"]
["Klepphus AS","2010-12-06T16:33:42+01:00",158052,"Klepphus AS"]
["Klimat Teknologi AB","2010-12-06T16:33:41+01:00",120058,"Klimat Teknologi AB"]
["Klimatak YIT (RIV, RIE)","2010-12-06T16:33:42+01:00",158194,"Klimatak YIT (RIV, RIE)"]
["KLP Eiendom","2010-12-06T16:33:42+01:00",208891,"KLP Eiendom"]
["KN Kjøita AS (Egil Andre Jore)","2010-12-06T16:33:42+01:00",158191,"KN Kjøita AS (Egil Andre Jore)"]
["Knut Skutle as","2010-12-06T16:33:41+01:00",112152,"Knut Skutle as"]
["Knut Skutle AS","2010-12-06T16:33:41+01:00",155124,"Knut Skutle AS"]
["Knut Skutle AS","2010-12-06T16:33:41+01:00",155180,"Knut Skutle AS"]
["Kolberg ventilasjon (RIV)","2010-12-06T16:33:42+01:00",214147,"Kolberg ventilasjon (RIV)"]
["Kolnes maskin","2010-12-06T16:33:42+01:00",163151,"Kolnes maskin"]
["Kolnes Maskin","2010-12-06T16:33:42+01:00",165636,"Kolnes Maskin"]
["Kolnes Maskin AS","2010-12-06T16:33:42+01:00",163048,"Kolnes Maskin AS"]
["Kongsvinger kommune og Hedmark fylkeskommune","2010-12-14T09:48:00+01:00",214729,"Kongsvinger kommune og Hedmark fylkeskommune"]
["Konsulentfirma","2012-02-03T11:30:54+01:00",232347,"Konsulentfirma"]
["Konsulentfirma","2012-02-03T11:31:14+01:00",232348,"Konsulentfirma"]
["Konsulentfirma","2012-02-03T12:49:24+01:00",232357,"Konsulentfirma"]
["Konsulentfirma","2013-02-12T11:16:45+01:00",247568,"Konsulentfirma"]
["Konsulentfirma","2013-02-12T11:25:56+01:00",247574,"Konsulentfirma"]
["Konsulentfirma","2013-02-12T11:28:26+01:00",247576,"Konsulentfirma"]
["Konsulentfirma","2013-02-12T13:13:56+01:00",247580,"Konsulentfirma"]
["Konsulentfirma","2013-02-12T13:14:12+01:00",247581,"Konsulentfirma"]
["Konsulentfirma","2013-03-06T10:05:28+01:00",248370,"Konsulentfirma"]
["Konsulentfirma","2013-04-02T13:55:00+02:00",249382,"Konsulentfirma"]
["Konsulentfirmaet i trondheim på kantstein","2011-03-06T14:46:34+01:00",212106,"Konsulentfirmaet i trondheim på kantstein"]
["Krisesenteret i Telemark","2011-02-07T15:01:00+01:00",217042,"Krisesenteret i Telemark"]
["Kristian Fadum AS","2010-12-06T16:33:41+01:00",112307,"Kristian Fadum AS"]
["Kristiansand kommune","2010-12-06T16:33:42+01:00",157560,"Kristiansand kommune"]
["Kristiansand kommune","2010-12-06T16:33:42+01:00",157561,"Kristiansand kommune"]
["Kristiansand kommune v/Kristiansand Eiendom","2013-02-13T10:31:20+01:00",216994,"Kristiansand kommune v/Kristiansand Eiendom"]
["KRS-gruppen","2010-12-06T16:33:41+01:00",103160,"KRS-gruppen"]
["Kruse Smith (Arvid Fredriksen)","2010-12-06T16:33:42+01:00",158200,"Kruse Smith (Arvid Fredriksen)"]
["Kruse Smith (Hans Ragnar Uthus)","2010-12-06T16:33:41+01:00",155932,"Kruse Smith (Hans Ragnar Uthus)"]
["Kruse Smith Entreprenør AS","2011-08-04T10:56:01+02:00",155929,"Kruse Smith Entreprenør AS"]
["Landskapsentreprenørene AS","2010-12-17T08:58:00+01:00",214836,"Landskapsentreprenørene AS"]
["Lars Myhre AS","2012-11-11T20:21:00+01:00",243866,"Lars Myhre AS"]
["Lars Myhre Østfold AS (RIV)","2010-12-22T10:51:00+01:00",215015,"Lars Myhre Østfold AS (RIV)"]
["Lars og Marit Nilssen","2010-12-06T16:33:42+01:00",160593,"Lars og Marit Nilssen"]
["Larsen Entreprenør AS","2010-12-06T16:33:42+01:00",178588,"Larsen Entreprenør AS"]
["Lervike AS","2013-02-04T16:39:00+01:00",247289,"Lervike AS"]
["LH Bygg Berkåk og Stjern Entreprenør AS Åfjord (Kysthus)","2011-12-09T10:09:00+01:00",230108,"LH Bygg Berkåk og Stjern Entreprenør AS Åfjord (Kysthus)"]
["Lian AS","2010-12-06T16:33:42+01:00",202456,"Lian AS"]
["Lundenes as/ AS Anlegg","2010-12-06T16:33:41+01:00",103472,"Lundenes as/ AS Anlegg"]
["Lux Brannteknologi AS","2012-11-05T14:33:00+01:00",243668,"Lux Brannteknologi AS"]
["Lys og Varme AS","2013-01-22T19:06:00+01:00",246739,"Lys og Varme AS"]
["Lyse AS (energi)","2010-12-06T16:33:42+01:00",162882,"Lyse AS (energi)"]
["Løvik K A A/S","2010-12-06T16:33:42+01:00",157871,"Løvik K A A/S"]
["Løvold AS","2010-12-06T16:33:41+01:00",121071,"Løvold AS"]
["Løyning AS","2010-12-06T16:33:41+01:00",103327,"Løyning AS"]
["Malermester Per Johannesen AS","2010-12-06T16:33:42+01:00",157875,"Malermester Per Johannesen AS"]
["Malnes og Endresen AS","2011-11-08T14:34:00+01:00",228643,"Malnes og Endresen AS"]
["Malvin L. Hillestad","2010-12-06T16:33:42+01:00",192375,"Malvin L. Hillestad"]
["Marianne og Kim Rudolph-Lund","2010-12-06T16:33:42+01:00",207411,"Marianne og Kim Rudolph-Lund"]
["Martinsons Tre AB","2010-12-06T16:33:42+01:00",178156,"Martinsons Tre AB"]
["Martinsons Tre AS","2012-02-03T11:34:00+01:00",232349,"Martinsons Tre AS"]
["Martinsons Tre AS (rådgivn. massivtre)","2011-10-27T09:55:00+02:00",228145,"Martinsons Tre AS (rådgivn. massivtre)"]
["Materialbanken AS (Malmfuru)","2010-12-06T16:33:42+01:00",162874,"Materialbanken AS (Malmfuru)"]
["Maurstadgruppen","2010-12-06T16:33:42+01:00",182978,"Maurstadgruppen"]
["May Bente Aronsen (kunstner, lobby)","2010-12-06T16:33:42+01:00",203158,"May Bente Aronsen (kunstner, lobby)"]
["Mercur VVS Entreprenør AS","2010-12-06T16:33:41+01:00",110475,"Mercur VVS Entreprenør AS"]
["Mesterbygg Namsos","2012-06-12T11:58:00+02:00",236724,"Mesterbygg Namsos"]
["Mesterhus","2010-12-06T16:33:42+01:00",204956,"Mesterhus"]
["Mesterhus","2010-12-06T16:33:42+01:00",204957,"Mesterhus"]
["Meteorologisk institutt","2010-12-06T16:33:00+01:00",181037,"Meteorologisk institutt"]
["Michael Blümlein AS (RIBr)","2010-12-22T10:50:00+01:00",215013,"Michael Blümlein AS (RIBr)"]
["Miljøbyen Granås AS","2013-01-28T12:46:00+01:00",246977,"Miljøbyen Granås AS"]
["Miljøconsult AS","2013-02-04T19:25:00+01:00",247297,"Miljøconsult AS"]
["Miljøforskningssenteret ANS","2010-12-06T16:33:42+01:00",160588,"Miljøforskningssenteret ANS"]
["Minera Norge AS (skifer)","2010-12-06T16:33:41+01:00",155751,"Minera Norge AS (skifer)"]
["Modalsli Prosjektering","2010-12-06T16:33:00+01:00",162870,"Modalsli Prosjektering"]
["Moelven Elektro AS (RIE)","2010-12-06T16:33:42+01:00",214149,"Moelven Elektro AS (RIE)"]
["Moelven limtre","2010-12-06T16:33:42+01:00",162861,"Moelven limtre "]
["Moelven massivtre (dekker, veggelementer)","2010-12-06T16:33:42+01:00",162862,"Moelven massivtre (dekker, veggelementer)"]
["Morten Hagen","2010-12-06T16:33:41+01:00",110658,"Morten Hagen"]
["Mossemøllene eiendom","2011-08-02T09:54:00+02:00",224058,"Mossemøllene eiendom"]
["Multiconsult","2010-12-06T16:33:00+01:00",97927,"Multiconsult"]
["Multiteknikk AS","2010-12-06T16:33:00+01:00",155701,"Multiteknikk AS"]
["Murermester Tore Sjømæling","2011-09-08T16:02:00+02:00",225762,"Murermester Tore Sjømæling"]
["Murmester Aksel Hansen","2010-12-06T16:33:42+01:00",157873,"Murmester Aksel Hansen"]
["Murmester Rolf Holm as","2010-12-06T16:33:41+01:00",112153,"Murmester Rolf Holm as"]
["Myhrerenga BRL","2010-12-06T16:33:42+01:00",191299,"Myhrerenga BRL"]
["Myklebust AS","2012-10-18T15:06:00+02:00",178927,"Myklebust AS"]
["Myrvold Utemiljø","2010-12-06T16:33:42+01:00",178583,"Myrvold Utemiljø"]
["Møre og Romsdal fylkeskommune","2013-02-04T16:36:00+01:00",247286,"Møre og Romsdal fylkeskommune"]
["National Elektro AS","2010-12-06T16:33:41+01:00",110479,"National Elektro AS"]
["Naturbygg AS","2010-12-06T16:33:41+01:00",103262,"Naturbygg AS"]
["NCC Construction AS","2010-12-06T16:33:41+01:00",97922,"NCC Construction AS"]
["NCC Construction AS","2010-12-06T16:33:42+01:00",165388,"NCC Construction AS"]
["NCC Property Development","2010-12-06T16:33:42+01:00",207445,"NCC Property Development"]
["Neas Consulting","2012-06-06T10:50:25+02:00",178155,"Neas Consulting"]
["Nedig AS","2010-12-06T16:33:41+01:00",103150,"Nedig AS"]
["Nedre Buskerud Boligbyggelag (NBBO)","2010-12-06T16:33:42+01:00",207456,"Nedre Buskerud Boligbyggelag (NBBO)"]
["Nesodden kommune","2010-12-06T16:33:42+01:00",160571,"Nesodden kommune"]
["Nexi Bygg as","2010-12-06T16:33:41+01:00",94533,"Nexi Bygg as"]
["Nils Ivar Bovim","2010-12-06T16:33:42+01:00",193869,"Nils Ivar Bovim"]
["NODE rådgivende ing.AS","2010-12-06T16:33:42+01:00",166297,"NODE rådgivende ing.AS"]
["NODE rådgivende ingeniører as (RIB)","2011-01-03T13:13:00+01:00",215424,"NODE rådgivende ingeniører as (RIB)"]
["Norconsult AS","2010-12-06T16:33:00+01:00",103147,"Norconsult AS"]
["NorDan AS (dører, vinduer, glassfasade)","2010-12-06T16:33:42+01:00",172953,"NorDan AS (dører, vinduer, glassfasade)"]
["Nordbohus AS v/ ingeniør Randi Nåvik","2010-12-06T16:33:41+01:00",111983,"Nordbohus AS v/ ingeniør Randi Nåvik "]
["Nordesign","2012-02-03T11:37:00+01:00",232352,"Nordesign"]
["Nordland Fylkeskommune","2011-07-04T13:41:00+02:00",223331,"Nordland Fylkeskommune"]
["Norelement (PREFAB)","2010-12-06T16:33:42+01:00",158234,"Norelement (PREFAB)"]
["Norelement Dag Kerlefsen (PREFAB)","2010-12-06T16:33:42+01:00",158196,"Norelement Dag Kerlefsen (PREFAB)"]
["Norgeshus AS","2013-01-18T12:59:00+01:00",246401,"Norgeshus AS"]
["Norsas","2010-12-06T16:33:42+01:00",184491,"Norsas"]
["Norsk brannvernforening","2013-02-04T23:02:00+01:00",247312,"Norsk brannvernforening"]
["Norsk institutt for naturforskning (NINA)","2013-01-27T11:44:00+01:00",246946,"Norsk institutt for naturforskning (NINA)"]
["Norsk Massivtre AS","2010-12-06T16:33:42+01:00",177615,"Norsk Massivtre AS"]
["Norsk Oljemuseum","2010-12-06T16:33:42+01:00",192372,"Norsk Oljemuseum"]
["Noveta AS","2010-12-06T16:33:42+01:00",202451,"Noveta AS "]
["NTNU","2010-12-06T16:33:00+01:00",178928,"NTNU"]
["Nygaard AS","2010-12-06T16:33:42+01:00",192282,"Nygaard AS"]
["Nyland byggeadministrasjon AS","2012-12-28T14:56:00+01:00",245784,"Nyland byggeadministrasjon AS"]
["OBAS","2010-12-06T16:33:42+01:00",204487,"OBAS"]
["OBOS nye hjem","2010-12-06T16:33:42+01:00",160585,"OBOS nye hjem"]
["OBOS Nye Hjem","2010-12-06T16:33:42+01:00",204958,"OBOS Nye Hjem"]
["OEC Consulting AS","2010-12-07T12:27:00+01:00",214495,"OEC Consulting AS"]
["OFE AS","2010-12-06T16:33:41+01:00",101079,"OFE AS"]
["OKK Entreprenør AS","2010-12-06T16:33:42+01:00",214156,"OKK Entreprenør AS"]
["Olaussen AS","2011-03-06T14:46:51+01:00",213832,"Olaussen AS"]
["Olav Olsen","2010-12-06T16:33:41+01:00",120134,"Olav Olsen "]
["Ole Jørgen Furdal, Sveio kommune","2010-12-06T16:33:42+01:00",172749,"Ole Jørgen Furdal, Sveio kommune"]
["Ole K. Karlsen Entreprenør AS","2010-12-06T16:33:41+01:00",103185,"Ole K. Karlsen Entreprenør AS"]
["Ole Sivertsen AS","2012-12-10T11:32:05+01:00",244639,"Ole Sivertsen AS"]
["Oleivsgard Byggconsult AS","2013-02-04T22:11:00+01:00",247302,"Oleivsgard Byggconsult AS"]
["Olset AS","2010-12-06T16:33:41+01:00",103002,"Olset AS"]
["Omsorgsbygg Oslo KF","2010-12-22T11:01:00+01:00",215026,"Omsorgsbygg Oslo KF"]
["OPAK AS","2010-12-06T16:33:00+01:00",178578,"OPAK AS"]
["Oppland bygg ans","2013-02-04T22:58:00+01:00",247309,"Oppland bygg ans"]
["Oppland fylkeskommune","2013-02-04T22:57:00+01:00",247307,"Oppland fylkeskommune"]
["Opticonsult as","2010-12-06T16:33:41+01:00",155959,"Opticonsult as"]
["Opticonsult Førde (EL)","2010-12-06T16:33:41+01:00",136170,"Opticonsult Førde (EL)"]
["Optimo Prosjekt AS","2012-06-06T10:30:08+02:00",223602,"Optimo Prosjekt AS"]
["ORAS Agder AS","2010-12-06T16:33:41+01:00",103149,"ORAS Agder AS"]
["Oras AS","2013-03-06T10:07:24+01:00",248371,"Oras AS"]
["Oras as (RIV)","2010-12-06T16:33:42+01:00",214148,"Oras as (RIV)"]
["Oras AS (VVS)","2010-12-06T16:33:42+01:00",165637,"Oras AS (VVS)"]
["Oras AS (VVS)","2010-12-06T16:33:42+01:00",163045,"Oras AS (VVS) "]
["Oras buskerud","2010-12-06T16:33:41+01:00",119896,"Oras buskerud "]
["Oras Trondheim as","2010-12-06T16:33:42+01:00",164721,"Oras Trondheim as"]
["Origo AS (VVA)","2010-12-06T16:33:41+01:00",155700,"Origo AS (VVA)"]
["Orkdal kommune","2013-01-23T17:38:00+01:00",246803,"Orkdal kommune"]
["Oslo Byggentreprenør AS","2013-01-25T17:01:00+01:00",246926,"Oslo Byggentreprenør AS"]
["Oslo kommune","2010-12-06T16:33:42+01:00",160568,"Oslo kommune"]
["Oslo Kommune ved Vann- og avløpsetaten og Friluftsetaten","2010-12-06T16:33:42+01:00",162435,"Oslo Kommune ved Vann- og avløpsetaten og Friluftsetaten"]
["Oslo kommune, Bydel Alna","2011-03-06T15:42:11+01:00",214717,"Oslo kommune, Bydel Alna"]
["Oslo kommune, Bydel Stovner","2011-03-06T15:41:23+01:00",214749,"Oslo kommune, Bydel Stovner"]
["Oslo kommune, Bydel Stovner","2011-03-06T15:41:05+01:00",214750,"Oslo kommune, Bydel Stovner"]
["Oslo kommune, Friluftsetaten","2010-12-06T16:33:42+01:00",160595,"Oslo kommune, Friluftsetaten"]
["Oslo kommune, Friluftsetaten og Bydel Alna","2011-03-06T15:41:40+01:00",214740,"Oslo kommune, Friluftsetaten og Bydel Alna"]
["Oslo kommune, idrettsetaten","2011-03-11T14:50:00+01:00",218624,"Oslo kommune, idrettsetaten"]
["Oslo Kommune, Kulturbyggene i Bjørvika","2011-02-11T16:26:00+01:00",217291,"Oslo Kommune, Kulturbyggene i Bjørvika"]
["Oslo kommune, Utdanningsetaten","2011-02-16T15:16:00+01:00",217493,"Oslo kommune, Utdanningsetaten"]
["Oslo Prosjektadministrasjon AS v/Terje Inglingstad","2010-12-06T16:33:42+01:00",214154,"Oslo Prosjektadministrasjon AS v/Terje Inglingstad"]
["Oslo S Utvikling AS","2011-03-03T13:19:00+01:00",218166,"Oslo S Utvikling AS"]
["Oslo Vei AS","2010-12-06T16:33:42+01:00",172255,"Oslo Vei AS"]
["Otium AS","2010-12-06T16:33:42+01:00",158042,"Otium AS"]
["Overhalla kommune","2012-06-12T11:54:00+02:00",236723,"Overhalla kommune"]
["Papirbredden Eiendom AS","2010-12-06T16:33:00+01:00",207270,"Papirbredden Eiendom AS"]
["Pascal Rådgivning AS","2010-12-06T16:33:42+01:00",192376,"Pascal Rådgivning AS"]
["Passivhus Norge a/s","2010-12-06T16:33:41+01:00",111941,"Passivhus Norge a/s"]
["Peggy Brilke","2012-12-10T11:30:00+01:00",244637,"Peggy Brilke"]
["Per Arne Hestetun og Anne Grete Gruben","2010-12-06T16:33:42+01:00",160590,"Per Arne Hestetun og Anne Grete Gruben"]
["Per Rasmussen AS, Bærum","2010-12-06T16:33:41+01:00",120020,"Per Rasmussen AS, Bærum "]
["Pilestredet Park Boligutbygging ANS","2010-12-06T16:33:42+01:00",164812,"Pilestredet Park Boligutbygging ANS"]
["Pir II AS","2013-02-18T14:51:00+01:00",247808,"Pir II AS"]
["Planteknikk AS","2012-08-17T13:19:00+02:00",241090,"Planteknikk AS"]
["Polyplan AS","2010-12-06T16:33:41+01:00",121067,"Polyplan AS "]
["Porsgrunn kommune","2013-03-05T13:25:00+01:00",248316,"Porsgrunn kommune"]
["Prima-Hus AS","2010-12-06T16:33:41+01:00",111931,"Prima-Hus AS"]
["Procon AS","2012-12-28T14:59:00+01:00",245786,"Procon AS"]
["Prokon AS","2012-11-11T14:11:00+01:00",243859,"Prokon AS"]
["Prosjektbygg AS","2010-12-06T16:33:42+01:00",205121,"Prosjektbygg AS"]
["Prosjektutvikling Midt-Norge AS","2010-12-06T16:33:41+01:00",98696,"Prosjektutvikling Midt-Norge AS"]
["Protan Bygg og Tak AS","2010-12-06T16:33:42+01:00",163049,"Protan Bygg og Tak AS"]
["Protan Bygg og Tak AS","2010-12-06T16:33:42+01:00",165641,"Protan Bygg og Tak AS"]
["PÅ Elektroforum AS","2010-12-06T16:33:42+01:00",200082,"PÅ Elektroforum AS"]
["Ragnars AS","2010-12-06T16:33:42+01:00",202455,"Ragnars AS"]
["Rambøll","2012-03-22T19:41:00+01:00",217764,"Rambøll"]
["Ranheimsveien eiendom, Utstillingsplassen Eiendom AS, Larshus AS","2011-11-08T10:41:00+01:00",228622,"Ranheimsveien eiendom, Utstillingsplassen Eiendom AS, Larshus AS"]
["Rasmussen & Strand AS","2013-02-15T18:35:00+01:00",247749,"Rasmussen & Strand AS"]
["Raugstad as","2010-12-06T16:33:41+01:00",155958,"Raugstad as"]
["REC Indovent","2010-12-06T16:33:42+01:00",178214,"REC Indovent"]
["Reidar Kristiansen","2010-12-06T16:33:41+01:00",119978,"Reidar Kristiansen"]
["Reinertsen AS","2010-12-06T16:33:42+01:00",163052,"Reinertsen AS"]
["Reinertsen AS (RIAku)","2010-12-22T10:51:00+01:00",215014,"Reinertsen AS (RIAku)"]
["Reinertsen Engineering AS","2010-12-06T16:33:41+01:00",110277,"Reinertsen Engineering AS"]
["Reum og Laugtaug AS","2010-12-06T16:33:41+01:00",111923,"Reum og Laugtaug AS"]
["Richard Ligård, Framtidens Aktivhus AS","2011-09-08T16:08:00+02:00",225770,"Richard Ligård, Framtidens Aktivhus AS"]
["Riksheim Consulting AS (RIV)","2010-12-06T16:33:42+01:00",205123,"Riksheim Consulting AS (RIV)"]
["RIV Bjørkaas AS","2010-12-06T16:33:41+01:00",110885,"RIV Bjørkaas AS"]
["Rivco AS","2011-11-16T13:53:37+01:00",216997,"Rivco AS"]
["Roald Haldorsen v/ Oslo Prosjektadministrasjon AS","2010-12-22T10:54:00+01:00",215021,"Roald Haldorsen v/ Oslo Prosjektadministrasjon AS"]
["Roar Jørgensen AS","2013-02-15T18:36:00+01:00",247750,"Roar Jørgensen AS"]
["Roar Ousland og Marit Grinaker Wright","2012-10-09T16:46:20+02:00",242772,"Roar Ousland og Marit Grinaker Wright"]
["Roar Svenning & Torild Landklopp","2011-12-09T10:04:00+01:00",230104,"Roar Svenning & Torild Landklopp"]
["Robak VVS as (RIVA)","2011-01-03T13:14:00+01:00",215425,"Robak VVS as (RIVA)"]
["Rockwool","2010-12-06T16:33:42+01:00",177641,"Rockwool"]
["Rogaland bygg og prosjektutvikling AS","2010-12-06T16:33:42+01:00",158048,"Rogaland bygg og prosjektutvikling AS"]
["Rogaland entreprenør AS","2010-12-06T16:33:42+01:00",163150,"Rogaland entreprenør AS"]
["Rogaland entreprenør AS","2010-12-06T16:33:42+01:00",172632,"Rogaland entreprenør AS"]
["Rogaland entreprnør AS","2010-12-06T16:33:42+01:00",165639,"Rogaland entreprnør AS"]
["Rolf Selvaag","2010-12-06T16:33:42+01:00",205918,"Rolf Selvaag"]
["ROM Eiendom AS","2010-12-06T16:33:42+01:00",214139,"ROM Eiendom AS"]
["Rose Marie Steinsvik sivilark. MNAL","2010-12-06T16:33:42+01:00",182979,"Rose Marie Steinsvik sivilark. MNAL"]
["Rosenborg Utvikling AS","2010-12-06T16:33:42+01:00",164717,"Rosenborg Utvikling AS"]
["RSG AS","2012-01-23T13:41:00+01:00",231900,"RSG AS"]
["Runde Miljøbygg AS","2010-12-06T16:33:42+01:00",205126,"Runde Miljøbygg AS"]
["Rye-Kittelsen AS","2010-12-06T16:33:41+01:00",121314,"Rye-Kittelsen AS"]
["Ryenstubben Invest AS","2013-01-22T19:01:00+01:00",246737,"Ryenstubben Invest AS"]
["Rygg Maskin AS (graveentrepenør)","2010-12-06T16:33:41+01:00",155707,"Rygg Maskin AS (graveentrepenør)"]
["Rørfunn AS","2011-10-27T09:52:00+02:00",228142,"Rørfunn AS"]
["Rørteknikk AS","2011-09-08T16:04:00+02:00",225766,"Rørteknikk AS"]
["Rørteknikk AS","2010-12-06T16:33:41+01:00",111926,"Rørteknikk AS "]
["Samferdselsetaten, Oslo kommune","2010-12-06T16:33:42+01:00",172254,"Samferdselsetaten, Oslo kommune"]
["Samnanger kommune","2010-12-06T16:33:42+01:00",160602,"Samnanger kommune"]
["Sandnes kommune","2010-12-06T16:33:42+01:00",158019,"Sandnes kommune"]
["Sandnes Kommune (Ragna Stakland)","2010-12-06T16:33:42+01:00",162854,"Sandnes Kommune (Ragna Stakland)"]
["Sandås bygg AS","2010-12-06T16:33:41+01:00",112304,"Sandås bygg AS"]
["SAPA (dører og vinduer)","2010-12-06T16:33:42+01:00",205249,"SAPA (dører og vinduer)"]
["Scandiaconsult","2010-12-06T16:33:41+01:00",98705,"Scandiaconsult "]
["Scandic Oslo Airport","2011-11-08T10:10:00+01:00",228616,"Scandic Oslo Airport"]
["SCC AS","2010-12-06T16:33:41+01:00",110988,"SCC AS "]
["Schüco International KG","2010-12-06T16:33:42+01:00",162455,"Schüco International KG "]
["Seabrokers","2010-12-06T16:33:41+01:00",155927,"Seabrokers"]
["Seby AS","2010-12-06T16:33:41+01:00",121070,"Seby AS"]
["Seko Elektro AS","2010-12-06T16:33:42+01:00",178584,"Seko Elektro AS"]
["Selmer AS","2010-12-06T16:33:41+01:00",97845,"Selmer AS"]
["Selvaagbygg","2010-12-06T16:33:41+01:00",119895,"Selvaagbygg"]
["Senterbygg Entreprenør AS","2013-03-21T01:37:00+01:00",248972,"Senterbygg Entreprenør AS"]
["SFS intec AS","2010-12-06T16:33:42+01:00",193872,"SFS intec AS"]
["Sig. Halvorsen (rørlegger)","2010-12-06T16:33:42+01:00",162881,"Sig. Halvorsen (rørlegger)"]
["Sigurd Eide","2010-12-06T16:33:42+01:00",204512,"Sigurd Eide"]
["Simex AS","2010-12-06T16:33:41+01:00",97932,"Simex AS"]
["SINTEF","2010-12-06T16:33:41+01:00",98459,"SINTEF"]
["SINTEF (energiteknikk, byggteknikk)","2010-12-06T16:33:42+01:00",162918,"SINTEF (energiteknikk, byggteknikk)"]
["SINTEF Byggforsk","2010-12-06T16:33:42+01:00",166300,"SINTEF Byggforsk"]
["SINTEF Byggforsk","2010-12-06T16:33:42+01:00",193873,"SINTEF Byggforsk"]
["Sinus AS","2011-02-17T09:39:00+01:00",217517,"Sinus AS"]
["Sinus AS v/Tønnes Ognedal og Svein Folkvord (akustikk)","2010-12-06T16:33:42+01:00",172611,"Sinus AS v/Tønnes Ognedal og Svein Folkvord (akustikk)"]
["Sinus Elektro (Elektro)","2010-12-06T16:33:42+01:00",162872,"Sinus Elektro (Elektro)"]
["SiT Eiendom","2010-12-06T16:33:42+01:00",165390,"SiT Eiendom"]
["Siv ing Haug og Blom-Bakke AS","2010-12-06T16:33:00+01:00",172595,"Siv ing Haug og Blom-Bakke AS"]
["Siv. ing. Karl Knudsen","2010-12-06T16:33:42+01:00",184492,"Siv. ing. Karl Knudsen"]
["Siv. Ing. Netteberg AS (VVS)","2010-12-06T16:33:41+01:00",155175,"Siv. Ing. Netteberg AS (VVS)"]
["Siv. Ing. P.O. Danielsen","2010-12-06T16:33:42+01:00",164718,"Siv. Ing. P.O. Danielsen"]
["Siv. Ing. Trond Thorvaldsen AS","2010-12-06T16:33:00+01:00",204307,"Siv. Ing. Trond Thorvaldsen AS"]
["Siv.Ing Knut Finseth AS (RIB)","2010-12-06T16:33:42+01:00",214145,"Siv.Ing Knut Finseth AS (RIB)"]
["Siv.ing. Christian Svenkerud","2010-12-06T16:33:41+01:00",110760,"Siv.ing. Christian Svenkerud"]
["Siv.ing. JP Dybdahl AS (RIV)","2010-12-06T16:33:42+01:00",202688,"Siv.ing. JP Dybdahl AS (RIV)"]
["Siv.ing. P.O.Danielsen AS (RIB)","2010-12-06T16:33:42+01:00",208884,"Siv.ing. P.O.Danielsen AS (RIB)"]
["Siv.ing. Terje Orlien AS","2010-12-06T16:33:41+01:00",119831,"Siv.ing. Terje Orlien AS"]
["Siv.ing. Trond Amundsen AS (RIB)","2010-12-06T16:33:42+01:00",162915,"Siv.ing. Trond Amundsen AS (RIB)"]
["Siv.Ing. Øyvind Berntsen AS (RIV)","2010-12-06T16:33:42+01:00",160691,"Siv.Ing. Øyvind Berntsen AS (RIV)"]
["Sivilarkitekt Erik Ask","2010-12-06T16:33:42+01:00",160576,"Sivilarkitekt Erik Ask"]
["Sivilingeniørene Storkmoen og Hamre AS","2010-12-06T16:33:41+01:00",112147,"Sivilingeniørene Storkmoen og Hamre AS "]
["SK Langeland (byggeleder grunn & betong)","2010-12-06T16:33:42+01:00",162877,"SK Langeland (byggeleder grunn & betong)"]
["Skaaret AS","2010-12-06T16:33:42+01:00",191906,"Skaaret AS"]
["Skandinaviska Glassystem AB","2010-12-06T16:33:42+01:00",166655,"Skandinaviska Glassystem AB"]
["Skansen AS","2010-12-06T16:33:00+01:00",160587,"Skansen AS"]
["Skansen Consult AS","2012-06-06T00:06:00+02:00",236409,"Skansen Consult AS"]
["Skanska AS","2010-12-06T16:33:42+01:00",160687,"Skanska AS"]
["Skanska Eiendomsutvikling","2012-01-24T16:40:00+01:00",231962,"Skanska Eiendomsutvikling"]
["Skanska KEB","2013-01-22T15:30:00+01:00",246725,"Skanska KEB"]
["Skanska Region Bergen","2012-01-24T16:45:00+01:00",231965,"Skanska Region Bergen"]
["Skanska SPU","2013-01-22T15:29:00+01:00",246724,"Skanska SPU"]
["Skanska Tekniske","2012-01-24T16:43:00+01:00",231964,"Skanska Tekniske"]
["Skanska Tekniske Enteprise","2013-01-22T15:32:00+01:00",246726,"Skanska Tekniske Enteprise"]
["Ski boligbyggelag","2010-12-06T16:33:42+01:00",160573,"Ski boligbyggelag"]
["Skien Kommune","2010-12-06T16:33:41+01:00",155980,"Skien Kommune"]
["Skien kommune","2011-02-07T15:00:00+01:00",217041,"Skien kommune"]
["Smed Alsaker AS","2010-12-06T16:33:42+01:00",157877,"Smed Alsaker AS"]
["SMI energi og miljø AS","2012-12-28T14:58:00+01:00",245785,"SMI energi og miljø AS"]
["Smidt & Ingebrigtsen AS","2011-03-01T09:45:00+01:00",218044,"Smidt & Ingebrigtsen AS"]
["SNO Sogndal","2010-12-17T11:18:00+01:00",214842,"SNO Sogndal"]
["Sohlberg og Toftenes AS","2010-12-06T16:33:00+01:00",181038,"Sohlberg og Toftenes AS"]
["Solarnor AS","2010-12-06T16:33:41+01:00",103201,"Solarnor AS"]
["Solberg & Toftenes (RIBR)","2010-12-06T16:33:42+01:00",214150,"Solberg & Toftenes (RIBR)"]
["Solberg og Toftenes AS","2010-12-06T16:33:42+01:00",160580,"Solberg og Toftenes AS"]
["Solland AS (ventilasjon)","2010-12-06T16:33:41+01:00",155703,"Solland AS (ventilasjon)"]
["SOS Brannsikring AS","2012-12-17T12:02:00+01:00",245543,"SOS Brannsikring AS"]
["Sparebank 1 SMN kvartalet","2010-12-06T16:33:42+01:00",178925,"Sparebank 1 SMN kvartalet"]
["Spets AS","2010-12-06T16:33:42+01:00",165393,"Spets AS "]
["SSBYGG AS","2011-09-08T16:03:00+02:00",225764,"SSBYGG AS"]
["Statens vegvesen","2010-12-06T16:33:42+01:00",158051,"Statens vegvesen"]
["Statens vegvesen, Turistvegkontoret","2010-12-06T16:33:42+01:00",180285,"Statens vegvesen, Turistvegkontoret"]
["Statkraft Grøner AS","2010-12-06T16:33:41+01:00",120022,"Statkraft Grøner AS"]
["Statnett SF","2012-10-21T14:25:00+02:00",243117,"Statnett SF"]
["Statsbygg","2010-12-06T16:33:42+01:00",160597,"Statsbygg"]
["Stavanger boligbyggelag","2010-12-06T16:33:41+01:00",155706,"Stavanger boligbyggelag"]
["Stavanger boligbyggelag","2010-12-06T16:33:42+01:00",158050,"Stavanger boligbyggelag"]
["Stavanger kommune","2011-01-19T09:08:00+01:00",216181,"Stavanger kommune"]
["Stavanger kommune v/ Stavanger Eiendom","2010-12-06T16:33:42+01:00",160511,"Stavanger kommune v/ Stavanger Eiendom"]
["Stavanger Turistforening","2010-12-06T16:33:41+01:00",155750,"Stavanger Turistforening"]
["Stavne Gård AS","2010-12-06T16:33:41+01:00",110817,"Stavne Gård AS"]
["Steen & Lund","2010-12-06T16:33:42+01:00",193821,"Steen & Lund"]
["STEIEN Consult AS","2012-11-05T14:28:00+01:00",243667,"STEIEN Consult AS"]
["Stein Stoknes","2010-12-06T16:33:42+01:00",177614,"Stein Stoknes"]
["Steinar Johansen (tømrer)","2010-12-06T16:33:41+01:00",112571,"Steinar Johansen (tømrer)"]
["Steinar Moldal","2013-02-04T16:38:00+01:00",247288,"Steinar Moldal"]
["Stensrud og Danielsen","2010-12-06T16:33:41+01:00",121159,"Stensrud og Danielsen"]
["Stiftelsen Kirkens Bymisjon","2013-02-15T18:33:00+01:00",247747,"Stiftelsen Kirkens Bymisjon"]
["Stiftelsen Østfoldforskning","2010-12-06T16:33:41+01:00",110820,"Stiftelsen Østfoldforskning "]
["Stjern AS","2010-12-06T16:33:41+01:00",110280,"Stjern AS"]
["Stjern Entreprenør AS Åfjord (SUB-lugarer)","2011-12-09T10:09:00+01:00",230106,"Stjern Entreprenør AS Åfjord (SUB-lugarer) "]
["Stockholm Lighting AB","2012-03-22T19:44:00+01:00",233808,"Stockholm Lighting AB"]
["Stokke Stål AS Fundamenter og betongkonstruksjoner; Dr. Ing. Olav Olsen AS (vindskjermer)","2010-12-06T16:33:41+01:00",155184,"Stokke Stål AS Fundamenter og betongkonstruksjoner; Dr. Ing. Olav Olsen AS (vindskjermer)"]
["Stokke Stål AS Fundamenter og betongkonstruksjoner; Dr. Ing. Olav Olsen AS (vindskjermer)","2010-12-06T16:33:41+01:00",155187,"Stokke Stål AS Fundamenter og betongkonstruksjoner; Dr. Ing. Olav Olsen AS (vindskjermer)"]
["Stoltz Røthing AS","2011-12-02T12:49:41+01:00",228271,"Stoltz Røthing AS"]
["Storebrand Livsforsikring v/Storebrand Eiendom AS","2010-12-06T16:33:42+01:00",202313,"Storebrand Livsforsikring v/Storebrand Eiendom AS"]
["Stormorken og Hamre AS","2012-12-19T16:50:00+01:00",214725,"Stormorken og Hamre AS"]
["Stor-Oslo Prosjekt AS","2013-01-22T19:02:00+01:00",246738,"Stor-Oslo Prosjekt AS"]
["Strand forskaling (betong)","2010-12-06T16:33:42+01:00",162878,"Strand forskaling (betong)"]
["Straume AS","2011-03-01T09:47:00+01:00",218046,"Straume AS"]
["Structura AS","2010-12-06T16:33:42+01:00",162912,"Structura AS"]
["Structura AS (Roberth Nøsen)","2010-12-06T16:33:42+01:00",162921,"Structura AS (Roberth Nøsen)"]
["Strøm Gundersen AS","2011-10-25T11:39:00+02:00",228043,"Strøm Gundersen AS"]
["Studentsamskibnaden i Oslo","2010-12-06T16:33:42+01:00",160574,"Studentsamskibnaden i Oslo"]
["Studentsamskibnaden i Oslo","2010-12-06T16:33:42+01:00",160604,"Studentsamskibnaden i Oslo"]
["Studentsamskipnaden i Trondheim (SiT)","2010-12-06T16:33:00+01:00",165386,"Studentsamskipnaden i Trondheim (SiT)"]
["Stærk & Co AS (RIB/RIBr)","2010-12-06T16:33:42+01:00",160690,"Stærk & Co AS (RIB/RIBr)"]
["Støltun","2010-12-06T16:33:42+01:00",201860,"Støltun"]
["Svartlamoen boligstiftelse","2010-12-06T16:33:42+01:00",160586,"Svartlamoen boligstiftelse"]
["Svartlamoen boligstiftelse / Trondheim kommune","2011-02-08T13:29:00+01:00",217121,"Svartlamoen boligstiftelse / Trondheim kommune"]
["Svein Aase","2010-12-06T16:33:42+01:00",172878,"Svein Aase"]
["Svein Arne Bøyum","2011-01-03T10:11:50+01:00",215411,"Svein Arne Bøyum"]
["Svein Boasson AS","2010-12-06T16:33:42+01:00",182797,"Svein Boasson AS"]
["Svein Søvik AS","2010-12-06T16:33:41+01:00",101074,"Svein Søvik AS"]
["Svein Søvik AS","2010-12-06T16:33:41+01:00",119844,"Svein Søvik AS"]
["Sveio Kommune","2010-12-06T16:33:42+01:00",158055,"Sveio Kommune"]
["Svendby Bygg Consult AS","2010-12-06T16:33:41+01:00",98697,"Svendby Bygg Consult AS"]
["Svenneby sag og høvleri (gulv)","2010-12-06T16:33:42+01:00",200375,"Svenneby sag og høvleri (gulv)"]
["Sweco","2012-05-30T10:00:00+02:00",218407,"Sweco"]
["Swedoor","2012-02-03T11:36:00+01:00",232351,"Swedoor"]
["System air","2010-12-06T16:33:41+01:00",119804,"System air"]
["Systemair AS","2010-12-06T16:33:42+01:00",172755,"Systemair AS"]
["Systemhus Norge AS","2010-12-06T16:33:41+01:00",120940,"Systemhus Norge AS"]
["Søbstad AS","2010-12-06T16:33:42+01:00",165404,"Søbstad AS"]
["Sør-Trøndelag fylkeskommune","2013-02-05T03:30:00+01:00",247323,"Sør-Trøndelag fylkeskommune"]
["T. Johansen Drift AS","2013-02-15T14:22:00+01:00",247731,"T. Johansen Drift AS"]
["Tangen Ing. og arkitektkontor","2011-03-06T14:44:59+01:00",213268,"Tangen Ing. og arkitektkontor"]
["Team Rør AS (rørlegger)","2010-12-06T16:33:41+01:00",155704,"Team Rør AS (rørlegger)"]
["Team St. Olav ANS","2012-10-21T20:06:00+02:00",243128,"Team St. Olav ANS"]
["Teaterplassen 1 AS","2010-12-06T16:33:42+01:00",160689,"Teaterplassen 1 AS"]
["Technoconsult AS (Ribr)","2010-12-06T16:33:42+01:00",162917,"Technoconsult AS (Ribr)"]
["Teka Eiendom AS","2013-02-12T13:16:00+01:00",247582,"Teka Eiendom AS"]
["Teknisk byrå AS","2010-12-06T16:33:41+01:00",97933,"Teknisk byrå AS"]
["Teknisk Ventilasjon AS","2011-10-27T09:53:00+02:00",228144,"Teknisk Ventilasjon AS"]
["Tekno Team AS","2010-12-06T16:33:42+01:00",165395,"Tekno Team AS "]
["Teknobygg AS","2010-12-06T16:33:00+01:00",178920,"Teknobygg AS"]
["Teknoconsult AS","2011-09-08T16:07:00+02:00",225768,"Teknoconsult AS"]
["Telerør","2013-03-06T10:04:00+01:00",248369,"Telerør"]
["Telesafe Consulting AS","2010-12-06T16:33:41+01:00",110462,"Telesafe Consulting AS"]
["Tempero Energitjenester AS","2010-12-06T16:33:42+01:00",165394,"Tempero Energitjenester AS"]
["Theorells AS","2010-12-06T16:33:41+01:00",121191,"Theorells AS"]
["Thermoplan AS","2011-03-08T13:28:00+01:00",218396,"Thermoplan AS"]
["Thermoplan AS rådgivende ingeniørfirma (VVS)","2011-03-08T13:40:19+01:00",218402,"Thermoplan AS rådgivende ingeniørfirma (VVS)"]
["Thunes Partners AS","2010-12-06T16:33:41+01:00",110755,"Thunes Partners AS"]
["Timber AS","2010-12-06T16:33:41+01:00",111855,"Timber AS"]
["Time kyrkje","2011-12-08T10:48:00+01:00",230068,"Time kyrkje"]
["Time kyrkjelege fellesråd","2011-12-09T14:50:00+01:00",230118,"Time kyrkjelege fellesråd"]
["Tone Ulland Stokke","2010-12-06T16:33:42+01:00",158056,"Tone Ulland Stokke"]
["Tor Entreprenør AS","2010-12-06T16:33:41+01:00",121317,"Tor Entreprenør AS"]
["Tor Helge Dokka","2010-12-06T16:33:42+01:00",204509,"Tor Helge Dokka"]
["Tor Nykvist & sønn AS","2010-12-06T16:33:41+01:00",110966,"Tor Nykvist & sønn AS"]
["Tore Ravndal AS","2010-12-06T16:33:42+01:00",162863,"Tore Ravndal AS"]
["Torleif Holm Glad","2012-11-05T14:27:00+01:00",243666,"Torleif Holm Glad"]
["Trebyggeriet AS","2010-12-06T16:33:00+01:00",163046,"Trebyggeriet AS"]
["TreSenteret","2010-12-06T16:33:42+01:00",178177,"TreSenteret"]
["Treteknisk Institutt, rådgivingstjenesten","2013-02-05T01:32:00+01:00",247318,"Treteknisk Institutt, rådgivingstjenesten"]
["Trifolia Landskpasarkitekter","2011-03-06T15:40:47+01:00",214751,"Trifolia Landskpasarkitekter"]
["Trio Entreprenør","2011-03-06T14:45:15+01:00",213751,"Trio Entreprenør"]
["Troll Næring as","2013-01-30T20:28:57+01:00",224101,"Troll Næring as"]
["Tromsø kommune","2011-05-10T22:27:00+02:00",221240,"Tromsø kommune"]
["Tromsø kommune Eiendom","2011-02-08T12:42:44+01:00",217112,"Tromsø kommune Eiendom"]
["Trond Wickman AS","2010-12-06T16:33:42+01:00",166299,"Trond Wickman AS"]
["Trond Wickman as (RIE)","2011-01-03T13:17:00+01:00",215427,"Trond Wickman as (RIE)"]
["Trondheim byteknikk","2010-12-06T16:33:42+01:00",165405,"Trondheim byteknikk"]
["Trondheim kommune","2010-12-06T16:33:42+01:00",178147,"Trondheim kommune"]
["Trondheim kommune","2010-12-06T16:33:42+01:00",213052,"Trondheim kommune"]
["Trondheim kommune v/ Trondheim eiendom","2010-12-06T16:33:00+01:00",160601,"Trondheim kommune v/ Trondheim eiendom"]
["Tronrud Entreprenør AS","2010-12-06T16:33:42+01:00",178579,"Tronrud Entreprenør AS"]
["Trygve Leiksett (SMN Kvartalet)","2010-12-06T16:33:42+01:00",178934,"Trygve Leiksett (SMN Kvartalet)"]
["Trønderplan","2012-06-12T15:39:00+02:00",236737,"Trønderplan"]
["Tunge AS Mesterhus","2010-12-06T16:33:00+01:00",155708,"Tunge AS Mesterhus"]
["Tunge Maskin AS","2010-12-06T16:33:41+01:00",155838,"Tunge Maskin AS"]
["Tømrer-Tomas AS (byggeleder)","2010-12-06T16:33:42+01:00",207498,"Tømrer-Tomas AS (byggeleder)"]
["Tønsberg kommunale eiendom KF","2011-03-06T14:44:17+01:00",213757,"Tønsberg kommunale eiendom KF"]
["Ulsteinvik kommune","2010-12-06T16:33:41+01:00",157538,"Ulsteinvik kommune"]
["Undervisningsbygg Oslo KF","2011-08-31T11:58:00+02:00",225258,"Undervisningsbygg Oslo KF"]
["Unico AS","2010-12-06T16:33:41+01:00",119773,"Unico AS"]
["Unison Elektro AS (elektro)","2010-12-06T16:33:41+01:00",155705,"Unison Elektro AS (elektro)"]
["Universell Utforming AS","2012-12-18T11:20:00+01:00",245581,"Universell Utforming AS"]
["Urd Klima Sandnes AS (ventilasjon)","2010-12-06T16:33:42+01:00",162873,"Urd Klima Sandnes AS (ventilasjon)"]
["USBL (Stig Paugaard)","2010-12-06T16:33:42+01:00",191298,"USBL (Stig Paugaard)"]
["Utdanningsforbundet","2010-12-06T16:33:42+01:00",202685,"Utdanningsforbundet"]
["Utstillingsplassen Eiendom","2011-11-08T10:12:00+01:00",228617,"Utstillingsplassen Eiendom"]
["Varde byggadministrasjon AS","2010-12-06T16:33:42+01:00",172761,"Varde byggadministrasjon AS"]
["VAR-prosjekt AS, Bærum","2010-12-06T16:33:41+01:00",120021,"VAR-prosjekt AS, Bærum "]
["VEF Entreprenør","2012-01-09T10:36:00+01:00",231291,"VEF Entreprenør"]
["Veg Tech AB (sedumstaket)","2010-12-06T16:33:41+01:00",155181,"Veg Tech AB (sedumstaket)"]
["Veg Tech AB (sedumstaket)","2010-12-06T16:33:41+01:00",155182,"Veg Tech AB (sedumstaket)"]
["Veidekke ASA","2010-12-06T16:33:41+01:00",103003,"Veidekke ASA"]
["Veidekke Eiedom AS","2010-12-06T16:33:42+01:00",164235,"Veidekke Eiedom AS"]
["Veidekke entreprenør AS","2010-12-06T16:33:42+01:00",165881,"Veidekke entreprenør AS"]
["Velux Norge AS (takvinduer)","2010-12-06T16:33:42+01:00",162875,"Velux Norge AS (takvinduer)"]
["Vennesla kommune","2012-06-06T11:11:00+02:00",231289,"Vennesla kommune"]
["Vest Consult (VVS)","2010-12-06T16:33:41+01:00",101065,"Vest Consult (VVS)"]
["Vestafjell as (grunn og betong)","2011-03-08T13:50:46+01:00",218406,"Vestafjell as (grunn og betong)"]
["Via Nova AS","2010-12-06T16:33:41+01:00",97856,"Via Nova AS"]
["Viken skog","2012-11-11T20:15:00+01:00",243864,"Viken skog"]
["Vink Plast AS (Vindskjermer)","2010-12-06T16:33:41+01:00",155183,"Vink Plast AS (Vindskjermer)"]
["Vink Plast AS (Vindskjermer)","2010-12-06T16:33:41+01:00",155185,"Vink Plast AS (Vindskjermer)"]
["Vintervoll AS","2011-09-08T16:04:00+02:00",225765,"Vintervoll AS"]
["Vision Bygg AS","2013-01-01T20:17:00+01:00",245834,"Vision Bygg AS"]
["VVS Norplan AS","2010-12-06T16:33:00+01:00",178154,"VVS Norplan AS"]
["Wegger & Kvalsvik AS (totalentreprenør)","2010-12-22T10:54:26+01:00",215020,"Wegger & Kvalsvik AS (totalentreprenør)"]
["Wiberg arkitektur & plan","2011-10-31T13:20:00+01:00",228272,"Wiberg arkitektur & plan"]
["Will Arentz AS","2010-12-06T16:33:41+01:00",103206,"Will Arentz AS"]
["Will Arentz, Rådgivende ingeniører","2010-12-06T16:33:42+01:00",164237,"Will Arentz, Rådgivende ingeniører "]
["Wörle Sparowitz Ingenieure (statikk)","2010-12-06T16:33:42+01:00",172575,"Wörle Sparowitz Ingenieure (statikk)"]
["YIT","2010-12-06T16:33:00+01:00",178922,"YIT"]
["YIT (tekniske løsninger)","2010-12-06T16:33:42+01:00",158235,"YIT (tekniske løsninger)"]
["YIT (ventilasjon, EL)","2010-12-06T16:33:42+01:00",157872,"YIT (ventilasjon, EL)"]
["YIT, Gard Olsen (Elektro)","2010-12-06T16:33:42+01:00",158193,"YIT, Gard Olsen (Elektro)"]
["YIT/Optimo Prosjekt","2012-06-06T10:33:00+02:00",236448,"YIT/Optimo Prosjekt"]
["Zen Resort & Spa, Norge","2010-12-06T16:33:42+01:00",178577,"Zen Resort & Spa, Norge"]
["Øivin Vestre","2010-12-06T16:33:42+01:00",192373,"Øivin Vestre"]
["Økologisk håndverksbedrift / NJH","2010-12-06T16:33:41+01:00",112306,"Økologisk håndverksbedrift / NJH"]
["Øren Consult","2010-12-06T16:33:00+01:00",172587,"Øren Consult"]
["Øvre Romerike Prosjektering AS","2010-12-06T16:33:41+01:00",103255,"Øvre Romerike Prosjektering AS"]
["Øystein Thommesen AS","2012-12-10T11:30:00+01:00",244636,"Øystein Thommesen AS"]
["ÅF - Consult AS","2012-12-19T16:57:00+01:00",214727,"ÅF - Consult AS"]
["ÅF Engineering AS","2011-03-06T14:45:53+01:00",213756,"ÅF Engineering AS"]
["ÅF-consulting AS (RIE)","2012-12-19T16:56:53+01:00",209553,"ÅF-consulting AS (RIE)"]
["Åke Larson Construction AS","2010-12-06T16:33:42+01:00",160581,"Åke Larson Construction AS"]
["Åsane Byggmesterforretning AS","2011-03-01T09:53:00+01:00",218050,"Åsane Byggmesterforretning AS"]
["Åsane Byggmesterforretning AS","2011-03-01T09:54:00+01:00",218051,"Åsane Byggmesterforretning AS"]

{"sheet":"tbl_ArchitectureGuides","index":13,"n_rows":2,"n_cols":5,"rows_kept":2,"hidden":true}
["odata_title","odata_updated","Id","Name","Kolonne1"]
["Arven etter Norwegian Wood","2013-02-01T12:28:00+01:00",229036,"Arven etter Norwegian Wood"]

{"sheet":"tbl_ProjectAwardss","index":14,"n_rows":13,"n_cols":5,"rows_kept":13,"hidden":true}
["odata_title","odata_updated","Id","Name","Kolonne1"]
["Betongelementprisen","2012-06-04T15:00:00+02:00",236235,"Betongelementprisen"]
["Betongtavlen","2012-06-04T14:58:00+02:00",236233,"Betongtavlen"]
["Houens Fonds Diplom","2012-06-04T14:00:00+02:00",236226,"Houens Fonds Diplom"]
["Murverksprisen","2012-06-04T15:01:00+02:00",236236,"Murverksprisen"]
["Norsk stålkonstruksjonspris","2012-06-04T15:01:00+02:00",236237,"Norsk stålkonstruksjonspris"]
["NSW Miljøpris","2012-06-04T15:03:00+02:00",236240,"NSW Miljøpris"]
["Statens byggeskikkpris","2011-11-16T21:00:00+01:00",229037,"Statens byggeskikkpris"]
["Statens Bymiljøpris","2012-06-14T15:49:00+02:00",232030,"Statens Bymiljøpris"]
["Sundts premie","2012-06-04T14:51:00+02:00",236230,"Sundts premie"]
["Treprisen","2012-06-04T15:03:00+02:00",236238,"Treprisen"]
["Trondheims byggeskikkpris","2012-06-14T15:51:47+02:00",233809,"Trondheims byggeskikkpris"]
["Årets bygg","2012-06-04T15:36:00+02:00",236260,"Årets bygg"]

{"sheet":"tbl_ProjectCompetitions","index":15,"n_rows":15,"n_cols":5,"rows_kept":15,"hidden":true}
["odata_title","odata_updated","Id","Name","Kolonne1"]
["Begrenset anbudskonkurranse","2012-06-22T09:15:00+02:00",237350,"Begrenset anbudskonkurranse"]
["Begrenset idekonkurranse *","2012-06-04T13:40:00+02:00",229865,"Begrenset idekonkurranse *"]
["Begrenset plan-og designkonkurranse","2012-06-05T23:57:00+02:00",231288,"Begrenset plan-og designkonkurranse"]
["Begrenset prosjektkonkurranse","2012-06-04T13:43:00+02:00",236214,"Begrenset prosjektkonkurranse"]
["Direkte engasjement","2011-12-09T09:53:00+01:00",230102,"Direkte engasjement"]
["Forhandlet konkurranse","2012-06-22T09:16:00+02:00",237351,"Forhandlet konkurranse"]
["Konkurransepreget dialog","2012-06-15T12:37:00+02:00",233804,"Konkurransepreget dialog"]
["Paralelloppdrag *","2012-06-04T13:44:00+02:00",236216,"Paralelloppdrag *"]
["Rammeavtale","2012-06-04T13:30:00+02:00",236208,"Rammeavtale"]
["Totalentreprisekonkurranse","2012-06-15T12:49:00+02:00",237128,"Totalentreprisekonkurranse"]
["Åpen anbudskonkurranse","2012-06-22T09:14:00+02:00",237349,"Åpen anbudskonkurranse"]
["Åpen idekonkurranse *","2012-06-04T13:42:00+02:00",236213,"Åpen idekonkurranse *"]
["Åpen plan og designkonkurranse","2012-06-04T13:39:00+02:00",236212,"Åpen plan og designkonkurranse"]
["Åpen prosjektkonkurranse","2012-06-04T13:37:00+02:00",236211,"Åpen prosjektkonkurranse"]

{"sheet":"tbl_ContractingForms","index":16,"n_rows":7,"n_cols":5,"rows_kept":7,"hidden":true}
["odata_title","odata_updated","Id","Name","Kolonne1"]
["Delte entrepriser","2012-06-22T09:42:33+02:00",229866,"Delte entrepriser"]
["Hoved-/generalentreprise","2012-06-22T09:28:00+02:00",236217,"Hoved-/generalentreprise"]
["Levetids-/samspillsentreprise","2012-06-22T09:32:00+02:00",232083,"Levetids-/samspillsentreprise"]
["Offentlig Privat Samarbeid (OPS)","2012-06-04T13:49:00+02:00",236219,"Offentlig Privat Samarbeid (OPS)"]
["Selvbygger","2012-06-04T13:51:00+02:00",236221,"Selvbygger"]
["Totalentreprise","2011-12-09T10:03:00+01:00",230103,"Totalentreprise"]

{"sheet":"tbl_EnvironmentalStandards","index":17,"n_rows":8,"n_cols":5,"rows_kept":8,"hidden":true}
["odata_title","odata_updated","Id","Name","Kolonne1"]
["BREEAM Excellent","2012-06-04T13:56:00+02:00",236224,"BREEAM Excellent"]
["BREEAM Outstanding","2012-06-04T13:57:00+02:00",236225,"BREEAM Outstanding"]
["BREEAM Very Good","2012-06-14T15:36:08+02:00",235779,"BREEAM Very Good"]
["Lavenergibygg (NS3701)","2012-10-04T13:17:00+02:00",242545,"Lavenergibygg (NS3701)"]
["Lavenergihus klasse 1 (NS3700)","2012-06-14T17:25:00+02:00",236222,"Lavenergihus klasse 1 (NS3700)"]
["Lavenergihus klasse 2 (NS3700)","2012-06-14T17:26:00+02:00",236223,"Lavenergihus klasse 2 (NS3700)"]
["Passivhusstandard (NS3700/3701)","2011-11-04T14:27:00+01:00",228526,"Passivhusstandard (NS3700/3701)"]

{"sheet":"tbl_ProjectPhases","index":18,"n_rows":7,"n_cols":5,"rows_kept":7,"hidden":true}
["odata_title","odata_updated","Id","Name","Kolonne1"]
["Detaljprosjekt","2011-11-16T16:11:00+01:00",229023,"Detaljprosjekt"]
["Ferdigstilt","2011-11-03T15:55:00+01:00",228450,"Ferdigstilt"]
["Forprosjekt","2011-11-04T14:26:00+01:00",228525,"Forprosjekt"]
["Fredet / vernet","2012-08-24T15:33:00+02:00",230396,"Fredet / vernet"]
["Ideprosjekt","2011-11-16T16:12:00+01:00",229025,"Ideprosjekt"]
["Skisseprosjekt","2011-11-16T16:14:00+01:00",229026,"Skisseprosjekt"]

{"sheet":"tbl_RoleModels","index":19,"n_rows":12,"n_cols":5,"rows_kept":12,"hidden":true}
["odata_title","odata_updated","Id","Name","Kolonne1"]
["Agder Wood","2012-10-04T13:59:00+02:00",242550,"Agder Wood"]
["BREEAM-NOR piloter","2012-06-04T15:05:00+02:00",236241,"BREEAM-NOR piloter"]
["Framtidens bygder","2012-10-04T13:44:00+02:00",242548,"Framtidens bygder"]
["Framtidens Bygg","2011-11-16T21:28:00+01:00",228518,"Framtidens Bygg"]
["FutureBuilt","2013-04-08T16:33:32+02:00",228528,"FutureBuilt"]
["Miljøverndepartementets pilotprogram for miljøvennlig byutvikling","2012-12-14T17:01:58+01:00",232045,"Miljøverndepartementets pilotprogram for miljøvennlig byutvikling"]
["Norwegian Wood","2013-02-02T20:12:34+01:00",229034,"Norwegian Wood"]
["Powerhouse","2012-10-04T13:45:00+02:00",242549,"Powerhouse"]
["Tid for Tre - Bergen","2012-06-04T15:06:00+02:00",236242,"Tid for Tre - Bergen"]
["Trebyen Trondheim","2012-02-03T12:55:00+01:00",232358,"Trebyen Trondheim"]
["ZEB","2012-10-04T13:43:00+02:00",242547,"ZEB"]

{"sheet":"tbl_Researchs","index":20,"n_rows":8,"n_cols":5,"rows_kept":8,"hidden":true}
["odata_title","odata_updated","Id","Name","Kolonne1"]
["Miljøvennlige Trebruer for framtiden","2012-06-04T15:13:00+02:00",236249,"Miljøvennlige Trebruer for framtiden"]
["Miljøvennlige Trefasader","2012-06-04T15:12:00+02:00",236247,"Miljøvennlige Trefasader"]
["Northpass","2012-06-04T15:10:00+02:00",236246,"Northpass"]
["REBO","2011-11-04T12:51:00+01:00",228516,"REBO"]
["Renergi/Renergix (forskningsrådet)","2012-10-04T14:33:00+02:00",242552,"Renergi/Renergix (forskningsrådet)"]
["TES EnergyFacade","2012-06-04T15:12:00+02:00",236248,"TES EnergyFacade"]
["ØkoBygg-programmet","2012-11-11T16:20:00+01:00",243861,"ØkoBygg-programmet"]

{"sheet":"tbl_ExternalProjectDBUsers","index":21,"n_rows":28,"n_cols":5,"rows_kept":28,"hidden":true}
["odata_title","odata_updated","Id","Name","Kolonne1"]
["Bergen","2012-05-24T12:55:00+02:00",235560,"Bergen"]
["Bærum","2012-05-30T22:17:27+02:00",235837,"Bærum"]
["Drammen","2012-05-30T22:12:00+02:00",235828,"Drammen"]
["Enova","2012-05-30T18:01:00+02:00",235558,"Enova"]
["Finans Norge","2013-03-22T12:23:04+01:00",241810,"Finans Norge"]
["Framtidens Byer","2012-10-16T20:55:00+02:00",235557,"Framtidens Byer"]
["Framtidens bygg","2012-11-13T20:58:00+01:00",243933,"Framtidens bygg"]
["Fredrikstad","2012-05-30T22:13:00+02:00",235831,"Fredrikstad"]
["FutureBuilt","2012-05-30T09:27:00+02:00",235778,"FutureBuilt"]
["Husbanken","2012-05-30T23:30:13+02:00",214453,"Husbanken"]
["Kommunal- og regionaldepartementet","2012-09-06T15:53:00+02:00",241806,"Kommunal- og regionaldepartementet"]
["Kristiansand","2012-05-30T22:14:00+02:00",235833,"Kristiansand"]
["KS","2012-09-06T15:56:00+02:00",241812,"KS"]
["Miljøverndepartementet","2012-11-12T21:05:03+01:00",241805,"Miljøverndepartementet"]
["NHO","2012-09-06T15:54:00+02:00",241809,"NHO"]
["Norske Arkitekters Landsforbund","2013-04-24T09:44:38+02:00",237575,"Norske Arkitekters Landsforbund"]
["Olje- og energidepartementet","2012-09-06T15:53:00+02:00",241808,"Olje- og energidepartementet"]
["Oslo","2012-05-30T23:10:51+02:00",235559,"Oslo"]
["Porsgrunn og Skien","2012-06-14T18:31:00+02:00",235829,"Porsgrunn og Skien"]
["Samferdselsdepartementet","2012-09-06T15:48:00+02:00",241804,"Samferdselsdepartementet"]
["Sandnes","2012-05-30T22:14:00+02:00",235834,"Sandnes"]
["Sarpsborg","2012-05-30T22:14:00+02:00",235832,"Sarpsborg"]
["Stavanger","2012-05-30T22:12:00+02:00",235827,"Stavanger"]
["Treteknisk Institutt","2013-03-22T13:44:00+01:00",241834,"Treteknisk Institutt"]
["Tromsø","2012-05-30T22:15:00+02:00",235836,"Tromsø"]
["Trondheim","2012-05-30T22:15:00+02:00",235835,"Trondheim"]
["Virke","2012-09-06T15:56:00+02:00",241811,"Virke"]

{"sheet":"tbl_ExternalTags","index":22,"n_rows":10,"n_cols":5,"rows_kept":10,"hidden":true}
["odata_title","odata_updated","Id","Name","Kolonne1"]
["Husbanken_barnehager","2010-12-21T15:25:00+01:00",214980,"Husbanken_barnehager"]
["Husbanken_boligsosialt","2010-12-16T13:41:00+01:00",214798,"Husbanken_boligsosialt"]
["Husbanken_byggeskikk","2011-01-13T12:25:00+01:00",215922,"Husbanken_byggeskikk"]
["Husbanken_energi_miljø","2011-09-12T10:55:34+02:00",214954,"Husbanken_energi_miljø"]
["Husbanken_klimatilpasning","2012-04-23T17:02:00+02:00",234637,"Husbanken_klimatilpasning"]
["Husbanken_områdeløft","2011-01-18T15:05:51+01:00",216157,"Husbanken_områdeløft"]
["Husbanken_omsorgsboliger_sykehjem","2010-12-16T13:46:07+01:00",214799,"Husbanken_omsorgsboliger_sykehjem"]
["Husbanken_stedsutvikling","2010-12-31T12:17:00+01:00",215370,"Husbanken_stedsutvikling"]
["Husbanken_universell_utforming","2010-12-23T10:06:00+01:00",215131,"Husbanken_universell_utforming"]

{"sheet":"tbl_FByerExternalTags","index":23,"n_rows":6,"n_cols":5,"rows_kept":6,"hidden":true}
["odata_title","odata_updated","Id","Name","Kolonne1"]
["Areal og transport","2012-05-30T17:51:00+02:00",235815,"Areal og transport"]
["Bedre bymiljø","2012-05-30T23:44:37+02:00",235855,"Bedre bymiljø"]
["Energi i bygg","2012-05-30T23:42:00+02:00",235854,"Energi i bygg"]
["Forbruk og avfall","2012-05-30T23:43:00+02:00",235856,"Forbruk og avfall"]
["Klimatilpasning","2012-05-30T23:44:16+02:00",235857,"Klimatilpasning"]

{"sheet":"tbl_Municipalitys","index":24,"n_rows":429,"n_cols":5,"rows_kept":429,"hidden":true}
["odata_title","odata_updated","Id","Name","Kolonne1"]
["Agdenes","2012-06-12T23:00:00+02:00",236808,"Agdenes"]
["Alstahaug","2012-06-13T00:10:00+02:00",237019,"Alstahaug"]
["Alta","2010-12-06T16:33:42+01:00",85247,"Alta"]
["Alvdal","2012-06-12T23:46:00+02:00",236938,"Alvdal"]
["Andebu","2012-06-12T23:26:00+02:00",111851,"Andebu "]
["Andøy","2012-06-13T00:11:00+02:00",237020,"Andøy"]
["Aremark","2012-06-12T23:34:00+02:00",236899,"Aremark"]
["Arendal","2010-12-06T16:33:42+01:00",77631,"Arendal"]
["Asker","2010-12-06T16:33:42+01:00",82152,"Asker"]
["Askim","2012-06-12T23:34:00+02:00",236900,"Askim"]
["Askvoll","2012-06-12T22:52:00+02:00",236784,"Askvoll"]
["Askøy","2011-04-06T10:53:00+02:00",219691,"Askøy"]
["Audnedal","2012-06-12T23:06:00+02:00",236828,"Audnedal"]
["Aukra","2012-06-12T22:36:00+02:00",236751,"Aukra"]
["Aure","2012-06-12T22:36:00+02:00",236752,"Aure"]
["Aurland","2012-06-12T22:52:00+02:00",236785,"Aurland"]
["Aurskog-Høland","2012-06-12T23:29:00+02:00",236887,"Aurskog-Høland"]
["Austevoll","2012-05-31T21:45:00+02:00",235984,"Austevoll"]
["Austrheim","2012-05-31T21:45:00+02:00",235985,"Austrheim"]
["Averøy","2012-06-12T22:36:00+02:00",236753,"Averøy"]
["Balestrand","2012-06-12T22:52:00+02:00",236786,"Balestrand"]
["Ballangen","2012-06-13T00:11:00+02:00",237021,"Ballangen"]
["Balsfjord","2012-06-13T00:00:00+02:00",236979,"Balsfjord"]
["Bamble","2012-06-12T23:12:00+02:00",236850,"Bamble"]
["Bardu","2012-06-13T00:00:00+02:00",236980,"Bardu"]
["Beiarn","2012-06-13T00:11:00+02:00",237022,"Beiarn"]
["Berg","2012-06-13T00:00:00+02:00",236981,"Berg"]
["Bergen","2010-12-06T16:33:42+01:00",94528,"Bergen"]
["Berlevåg","2012-06-13T00:06:00+02:00",237002,"Berlevåg"]
["Bindal","2012-06-13T00:11:00+02:00",237023,"Bindal"]
["Birkenes","2012-06-12T23:09:00+02:00",236840,"Birkenes"]
["Bjarkøy","2012-06-13T00:00:00+02:00",236982,"Bjarkøy"]
["Bjerkreim","2012-05-31T21:22:00+02:00",235961,"Bjerkreim"]
["Bjugn","2012-06-12T23:00:00+02:00",236809,"Bjugn"]
["Bodø","2012-06-13T00:11:00+02:00",237024,"Bodø"]
["Bokn","2012-05-31T21:22:00+02:00",235962,"Bokn"]
["Bremanger","2012-06-12T22:53:00+02:00",236787,"Bremanger"]
["Brønnøy","2012-06-13T00:12:00+02:00",237025,"Brønnøy"]
["Bygland","2012-06-12T23:09:00+02:00",236841,"Bygland"]
["Bykle","2012-06-12T23:10:00+02:00",236842,"Bykle"]
["Bærum","2010-12-06T16:33:42+01:00",98787,"Bærum"]
["Bø (Nordland)","2012-06-13T00:12:00+02:00",237026,"Bø (Nordland)"]
["Bømlo","2012-05-31T21:45:00+02:00",235986,"Bømlo"]
["Båtsfjord","2012-06-13T00:06:00+02:00",237003,"Båtsfjord"]
["Dovre","2012-06-12T23:39:00+02:00",236914,"Dovre"]
["Drammen","2010-12-06T16:33:43+01:00",155133,"Drammen"]
["Drangedal","2012-06-12T23:13:00+02:00",236851,"Drangedal"]
["Dyrøy","2012-06-13T00:00:00+02:00",236983,"Dyrøy"]
["Dønna","2012-06-13T00:13:00+02:00",237027,"Dønna"]
["Eid","2012-06-12T22:53:00+02:00",236788,"Eid"]
["Eide","2012-06-12T22:37:00+02:00",236754,"Eide"]
["Eidfjord","2012-05-31T21:46:00+02:00",235987,"Eidfjord"]
["Eidsberg","2012-06-12T23:34:00+02:00",236901,"Eidsberg"]
["Eidskog","2012-06-12T23:46:00+02:00",236939,"Eidskog"]
["Eidsvoll","2012-06-12T23:29:00+02:00",236888,"Eidsvoll"]
["Eigersund","2010-12-06T16:33:42+01:00",115312,"Eigersund"]
["Elverum","2012-06-12T23:46:00+02:00",236940,"Elverum"]
["Enebakk","2012-06-12T23:29:00+02:00",236889,"Enebakk"]
["Engerdal","2012-06-12T23:47:00+02:00",236941,"Engerdal"]
["Etne","2012-05-31T21:46:00+02:00",235988,"Etne"]
["Etnedal","2012-06-12T23:39:00+02:00",236915,"Etnedal"]
["Evenes","2012-06-13T00:13:00+02:00",237028,"Evenes"]
["Evje og Hornnes","2012-06-12T23:10:00+02:00",236843,"Evje og Hornnes"]
["Farsund","2010-12-06T16:33:42+01:00",103323,"Farsund"]
["Fauske","2012-06-13T00:13:00+02:00",237029,"Fauske"]
["Fedje","2012-05-31T21:46:00+02:00",235989,"Fedje"]
["Fet","2012-06-12T23:30:00+02:00",236890,"Fet"]
["Finnøy","2012-05-31T21:23:00+02:00",235963,"Finnøy"]
["Fitjar","2012-05-31T21:46:00+02:00",235990,"Fitjar"]
["Fjaler","2012-06-12T22:53:00+02:00",236789,"Fjaler"]
["Fjell","2012-05-31T21:47:00+02:00",235991,"Fjell"]
["Flakstad","2012-06-13T00:13:00+02:00",237030,"Flakstad"]
["Flatanger","2012-06-12T23:53:00+02:00",236959,"Flatanger"]
["Flekkefjord","2012-06-12T23:06:00+02:00",236829,"Flekkefjord"]
["Flesberg","2012-06-12T23:17:00+02:00",236864,"Flesberg"]
["Flora","2012-06-12T22:53:00+02:00",236790,"Flora"]
["Flå","2012-06-12T23:17:00+02:00",236865,"Flå"]
["Folldal","2012-06-12T23:47:00+02:00",236942,"Folldal"]
["Forsand","2012-05-31T21:23:00+02:00",235964,"Forsand"]
["Fosnes","2012-06-12T23:53:00+02:00",236960,"Fosnes"]
["Fredrikstad","2010-12-06T16:33:42+01:00",91659,"Fredrikstad"]
["Fredrikstad","2012-08-21T10:45:00+02:00",241188,"Fredrikstad"]
["Frogn","2010-12-06T16:33:42+01:00",110652,"Frogn"]
["Froland","2011-01-12T19:26:00+01:00",215884,"Froland"]
["Frosta","2012-06-12T23:54:00+02:00",236961,"Frosta"]
["Fræna","2012-06-12T22:38:00+02:00",236756,"Fræna"]
["Frøya","2010-12-06T16:33:00+01:00",179442,"Frøya"]
["Fusa","2012-05-31T21:47:00+02:00",235992,"Fusa"]
["Fyresdal","2012-06-12T23:13:00+02:00",236852,"Fyresdal"]
["Førde","2012-06-12T22:54:00+02:00",236791,"Førde"]
["Gamvik","2012-06-13T00:06:00+02:00",237004,"Gamvik"]
["Gaular","2012-06-12T22:54:00+02:00",236792,"Gaular"]
["Gausdal","2012-06-12T23:39:00+02:00",236916,"Gausdal"]
["Gildeskål","2012-06-13T00:14:00+02:00",237031,"Gildeskål"]
["Giske","2012-06-12T22:38:00+02:00",236757,"Giske"]
["Gjemnes","2012-06-12T22:38:00+02:00",236758,"Gjemnes"]
["Gjerdrum","2010-12-06T16:33:42+01:00",103242,"Gjerdrum"]
["Gjerstad","2012-06-12T23:10:00+02:00",236844,"Gjerstad"]
["Gjesdal","2012-05-31T21:23:00+02:00",235965,"Gjesdal"]
["Gjøvik","2012-06-12T23:39:00+02:00",236917,"Gjøvik"]
["Gloppen","2012-06-12T22:54:00+02:00",236793,"Gloppen"]
["Gol","2012-06-12T23:17:00+02:00",236866,"Gol"]
["Gran","2012-06-12T23:40:00+02:00",236918,"Gran"]
["Grane","2012-06-13T00:14:00+02:00",237032,"Grane"]
["Granvin","2012-05-31T21:47:00+02:00",235993,"Granvin"]
["Gratangen","2012-06-13T00:01:00+02:00",236984,"Gratangen"]
["Grimstad","2012-05-31T23:31:00+02:00",236013,"Grimstad"]
["Grong","2010-12-06T16:33:42+01:00",110960,"Grong "]
["Grue","2012-06-12T23:47:00+02:00",236943,"Grue"]
["Gulen","2012-06-12T22:55:00+02:00",236795,"Gulen"]
["Hadsel","2012-06-13T00:14:00+02:00",237033,"Hadsel"]
["Halden","2011-11-08T13:51:00+01:00",228639,"Halden "]
["Halsa","2012-06-12T22:39:00+02:00",236759,"Halsa"]
["Hamar","2012-06-12T23:47:00+02:00",236944,"Hamar"]
["Hamarøy","2012-01-26T10:49:35+01:00",223379,"Hamarøy"]
["Hammerfest","2012-06-13T00:06:00+02:00",237005,"Hammerfest"]
["Haram","2012-06-12T22:39:00+02:00",236760,"Haram"]
["Hareid","2012-06-12T22:39:00+02:00",236761,"Hareid"]
["Harstad","2010-12-06T16:33:42+01:00",111974,"Harstad"]
["Hasvik","2012-06-13T00:07:00+02:00",237006,"Hasvik"]
["Hattfjelldal","2012-06-13T00:14:00+02:00",237034,"Hattfjelldal"]
["Haugesund","2010-12-06T16:33:42+01:00",115457,"Haugesund"]
["Hemne","2012-06-12T23:00:00+02:00",236810,"Hemne"]
["Hemnes","2012-06-13T00:15:07+02:00",237035,"Hemnes"]
["Hemsedal","2012-06-12T23:17:00+02:00",236867,"Hemsedal"]
["Herøy","2012-06-13T00:15:00+02:00",237036,"Herøy"]
["Herøy (Møre og Romsdal)","2010-12-06T16:33:00+01:00",205119,"Herøy (Møre og Romsdal)"]
["Hitra","2012-06-12T23:01:00+02:00",236811,"Hitra"]
["Hjartdal","2012-06-12T23:13:00+02:00",236853,"Hjartdal"]
["Hjelmeland","2012-05-31T21:24:00+02:00",235966,"Hjelmeland"]
["Hobøl","2012-06-12T23:34:00+02:00",236902,"Hobøl"]
["Hof","2012-06-12T23:26:00+02:00",236880,"Hof"]
["Hol","2012-06-12T23:18:00+02:00",236868,"Hol"]
["Hole","2012-06-12T23:18:00+02:00",236869,"Hole"]
["Holmestrand","2012-06-12T23:26:00+02:00",236881,"Holmestrand"]
["Holtålen","2012-06-12T23:01:00+02:00",236812,"Holtålen"]
["Hornindal","2012-06-12T22:55:00+02:00",236794,"Hornindal"]
["Horten","2010-12-06T16:33:42+01:00",120261,"Horten"]
["Hurdal","2012-06-12T23:30:00+02:00",236891,"Hurdal"]
["Hurum","2012-06-12T23:18:00+02:00",236870,"Hurum"]
["Hvaler","2012-06-12T23:35:00+02:00",236903,"Hvaler"]
["Hyllestad","2012-06-12T22:55:00+02:00",236796,"Hyllestad"]
["Hægebostad","2012-06-12T23:06:00+02:00",236830,"Hægebostad"]
["Høyanger","2012-06-12T22:55:00+02:00",236797,"Høyanger"]
["Høylandet","2012-06-12T23:54:00+02:00",236962,"Høylandet"]
["Hå","2012-05-31T21:24:00+02:00",235967,"Hå"]
["Ibestad","2012-06-13T00:01:00+02:00",236985,"Ibestad"]
["Inderøy","2012-06-12T23:54:00+02:00",236963,"Inderøy"]
["Iveland","2012-06-12T23:11:00+02:00",236845,"Iveland"]
["Jevnaker","2012-06-12T23:40:00+02:00",236919,"Jevnaker"]
["Jondal","2012-05-31T21:47:00+02:00",235994,"Jondal"]
["Jølster","2012-06-12T22:56:00+02:00",236798,"Jølster"]
["Karasjok","2012-06-13T00:07:00+02:00",237007,"Karasjok"]
["Karlsøy","2012-06-13T00:01:00+02:00",236986,"Karlsøy"]
["Karmøy","2012-05-31T21:24:00+02:00",235968,"Karmøy"]
["Kautokeino","2012-06-13T00:07:00+02:00",237008,"Kautokeino"]
["Klepp","2011-11-15T14:59:00+01:00",228973,"Klepp"]
["Klæbu","2012-06-12T23:01:00+02:00",236813,"Klæbu"]
["Kongsberg","2010-12-06T16:33:42+01:00",91368,"Kongsberg"]
["Kongsvinger","2010-12-14T09:40:00+01:00",214722,"Kongsvinger"]
["Kragerø","2012-06-12T23:14:00+02:00",236854,"Kragerø"]
["Kristiansand","2010-12-06T16:33:42+01:00",91495,"Kristiansand"]
["Kristiansund","2012-06-12T22:40:00+02:00",236762,"Kristiansund"]
["Krødsherad","2012-06-12T23:18:00+02:00",236871,"Krødsherad"]
["Kvalsund","2012-06-13T00:07:00+02:00",237009,"Kvalsund"]
["Kvam","2012-01-26T10:49:16+01:00",223606,"Kvam"]
["Kvinesdal","2012-06-12T23:07:00+02:00",236831,"Kvinesdal"]
["Kvinnherad","2012-05-31T21:48:00+02:00",235995,"Kvinnherad"]
["Kviteseid","2012-06-12T23:14:00+02:00",236855,"Kviteseid"]
["Kvitsøy","2012-05-31T21:25:00+02:00",235969,"Kvitsøy"]
["Kvæfjord","2012-06-13T00:01:00+02:00",236987,"Kvæfjord"]
["Kvænangen","2012-06-13T00:02:00+02:00",236988,"Kvænangen"]
["Kåfjord","2012-06-13T00:02:00+02:00",236989,"Kåfjord"]
["Lardal","2012-06-12T23:27:00+02:00",236882,"Lardal"]
["Larvik","2012-06-12T23:26:08+02:00",120130,"Larvik"]
["Lavangen","2012-06-13T00:02:00+02:00",236990,"Lavangen"]
["Lebesby","2012-06-13T00:08:00+02:00",237010,"Lebesby"]
["Leikanger","2012-06-12T22:56:00+02:00",236799,"Leikanger"]
["Leirfjord","2012-06-13T00:15:00+02:00",237037,"Leirfjord"]
["Leka","2012-06-12T23:54:00+02:00",236964,"Leka"]
["Leksvik","2012-06-12T23:55:00+02:00",236965,"Leksvik"]
["Lenvik","2012-06-13T00:02:00+02:00",236991,"Lenvik"]
["Lesja","2012-06-12T23:40:00+02:00",236920,"Lesja"]
["Levanger","2012-06-12T23:55:00+02:00",236966,"Levanger"]
["Lier","2010-12-06T16:33:42+01:00",97937,"Lier"]
["Lierne","2012-06-12T23:55:00+02:00",236967,"Lierne"]
["Lillehammer","2010-12-06T16:33:42+01:00",120300,"Lillehammer"]
["Lillesand","2012-06-12T23:11:00+02:00",236846,"Lillesand"]
["Lindesnes","2012-06-12T23:07:00+02:00",236832,"Lindesnes"]
["Lindås","2012-05-31T21:48:00+02:00",235996,"Lindås"]
["Lom","2010-12-06T16:33:42+01:00",119825,"Lom"]
["Loppa","2012-06-13T00:08:00+02:00",237011,"Loppa"]
["Lund","2012-05-31T21:25:00+02:00",235970,"Lund"]
["Lunner","2012-06-12T23:41:13+02:00",236921,"Lunner"]
["Lurøy","2012-06-13T00:15:00+02:00",237038,"Lurøy"]
["Luster","2012-06-12T22:56:00+02:00",236800,"Luster"]
["Lyngdal","2012-06-12T23:07:00+02:00",236833,"Lyngdal"]
["Lyngen","2012-06-13T00:03:00+02:00",236992,"Lyngen"]
["Lærdal","2012-06-12T22:57:00+02:00",236801,"Lærdal"]
["Lødingen","2012-06-13T00:16:00+02:00",237039,"Lødingen"]
["Lørenskog","2012-06-12T23:30:00+02:00",236892,"Lørenskog"]
["Løten","2012-06-12T23:47:00+02:00",236945,"Løten"]
["Malvik","2012-05-31T23:30:00+02:00",236011,"Malvik"]
["Mandal","2012-06-12T23:07:00+02:00",236834,"Mandal"]
["Marker","2012-06-12T23:35:00+02:00",236904,"Marker"]
["Marnardal","2012-06-12T23:08:00+02:00",236835,"Marnardal"]
["Masfjorden","2012-05-31T21:48:00+02:00",235997,"Masfjorden"]
["Meland","2012-05-31T21:48:00+02:00",235998,"Meland"]
["Meldal","2012-06-12T23:02:00+02:00",236814,"Meldal"]
["Melhus","2012-01-26T10:51:09+01:00",222908,"Melhus"]
["Meløy","2012-06-13T00:16:00+02:00",237040,"Meløy"]
["Meråker","2012-06-12T23:55:00+02:00",236968,"Meråker"]
["Midsund","2012-06-12T22:37:00+02:00",236755,"Midsund"]
["Midtre Gauldal","2012-06-12T23:02:00+02:00",236815,"Midtre Gauldal"]
["Modalen","2012-05-31T21:49:00+02:00",235999,"Modalen"]
["Modum","2012-06-12T23:19:00+02:00",236872,"Modum"]
["Molde","2012-06-12T22:41:00+02:00",236763,"Molde"]
["Moskenes","2012-06-13T00:16:00+02:00",237041,"Moskenes"]
["Moss","2012-06-12T23:35:00+02:00",236905,"Moss"]
["Målselv","2012-06-13T00:03:00+02:00",236993,"Målselv"]
["Måsøy","2012-06-13T00:08:00+02:00",237012,"Måsøy"]
["Namdalseid","2012-06-12T23:56:00+02:00",236970,"Namdalseid"]
["Namsos","2012-06-12T23:56:00+02:00",236971,"Namsos"]
["Namsskogan","2012-06-12T23:56:00+02:00",236972,"Namsskogan"]
["Nannestad","2012-06-12T23:31:08+02:00",236893,"Nannestad"]
["Narvik","2012-06-13T00:16:00+02:00",237042,"Narvik"]
["Naustdal","2012-06-12T22:57:00+02:00",236802,"Naustdal"]
["Nedre Eiker","2012-06-12T23:19:00+02:00",236873,"Nedre Eiker"]
["Nes (Akershus)","2012-06-12T23:31:00+02:00",236894,"Nes (Akershus)"]
["Nes (Buskerud)","2012-06-12T23:20:00+02:00",236874,"Nes (Buskerud)"]
["Nesna","2012-06-13T00:16:00+02:00",237043,"Nesna"]
["Nesodden","2011-03-05T08:39:36+01:00",103044,"Nesodden"]
["Nesseby","2012-06-13T00:08:00+02:00",237013,"Nesseby"]
["Nesset","2012-06-12T22:41:00+02:00",236764,"Nesset"]
["Nissedal","2012-06-12T23:14:00+02:00",236856,"Nissedal"]
["Nittedal","2012-06-12T23:31:00+02:00",236895,"Nittedal"]
["Nome","2012-06-12T23:15:00+02:00",236857,"Nome"]
["Nord-Aurdal","2012-06-12T23:41:00+02:00",236922,"Nord-Aurdal"]
["Norddal","2012-06-12T22:41:00+02:00",236765,"Norddal"]
["Nord-Fron","2012-06-12T23:41:00+02:00",236923,"Nord-Fron"]
["Nordkapp","2012-06-13T00:09:00+02:00",237014,"Nordkapp"]
["Nord-Odal","2012-06-12T23:48:00+02:00",236947,"Nord-Odal"]
["Nordre Land","2012-06-12T23:41:00+02:00",236924,"Nordre Land"]
["Nordreisa","2012-06-13T00:03:00+02:00",236994,"Nordreisa"]
["Nore og Uvdal","2012-06-12T23:20:00+02:00",236875,"Nore og Uvdal"]
["Notodden","2010-12-06T16:33:43+01:00",155422,"Notodden"]
["Nærøy","2012-06-12T23:56:00+02:00",236973,"Nærøy"]
["Nøtterøy","2012-06-12T23:27:00+02:00",236883,"Nøtterøy"]
["Odda","2012-05-31T21:49:00+02:00",236000,"Odda"]
["Oppdal","2012-06-12T23:02:00+02:00",236816,"Oppdal"]
["Oppegård","2012-06-12T23:31:00+02:00",236896,"Oppegård"]
["Orkdal","2012-06-12T23:03:06+02:00",236817,"Orkdal"]
["Os (Hedmark)","2012-06-12T23:48:00+02:00",236948,"Os (Hedmark)"]
["Os (Hordaland)","2010-12-06T16:33:00+01:00",119841,"Os (Hordaland)"]
["Osen","2012-06-12T23:03:00+02:00",236818,"Osen"]
["Oslo","2011-03-06T17:53:29+01:00",78108,"Oslo"]
["Osterøy","2012-05-31T21:49:00+02:00",236001,"Osterøy"]
["Overhalla","2012-05-31T23:30:00+02:00",236012,"Overhalla"]
["Porsanger","2012-06-13T00:09:00+02:00",237015,"Porsanger"]
["Porsgrunn","2010-12-06T16:33:43+01:00",121307,"Porsgrunn"]
["Radøy","2012-05-31T21:50:00+02:00",236002,"Radøy"]
["Rakkestad","2012-06-12T23:36:09+02:00",236906,"Rakkestad"]
["Rana","2012-06-13T00:17:00+02:00",237044,"Rana"]
["Randaberg","2012-05-31T21:25:00+02:00",235971,"Randaberg"]
["Rauma","2012-06-12T22:42:00+02:00",236766,"Rauma"]
["Re","2010-12-06T16:33:42+01:00",121089,"Re"]
["Rendalen","2012-06-12T23:48:00+02:00",236949,"Rendalen"]
["Rennebu","2012-06-12T23:03:00+02:00",236819,"Rennebu"]
["Rennesøy","2012-05-31T21:25:00+02:00",235972,"Rennesøy"]
["Rindal","2012-06-12T22:42:00+02:00",236767,"Rindal"]
["Ringebu","2012-06-12T23:42:00+02:00",236925,"Ringebu"]
["Ringerike","2010-12-06T16:33:42+01:00",120207,"Ringerike"]
["Ringsaker","2012-06-12T23:49:00+02:00",236950,"Ringsaker"]
["Rissa","2012-06-12T23:03:00+02:00",236820,"Rissa"]
["Risør","2010-12-06T16:33:43+01:00",203389,"Risør"]
["Roan","2012-06-12T23:04:00+02:00",236821,"Roan"]
["Rollag","2012-06-12T23:20:00+02:00",236876,"Rollag"]
["Rygge","2012-06-12T23:36:00+02:00",236907,"Rygge"]
["Rælingen","2012-06-12T23:32:00+02:00",236897,"Rælingen"]
["Rødøy","2012-06-13T00:17:00+02:00",237045,"Rødøy"]
["Rømskog","2010-12-06T16:33:43+01:00",178586,"Rømskog"]
["Røros","2012-06-12T23:04:00+02:00",236822,"Røros"]
["Røst","2012-06-13T00:17:00+02:00",237046,"Røst"]
["Røyken","2012-06-12T23:21:00+02:00",236877,"Røyken"]
["Røyrvik","2012-06-12T23:57:00+02:00",236974,"Røyrvik"]
["Råde","2012-06-12T23:36:00+02:00",236908,"Råde"]
["Salangen","2012-06-13T00:03:00+02:00",236995,"Salangen"]
["Saltdal","2012-06-13T00:17:00+02:00",237047,"Saltdal"]
["Samnanger","2010-12-06T16:33:42+01:00",110882,"Samnanger"]
["Sande (Møre og Romsdal)","2012-06-12T22:42:00+02:00",236768,"Sande (Møre og Romsdal)"]
["Sande (Vestfold)","2010-12-06T16:33:00+01:00",120240,"Sande (Vestfold)"]
["Sandnes","2010-12-06T16:33:42+01:00",73987,"Sandnes"]
["Sandøy","2012-06-12T22:43:00+02:00",236769,"Sandøy"]
["Sarpsborg","2012-06-12T23:37:00+02:00",236910,"Sarpsborg"]
["Sauda","2012-05-31T21:26:00+02:00",235973,"Sauda"]
["Sauherad","2012-06-12T23:15:00+02:00",236858,"Sauherad"]
["Sel","2012-06-12T23:42:00+02:00",236926,"Sel"]
["Selbu","2012-06-12T23:04:00+02:00",236823,"Selbu"]
["Selje","2012-06-12T22:58:00+02:00",236803,"Selje"]
["Seljord","2012-06-12T23:15:00+02:00",236859,"Seljord"]
["Sigdal","2012-06-12T23:21:00+02:00",236878,"Sigdal"]
["Siljan","2012-06-12T23:15:00+02:00",236860,"Siljan"]
["Sirdal","2012-06-12T23:08:00+02:00",236836,"Sirdal"]
["Skaun","2012-06-12T23:04:00+02:00",236824,"Skaun"]
["Skedsmo","2010-12-06T16:33:42+01:00",73995,"Skedsmo"]
["Ski","2010-12-06T16:33:42+01:00",103355,"Ski"]
["Skien","2010-12-06T16:33:42+01:00",103117,"Skien"]
["Skiptvet","2010-12-06T16:33:42+01:00",112350,"Skiptvet"]
["Skjervøy","2012-06-13T00:04:00+02:00",236996,"Skjervøy"]
["Skjåk","2012-06-12T23:42:00+02:00",236927,"Skjåk"]
["Skodje","2012-06-12T22:43:00+02:00",236770,"Skodje"]
["Skånland","2012-06-13T00:04:00+02:00",236997,"Skånland"]
["Smøla","2012-06-12T22:43:00+02:00",236771,"Smøla"]
["Snillfjord","2012-06-12T23:05:00+02:00",236825,"Snillfjord"]
["Snåsa","2012-06-12T23:57:00+02:00",236975,"Snåsa"]
["Sogndal","2011-02-10T21:04:23+01:00",214841,"Sogndal"]
["Sokndal","2012-05-31T21:26:00+02:00",235974,"Sokndal"]
["Sola","2010-12-06T16:33:42+01:00",119800,"Sola"]
["Solund","2012-06-12T22:58:00+02:00",236804,"Solund"]
["Songdalen","2012-06-12T23:08:00+02:00",236837,"Songdalen"]
["Sortland","2012-06-13T00:18:00+02:00",237048,"Sortland"]
["Spydeberg","2012-06-12T23:37:00+02:00",236911,"Spydeberg"]
["Stange","2012-06-12T23:49:00+02:00",236951,"Stange"]
["Stavanger","2010-12-06T16:33:42+01:00",58715,"Stavanger"]
["Steigen","2012-06-13T00:18:00+02:00",237049,"Steigen"]
["Steinkjer","2010-12-06T16:33:43+01:00",155090,"Steinkjer"]
["Stjørdal","2010-12-06T16:33:42+01:00",87461,"Stjørdal"]
["Stokke","2012-06-12T23:27:00+02:00",236884,"Stokke"]
["Stord","2012-05-31T21:50:00+02:00",236003,"Stord"]
["Stordal","2012-06-12T22:44:00+02:00",236772,"Stordal"]
["Stor-Elvdal","2012-06-12T23:49:00+02:00",236952,"Stor-Elvdal"]
["Storfjord","2012-06-13T00:04:00+02:00",236998,"Storfjord"]
["Strand","2010-12-06T16:33:42+01:00",119755,"Strand"]
["Stranda","2012-06-12T22:44:00+02:00",236773,"Stranda"]
["Stryn","2012-06-12T22:58:00+02:00",236805,"Stryn"]
["Sula","2012-06-12T22:44:00+02:00",236774,"Sula"]
["Suldal","2012-05-31T21:41:00+02:00",235980,"Suldal"]
["Sund","2012-05-31T21:51:00+02:00",236004,"Sund"]
["Sunndal","2010-12-06T16:33:43+01:00",121190,"Sunndal"]
["Surnadal","2012-06-12T22:45:00+02:00",236775,"Surnadal"]
["Sveio","2012-05-31T21:45:05+02:00",164691,"Sveio"]
["Svelvik","2012-06-12T23:28:00+02:00",236885,"Svelvik"]
["Sykkylven","2012-06-12T22:45:00+02:00",236776,"Sykkylven"]
["Søgne","2012-06-12T23:08:00+02:00",236838,"Søgne"]
["Sømna","2012-06-13T00:18:00+02:00",237050,"Sømna"]
["Søndre Land","2012-06-12T23:42:00+02:00",236928,"Søndre Land"]
["Sør-Aurdal","2012-06-12T23:43:00+02:00",236929,"Sør-Aurdal"]
["Sørfold","2012-06-13T00:18:00+02:00",237051,"Sørfold"]
["Sør-Fron","2012-06-12T23:43:00+02:00",236930,"Sør-Fron"]
["Sør-Odal","2012-06-12T23:49:00+02:00",236953,"Sør-Odal"]
["Sørreisa","2012-06-13T00:05:00+02:00",236999,"Sørreisa"]
["Sørum","2010-12-06T16:33:42+01:00",121061,"Sørum"]
["Sør-Varanger","2010-12-06T16:33:42+01:00",85425,"Sør-Varanger"]
["Tana","2012-06-13T00:09:00+02:00",237016,"Tana"]
["Time","2012-05-31T21:43:00+02:00",235981,"Time"]
["Tingvoll","2012-06-12T22:45:00+02:00",236777,"Tingvoll"]
["Tinn","2012-06-12T23:16:00+02:00",236861,"Tinn"]
["Tjeldsund","2012-06-13T00:18:00+02:00",237052,"Tjeldsund"]
["Tjøme","2012-06-12T23:28:00+02:00",236886,"Tjøme"]
["Tokke","2012-06-12T23:16:00+02:00",236862,"Tokke"]
["Tolga","2012-06-12T23:50:00+02:00",236954,"Tolga"]
["Torsken","2012-06-13T00:05:00+02:00",237000,"Torsken"]
["Tranøy","2012-06-13T00:05:00+02:00",237001,"Tranøy"]
["Tromsø","2010-12-06T16:33:42+01:00",87643,"Tromsø"]
["Trondheim","2010-12-06T16:33:42+01:00",83683,"Trondheim"]
["Trysil","2012-06-12T23:50:00+02:00",236955,"Trysil"]
["Træna","2012-06-13T00:19:00+02:00",237053,"Træna"]
["Trøgstad","2012-06-12T23:37:00+02:00",236912,"Trøgstad"]
["Tvedestrand","2010-12-06T16:33:42+01:00",98961,"Tvedestrand"]
["Tydal","2012-06-12T23:05:00+02:00",236826,"Tydal"]
["Tynset","2012-06-12T23:50:00+02:00",236956,"Tynset"]
["Tysfjord","2012-06-13T00:19:00+02:00",237054,"Tysfjord"]
["Tysnes","2012-05-31T21:51:00+02:00",236005,"Tysnes"]
["Tysvær","2012-05-31T21:32:00+02:00",235979,"Tysvær"]
["Tønsberg","2010-12-06T16:33:42+01:00",112201,"Tønsberg"]
["Ullensaker","2011-11-08T11:07:00+01:00",228625,"Ullensaker"]
["Ullensvang","2012-05-31T21:52:33+02:00",236006,"Ullensvang"]
["Ulstein","2010-12-06T16:33:00+01:00",102988,"Ulstein"]
["Ulvik","2012-05-31T21:52:00+02:00",236007,"Ulvik"]
["Utsira","2012-05-31T21:43:00+02:00",235982,"Utsira"]
["Vadsø","2012-06-13T00:09:00+02:00",237017,"Vadsø"]
["Vaksdal","2012-05-31T21:52:00+02:00",236008,"Vaksdal"]
["Valle","2012-06-12T23:11:00+02:00",236847,"Valle"]
["Vang","2012-06-12T23:43:00+02:00",236931,"Vang"]
["Vanylven","2012-06-12T22:47:00+02:00",157537,"Vanylven"]
["Vardø","2012-06-13T00:09:00+02:00",237018,"Vardø"]
["Vefsn","2012-06-13T00:19:00+02:00",237055,"Vefsn"]
["Vega","2012-06-13T00:19:00+02:00",237056,"Vega"]
["Vegårdshei","2012-06-12T23:12:00+02:00",236848,"Vegårdshei"]
["Vennesla","2012-01-26T10:51:42+01:00",231292,"Vennesla"]
["Verdal","2012-06-12T23:57:00+02:00",236976,"Verdal"]
["Verran","2012-06-12T23:58:00+02:00",236977,"Verran"]
["Vestby","2010-12-06T16:33:42+01:00",110702,"Vestby"]
["Vestnes","2012-06-12T22:47:00+02:00",236778,"Vestnes"]
["Vestre Slidre","2012-06-12T23:44:00+02:00",236932,"Vestre Slidre"]
["Vestre Toten","2012-06-12T23:44:00+02:00",236933,"Vestre Toten"]
["Vestvågøy","2012-06-13T00:20:00+02:00",237057,"Vestvågøy"]
["Vevelstad","2012-06-13T00:20:00+02:00",237058,"Vevelstad"]
["Vik","2012-06-12T22:58:00+02:00",236806,"Vik"]
["Vikna","2012-06-12T23:58:00+02:00",236978,"Vikna"]
["Vindafjord","2012-05-31T21:43:00+02:00",235983,"Vindafjord"]
["Vinje","2012-06-12T23:16:00+02:00",236863,"Vinje"]
["Volda","2012-06-12T22:47:00+02:00",236779,"Volda"]
["Voss","2011-12-09T10:53:00+01:00",230112,"Voss"]
["Værøy","2012-06-13T00:20:00+02:00",237059,"Værøy"]
["Vågan","2010-12-06T16:33:42+01:00",101118,"Vågan"]
["Vågsøy","2012-06-12T22:59:00+02:00",236807,"Vågsøy"]
["Vågå","2012-06-12T23:44:00+02:00",236934,"Vågå"]
["Våler (Østfold)","2012-06-12T23:38:14+02:00",236913,"Våler (Østfold)"]
["Våler i Solør (Hedmark)","2012-06-12T23:50:00+02:00",236957,"Våler i Solør (Hedmark)"]
["Øksnes","2012-06-13T00:20:00+02:00",237061,"Øksnes"]
["Ørland","2012-06-12T23:05:00+02:00",236827,"Ørland"]
["Ørskog","2012-06-12T22:48:00+02:00",236780,"Ørskog"]
["Ørsta","2012-06-12T22:48:00+02:00",236781,"Ørsta"]
["Østre Toten","2012-06-12T23:44:00+02:00",236935,"Østre Toten"]
["Øvre Eiker","2012-06-12T23:22:00+02:00",236879,"Øvre Eiker"]
["Øyer","2012-06-12T23:45:00+02:00",236936,"Øyer"]
["Øygarden","2012-05-31T21:53:00+02:00",236009,"Øygarden"]
["Øystre Slidre","2012-06-12T23:45:00+02:00",236937,"Øystre Slidre"]
["Åfjord","2011-12-09T09:37:00+01:00",230101,"Åfjord"]
["Ål","2010-12-06T16:33:42+01:00",111082,"Ål"]
["Ålesund","2012-06-12T22:48:00+02:00",236782,"Ålesund"]
["Åmli","2012-06-12T23:12:00+02:00",236849,"Åmli"]
["Åmot","2012-06-12T23:24:05+02:00",98691,"Åmot"]
["Årdal","2010-12-06T16:33:43+01:00",155210,"Årdal"]
["Ås","2012-06-12T23:32:00+02:00",236898,"Ås"]
["Åseral","2012-06-12T23:09:00+02:00",236839,"Åseral"]
["Åsnes","2012-06-12T23:51:00+02:00",236958,"Åsnes"]

{"sheet":"tbl_Countys","index":25,"n_rows":22,"n_cols":5,"rows_kept":22,"hidden":true}
["odata_title","odata_updated","Id","Name","Kolonne1"]
["Akershus","2010-12-06T16:33:41+01:00",74214,"Akershus"]
["Aust-Agder","2010-12-06T16:33:41+01:00",74374,"Aust-Agder"]
["Buskerud","2010-12-06T16:33:41+01:00",74362,"Buskerud"]
["Finnmark","2010-12-06T16:33:41+01:00",74454,"Finnmark"]
["Hedmark","2010-12-06T16:33:41+01:00",74450,"Hedmark"]
["Hordaland","2010-12-06T16:33:41+01:00",74489,"Hordaland"]
["Møre og Romsdal","2010-12-06T16:33:41+01:00",74408,"Møre og Romsdal"]
["Nordland","2010-12-06T16:33:41+01:00",74424,"Nordland"]
["Nord-Trøndelag","2010-12-06T16:33:41+01:00",74421,"Nord-Trøndelag"]
["Oppland","2010-12-06T16:33:41+01:00",74433,"Oppland"]
["Oslo","2011-03-06T17:53:50+01:00",74351,"Oslo"]
["Rogaland","2012-05-31T21:33:00+02:00",58711,"Rogaland"]
["Sogn og Fjordane","2010-12-06T16:33:41+01:00",74413,"Sogn og Fjordane"]
["Svalbard mm.","2010-12-06T16:33:41+01:00",74492,"Svalbard mm."]
["Sverige","2010-12-06T16:33:41+01:00",185844,"Sverige"]
["Sør-Trøndelag","2010-12-06T16:33:41+01:00",74420,"Sør-Trøndelag"]
["Telemark","2010-12-06T16:33:41+01:00",74365,"Telemark"]
["Troms","2010-12-06T16:33:41+01:00",74453,"Troms"]
["Vest-Agder","2010-12-06T16:33:41+01:00",74401,"Vest-Agder"]
["Vestfold","2010-12-06T16:33:41+01:00",74400,"Vestfold"]
["Østfold","2010-12-06T16:33:41+01:00",74389,"Østfold"]

{"sheet":"tbl_ProjectTypes","index":26,"n_rows":10,"n_cols":5,"rows_kept":10,"hidden":true}
["odata_title","odata_updated","Id","Name","Kolonne1"]
["By-/ stedsutvikling","2012-12-11T17:01:19+01:00",182777,"By-/ stedsutvikling"]
["Industridesign","2012-06-14T15:25:00+02:00",136094,"Industridesign"]
["Interiør","2012-12-11T17:39:02+01:00",229033,"Interiør"]
["Landskap og blå-grønn struktur","2012-12-11T17:00:39+01:00",136112,"Landskap og blå-grønn struktur"]
["Nybygg / Tilbygg","2012-12-11T17:38:36+01:00",229031,"Nybygg / Tilbygg"]
["Ombruk / Rehabilitering / Transformasjon","2012-06-14T14:30:00+02:00",229032,"Ombruk / Rehabilitering / Transformasjon"]
["Regionalutvikling","2012-06-14T14:31:00+02:00",236205,"Regionalutvikling"]
["Regulering","2012-12-11T17:00:52+01:00",136142,"Regulering"]
["Transport og infrastruktur","2011-11-16T19:53:00+01:00",158046,"Transport og infrastruktur"]

{"sheet":"tbl_EcoMeasureTypes","index":27,"n_rows":131,"n_cols":5,"rows_kept":131,"hidden":true}
["odata_title","odata_updated","Id","MeasureName","Kolonne1"]
["Klimatilpasning / absorbsjon","2012-07-13T11:30:00+02:00",240405,"absorbsjon"]
["Energi / arealeffektivitet","2010-12-17T10:18:57+01:00",209239,"arealeffektivitet"]
["Sosiale aspekter / attraktive arenaer og møtesteder","2010-12-17T10:18:16+01:00",58731,"attraktive arenaer og møtesteder "]
["Energi / automatisering","2010-12-17T10:18:57+01:00",209240,"automatisering"]
["Godt innemiljø / balansert ventilasjon","2010-12-17T10:18:57+01:00",160697,"balansert ventilasjon"]
["Areal og transport / bildeling","2012-09-20T15:59:36+02:00",74594,"bildeling"]
["Energi / bioenergi","2010-12-17T10:18:57+01:00",74700,"bioenergi"]
["Energi / biogass","2012-09-17T19:00:00+02:00",242053,"biogass"]
["Vann og avløp / biologisk avløpssystem","2012-07-13T09:38:00+02:00",74671,"biologisk avløpssystem"]
["Grønne arealer / biologisk mangfold","2010-12-17T10:18:16+01:00",74840,"biologisk mangfold"]
["Sosiale aspekter / bokvalitet","2012-07-13T11:08:00+02:00",240388,"bokvalitet"]
["Sosiale aspekter / boligsosial planlegging","2012-07-13T11:08:00+02:00",240389,"boligsosial planlegging"]
["Sosiale aspekter / boligsosial samarbeid","2012-07-13T11:08:00+02:00",240390,"boligsosial samarbeid"]
["Sosiale aspekter / bomiljø","2012-07-13T11:09:00+02:00",240391,"bomiljø"]
["Prosess/metode / brukermedvirkning","2010-12-17T10:18:16+01:00",74947,"brukermedvirkning"]
["Prosess/metode / bygningsinformasjonsmodell (BIM)","2012-07-13T10:46:58+02:00",240374,"bygningsinformasjonsmodell (BIM)"]
["Godt innemiljø / bygningsintegrert ventilasjon","2010-12-17T10:18:57+01:00",74808,"bygningsintegrert ventilasjon"]
["Miljøvennlig by- og tettstedsutvikling / bymiljø","2012-07-13T10:40:00+02:00",240371,"bymiljø"]
["Miljøvennlig by- og tettstedsutvikling / byomforming","2010-12-17T10:18:16+01:00",102766,"byomforming"]
["Energi / dagslys","2011-11-23T17:08:21+01:00",75000,"dagslys"]
["Godt innemiljø / diffusjonsåpen konstruksjon","2010-12-17T10:19:17+01:00",178279,"diffusjonsåpen konstruksjon"]
["Energi / ekstra isolering","2010-12-17T10:18:57+01:00",209243,"ekstra isolering"]
["Prosess/metode / energi-/klimaplan","2012-07-13T10:54:00+02:00",240381,"energi-/klimaplan"]
["Energi / energibesparende utstyr","2010-12-17T10:18:57+01:00",209244,"energibesparende utstyr"]
["Energi / energieffektivitet","2010-12-17T10:18:57+01:00",209258,"energieffektivitet"]
["Prosess/metode / energiregnskap","2012-07-13T11:03:00+02:00",240384,"energiregnskap"]
["Avfall og kildesortering / farlig avfall","2012-07-13T09:44:00+02:00",240363,"farlig avfall"]
["Sosiale aspekter / felles løsninger","2010-12-17T10:18:16+01:00",58732,"felles løsninger"]
["Energi / fjernvarme","2010-12-17T10:18:57+01:00",209253,"fjernvarme"]
["Klimatilpasning / flomveier","2012-07-13T11:23:00+02:00",240395,"flomveier"]
["Klimatilpasning / fordrøyning","2012-07-13T11:22:00+02:00",240393,"fordrøyning"]
["Areal og transport / fortetting","2010-12-17T10:19:17+01:00",74610,"fortetting"]
["Avfall og kildesortering / forurenset grunn","2012-07-13T09:45:00+02:00",240364,"forurenset grunn"]
["Universell utforming / fremkommelighet","2011-11-23T17:36:00+01:00",75065,"fremkommelighet"]
["Godt innemiljø / fuktregulerende materialer","2012-07-13T10:23:45+02:00",74812,"fuktregulerende materialer"]
["Energi / geoenergi","2013-02-08T17:28:28+01:00",74712,"geoenergi"]
["Avfall og kildesortering / gjenbruk av materialer","2012-07-13T09:52:46+02:00",74193,"gjenbruk av materialer"]
["Avfall og kildesortering / gjenvinning","2012-07-13T09:47:00+02:00",240365,"gjenvinning"]
["Klimatilpasning / grønne tak","2012-07-13T11:21:14+02:00",74849,"grønne tak"]
["Grønne arealer / grønnstruktur","2010-12-17T10:18:16+01:00",58734,"grønnstruktur"]
["Grønne arealer / grønt gårdsrom","2010-12-17T10:18:16+01:00",74862,"grønt gårdsrom"]
["Klimatilpasning / havnivåtilpasning","2012-07-13T11:25:00+02:00",240398,"havnivåtilpasning"]
["Godt innemiljø / hybrid ventilasjon","2010-12-17T10:18:16+01:00",74817,"hybrid ventilasjon"]
["Prosess/metode / indirekte utslipp","2012-07-13T11:04:00+02:00",240387,"indirekte utslipp"]
["Klimatilpasning / infiltrasjon","2012-07-13T11:22:05+02:00",240392,"infiltrasjon"]
["Prosess/metode / integrert energidesign (IED)","2012-07-13T10:44:00+02:00",240372,"integrert energidesign (IED)"]
["Energi / jordvarme","2010-12-17T10:18:57+01:00",74723,"jordvarme"]
["Avfall og kildesortering / kildesortering","2010-12-17T10:18:00+01:00",74676,"kildesortering"]
["Prosess/metode / klimafotavtrykk","2012-07-13T11:04:12+02:00",240386,"klimafotavtrykk"]
["Prosess/metode / klimaregnskap","2012-07-13T11:03:00+02:00",240385,"klimaregnskap"]
["Stedstilpasning / klimatilpasning","2010-12-17T10:18:16+01:00",75050,"klimatilpasning"]
["Klimatilpasning / klimatilpasningsanalyse","2012-07-13T11:28:00+02:00",240401,"klimatilpasningsanalyse"]
["Klimatilpasning / klimatilpasningstiltak","2012-07-13T11:29:14+02:00",240402,"klimatilpasningstiltak"]
["Areal og transport / kollektivtrafikk","2010-12-17T10:19:17+01:00",74611,"kollektivtrafikk"]
["Prosess/metode / kommunal plan","2012-07-13T10:55:00+02:00",240382,"kommunal plan"]
["Avfall og kildesortering / kompostering","2010-12-17T10:18:00+01:00",74681,"kompostering"]
["Prosess/metode / kvalitetsprogram","2012-07-13T10:45:00+02:00",240373,"kvalitetsprogram"]
["Stedstilpasning / landskapstilpasning","2010-12-17T10:18:16+01:00",75051,"landskapstilpasning"]
["Godt innemiljø / lavemitterende materialer","2012-07-13T10:27:00+02:00",74915,"lavemitterende materialer"]
["Konstruksjoner og materialbruk / lokale materialer","2010-12-17T10:18:16+01:00",74920,"lokale materialer"]
["Universell utforming / luftkvalitet","2010-12-17T10:18:00+01:00",75091,"luftkvalitet"]
["Universell utforming / lydforhold","2010-12-17T10:18:57+01:00",75092,"lydforhold"]
["Godt innemiljø / mekanisk ventilasjon","2010-12-17T10:18:16+01:00",74818,"mekanisk ventilasjon"]
["Prosess/metode / metodeutvikling","2012-07-13T10:49:00+02:00",240377,"metodeutvikling"]
["Innkjøp og forbruk / miljøfyrtårn","2012-07-13T10:38:00+02:00",240367,"miljøfyrtårn"]
["Areal og transport / miljøgate","2012-07-13T00:44:00+02:00",240352,"miljøgate"]
["Prosess/metode / miljøkampanjer","2012-07-13T10:53:00+02:00",240379,"miljøkampanjer"]
["Prosess/metode / miljømarkering","2012-07-13T10:52:06+02:00",240378,"miljømarkering"]
["Prosess/metode / miljøoppfølgingsprogram","2010-12-17T10:18:16+01:00",74952,"miljøoppfølgingsprogram"]
["Prosess/metode / miljøsertifiseringsarbeid","2012-07-13T10:54:00+02:00",240380,"miljøsertifiseringsarbeid"]
["Miljøvennlig by- og tettstedsutvikling / miljøsoner","2010-12-17T10:18:16+01:00",102769,"miljøsoner"]
["Areal og transport / miljøvennlig bystruktur","2010-12-17T10:19:17+01:00",74622,"miljøvennlig bystruktur"]
["Konstruksjoner og materialbruk / miljøvennlig overflatebehandling","2010-12-17T10:18:16+01:00",74933,"miljøvennlig overflatebehandling"]
["Avfall og kildesortering / miljøvennlig riving","2012-07-13T09:56:00+02:00",74983,"miljøvennlig riving"]
["Miljøvennlig by- og tettstedsutvikling / miljøvennlige arbeidsreiser","2010-12-17T10:18:16+01:00",102768,"miljøvennlige arbeidsreiser"]
["Prosess/metode / mobilisering","2012-07-13T10:48:00+02:00",240376,"mobilisering"]
["Godt innemiljø / naturlig ventilasjon","2010-12-17T10:18:16+01:00",82844,"naturlig ventilasjon"]
["Konstruksjoner og materialbruk / naturnære materialer","2010-12-17T10:18:16+01:00",74940,"naturnære materialer"]
["Prosess/metode / nudge","2013-01-23T17:33:00+01:00",246801,"Nudge"]
["Grønne arealer / nyttevekster","2010-12-17T10:18:16+01:00",74882,"nyttevekster"]
["Innkjøp og forbruk / offentlige innkjøp","2012-07-13T10:37:00+02:00",240369,"offentlige innkjøp"]
["Avfall og kildesortering / ombruk av bygningsmasse","2012-07-13T09:56:00+02:00",74986,"ombruk av bygningsmasse"]
["Vann og avløp / oppsamling av regnvann","2010-12-17T10:18:00+01:00",75119,"oppsamling av regnvann"]
["Universell utforming / orienterbarhet","2010-12-17T10:18:16+01:00",75093,"orienterbarhet"]
["Klimatilpasning / overflatedekker","2012-07-13T11:22:00+02:00",240394,"overflatedekker"]
["Universell utforming / overflater","2010-12-17T10:18:57+01:00",75106,"overflater"]
["Klimatilpasning / overflatevann","2012-07-13T11:30:00+02:00",240406,"overflatevann"]
["Vann og avløp / overvannshåndtering","2012-07-13T11:16:00+02:00",74865,"overvannshåndtering"]
["Grønne arealer / park- og grøntareal","2012-12-13T18:59:23+01:00",58733,"park- og grøntareal"]
["Energi / passiv solvarme","2010-12-17T10:18:57+01:00",209254,"passiv solvarme"]
["Klimatilpasning / permeable flater","2012-07-13T11:29:00+02:00",240404,"permeable flater"]
["Avfall og kildesortering / prefabrikasjon","2012-07-13T09:54:00+02:00",74993,"prefabrikasjon"]
["Avfall og kildesortering / redesign","2012-07-13T09:42:00+02:00",240362,"redesign"]
["Areal og transport / reduksjon av parkeringsdekning","2012-07-13T00:46:00+02:00",240354,"reduksjon av parkeringsdekning"]
["Areal og transport / reduksjon av teknisk infrastruktur","2010-12-17T10:19:17+01:00",74633,"reduksjon av teknisk infrastruktur"]
["Innkjøp og forbruk / redusere/endre forbruk","2012-07-13T10:38:00+02:00",240370,"redusere / endre forbruk "]
["Prosess/metode / regional plan","2012-07-13T11:02:00+02:00",240383,"regional plan"]
["Klimatilpasning / regnbed","2012-07-13T11:28:00+02:00",240400,"regnbed"]
["Vann og avløp / rehabilitering av vannmiljø","2010-12-17T10:18:00+01:00",75131,"rehabilitering av vannmiljø"]
["Konstruksjoner og materialbruk / renholdsvennlige materialer","2010-12-17T10:18:16+01:00",74941,"renholdsvennlige materialer"]
["Vann og avløp / rensing av gråvann","2012-07-13T09:42:00+02:00",74682,"rensing av gråvann"]
["Godt innemiljø / rent bygg","2010-12-17T10:18:16+01:00",74825,"rent bygg"]
["Klimatilpasning / risiko- og sårbarhetsanalyser","2012-07-13T11:29:00+02:00",240403,"risiko- og sårbarhetsanalyser"]
["Areal og transport / samordnet transportplanlegging","2012-07-13T10:42:00+02:00",74957,"samordnet transportplanlegging"]
["Miljøvennlig by- og tettstedsutvikling / sentrumsutvikling","2010-12-17T10:18:16+01:00",102767,"sentrumsutvikling"]
["Klimatilpasning / skredforebygging","2012-07-13T11:23:59+02:00",240396,"skredforebygging"]
["Konstruksjoner og materialbruk / slitesterke materialer","2010-12-17T10:18:16+01:00",74942,"slitesterke materialer"]
["Energi / solavskjerming","2011-08-17T14:20:00+02:00",75028,"solavskjerming"]
["Energi / solcelle","2010-12-17T10:18:57+01:00",74771,"solcelle"]
["Energi / solfanger","2010-12-17T10:19:17+01:00",74788,"solfanger"]
["Energi / solrom","2010-12-17T10:18:57+01:00",74800,"solrom"]
["Energi / sonedeling","2010-12-17T10:18:57+01:00",209245,"sonedeling"]
["Prosess/metode / stedsanalyse","2012-07-13T10:48:29+02:00",240375,"stedsanalyse"]
["Areal og transport / styrking av sentrum","2010-12-17T10:19:17+01:00",74640,"styrking av sentrum"]
["Areal og transport / støyskjerming","2012-07-13T00:44:00+02:00",240351,"støyskjerming"]
["Energi / synlig energistyring","2012-06-14T20:18:00+02:00",157595,"synlig energistyring"]
["Energi / termisk masse","2010-12-17T10:18:57+01:00",209246,"termisk masse"]
["Stedstilpasning / terrengtilpassing","2010-12-17T10:18:16+01:00",87638,"terrengtilpassing"]
["Energi / tett bygningskropp","2010-12-17T10:18:57+01:00",75039,"tett bygningskropp"]
["Areal og transport / tilrettelegging for syklister/fotgjengere","2010-12-17T10:19:17+01:00",74659,"tilrettelegging for syklister/fotgjengere"]
["Universell utforming / utstyr og bygningsdeler","2010-12-17T10:18:57+01:00",75111,"utstyr og bygningsdeler"]
["Areal og transport / utvikling av knutepunkter","2010-12-17T10:19:17+01:00",74668,"utvikling av knutepunkter"]
["Vann og avløp / vannbesparende utstyr","2010-12-17T10:18:00+01:00",75132,"vannbesparende utstyr"]
["Energi / vannbåren oppvarming","2010-12-17T10:18:57+01:00",209247,"vannbåren oppvarming"]
["Vann og avløp / vannrensing","2010-12-17T10:18:00+01:00",75133,"vannrensing"]
["Energi / varmegjenvinning","2010-12-17T10:19:17+01:00",209252,"varmegjenvinning"]
["Energi / varmepumpe","2010-12-17T10:18:57+01:00",209255,"varmepumpe"]
["Stedstilpasning / vegetasjonstilpasning","2012-07-13T11:11:00+02:00",74883,"vegetasjonstilpasning"]
["Klimatilpasning / vindsikring","2012-07-13T11:27:34+02:00",240399,"vindsikring"]
["Avfall og kildesortering / våtorganisk avfall","2012-09-17T19:01:00+02:00",242054,"våtorganisk avfall"]

{"sheet":"tbl_EcoMeasureTypeCategorys","index":28,"n_rows":132,"n_cols":6,"rows_kept":132,"hidden":true}
["Type_Id","Type_Name","Type_MeasureCount","Measure_Id","Measure_Name","Measure_MeasureName"]
[240366,"Klimatilpasning",15,240405,"Klimatilpasning / absorbsjon","absorbsjon"]
[74568,"Energi",23,209239,"Energi / arealeffektivitet","arealeffektivitet"]
[58723,"Sosiale aspekter",6,58731,"Sosiale aspekter / attraktive arenaer og møtesteder ","attraktive arenaer og møtesteder "]
[74568,"Energi",23,209240,"Energi / automatisering","automatisering"]
[74206,"Godt innemiljø",10,160697,"Godt innemiljø / balansert ventilasjon","balansert ventilasjon"]
[74521,"Areal og transport",12,74594,"Areal og transport / bildeling","bildeling"]
[74568,"Energi",23,74700,"Energi / bioenergi","bioenergi"]
[74568,"Energi",23,242053,"Energi / biogass","biogass"]
[74577,"Vann og avløp",7,74671,"Vann og avløp / biologisk avløpssystem","biologisk avløpssystem"]
[58730,"Grønne arealer",5,74840,"Grønne arealer / biologisk mangfold","biologisk mangfold"]
[58723,"Sosiale aspekter",6,240388,"Sosiale aspekter / bokvalitet","bokvalitet"]
[58723,"Sosiale aspekter",6,240389,"Sosiale aspekter / boligsosial planlegging","boligsosial planlegging"]
[58723,"Sosiale aspekter",6,240390,"Sosiale aspekter / boligsosial samarbeid","boligsosial samarbeid"]
[58723,"Sosiale aspekter",6,240391,"Sosiale aspekter / bomiljø","bomiljø"]
[74565,"Prosess/metode",19,74947,"Prosess/metode / brukermedvirkning","brukermedvirkning"]
[74565,"Prosess/metode",19,240374,"Prosess/metode / bygningsinformasjonsmodell (BIM)","bygningsinformasjonsmodell (BIM)"]
[74206,"Godt innemiljø",10,74808,"Godt innemiljø / bygningsintegrert ventilasjon","bygningsintegrert ventilasjon"]
[155019,"Miljøvennlig by- og tettstedsutvikling",5,240371,"Miljøvennlig by- og tettstedsutvikling / bymiljø","bymiljø"]
[155019,"Miljøvennlig by- og tettstedsutvikling",5,102766,"Miljøvennlig by- og tettstedsutvikling / byomforming","byomforming"]
[74206,"Godt innemiljø",10,75000,"Energi / dagslys","dagslys"]
[74568,"Energi",23,75000,"Energi / dagslys","dagslys"]
[74206,"Godt innemiljø",10,178279,"Godt innemiljø / diffusjonsåpen konstruksjon","diffusjonsåpen konstruksjon"]
[74568,"Energi",23,209243,"Energi / ekstra isolering","ekstra isolering"]
[74565,"Prosess/metode",19,240381,"Prosess/metode / energi-/klimaplan","energi-/klimaplan"]
[74568,"Energi",23,209244,"Energi / energibesparende utstyr","energibesparende utstyr"]
[74568,"Energi",23,209258,"Energi / energieffektivitet","energieffektivitet"]
[74565,"Prosess/metode",19,240384,"Prosess/metode / energiregnskap","energiregnskap"]
[74497,"Avfall og kildesortering",11,240363,"Avfall og kildesortering / farlig avfall","farlig avfall"]
[58723,"Sosiale aspekter",6,58732,"Sosiale aspekter / felles løsninger","felles løsninger"]
[74568,"Energi",23,209253,"Energi / fjernvarme","fjernvarme"]
[240366,"Klimatilpasning",15,240395,"Klimatilpasning / flomveier","flomveier"]
[240366,"Klimatilpasning",15,240393,"Klimatilpasning / fordrøyning","fordrøyning"]
[74521,"Areal og transport",12,74610,"Areal og transport / fortetting","fortetting"]
[74497,"Avfall og kildesortering",11,240364,"Avfall og kildesortering / forurenset grunn","forurenset grunn"]
[74574,"Universell utforming",6,75065,"Universell utforming / fremkommelighet","fremkommelighet"]
[74206,"Godt innemiljø",10,74812,"Godt innemiljø / fuktregulerende materialer","fuktregulerende materialer"]
[74568,"Energi",23,74712,"Energi / geoenergi","geoenergi"]
[74497,"Avfall og kildesortering",11,74193,"Avfall og kildesortering / gjenbruk av materialer","gjenbruk av materialer"]
[74497,"Avfall og kildesortering",11,240365,"Avfall og kildesortering / gjenvinning","gjenvinning"]
[240366,"Klimatilpasning",15,74849,"Klimatilpasning / grønne tak","grønne tak"]
[58730,"Grønne arealer",5,58734,"Grønne arealer / grønnstruktur","grønnstruktur"]
[58730,"Grønne arealer",5,74862,"Grønne arealer / grønt gårdsrom","grønt gårdsrom"]
[240366,"Klimatilpasning",15,240398,"Klimatilpasning / havnivåtilpasning","havnivåtilpasning"]
[74206,"Godt innemiljø",10,74817,"Godt innemiljø / hybrid ventilasjon","hybrid ventilasjon"]
[74565,"Prosess/metode",19,240387,"Prosess/metode / indirekte utslipp","indirekte utslipp"]
[240366,"Klimatilpasning",15,240392,"Klimatilpasning / infiltrasjon","infiltrasjon"]
[74565,"Prosess/metode",19,240372,"Prosess/metode / integrert energidesign (IED)","integrert energidesign (IED)"]
[74568,"Energi",23,74723,"Energi / jordvarme","jordvarme"]
[74497,"Avfall og kildesortering",11,74676,"Avfall og kildesortering / kildesortering","kildesortering"]
[74565,"Prosess/metode",19,240386,"Prosess/metode / klimafotavtrykk","klimafotavtrykk"]
[74565,"Prosess/metode",19,240385,"Prosess/metode / klimaregnskap","klimaregnskap"]
[74573,"Stedstilpasning",4,75050,"Stedstilpasning / klimatilpasning","klimatilpasning"]
[240366,"Klimatilpasning",15,240401,"Klimatilpasning / klimatilpasningsanalyse","klimatilpasningsanalyse"]
[240366,"Klimatilpasning",15,240402,"Klimatilpasning / klimatilpasningstiltak","klimatilpasningstiltak"]
[74521,"Areal og transport",12,74611,"Areal og transport / kollektivtrafikk","kollektivtrafikk"]
[74565,"Prosess/metode",19,240382,"Prosess/metode / kommunal plan","kommunal plan"]
[74497,"Avfall og kildesortering",11,74681,"Avfall og kildesortering / kompostering","kompostering"]
[74565,"Prosess/metode",19,240373,"Prosess/metode / kvalitetsprogram","kvalitetsprogram"]
[74573,"Stedstilpasning",4,75051,"Stedstilpasning / landskapstilpasning","landskapstilpasning"]
[74206,"Godt innemiljø",10,74915,"Godt innemiljø / lavemitterende materialer","lavemitterende materialer"]
[74562,"Konstruksjoner og materialbruk",5,74920,"Konstruksjoner og materialbruk / lokale materialer","lokale materialer"]
[74574,"Universell utforming",6,75091,"Universell utforming / luftkvalitet","luftkvalitet"]
[74574,"Universell utforming",6,75092,"Universell utforming / lydforhold","lydforhold"]
[74206,"Godt innemiljø",10,74818,"Godt innemiljø / mekanisk ventilasjon","mekanisk ventilasjon"]
[74565,"Prosess/metode",19,240377,"Prosess/metode / metodeutvikling","metodeutvikling"]
[240368,"Innkjøp og forbruk",3,240367,"Innkjøp og forbruk / miljøfyrtårn","miljøfyrtårn"]
[74521,"Areal og transport",12,240352,"Areal og transport / miljøgate","miljøgate"]
[74565,"Prosess/metode",19,240379,"Prosess/metode / miljøkampanjer","miljøkampanjer"]
[74565,"Prosess/metode",19,240378,"Prosess/metode / miljømarkering","miljømarkering"]
[74565,"Prosess/metode",19,74952,"Prosess/metode / miljøoppfølgingsprogram","miljøoppfølgingsprogram"]
[74565,"Prosess/metode",19,240380,"Prosess/metode / miljøsertifiseringsarbeid","miljøsertifiseringsarbeid"]
[155019,"Miljøvennlig by- og tettstedsutvikling",5,102769,"Miljøvennlig by- og tettstedsutvikling / miljøsoner","miljøsoner"]
[74521,"Areal og transport",12,74622,"Areal og transport / miljøvennlig bystruktur","miljøvennlig bystruktur"]
[74562,"Konstruksjoner og materialbruk",5,74933,"Konstruksjoner og materialbruk / miljøvennlig overflatebehandling","miljøvennlig overflatebehandling"]
[74497,"Avfall og kildesortering",11,74983,"Avfall og kildesortering / miljøvennlig riving","miljøvennlig riving"]
[155019,"Miljøvennlig by- og tettstedsutvikling",5,102768,"Miljøvennlig by- og tettstedsutvikling / miljøvennlige arbeidsreiser","miljøvennlige arbeidsreiser"]
[74565,"Prosess/metode",19,240376,"Prosess/metode / mobilisering","mobilisering"]
[74206,"Godt innemiljø",10,82844,"Godt innemiljø / naturlig ventilasjon","naturlig ventilasjon"]
[74562,"Konstruksjoner og materialbruk",5,74940,"Konstruksjoner og materialbruk / naturnære materialer","naturnære materialer"]
[74565,"Prosess/metode",19,246801,"Prosess/metode / nudge","Nudge"]
[58730,"Grønne arealer",5,74882,"Grønne arealer / nyttevekster","nyttevekster"]
[240368,"Innkjøp og forbruk",3,240369,"Innkjøp og forbruk / offentlige innkjøp","offentlige innkjøp"]
[74497,"Avfall og kildesortering",11,74986,"Avfall og kildesortering / ombruk av bygningsmasse","ombruk av bygningsmasse"]
[74577,"Vann og avløp",7,75119,"Vann og avløp / oppsamling av regnvann","oppsamling av regnvann"]
[74574,"Universell utforming",6,75093,"Universell utforming / orienterbarhet","orienterbarhet"]
[240366,"Klimatilpasning",15,240394,"Klimatilpasning / overflatedekker","overflatedekker"]
[74574,"Universell utforming",6,75106,"Universell utforming / overflater","overflater"]
[240366,"Klimatilpasning",15,240406,"Klimatilpasning / overflatevann","overflatevann"]
[74577,"Vann og avløp",7,74865,"Vann og avløp / overvannshåndtering","overvannshåndtering"]
[58730,"Grønne arealer",5,58733,"Grønne arealer / park- og grøntareal","park- og grøntareal"]
[74568,"Energi",23,209254,"Energi / passiv solvarme","passiv solvarme"]
[240366,"Klimatilpasning",15,240404,"Klimatilpasning / permeable flater","permeable flater"]
[74497,"Avfall og kildesortering",11,74993,"Avfall og kildesortering / prefabrikasjon","prefabrikasjon"]
[74497,"Avfall og kildesortering",11,240362,"Avfall og kildesortering / redesign","redesign"]
[74521,"Areal og transport",12,240354,"Areal og transport / reduksjon av parkeringsdekning","reduksjon av parkeringsdekning"]
[74521,"Areal og transport",12,74633,"Areal og transport / reduksjon av teknisk infrastruktur","reduksjon av teknisk infrastruktur"]
[240368,"Innkjøp og forbruk",3,240370,"Innkjøp og forbruk / redusere/endre forbruk ","redusere / endre forbruk "]
[74565,"Prosess/metode",19,240383,"Prosess/metode / regional plan","regional plan"]
[240366,"Klimatilpasning",15,240400,"Klimatilpasning / regnbed","regnbed"]
[74577,"Vann og avløp",7,75131,"Vann og avløp / rehabilitering av vannmiljø","rehabilitering av vannmiljø"]
[74562,"Konstruksjoner og materialbruk",5,74941,"Konstruksjoner og materialbruk / renholdsvennlige materialer","renholdsvennlige materialer"]
[74577,"Vann og avløp",7,74682,"Vann og avløp / rensing av gråvann","rensing av gråvann"]
[74206,"Godt innemiljø",10,74825,"Godt innemiljø / rent bygg","rent bygg"]
[240366,"Klimatilpasning",15,240403,"Klimatilpasning / risiko- og sårbarhetsanalyser","risiko- og sårbarhetsanalyser"]
[74521,"Areal og transport",12,74957,"Areal og transport / samordnet transportplanlegging","samordnet transportplanlegging"]
[155019,"Miljøvennlig by- og tettstedsutvikling",5,102767,"Miljøvennlig by- og tettstedsutvikling / sentrumsutvikling","sentrumsutvikling"]
[240366,"Klimatilpasning",15,240396,"Klimatilpasning / skredforebygging","skredforebygging"]
[74562,"Konstruksjoner og materialbruk",5,74942,"Konstruksjoner og materialbruk / slitesterke materialer","slitesterke materialer"]
[74568,"Energi",23,75028,"Energi / solavskjerming","solavskjerming"]
[74568,"Energi",23,74771,"Energi / solcelle","solcelle"]
[74568,"Energi",23,74788,"Energi / solfanger","solfanger"]
[74568,"Energi",23,74800,"Energi / solrom","solrom"]
[74568,"Energi",23,209245,"Energi / sonedeling","sonedeling"]
[74565,"Prosess/metode",19,240375,"Prosess/metode / stedsanalyse","stedsanalyse"]
[74521,"Areal og transport",12,74640,"Areal og transport / styrking av sentrum","styrking av sentrum"]
[74521,"Areal og transport",12,240351,"Areal og transport / støyskjerming","støyskjerming"]
[74568,"Energi",23,157595,"Energi / synlig energistyring","synlig energistyring"]
[74568,"Energi",23,209246,"Energi / termisk masse","termisk masse"]
[74573,"Stedstilpasning",4,87638,"Stedstilpasning / terrengtilpassing","terrengtilpassing"]
[74568,"Energi",23,75039,"Energi / tett bygningskropp","tett bygningskropp"]
[74521,"Areal og transport",12,74659,"Areal og transport / tilrettelegging for syklister/fotgjengere","tilrettelegging for syklister/fotgjengere"]
[74574,"Universell utforming",6,75111,"Universell utforming / utstyr og bygningsdeler","utstyr og bygningsdeler"]
[74521,"Areal og transport",12,74668,"Areal og transport / utvikling av knutepunkter","utvikling av knutepunkter"]
[74577,"Vann og avløp",7,75132,"Vann og avløp / vannbesparende utstyr","vannbesparende utstyr"]
[74568,"Energi",23,209247,"Energi / vannbåren oppvarming","vannbåren oppvarming"]
[74577,"Vann og avløp",7,75133,"Vann og avløp / vannrensing","vannrensing"]
[74568,"Energi",23,209252,"Energi / varmegjenvinning","varmegjenvinning"]
[74568,"Energi",23,209255,"Energi / varmepumpe","varmepumpe"]
[74573,"Stedstilpasning",4,74883,"Stedstilpasning / vegetasjonstilpasning","vegetasjonstilpasning"]
[240366,"Klimatilpasning",15,240399,"Klimatilpasning / vindsikring","vindsikring"]
[74497,"Avfall og kildesortering",11,242054,"Avfall og kildesortering / våtorganisk avfall","våtorganisk avfall"]

{"sheet":"tbl_EcoMeasures","index":29,"n_rows":132,"n_cols":6,"rows_kept":132,"hidden":true}
["Type_Id","Type_Name","Type_MeasureCount","Measure_Id","Measure_Name","Measure_MeasureName"]
[240366,"Klimatilpasning",15,240405,"Klimatilpasning / absorbsjon","absorbsjon"]
[74568,"Energi",23,209239,"Energi / arealeffektivitet","arealeffektivitet"]
[58723,"Sosiale aspekter",6,58731,"Sosiale aspekter / attraktive arenaer og møtesteder ","attraktive arenaer og møtesteder "]
[74568,"Energi",23,209240,"Energi / automatisering","automatisering"]
[74206,"Godt innemiljø",10,160697,"Godt innemiljø / balansert ventilasjon","balansert ventilasjon"]
[74521,"Areal og transport",12,74594,"Areal og transport / bildeling","bildeling"]
[74568,"Energi",23,74700,"Energi / bioenergi","bioenergi"]
[74568,"Energi",23,242053,"Energi / biogass","biogass"]
[74577,"Vann og avløp",7,74671,"Vann og avløp / biologisk avløpssystem","biologisk avløpssystem"]
[58730,"Grønne arealer",5,74840,"Grønne arealer / biologisk mangfold","biologisk mangfold"]
[58723,"Sosiale aspekter",6,240388,"Sosiale aspekter / bokvalitet","bokvalitet"]
[58723,"Sosiale aspekter",6,240389,"Sosiale aspekter / boligsosial planlegging","boligsosial planlegging"]
[58723,"Sosiale aspekter",6,240390,"Sosiale aspekter / boligsosial samarbeid","boligsosial samarbeid"]
[58723,"Sosiale aspekter",6,240391,"Sosiale aspekter / bomiljø","bomiljø"]
[74565,"Prosess/metode",19,74947,"Prosess/metode / brukermedvirkning","brukermedvirkning"]
[74565,"Prosess/metode",19,240374,"Prosess/metode / bygningsinformasjonsmodell (BIM)","bygningsinformasjonsmodell (BIM)"]
[74206,"Godt innemiljø",10,74808,"Godt innemiljø / bygningsintegrert ventilasjon","bygningsintegrert ventilasjon"]
[155019,"Miljøvennlig by- og tettstedsutvikling",5,240371,"Miljøvennlig by- og tettstedsutvikling / bymiljø","bymiljø"]
[155019,"Miljøvennlig by- og tettstedsutvikling",5,102766,"Miljøvennlig by- og tettstedsutvikling / byomforming","byomforming"]
[74206,"Godt innemiljø",10,75000,"Energi / dagslys","dagslys"]
[74568,"Energi",23,75000,"Energi / dagslys","dagslys"]
[74206,"Godt innemiljø",10,178279,"Godt innemiljø / diffusjonsåpen konstruksjon","diffusjonsåpen konstruksjon"]
[74568,"Energi",23,209243,"Energi / ekstra isolering","ekstra isolering"]
[74565,"Prosess/metode",19,240381,"Prosess/metode / energi-/klimaplan","energi-/klimaplan"]
[74568,"Energi",23,209244,"Energi / energibesparende utstyr","energibesparende utstyr"]
[74568,"Energi",23,209258,"Energi / energieffektivitet","energieffektivitet"]
[74565,"Prosess/metode",19,240384,"Prosess/metode / energiregnskap","energiregnskap"]
[74497,"Avfall og kildesortering",11,240363,"Avfall og kildesortering / farlig avfall","farlig avfall"]
[58723,"Sosiale aspekter",6,58732,"Sosiale aspekter / felles løsninger","felles løsninger"]
[74568,"Energi",23,209253,"Energi / fjernvarme","fjernvarme"]
[240366,"Klimatilpasning",15,240395,"Klimatilpasning / flomveier","flomveier"]
[240366,"Klimatilpasning",15,240393,"Klimatilpasning / fordrøyning","fordrøyning"]
[74521,"Areal og transport",12,74610,"Areal og transport / fortetting","fortetting"]
[74497,"Avfall og kildesortering",11,240364,"Avfall og kildesortering / forurenset grunn","forurenset grunn"]
[74574,"Universell utforming",6,75065,"Universell utforming / fremkommelighet","fremkommelighet"]
[74206,"Godt innemiljø",10,74812,"Godt innemiljø / fuktregulerende materialer","fuktregulerende materialer"]
[74568,"Energi",23,74712,"Energi / geoenergi","geoenergi"]
[74497,"Avfall og kildesortering",11,74193,"Avfall og kildesortering / gjenbruk av materialer","gjenbruk av materialer"]
[74497,"Avfall og kildesortering",11,240365,"Avfall og kildesortering / gjenvinning","gjenvinning"]
[240366,"Klimatilpasning",15,74849,"Klimatilpasning / grønne tak","grønne tak"]
[58730,"Grønne arealer",5,58734,"Grønne arealer / grønnstruktur","grønnstruktur"]
[58730,"Grønne arealer",5,74862,"Grønne arealer / grønt gårdsrom","grønt gårdsrom"]
[240366,"Klimatilpasning",15,240398,"Klimatilpasning / havnivåtilpasning","havnivåtilpasning"]
[74206,"Godt innemiljø",10,74817,"Godt innemiljø / hybrid ventilasjon","hybrid ventilasjon"]
[74565,"Prosess/metode",19,240387,"Prosess/metode / indirekte utslipp","indirekte utslipp"]
[240366,"Klimatilpasning",15,240392,"Klimatilpasning / infiltrasjon","infiltrasjon"]
[74565,"Prosess/metode",19,240372,"Prosess/metode / integrert energidesign (IED)","integrert energidesign (IED)"]
[74568,"Energi",23,74723,"Energi / jordvarme","jordvarme"]
[74497,"Avfall og kildesortering",11,74676,"Avfall og kildesortering / kildesortering","kildesortering"]
[74565,"Prosess/metode",19,240386,"Prosess/metode / klimafotavtrykk","klimafotavtrykk"]
[74565,"Prosess/metode",19,240385,"Prosess/metode / klimaregnskap","klimaregnskap"]
[74573,"Stedstilpasning",4,75050,"Stedstilpasning / klimatilpasning","klimatilpasning"]
[240366,"Klimatilpasning",15,240401,"Klimatilpasning / klimatilpasningsanalyse","klimatilpasningsanalyse"]
[240366,"Klimatilpasning",15,240402,"Klimatilpasning / klimatilpasningstiltak","klimatilpasningstiltak"]
[74521,"Areal og transport",12,74611,"Areal og transport / kollektivtrafikk","kollektivtrafikk"]
[74565,"Prosess/metode",19,240382,"Prosess/metode / kommunal plan","kommunal plan"]
[74497,"Avfall og kildesortering",11,74681,"Avfall og kildesortering / kompostering","kompostering"]
[74565,"Prosess/metode",19,240373,"Prosess/metode / kvalitetsprogram","kvalitetsprogram"]
[74573,"Stedstilpasning",4,75051,"Stedstilpasning / landskapstilpasning","landskapstilpasning"]
[74206,"Godt innemiljø",10,74915,"Godt innemiljø / lavemitterende materialer","lavemitterende materialer"]
[74562,"Konstruksjoner og materialbruk",5,74920,"Konstruksjoner og materialbruk / lokale materialer","lokale materialer"]
[74574,"Universell utforming",6,75091,"Universell utforming / luftkvalitet","luftkvalitet"]
[74574,"Universell utforming",6,75092,"Universell utforming / lydforhold","lydforhold"]
[74206,"Godt innemiljø",10,74818,"Godt innemiljø / mekanisk ventilasjon","mekanisk ventilasjon"]
[74565,"Prosess/metode",19,240377,"Prosess/metode / metodeutvikling","metodeutvikling"]
[240368,"Innkjøp og forbruk",3,240367,"Innkjøp og forbruk / miljøfyrtårn","miljøfyrtårn"]
[74521,"Areal og transport",12,240352,"Areal og transport / miljøgate","miljøgate"]
[74565,"Prosess/metode",19,240379,"Prosess/metode / miljøkampanjer","miljøkampanjer"]
[74565,"Prosess/metode",19,240378,"Prosess/metode / miljømarkering","miljømarkering"]
[74565,"Prosess/metode",19,74952,"Prosess/metode / miljøoppfølgingsprogram","miljøoppfølgingsprogram"]
[74565,"Prosess/metode",19,240380,"Prosess/metode / miljøsertifiseringsarbeid","miljøsertifiseringsarbeid"]
[155019,"Miljøvennlig by- og tettstedsutvikling",5,102769,"Miljøvennlig by- og tettstedsutvikling / miljøsoner","miljøsoner"]
[74521,"Areal og transport",12,74622,"Areal og transport / miljøvennlig bystruktur","miljøvennlig bystruktur"]
[74562,"Konstruksjoner og materialbruk",5,74933,"Konstruksjoner og materialbruk / miljøvennlig overflatebehandling","miljøvennlig overflatebehandling"]
[74497,"Avfall og kildesortering",11,74983,"Avfall og kildesortering / miljøvennlig riving","miljøvennlig riving"]
[155019,"Miljøvennlig by- og tettstedsutvikling",5,102768,"Miljøvennlig by- og tettstedsutvikling / miljøvennlige arbeidsreiser","miljøvennlige arbeidsreiser"]
[74565,"Prosess/metode",19,240376,"Prosess/metode / mobilisering","mobilisering"]
[74206,"Godt innemiljø",10,82844,"Godt innemiljø / naturlig ventilasjon","naturlig ventilasjon"]
[74562,"Konstruksjoner og materialbruk",5,74940,"Konstruksjoner og materialbruk / naturnære materialer","naturnære materialer"]
[74565,"Prosess/metode",19,246801,"Prosess/metode / nudge","Nudge"]
[58730,"Grønne arealer",5,74882,"Grønne arealer / nyttevekster","nyttevekster"]
[240368,"Innkjøp og forbruk",3,240369,"Innkjøp og forbruk / offentlige innkjøp","offentlige innkjøp"]
[74497,"Avfall og kildesortering",11,74986,"Avfall og kildesortering / ombruk av bygningsmasse","ombruk av bygningsmasse"]
[74577,"Vann og avløp",7,75119,"Vann og avløp / oppsamling av regnvann","oppsamling av regnvann"]
[74574,"Universell utforming",6,75093,"Universell utforming / orienterbarhet","orienterbarhet"]
[240366,"Klimatilpasning",15,240394,"Klimatilpasning / overflatedekker","overflatedekker"]
[74574,"Universell utforming",6,75106,"Universell utforming / overflater","overflater"]
[240366,"Klimatilpasning",15,240406,"Klimatilpasning / overflatevann","overflatevann"]
[74577,"Vann og avløp",7,74865,"Vann og avløp / overvannshåndtering","overvannshåndtering"]
[58730,"Grønne arealer",5,58733,"Grønne arealer / park- og grøntareal","park- og grøntareal"]
[74568,"Energi",23,209254,"Energi / passiv solvarme","passiv solvarme"]
[240366,"Klimatilpasning",15,240404,"Klimatilpasning / permeable flater","permeable flater"]
[74497,"Avfall og kildesortering",11,74993,"Avfall og kildesortering / prefabrikasjon","prefabrikasjon"]
[74497,"Avfall og kildesortering",11,240362,"Avfall og kildesortering / redesign","redesign"]
[74521,"Areal og transport",12,240354,"Areal og transport / reduksjon av parkeringsdekning","reduksjon av parkeringsdekning"]
[74521,"Areal og transport",12,74633,"Areal og transport / reduksjon av teknisk infrastruktur","reduksjon av teknisk infrastruktur"]
[240368,"Innkjøp og forbruk",3,240370,"Innkjøp og forbruk / redusere/endre forbruk ","redusere / endre forbruk "]
[74565,"Prosess/metode",19,240383,"Prosess/metode / regional plan","regional plan"]
[240366,"Klimatilpasning",15,240400,"Klimatilpasning / regnbed","regnbed"]
[74577,"Vann og avløp",7,75131,"Vann og avløp / rehabilitering av vannmiljø","rehabilitering av vannmiljø"]
[74562,"Konstruksjoner og materialbruk",5,74941,"Konstruksjoner og materialbruk / renholdsvennlige materialer","renholdsvennlige materialer"]
[74577,"Vann og avløp",7,74682,"Vann og avløp / rensing av gråvann","rensing av gråvann"]
[74206,"Godt innemiljø",10,74825,"Godt innemiljø / rent bygg","rent bygg"]
[240366,"Klimatilpasning",15,240403,"Klimatilpasning / risiko- og sårbarhetsanalyser","risiko- og sårbarhetsanalyser"]
[74521,"Areal og transport",12,74957,"Areal og transport / samordnet transportplanlegging","samordnet transportplanlegging"]
[155019,"Miljøvennlig by- og tettstedsutvikling",5,102767,"Miljøvennlig by- og tettstedsutvikling / sentrumsutvikling","sentrumsutvikling"]
[240366,"Klimatilpasning",15,240396,"Klimatilpasning / skredforebygging","skredforebygging"]
[74562,"Konstruksjoner og materialbruk",5,74942,"Konstruksjoner og materialbruk / slitesterke materialer","slitesterke materialer"]
[74568,"Energi",23,75028,"Energi / solavskjerming","solavskjerming"]
[74568,"Energi",23,74771,"Energi / solcelle","solcelle"]
[74568,"Energi",23,74788,"Energi / solfanger","solfanger"]
[74568,"Energi",23,74800,"Energi / solrom","solrom"]
[74568,"Energi",23,209245,"Energi / sonedeling","sonedeling"]
[74565,"Prosess/metode",19,240375,"Prosess/metode / stedsanalyse","stedsanalyse"]
[74521,"Areal og transport",12,74640,"Areal og transport / styrking av sentrum","styrking av sentrum"]
[74521,"Areal og transport",12,240351,"Areal og transport / støyskjerming","støyskjerming"]
[74568,"Energi",23,157595,"Energi / synlig energistyring","synlig energistyring"]
[74568,"Energi",23,209246,"Energi / termisk masse","termisk masse"]
[74573,"Stedstilpasning",4,87638,"Stedstilpasning / terrengtilpassing","terrengtilpassing"]
[74568,"Energi",23,75039,"Energi / tett bygningskropp","tett bygningskropp"]
[74521,"Areal og transport",12,74659,"Areal og transport / tilrettelegging for syklister/fotgjengere","tilrettelegging for syklister/fotgjengere"]
[74574,"Universell utforming",6,75111,"Universell utforming / utstyr og bygningsdeler","utstyr og bygningsdeler"]
[74521,"Areal og transport",12,74668,"Areal og transport / utvikling av knutepunkter","utvikling av knutepunkter"]
[74577,"Vann og avløp",7,75132,"Vann og avløp / vannbesparende utstyr","vannbesparende utstyr"]
[74568,"Energi",23,209247,"Energi / vannbåren oppvarming","vannbåren oppvarming"]
[74577,"Vann og avløp",7,75133,"Vann og avløp / vannrensing","vannrensing"]
[74568,"Energi",23,209252,"Energi / varmegjenvinning","varmegjenvinning"]
[74568,"Energi",23,209255,"Energi / varmepumpe","varmepumpe"]
[74573,"Stedstilpasning",4,74883,"Stedstilpasning / vegetasjonstilpasning","vegetasjonstilpasning"]
[240366,"Klimatilpasning",15,240399,"Klimatilpasning / vindsikring","vindsikring"]
[74497,"Avfall og kildesortering",11,242054,"Avfall og kildesortering / våtorganisk avfall","våtorganisk avfall"]

{"sheet":"tbl_ArchitectofficeCategorys","index":30,"n_rows":32,"n_cols":5,"rows_kept":32,"hidden":true}
["odata_title","odata_updated","Id","Name","Kolonne1"]
["Barnehager","2011-11-24T16:41:00+01:00",172590,"Barnehager"]
["Boligområder/ boliganlegg","2011-11-16T19:03:00+01:00",172579,"Boligområder/ boliganlegg"]
["Bruer *","2012-06-14T10:39:00+02:00",172591,"Bruer *"]
["Byrom, gater, torg","2012-06-13T17:34:00+02:00",229027,"Byrom, gater, torg"]
["Enebolig/ rekkehus o.l.","2012-06-13T17:32:40+02:00",165326,"Enebolig/ rekkehus o.l."]
["Forretning / handel","2012-06-14T14:54:00+02:00",172597,"Forretning / handel"]
["Friluftsområder, turvei, vannkant","2012-06-14T13:26:57+02:00",237099,"Friluftsområder, turvei, vannkant"]
["Hager, gårdsrom, uteanlegg på tak","2012-06-13T17:35:00+02:00",229515,"Hager, gårdsrom, uteanlegg på tak"]
["Helsebygg *","2012-06-14T14:44:58+02:00",165329,"Helsebygg *"]
["Hotell","2011-12-14T13:03:00+01:00",165319,"Hotell"]
["Hytte/Fritidsbolig","2012-06-14T11:00:36+02:00",172580,"Hytte/Fritidsbolig"]
["Idrettsanlegg- / bygg","2012-06-14T14:51:00+02:00",165316,"Idrettsanlegg- / bygg"]
["Industribygg","2008-12-10T12:23:00+01:00",172663,"Industribygg"]
["Kirke/krematorium","2008-07-17T14:04:00+02:00",165323,"Kirke/krematorium"]
["Kontorbygg","2011-11-16T17:59:00+01:00",165317,"Kontorbygg"]
["Kulturbygg/ -anlegg","2011-11-24T16:48:00+01:00",165327,"Kulturbygg/ -anlegg"]
["Laboratoriebygg","2012-06-14T10:40:01+02:00",165324,"Laboratoriebygg"]
["Messer / konferansesenter","2012-06-14T15:09:30+02:00",172677,"Messer / konferansesenter"]
["Museum / Utstillinger","2012-06-14T13:26:00+02:00",165328,"Museum / Utstillinger"]
["Omsorgsboliger","2012-06-13T17:31:23+02:00",229029,"Omsorgsboliger"]
["Overordnede planer *","2012-06-14T10:40:00+02:00",172707,"Overordnede planer *"]
["Parker og grøntanlegg","2012-06-14T10:43:59+02:00",229516,"Parker og grøntanlegg"]
["Reguleringsplaner *","2012-06-14T10:38:00+02:00",172578,"Reguleringsplaner *"]
["Rehabilitering *","2012-06-14T10:32:00+02:00",172607,"Rehabilitering *"]
["Skole/undervisningsbygg","2011-11-16T19:42:00+01:00",165322,"Skole/undervisningsbygg"]
["Svømmehall / Badeanlegg","2008-07-17T14:04:00+02:00",165321,"Svømmehall / Badeanlegg"]
["Sykehjem","2011-11-24T16:47:00+01:00",229518,"Sykehjem"]
["Sykehus","2011-11-24T16:47:00+01:00",229519,"Sykehus"]
["Transport og infrastruktur","2009-03-26T16:12:00+01:00",172667,"Transport og infrastruktur"]
["Universitet/ høyskolebygg","2012-06-14T11:27:07+02:00",229517,"Universitet/ høyskolebygg"]
["Velferdsbygg *","2012-06-14T14:39:00+02:00",165325,"Velferdsbygg *"]